{"text_format":"1","workbook":"xlsx","n_sheets":73,"sheets":["Body","Header","PS","PS-fsh","PS-ConceptMap-1","PS-ConceptMap-2","PS-CM-fsh","A.2.3.3 Pregnancy","Pregnancy-fsh","Pregnancy-ConceptMap-1","Pregnancy-ConceptMap-2","Pregnancy-ConceptMap-3","Pregnancy-CM-fsh","A.2.3.3 FunctionalStatus","FunctionalStatus-fsh","FunctionalStat-ConceptMap-1","FunctionalStatus-CM-fsh","A.2.3.3 Procedures","Procedures-fsh","Procedures-ConceptMap-1","Procedures-CM-fsh","A.2.3.2 Devices","Devices-fsh","Devices-ConceptMap-1","Devices-CM-fsh","A.2.3.1 Problem","Problem-fsh","Problem-ConceptMap-1","Problem-CM-fsh","A.2.2.2 ClosedProblem","ClosedProblem-fsh","ClosedProblem-ConceptMap-1","ClosedProblem-CM-fsh","A.2.8 Results","Results-fsh","Results-ConceptMap-1","Results-CM-fsh","A.2.4.1  Medicine","Medicine-fsh","Medicine-ConceptMap-1","Medicine-ConceptMap-2","Medicine-CM-fsh","A.2.2.1 Vaccination","Vaccination-fsh","Vaccination-ConceptMap-1","Vaccination-CM-fsh","Subj","Subj-fsh","Subj-ConceptMap-1","Subj-ConceptMap-2","Subj-CM-fsh","A1.3 Payer","Payer-Map-1","Payer-fsh","Payer-ConceptMap-1","Payer-ConceptMap-2","Payer-ConceptMap-3","Payer-CM-fsh","A.2.1.1 Allergy","Allergy-fsh","Allergy-ConceptMap-1","Allergy-CM-fsh","A1.5 Author","Author-Map-1","Author-fsh","Author-ConceptMap-1","Author-ConceptMap-2","Author-ConceptMap-2-delete","Author-CM-fsh","A1.6 LegalAuth","LegalAuth-fsh","LegalAuth-ConceptMap-1","LegalAuth-CM-fsh"],"not_rendered":{"charts":0,"images":0,"macros":1,"external_links":1,"defined_names":2,"comments":0,"pivot_tables":0},"unopened":[],"bounds":{"document_bytes":16777216,"sheet_cells":100000,"rows_first":2000,"rows_last":500,"rows_between":2000,"halvings":0,"cell_chars":16384,"cell_head_chars":4096},"cells_cut":0,"cells_raw":0,"read":"whole","date_system":"1900"}

{"sheet":"Body","index":0,"n_rows":102,"n_cols":5,"rows_kept":102,"cut":false,"hidden":false,"merged":[[2,1,2,2]]}
[]
[]
[null,"Field",null,"Field description  ","Preferred Code System  "]
[]
[null,"A.2","Patient summary body data elements"]
[{"$f":"B6&\" - \"&C6","v":"A.2.1 - Alerts"},"A.2.1","Alerts"]
[{"$f":"B7&\" - \"&C7","v":"A.2.1.1 - Allergy"},"A.2.1.1","Allergy"]
[{"$f":"B8&\" - \"&C8","v":"A.2.1.1.1 - Allergy description"},"A.2.1.1.1","Allergy description","Textual description of the allergy or intolerance"]
["A.2.1.1.2 - Type of propensity","A.2.1.1.2","Type of propensity","This element describes whether this condition refers to an allergy, non-allergy intolerance, or unknown class of intolerance (not known to be allergy or intolerance) ","SNOMED CT GPS"]
["A.2.1.1.3 - Allergy manifestation","A.2.1.1.3","Allergy manifestation","Description of the clinical manifestation of the allergic reaction. Example: anaphylactic shock, angioedema (the clinical manifestation also gives ","SNOMED CT GPS"]
["A.2.1.1.4 - Severity Severity","A.2.1.1.4","Severity Severity","of the clinical manifestation of the allergic reaction. ","SNOMED CT GPS"]
["A.2.1.1.5 - Criticality","A.2.1.1.5","Criticality","Potential risk for future life-threatening adverse reactions when exposed to a substance known to cause an adverse reaction. ","SNOMED CT GPS"]
["A.2.1.1.6 - Onset date","A.2.1.1.6","Onset date","Date of the observation of the reaction ISO 8601"]
["A.2.1.1.7 - End Date","A.2.1.1.7","End Date","Date of resolution of the allergy (e.g. when the clinician deemed there is no longer any need to track the underlying condition)","ISO 8601"]
["A.2.1.1.8 - Status","A.2.1.1.8","Status","Current status of the allergy or intolerance, for example, whether it is active, in remission, resolved, etc. ","SNOMED CT GPS"]
["A.2.1.1.9 - Certainty","A.2.1.1.9","Certainty","Assertion about the certainty associated with a propensity, or potential risk, of a reaction to the identified substance. Diagnostic and/or clinical evidence of condition. ","SNOMED CT GPS"]
["A.2.1.1.10 - Agent or Allergen","A.2.1.1.10","Agent or Allergen","A specific allergen or other agent/substance (drug, food, chemical agent, etc.) to which the patient has an adverse reaction propensity. ","SNOMED CT GPS (for non-drug allergy) or ATC* (for drug allergy) (IDMP, when available)"]
[{"$f":"B18&\" \"&C18","v":"A.2.1.2 Medical alert information (other alerts not included in allergies)"},"A.2.1.2","Medical alert information (other alerts not included in allergies)"]
[{"$f":"B19&\" \"&C19","v":"A.2.1.2.1 Healthcare alert description"},"A.2.1.2.1","Healthcare alert description","Description of medical alerts in textual format: any clinical information that is imperative to know so that the life or health of the patient does not come under threat. \nExample 1: intolerance to aspirin due to gastrointestinal bleeding. \nExample 2: intolerance to captopril because of cough (the patient is not allergic but can't tolerate it because of persistent cough)\nExample 3: the patient has a rare disease that requires special treatment\nExample 4: Airway Alert / Difficult Intubation\nExample 5: Diagnoses such as malignant hyperthermia, porphyria, and bleeding disvaccinations; special treatments like anticoagulants or immunosuppressants; implanted devices.\nExample 6: transplanted organs illustrate other information that has to be taken into  account in a healthcare contact.\nExample 7: participation in a clinical trial that has to be taken into account in a healthcare contact."]
[{"$f":"B20&\" - \"&C20","v":"A.2.2 - Medical history"},"A.2.2","Medical history","A.2.2 Medical history"]
[{"$f":"B21&\" - \"&C21","v":"A.2.2.1 - Vaccination/ prophylaxis information"},"A.2.2.1","Vaccination/ prophylaxis information"]
[null,"A.2.2.1.1","Disease or agent targeted","Disease or agent that the vaccination provides protection against ICD-10*","SNOMED CT GPS"]
[null,"A.2.2.1.2","Vaccine/prophylaxis","Generic description of the vaccine/prophylaxis or its component(s)","SNOMED CT GPS ATC* (IDMP, when available)"]
[null,"A.2.2.1.3","Vaccine medicinal product name","Brand name of the vaccine medicinal product.z"]
[null,"A.2.2.1.3.1","Identifier of the vaccine medicinal product","Identifier for the vaccine medicinal product. It could be MPID according to ISO 11615, EMA PMS ID and/or a national identifier. EMA PMS"]
[null,"A.2.2.1.4","Marketing Autorisation Holder","Marketing Authorisation Holder EMA's Organisations System data (SPOR)"]
[null,"A.2.2.1.5","Number in a series of vaccinations/doses","Vaccination in the vaccination course"]
[null,"A.2.2.1.6","Batch/lot number","A distinctive combination of numbers and/or letters which specifically identifies a batch"]
[null,"A.2.2.1.7","Date of vaccination","The date when the vaccination was administered","ISO 8601"]
[null,"A.2.2.1.8","Administering centre","Name/code of administering centre or a health authority responsible for the vaccination event"]
[null,"A.2.2.1.9","Health Professional identification","Name or health professional code responsible for administering the vaccine or prophylaxis"]
[null,"A.2.2.1.10","Country of vaccination","The country in which the individual has been vaccinated","ISO 3166"]
[null,"A.2.2.1.11","Next vaccination date","The date when the vaccination is planned to be given/repeated (e.g. next dose)","ISO 8601"]
[{"$f":"B34&\" \"&C34","v":"A.2.2.2 Resolved, closed or inactive problems"},"A.2.2.2","Resolved, closed or inactive problems"]
[null,"A.2.2.2.1","Problem description","Problems or diagnoses that the patient suffered in the past, and which have been resolved, closed or declared as inactive (not included in \"current problems or diagnosis\") Example: hepatic cyst (the patient has been treated with a hepatic cystectomy that solved the problem and the problem is therefore closed) ICD-10*","SNOMED CT GPS Orphacode if rare disease is diagnosed"]
[null,"A.2.2.2.2","Onset date","Date of problem onset","ISO 8601"]
[null,"A.2.2.2.3","End date","Problem resolution date","ISO 8601"]
[null,"A.2.2.2.4","Resolution circumstances","Describes the reason for which the status of the problem changed from current to inactive (e.g. surgical procedure, medical treatment, etc.). This field includes \"free text\" if the resolution circumstances are not already included in other fields such as surgical procedure, medical device, etc., e.g. hepatic cystectomy (this will be the resolution circumstances for the problem \"hepatic cyst\" and will be included in surgical procedures)."]
[{"$f":"B39&\" - \"&C39","v":"A.2.2.3 - Medical history"},"A.2.2.3","Medical history"]
[{"$f":"B40&\" \"&C40","v":"A.2.2.3.1 Medical history"},"A.2.2.3.1","Medical history","This section may provide both synthetic anamnesis (e.g. description of phases of the pathology as a chronological summary of clustered clinical information) and anecdotal evidence that clinicians can collect from the patient, and can read in a narrative form. See Section 2, Chapter III, Art 7, (c)."]
[{"$f":"B41&\" \"&C41","v":"A.2.3 Medical problems"},"A.2.3","Medical problems"]
[{"$f":"B42&\" \"&C42","v":"A.2.3.1 Current problems"},"A.2.3.1","Current problems"]
[null,"A.2.3.1.1","Problem / diagnosis description","Health conditions affecting the health of the patient and are important to be known for a health professional during a health encounter.","ICD-10* SNOMED CT GPS Orphacode if rare disease is diagnosed"]
[null,"A.2.3.1.2","Onset date","Date of problem onset","ISO 8601"]
[null,"A.2.3.1.3","Diagnosis assertion status","Assertion about the certainty associated with a diagnosis. Diagnostic and/or clinical evidence of condition.","HL7"]
[{"$f":"B46&\" - \"&C46","v":"A.2.3.2 - Medical devices and implants"},"A.2.3.2","Medical devices and implants"]
[null,"A.2.3.2.1","Device and implant description","Describes the patient's implanted and external medical devices and equipment upon which their health status depends. Includes devices such as cardiac pacemakers, implantable fibrillator, prosthesis, ferromagnetic bone implants, etc. of which the HP needs to be aware.","SNOMED CT GPS* EMDN"]
[null,"A.2.3.2.2","Device ID","Normalised identifier of the device instance such as UDI according to REGULATION (EU) 2017/745"]
[null,"A.2.3.2.3","Implant date","Date when procedure was performed","ISO 8601"]
[null,"A.2.3.2.4","End date","Date when the device was explanted from the patient or the external device was no longer in use; likewise when the device is planned to be explanted","ISO 8601"]
[{"$f":"B51&\" - \"&C51","v":"A.2.3.3 - Procedures"},"A.2.3.3","Procedures"]
[null,"A.2.3.3.1","Procedure description","Describes the type of procedure","SNOMED CT GPS*"]
[null,"A.2.3.3.2","Body site","Procedure target body site","SNOMED CT GPS*"]
[null,"A.2.3.3.3","Procedure date","Date when procedure was performed","ISO 8601"]
[{"$f":"B55&\" - \"&C55","v":"A.2.3.4 - Functional status"},"A.2.3.4","Functional status"]
[null,"A.2.3.4.1","Description","Need for the patient to be continuously assessed by third parties; functional status may influence decisions about how to plan and administer treatments"]
[null,"A.2.3.4.2","Onset Date","Onset date of a condition","ISO 8601"]
[null,"A.2.3.4.3","Functional assessment description","Description of the functional assessment","ICF"]
[null,"A.2.3.4.4","Functional assessment date","Date of the functional assessment","ISO 8601"]
[null,"A.2.3.4.5","Functional assessment result","Functional assessment result value","ICF"]
[{"$f":"B61&\" - \"&C61","v":"A.2.4 - Medication summary"},"A.2.4","Medication summary"]
[null,"A.2.4.1","Current and relevant past medicines","(Relevant prescribed medicines whose period of time indicated for the treatment has not yet expired whether it has been dispensed or not, or medicines that influence current health status or are relevant to a clinical decision)"]
[null,"A.2.4.1.1","Medication reason","The reason why the medication is or was prescribed, or used This is the reason why the medication is being prescribed or used. It provides a link to the Past or current health conditions or problems that the patient has had or has.","ICD-10* SNOMED CT GPS Orphacode if rare disease is diagnosed"]
[null,"A.2.4.1.2","Intended use","Indication intended use as: prevention or treatment Example: prophylaxis, treatment, diagnostic, anaesthesia, care of equipment"]
[null,"A.2.4.1.3","Brand name","Brand name if biological medicinal product or when justified by the health professional (ref. Commission Directive 2012/52/EU)"]
[null,"A.2.4.1.4","Active ingredient lists","Substance that alone or in combination with one or more other ingredients produces the intended activity of a medicinal product. Example: \"paracetamol\" ATC* (IDMP identifier, when available)"]
[null,"A.2.4.1.5","Strength","The content of the active ingredient expressed quantifiably per dosage unit, per unit of volume or per unit of weight, according to the pharmaceutical dose form. Example: 500 mg per tablet UCUM, EDQM Standard Terms"]
[null,"A.2.4.1.6","Pharmaceutical dose form","The form in which a pharmaceutical product is presented in the medicinal product package (e.g. tablet, syrup) EDQM Standard Terms"]
[null,"A.2.4.1.7","Dosage Regimen","Number of units per intake and frequency of intake over a specified duration of time. Example: 1 tablet every 24h, for .1z","days"]
[null,"A.2.4.1.8","Route of administration","Path by which the pharmaceutical product is taken into or makes contact with the body. EDQM Standard Terms"]
[null,"A.2.4.1.9","Date of onset of treatment","Date when patient needs to start taking the medicine prescribed","ISO 8601"]
[{"$f":"B72&\" \"&C72","v":"A.2.5 Social history"},"A.2.5","Social history"]
[{"$f":"B73&\" \"&C73","v":"A.2.5.1 Social history observations related to health"},"A.2.5.1","Social history observations related to health","Health related lifestyle factors or lifestyle observations and social determinants of health. Example: cigarette smoker, alcohol consumption","SNOMED CT GPS"]
["A.2.5.2 Reference date range","A.2.5.2","Reference date range","Example: from 1974 to 2004"]
[{"$f":"B75&\" - \"&C75","v":"A.2.6 Pregnancy history - "},"A.2.6 Pregnancy history"]
[null,"A.2.6.1 Current pregnancy status"]
[null,"A.2.6.1.1","Date of observation","Date on which the observation of the pregnancy state was made","ISO 8601"]
[null,"A.2.6.1.2","Status","Provides the woman's current state at the date the observation was made: e.g. pregnant, not pregnant, unknown","SNOMED CT GPS"]
[null,"A.2.6.1.3","Expected date of delivery","Date on which the woman is due to give birth.","ISO 8601"]
[null,"A.2.6.2","History of previous pregnancies"]
[null,"A.2.6.2.1","Previous pregnancies status","Information on the woman's previous pregnancies: Yes, previous pregnancies; No, previous pregnancies; Unknown","SNOMED CT GPS"]
[null,"A.2.6.2.2","Previous pregnancies description"]
[null,"A.2.6.2.2.1","Outcome date","Date referred to the previous pregnancies outcome","ISO 8601"]
[null,"A.2.6.2.2.2","Outcome","Outcome of the previous pregnancies","SNOMED CT GPS"]
[null,"A.2.6.2.2.3","Number of children","Number of children/fetus in this specific pregnancy"]
[{"$f":"B86&\" - \"&C86","v":"A.2.7 - Patient provided data"},"A.2.7","Patient provided data"]
[{"$f":"B87&\" \"&C87","v":"A.2.7.1 Travel history"},"A.2.7.1","Travel history"]
[{"$f":"B88&\" \"&C88","v":"A.2.7.1.1 Country"},"A.2.7.1.1","Country","Country(s) visited","ISO 3166"]
["A.2.7.1.2 Period","A.2.7.1.2","Period","Date of entry and departure","ISO 8601"]
[{"$f":"B90&\" - \"&C90","v":"A.2.7.2 - Advance Directive"},"A.2.7.2","Advance Directive"]
[{"$f":"B91&\" \"&C91","v":"A.2.7.2.1 Documentation"},"A.2.7.2.1","Documentation","Existence of documentation on living will","SNOMED CT GPS"]
[{"$f":"B92&\" - \"&C92","v":"A.2.8 - Results"},"A.2.8","Results"]
[null,"A.2.8.1","Result observations","(A list of observation results pertaining to the subject of care's health condition and which might have impact on future treatments)"]
[null,"A.2.8.1.1","Date","Date and time of the observation","ISO 8601"]
[null,"A.2.8.1.2","Observation type","Observation results types that may be measurements, laboratory results, anatomic pathology results, radiology results or other imaging or clinical results. Examples: Diagnostic results (Blood group, Laboratory Observations, Imaging results etc.) Physical findings (Vital signs observations) HL7 ObservationC ategoryCodes"]
[null,"A.2.8.1.3","Result description","Narrative representation of the observation result and findings."]
[null,"A.2.8.1.4","Observation details","Observation details including code that identifies observation, specification of the observed body structure or specimen, date and time of the specimen collection. LOINC","SNOMED CT GPS NPU"]
[null,"A.2.8.1.5","Observation results","Result of the observation including numeric and coded results of the measurement, details about how the tests were done to get the result values, information about referential ranges and result interpretation. Content of the observation result will vary according to the type of the observation.","SNOMED CT GPS (for ordinal or nominal scale results) UCUM (for units)"]
[null,"A.2.8.1.6","Performer","Identifies the originator/author and provides provenance information about the source of the results data that may have not originated with the source of the whole PS document."]
[null,"A.2.8.1.7","Reporter","With certain observation results, e.g. there may also be an interpreter or a person responsible for validation."]
[{"$f":"B101&\" - \"&C101","v":"A.2.9 - Plan of Care"},"A.2.9","Plan of Care","(Therapeutic recommendations that do not include pharmacologic treatments, such as diet, physical exercise, planned surgeries)"]
[{"$f":"B102&\" \"&C102","v":"A.2.9.1 Plan of care"},"A.2.9.1","Plan of care","Narrative containing the plan including proposals, goals, and vaccination requests for monitoring, tracking, or improving the condition of the patient. In the future it is expected that this Section could be provided in a structured and coded format."]

{"sheet":"Header","index":1,"n_rows":55,"n_cols":8,"rows_kept":55,"cut":false,"hidden":false,"merged":[[38,1,38,4],[34,1,35,1],[34,2,35,2],[34,4,35,4],[22,1,22,4],[30,1,30,4],[2,1,2,2],[3,1,3,4],[4,1,4,4],[11,1,11,4],[12,1,12,4]]}
[]
[]
[null,"Field",null,"Field description  ","Preferred Code System  "]
[null,"A.1 Patient summary header data elements"]
[null,"A.1.1 Identification of the patient/subject"]
[null,"A.1.1.1","National healthcare patient ID","Country ID, unique to the patient in that country. Example: ID for Portuguese patient"]
[null,"A.1.1.2","Family name/surname","The family name/surname/last name of the patient. This field can contain more than one element or multiple fields could be present."]
[null,"A.1.1.3","Given name ","The given name/first name of the patient (also known as forename or first name). This field can contain more than one element.  "]
[null,"A.1.1.4","Date of birth ","The date of birth of the patient [ISO TS 22220]. As age of the patient might be important for correct interpretation of the test result values, complete date of birth should be provided.","Complete date, without time, following the ISO 8601 "]
[null,"A.1.1.5","Gender","This field must contain a recognised valid value for \"administrative gender\".\nIf different, \"physiological gender\" should be communicated elsewhere.","HL7 Administrative Gender "]
[null,"A.1.1.5","Country of\naffiliation","Name of country of affiliation ","ISO 3166"]
[null,"A.1.2 Contact information"]
[null,"A.1.2.1 Patient address"]
[null,"A.1.2.1","Patient address"," "]
[null,"A.1.2.1.1","Street","Example: Rua dos Campeões"]
[null,"A.1.2.1.2","House number","Example: 246"]
[null,"A.1.2.1.3","City","Example: Porto"]
[null,"A.1.2.1.4","Post code","Example: 4500"]
[null,"A.1.2.1.5","State or province","Example: Vila Nova de Gaia"]
[null,"A.1.2.1.6","Country","Example: PT","ISO 3166"]
[null,"A.1.2.1.7","Telephone no.","Example: +351 20 7025 6161"]
[null,"A.1.2.1.8","Email","Example: jens@bigsmile.eu"]
[null,"A.1.2.2 Preferred HP to contact - This section can be repeated and linked to any specific information in the Patient Summary, for example a link between a rare disease problem (A.2.3.1) and the rare disease specialist responsible for the care of the individual patient (this section)."]
[null,"A.1.2.2.1","Name of the HP","Name of the Health Professional that has been treating or taking responsibility for the patient."]
[null,"A.1.2.2.2","Role of the HP","Health professional role"]
[null,"A.1.2.2.3","HP Organisation","Health professional organisation"]
[null,"A.1.2.2.4","Telephone no.","Example: +45 20 7025 6161"]
[null,"A.1.2.2.5","Email","Email of the HP/legal organisation"]
[null,"A.1.2.2.6","Network affiliation","The HP organization is affiliated with a European network, for example an ERN."]
[null,"A.1.2.2.7","Related with","Identify the entry or entries of this Patient Summary for which the health professional is the preferred contact."]
[null,"A.1.2.3 Contact person/ legal guardian"]
[null,"A.1.2.3.1","Role of that person","Role of the contact person: legal guardian, next of kin, other person to contact","HL7 RoleClass"]
[null,"A.1.2.3.2","Relationship level","Relationship type with the patient (e.g. father, wife, daughter) HL7 RoleCode"]
[null,"A.1.2.3.3","Given name","The first name of the contact person/guardian (Example: Peter). This field can contain more than one element."]
[null,"A.1.2.3.4","Family name/surname","This field can contain more than one element."]
[null,null,null,"Example: Español Smith"]
[null,"A.1.2.3.5","Telephone no.","Example: +45 20 7025 6161"]
[null,"A.1.2.3.6","Email","Email of the contact person/legal guardian"]
[null,"A.1.3 Insurance information"]
[{"$f":"B40&\" \"&C40","v":"A.1.3.1  Insurance number"},"A.1.3.1"," Insurance number","Example: QQ 12 34 56 A"]
[]
[null,"A.1.4","Document data",null,null,null,null,{"$f":"B42&\" \"&C42","v":"A.1.4 Document data"}]
[null,"A.1.4.1","Date created","Date on which PS was generated","ISO 8601"]
[null,"A.1.4.2","Date of last update","Date on which PS was updated (date of most recent version) ISO 8601"]
[null,"A.1.4.3","Nature of the PS","Defines the context in which it was generated. Distinguishes between three methodological approaches for generating the PS: direct human intervention by an HP, automatically generated approach and mixed approach"]
[]
[]
[null,"A.1.5","Author and Organisation",null,null,null,null,{"$f":"B48&\" \"&C48","v":"A.1.5 Author and Organisation"}]
[null,"A.1.5.1","Author organization","At least one Author and Organisation shall be listed. In the event that there is no Author, at least one Organisation shall be listed This Author should be able to provide further information on the provenance of the data present in the patient summary. Different authors contributing to individual sections and/or entries could be provided at the relevant level."]
[null,"A.1.5.2","Legal authenticator","Legal entity (Health Professional or Health Care Provider) who authenticated the Patient Summary"]
[]
[]
[null,"A.1.6","Additional information / Knowledge resources",null,null,null,null,{"$f":"B53&\" \"&C53","v":"A.1.6 Additional information / Knowledge resources"}]
[null,"A.1.6.1","External reference"," A reference leading to Clinical Practice Guidelines (CPG), emergency and anesthesia guidelines or other clinical relevant guidelines. This should be used only for providing specific guidance which may not be readily available to the health professional caring for the patient."]
[null,"A.1.6.2","Related with","Identify the entry or entries of this Patient Summary for which this additional information relates with, for example a link between a rare disease problem (section A.2.3.1) and guidelines for that particular rare disease (this section)."]

{"sheet":"PS","index":2,"n_rows":72,"n_cols":12,"rows_kept":72,"cut":false,"hidden":false,"merged":[]}
[null,null,null,null,null,null,null,null,null,"// -------------------------------------------------------------------------------",null,"// -------------------------------------------------------------------------------"]
["IG Canonical URL ","http://hl7.eu/fhir/ig/xpandh/ps",null,null,null,null,null,null,null,"//  Logical Model",null,"//  Comments"]
[null,null,null,null,null,null,null,null,null,{"$f":"J1","v":"// -------------------------------------------------------------------------------"},null,{"$f":"L1","v":"// -------------------------------------------------------------------------------"}]
["Name","PatientSummaryEhn",null,null,null,null,null,null,null,{"$f":"CONCATENATE(\"Logical: \",B4)","v":"Logical: PatientSummaryEhn"}]
["Id","PatientSummary",null,null,null,null,null,null,null,{"$f":"CONCATENATE(\"Id: \",B5)","v":"Id: PatientSummary"}]
["Title","A - Patient Summary",null,null,null,null,null,null,null,{"$f":"CONCATENATE(\"Title: ##34#\",B6,\"##34#\")","v":"Title: ##34#A - Patient Summary##34#"}]
["Description","Patient Summary. eHN guideline model.","Data Element ","Data element description","min","max","dataType","Comment",null,{"$f":"CONCATENATE(\"Description: \",\" ##334#\",B7,\"##334#\",)","v":"Description:  ##334#Patient Summary. eHN guideline model.##334#"}]
[1,"header","A.1 Report header data elements","A.1 Report header data elements",1,1,"BackboneElement",null,null,{"$f":"CONCATENATE(\"* \",B8, \" \",E8,\"..\",F8,\" \",G8,\" ##34#\",C8,\"##34# ##334#\",D8,\"##334#\")","v":"* header 1..1 BackboneElement ##34#A.1 Report header data elements##34# ##334#A.1 Report header data elements##334#"},null,{"$f":"IF(H8=\"\",IF(J8=\"*  ..  ##34###34# ##334###334#\",J8,\"\"),IF(J8=\"*  ..  ##34###34# ##334###334#\",J8,CONCATENATE(\"* \",B8,\" ^comment = ##334#\",H8,\"##334#\")))","v":""}]
[2,"header.subject","A.1.1 A1.2 Patient/subject","A.1.1 Identification of the patient/subject and A.1.2 Patient/subject related contact information  ",1,1,{"$f":"$B$2&\"/StructureDefinition/\"&I9","v":"http://hl7.eu/fhir/ig/xpandh/ps/StructureDefinition/Subject"},null,"Subject","* header.subject 1..1 http://hl7.eu/fhir/ig/xpandh/ps/StructureDefinition/Subject ##34#A.1.1 A1.2 Patient/subject##34# ##334#A.1.1 Identification of the patient/subject and A.1.2 Patient/subject related contact information  ##334#",null,{"$f":"IF(H9=\"\",IF(J9=\"*  ..  ##34###34# ##334###334#\",J9,\"\"),IF(J9=\"*  ..  ##34###34# ##334###334#\",J9,CONCATENATE(\"* \",B9,\" ^comment = ##334#\",H9,\"##334#\")))","v":""}]
[3,"header.insuranceInfo","A.1.3 Insurance information","A.1.3 Insurance information",0,1,"BackboneElement",null,"Payer","* header.insuranceInfo 0..1 BackboneElement ##34#A.1.3 Insurance information##34# ##334#A.1.3 Insurance information##334#",null,""]
[null,"header.insuranceInfo.insuranceNumber","A.1.3.1  Insurance number","Example: QQ 12 34 56 A",0,"*","Identifier",null,null,"* header.insuranceInfo.insuranceNumber 0..* Identifier ##34#A.1.3.1  Insurance number##34# ##334#Example: QQ 12 34 56 A##334#"]
[4,"header.documentData","A.1.4 Document data","A.1.4 Document data",1,1,"BackboneElement",null,null,"* header.documentData 1..1 BackboneElement ##34#A.1.4 Document data##34# ##334#A.1.4 Document data##334#",null,""]
[5,"header.documentData.created","A.1.4.1 Date created","A.1.4.1 Date created - Date on which PS was generated",1,1,"dateTime",null,null,"* header.documentData.created 1..1 dateTime ##34#A.1.4.1 Date created##34# ##334#A.1.4.1 Date created - Date on which PS was generated##334#",null,""]
[6,"header.documentData.lastUpdate","A.1.4.2 Date of last update","A.1.4.2 Date of last update - Date on which PS was updated (date of most recent version)\nPreferred system: ISO 8601",0,1,"dateTime",null,null,"* header.documentData.lastUpdate 0..1 dateTime ##34#A.1.4.2 Date of last update##34# ##334#A.1.4.2 Date of last update - Date on which PS was updated (date of most recent version)\nPreferred system: ISO 8601##334#",null,""]
[7,"header.documentData.natureOfIPS","A.1.4.3 Nature of the PS","A.1.4.3 Nature of the PS - Defines the context in which it was generated. Distinguishes between three methodological approaches for generating the PS: direct human intervention by an HP, automatically generated approach and mixed approach",1,1,"BackboneElement",null,null,"* header.documentData.natureOfIPS 1..1 BackboneElement ##34#A.1.4.3 Nature of the PS##34# ##334#A.1.4.3 Nature of the PS - Defines the context in which it was generated. Distinguishes between three methodological approaches for generating the PS: direct human intervention by an HP, automatically generated approach and mixed approach##334#",null,""]
[8,"header.participant","A.1.5 Author and Organisation","A.1.5 Author and Organisation",1,"*","BackboneElement",null,null,"* header.participant 1..* BackboneElement ##34#A.1.5 Author and Organisation##34# ##334#A.1.5 Author and Organisation##334#",null,""]
[9,"header.participant.author","A.1.5.1 Author organization","A.1.5.1 Author organization - At least one Author and Organisation shall be listed. In the event that there is no Author, at least one Organisation shall be listed This Author should be able to provide further information on the provenance of the data present in the patient summary. Different authors contributing to individual sections and/or entries could be provided at the relevant level.",1,"*","Identifier",null,null,"* header.participant.author 1..* Identifier ##34#A.1.5.1 Author organization##34# ##334#A.1.5.1 Author organization - At least one Author and Organisation shall be listed. In the event that there is no Author, at least one Organisation shall be listed This Author should be able to provide further information on the provenance of the data present in the patient summary. Different authors contributing to individual sections and/or entries could be provided at the relevant level.##334#",null,""]
[10,"header.participant.legalAuth","A.1.5.2 Legal authenticator","A.1.5.2 Legal authenticator - Legal entity (Health Professional or Health Care Provider) who authenticated the Patient Summary",0,"*","CodeableConcept",null,null,"* header.participant.legalAuth 0..* CodeableConcept ##34#A.1.5.2 Legal authenticator##34# ##334#A.1.5.2 Legal authenticator - Legal entity (Health Professional or Health Care Provider) who authenticated the Patient Summary##334#",null,""]
[11,"header.additionalInfo","A.1.6 Additional information / Knowledge resources","A.1.6 Additional information / Knowledge resources - ",0,"*","BackboneElement",null,null,"* header.additionalInfo 0..* BackboneElement ##34#A.1.6 Additional information / Knowledge resources##34# ##334#A.1.6 Additional information / Knowledge resources - ##334#",null,""]
[12,"header.additionalInfo.reference","A.1.6.1 External reference","A.1.6.1 External reference -  A reference leading to Clinical Practice Guidelines (CPG), emergency and anesthesia guidelines or other clinical relevant guidelines. This should be used only for providing specific guidance which may not be readily available to the health professional caring for the patient.",0,"*","Reference",null,null,"* header.additionalInfo.reference 0..* Reference ##34#A.1.6.1 External reference##34# ##334#A.1.6.1 External reference -  A reference leading to Clinical Practice Guidelines (CPG), emergency and anesthesia guidelines or other clinical relevant guidelines. This should be used only for providing specific guidance which may not be readily available to the health professional caring for the patient.##334#",null,""]
[13,"header.additionalInfo.relatedWith","A.1.6.2 Related with","A.1.6.2 Related with - Identify the entry or entries of this Patient Summary for which this additional information relates with, for example a link between a rare disease problem (section A.2.3.1) and guidelines for that particular rare disease (this section).",0,"*","Reference",null,null,"* header.additionalInfo.relatedWith 0..* Reference ##34#A.1.6.2 Related with##34# ##334#A.1.6.2 Related with - Identify the entry or entries of this Patient Summary for which this additional information relates with, for example a link between a rare disease problem (section A.2.3.1) and guidelines for that particular rare disease (this section).##334#",null,""]
[14,"body","A.2 Patient summary body data elements","A.2 - Patient summary body data elements",1,1,"BackboneElement",null,null,"* body 1..1 BackboneElement ##34#A.2 Patient summary body data elements##34# ##334#A.2 - Patient summary body data elements##334#",null,""]
[15,"body.alerts","A.2.1 Alerts","A.2.1 - Alerts",1,1,"BackboneElement",null,null,"* body.alerts 1..1 BackboneElement ##34#A.2.1 Alerts##34# ##334#A.2.1 - Alerts##334#",null,""]
[16,"body.alerts.allergy","A.2.1.1 Allergy","A.2.1.1 - Allergy",0,"*",{"$f":"$B$2&\"/StructureDefinition/\"&I24","v":"http://hl7.eu/fhir/ig/xpandh/ps/StructureDefinition/Allergy"},null,"Allergy","* body.alerts.allergy 0..* http://hl7.eu/fhir/ig/xpandh/ps/StructureDefinition/Allergy ##34#A.2.1.1 Allergy##34# ##334#A.2.1.1 - Allergy##334#",null,""]
[17,"body.alerts.alert","A.2.1.2 Medical alert information (other alerts not included in allergies)","A.2.1.2 - Medical alert information (other alerts not included in allergies)",0,"*","BackboneElement",null,null,"* body.alerts.alert 0..* BackboneElement ##34#A.2.1.2 Medical alert information (other alerts not included in allergies)##34# ##334#A.2.1.2 - Medical alert information (other alerts not included in allergies)##334#",null,""]
[null,"body.alerts.alert.description","A.2.1.2.1 Healthcare alert description","Description of medical alerts in textual format: any clinical information that is imperative to know so that the life or health of the patient does not come under threat. \nExample 1: intolerance to aspirin due to gastrointestinal bleeding. \nExample 2: intolerance to captopril because of cough (the patient is not allergic but can't tolerate it because of persistent cough)\nExample 3: the patient has a rare disease that requires special treatment\nExample 4: Airway Alert / Difficult Intubation\nExample 5: Diagnoses such as malignant hyperthermia, porphyria, and bleeding disvaccinations; special treatments like anticoagulants or immunosuppressants; implanted devices.\nExample 6: transplanted organs illustrate other information that has to be taken into  account in a healthcare contact.\nExample 7: participation in a clinical trial that has to be taken into account in a healthcare contact.",0,"*","string",null,null,"* body.alerts.alert.description 0..* string ##34#A.2.1.2.1 Healthcare alert description##34# ##334#Description of medical alerts in textual format: any clinical information that is imperative to know so that the life or health of the patient does not come under threat. \nExample 1: intolerance to aspirin due to gastrointestinal bleeding. \nExample 2: intolerance to captopril because of cough (the patient is not allergic but can't tolerate it because of persistent cough)\nExample 3: the patient has a rare disease that requires special treatment\nExample 4: Airway Alert / Difficult Intubation\nExample 5: Diagnoses such as malignant hyperthermia, porphyria, and bleeding disvaccinations; special treatments like anticoagulants or immunosuppressants; implanted devices.\nExample 6: transplanted organs illustrate other information that has to be taken into  account in a healthcare contact.\nExample 7: participation in a clinical trial that has to be taken into account in a healthcare contact.##334#",null,""]
[18,"body.medicalHistory","A.2.2 Medical history","A.2.2 - Medical history",1,1,"BackboneElement",null,null,"* body.medicalHistory 1..1 BackboneElement ##34#A.2.2 Medical history##34# ##334#A.2.2 - Medical history##334#",null,""]
[19,"body.medicalHistory.vaccination","A.2.2.1 Vaccination/ prophylaxis information","A.2.2.1 - Vaccination/ prophylaxis information",0,"*",{"$f":"$B$2&\"/StructureDefinition/\"&I28","v":"http://hl7.eu/fhir/ig/xpandh/ps/StructureDefinition/Vaccination"},null,"Vaccination","* body.medicalHistory.vaccination 0..* http://hl7.eu/fhir/ig/xpandh/ps/StructureDefinition/Vaccination ##34#A.2.2.1 Vaccination/ prophylaxis information##34# ##334#A.2.2.1 - Vaccination/ prophylaxis information##334#",null,""]
[20,"body.medicalHistory.inactiveProblem","A.2.2.2 Resolved, closed or inactive problems","A.2.2.2 - Resolved, closed or inactive problems",0,"*",{"$f":"$B$2&\"/StructureDefinition/\"&I29","v":"http://hl7.eu/fhir/ig/xpandh/ps/StructureDefinition/ClosedProblem"},null,"ClosedProblem","* body.medicalHistory.inactiveProblem 0..* http://hl7.eu/fhir/ig/xpandh/ps/StructureDefinition/ClosedProblem ##34#A.2.2.2 Resolved, closed or inactive problems##34# ##334#A.2.2.2 - Resolved, closed or inactive problems##334#",null,""]
[21,"body.medicalHistory.anamnesis","A.2.2.3 Medical history","A.2.2.3 - Medical history",0,1,"BackboneElement",null,null,"* body.medicalHistory.anamnesis 0..1 BackboneElement ##34#A.2.2.3 Medical history##34# ##334#A.2.2.3 - Medical history##334#",null,""]
[null,"body.medicalHistory.anamnesis.details","A.2.2.3.1 Medical history","This section may provide both synthetic anamnesis (e.g. description of phases of the pathology as a chronological summary of clustered clinical information) and anecdotal evidence that clinicians can collect from the patient, and can read in a narrative form. See Section 2, Chapter III, Art 7, (c).",0,1,"Narrative",null,null,"* body.medicalHistory.anamnesis.details 0..1 Narrative ##34#A.2.2.3.1 Medical history##34# ##334#This section may provide both synthetic anamnesis (e.g. description of phases of the pathology as a chronological summary of clustered clinical information) and anecdotal evidence that clinicians can collect from the patient, and can read in a narrative form. See Section 2, Chapter III, Art 7, (c).##334#"]
[22,"body.medicalProblems","A.2.3 Medical problems","A.2.3 Medical problems",0,1,"BackboneElement",null,null,"* body.medicalProblems 0..1 BackboneElement ##34#A.2.3 Medical problems##34# ##334#A.2.3 Medical problems##334#"]
[23,"body.medicalProblems.problems","A.2.3.1 Current problems","A.2.3.1 Current problems",0,1,{"$f":"$B$2&\"/StructureDefinition/\"&I33","v":"http://hl7.eu/fhir/ig/xpandh/ps/StructureDefinition/Problem"},null,"Problem","* body.medicalProblems.problems 0..1 http://hl7.eu/fhir/ig/xpandh/ps/StructureDefinition/Problem ##34#A.2.3.1 Current problems##34# ##334#A.2.3.1 Current problems##334#"]
[22,"body.medicalProblems.medicalDevices","A.2.3.2 Medical devices and implants","A.2.3.2 - Medical devices and implants",1,1,"BackboneElement",null,null,"* body.medicalProblems.medicalDevices 1..1 BackboneElement ##34#A.2.3.2 Medical devices and implants##34# ##334#A.2.3.2 - Medical devices and implants##334#",null,{"$f":"IF(H34=\"\",IF(J34=\"*  ..  ##34###34# ##334###334#\",J34,\"\"),IF(J34=\"*  ..  ##34###34# ##334###334#\",J34,CONCATENATE(\"* \",B34,\" ^comment = ##334#\",H34,\"##334#\")))","v":""}]
[23,"body.medicalProblems.procedures","A.2.3.3 Procedures","A.2.3.3 - Procedures",1,1,"BackboneElement",null,null,"* body.medicalProblems.procedures 1..1 BackboneElement ##34#A.2.3.3 Procedures##34# ##334#A.2.3.3 - Procedures##334#",null,""]
[24,"body.medicalProblems.functionalStatus","A.2.3.4 Functional status","A.2.3.4 - Functional status",0,1,"BackboneElement",null,null,"* body.medicalProblems.functionalStatus 0..1 BackboneElement ##34#A.2.3.4 Functional status##34# ##334#A.2.3.4 - Functional status##334#",null,""]
[25,"body.medicationSummary","A.2.4 Medication summary","A.2.4 - Medication summary",1,1,"BackboneElement",null,null,"* body.medicationSummary 1..1 BackboneElement ##34#A.2.4 Medication summary##34# ##334#A.2.4 - Medication summary##334#",null,""]
[26,"body.medicationSummary.medication","A.2.4.1 Current and relevant past medicines","Relevant prescribed medicines whose period of time indicated for the treatment has not yet expired whether it has been dispensed or not, or medicines that influence current health status or are relevant to a clinical decision",1,"*",{"$f":"$B$2&\"/StructureDefinition/\"&I38","v":"http://hl7.eu/fhir/ig/xpandh/ps/StructureDefinition/Medicine"},null,"Medicine","* body.medicationSummary.medication 1..* http://hl7.eu/fhir/ig/xpandh/ps/StructureDefinition/Medicine ##34#A.2.4.1 Current and relevant past medicines##34# ##334#Relevant prescribed medicines whose period of time indicated for the treatment has not yet expired whether it has been dispensed or not, or medicines that influence current health status or are relevant to a clinical decision##334#"]
[27,"body.socialHistory","A.2.5 Social history","A.2.5 - Social history",0,1,"BackboneElement",null,null,"* body.socialHistory 0..1 BackboneElement ##34#A.2.5 Social history##34# ##334#A.2.5 - Social history##334#",null,""]
[{"$f":"$B$39&\".\"&B40","v":"body.socialHistory.body.socialHistory.observation"},"body.socialHistory.observation","A.2.5.1 Social history observations related to health","Health related lifestyle factors or lifestyle observations and social determinants of health. Example: cigarette smoker, alcohol consumption. - Preferred System: SNOMED CT GPS",0,"*","BackboneElement",null,null,"* body.socialHistory.observation 0..* BackboneElement ##34#A.2.5.1 Social history observations related to health##34# ##334#Health related lifestyle factors or lifestyle observations and social determinants of health. Example: cigarette smoker, alcohol consumption. - Preferred System: SNOMED CT GPS##334#"]
[{"$f":"$B$39&\".\"&B41","v":"body.socialHistory.body.socialHistory.referenceRange"},"body.socialHistory.referenceRange","A.2.5.2 Reference date range","Example: from 1974 to 2004",0,"*","Range",null,null,"* body.socialHistory.referenceRange 0..* Range ##34#A.2.5.2 Reference date range##34# ##334#Example: from 1974 to 2004##334#"]
[28,"body.pregnancyHistory","A.2.6 Pregnancy history","A.2.6 Pregnancy history",0,1,"BackboneElement",null,null,"* body.pregnancyHistory 0..1 BackboneElement ##34#A.2.6 Pregnancy history##34# ##334#A.2.6 Pregnancy history##334#",null,""]
[29,"body.patientData","A.2.7 Patient provided data","A.2.7 - Patient provided data",0,1,"BackboneElement",null,null,"* body.patientData 0..1 BackboneElement ##34#A.2.7 Patient provided data##34# ##334#A.2.7 - Patient provided data##334#"]
[30,"body.patientData.travelHistory","A.2.7.1 Travel history","A.2.7.1 - Travel history",0,1,"BackboneElement",null,null,"* body.patientData.travelHistory 0..1 BackboneElement ##34#A.2.7.1 Travel history##34# ##334#A.2.7.1 - Travel history##334#"]
[{"$f":"$B$44&\".\"&B45","v":"body.patientData.travelHistory.body.patientData.travelHistory.country"},"body.patientData.travelHistory.country","A.2.7.1.1 Country","A.1.4.1 Country(s) visited - Preferred System: ISO 3166",0,"*","CodeableConcept",null,null,"* body.patientData.travelHistory.country 0..* CodeableConcept ##34#A.2.7.1.1 Country##34# ##334#A.1.4.1 Country(s) visited - Preferred System: ISO 3166##334#"]
[{"$f":"$B$44&\".\"&B46","v":"body.patientData.travelHistory.body.patientData.travelHistory.period"},"body.patientData.travelHistory.period","A.2.7.1.2 Period","A.1.4.2 Date of entry and departure - Preferred System: ISO 8601",0,"*","dateTime",null,null,"* body.patientData.travelHistory.period 0..* dateTime ##34#A.2.7.1.2 Period##34# ##334#A.1.4.2 Date of entry and departure - Preferred System: ISO 8601##334#"]
[31,"body.patientData.advanceDirective","A.2.7.2 Advance Directive","A.2.7.2 - Advance Directive",0,1,"BackboneElement",null,null,"* body.patientData.advanceDirective 0..1 BackboneElement ##34#A.2.7.2 Advance Directive##34# ##334#A.2.7.2 - Advance Directive##334#"]
[32,"body.patientData.advanceDirective.documentation","A.2.7.2.1 Documentation","Existence of documentation on living will.\nPreferred system: SNOMED CT GPS",0,"*","BackboneElement",null,null,"* body.patientData.advanceDirective.documentation 0..* BackboneElement ##34#A.2.7.2.1 Documentation##34# ##334#Existence of documentation on living will.\nPreferred system: SNOMED CT GPS##334#"]
[33,"body.results","A.2.8 Results","A.2.8 - Results",0,1,{"$f":"$B$2&\"/StructureDefinition/\"&I49","v":"http://hl7.eu/fhir/ig/xpandh/ps/StructureDefinition/Result"},null,"Result","* body.results 0..1 http://hl7.eu/fhir/ig/xpandh/ps/StructureDefinition/Result ##34#A.2.8 Results##34# ##334#A.2.8 - Results##334#",null,""]
[34,"body.planOfCare","A.2.9 Plan of Care","(Therapeutic recommendations that do not include pharmacologic treatments, such as diet, physical exercise, planned surgeries)",0,1,"BackboneElement",null,null,"* body.planOfCare 0..1 BackboneElement ##34#A.2.9 Plan of Care##34# ##334#(Therapeutic recommendations that do not include pharmacologic treatments, such as diet, physical exercise, planned surgeries)##334#",null,""]
[35,"body.planOfCare.carePlan","A.2.9.1 Plan of care","Narrative containing the plan including proposals, goals, and vaccination requests for monitoring, tracking, or improving the condition of the patient. In the future it is expected that this Section could be provided in a structured and coded format.",0,"*","string",null,null,"* body.planOfCare.carePlan 0..* string ##34#A.2.9.1 Plan of care##34# ##334#Narrative containing the plan including proposals, goals, and vaccination requests for monitoring, tracking, or improving the condition of the patient. In the future it is expected that this Section could be provided in a structured and coded format.##334#"]
[null,null,null,null,null,null,null,null,null,"*  ..  ##34###34# ##334###334#"]
[null,null,null,null,null,null,null,null,null,"*  ..  ##34###34# ##334###334#"]
[null,null,null,null,null,null,null,null,null,"*  ..  ##34###34# ##334###334#"]
[null,null,null,null,null,null,null,null,null,"*  ..  ##34###34# ##334###334#"]
[null,null,null,null,null,null,null,null,null,"*  ..  ##34###34# ##334###334#"]
[null,null,null,null,null,null,null,null,null,"*  ..  ##34###34# ##334###334#"]
[]
[]
[]
[]
[]
[null,{"$f":"C63&\" \"&D63","v":"A.1.4 Document data"},"A.1.4","Document data"]
[null,{"$f":"C64&\" \"&D64","v":"A.1.4.1 Country(s) visited"},"A.1.4.1","Country(s) visited","ISO 3166","ISO 8601",{"$f":"B64&\" - Preferred System: \"&E64","v":"A.1.4.1 Country(s) visited - Preferred System: ISO 3166"}]
[null,"A.1.4.2 Date of entry and departure","A.1.4.2","Date of entry and departure","ISO 8601",null,{"$f":"B65&\" - Preferred System: \"&E65","v":"A.1.4.2 Date of entry and departure - Preferred System: ISO 8601"}]
[null,"A.1.4.3 Nature of the PS","A.1.4.3","Nature of the PS","Defines the context in which it was generated. Distinguishes between three methodological approaches for generating the PS: direct human intervention by an HP, automatically generated approach and mixed approach",null,{"$f":"B66&\" - \"&E66","v":"A.1.4.3 Nature of the PS - Defines the context in which it was generated. Distinguishes between three methodological approaches for generating the PS: direct human intervention by an HP, automatically generated approach and mixed approach"}]
[null,"A.1.5 Author and Organisation","A.1.5","Author and Organisation",null,null,"A.1.5 Author and Organisation - "]
[null,"A.1.5.1 Author organization","A.1.5.1","Author organization","At least one Author and Organisation shall be listed. In the event that there is no Author, at least one Organisation shall be listed This Author should be able to provide further information on the provenance of the data present in the patient summary. Different authors contributing to individual sections and/or entries could be provided at the relevant level.",null,"A.1.5.1 Author organization - At least one Author and Organisation shall be listed. In the event that there is no Author, at least one Organisation shall be listed This Author should be able to provide further information on the provenance of the data present in the patient summary. Different authors contributing to individual sections and/or entries could be provided at the relevant level."]
[null,"A.1.5.2 Legal authenticator","A.1.5.2","Legal authenticator","Legal entity (Health Professional or Health Care Provider) who authenticated the Patient Summary",null,"A.1.5.2 Legal authenticator - Legal entity (Health Professional or Health Care Provider) who authenticated the Patient Summary"]
[null,"A.1.6 Additional information / Knowledge resources","A.1.6","Additional information / Knowledge resources",null,null,"A.1.6 Additional information / Knowledge resources - "]
[null,"A.1.6.1 External reference","A.1.6.1","External reference"," A reference leading to Clinical Practice Guidelines (CPG), emergency and anesthesia guidelines or other clinical relevant guidelines. This should be used only for providing specific guidance which may not be readily available to the health professional caring for the patient.",null,"A.1.6.1 External reference -  A reference leading to Clinical Practice Guidelines (CPG), emergency and anesthesia guidelines or other clinical relevant guidelines. This should be used only for providing specific guidance which may not be readily available to the health professional caring for the patient."]
[null,"A.1.6.2 Related with","A.1.6.2","Related with","Identify the entry or entries of this Patient Summary for which this additional information relates with, for example a link between a rare disease problem (section A.2.3.1) and guidelines for that particular rare disease (this section).",null,"A.1.6.2 Related with - Identify the entry or entries of this Patient Summary for which this additional information relates with, for example a link between a rare disease problem (section A.2.3.1) and guidelines for that particular rare disease (this section)."]

{"sheet":"PS-fsh","index":3,"n_rows":56,"n_cols":7,"rows_kept":56,"cut":false,"hidden":false,"merged":[]}
[null,null,{"$f":"PS!J1","v":"// -------------------------------------------------------------------------------"}]
[null,null,{"$f":"PS!J2","v":"//  Logical Model"},null,null,null,"patientSummary.fsh"]
[null,null,{"$f":"PS!J3","v":"// -------------------------------------------------------------------------------"}]
[null,null,{"$f":"PS!J4","v":"Logical: PatientSummaryEhn"}]
[null,null,{"$f":"PS!J5","v":"Id: PatientSummary"}]
[null,null,{"$f":"PS!J6","v":"Title: ##34#A - Patient Summary##34#"}]
[null,null,{"$f":"PS!J7","v":"Description:  ##334#Patient Summary. eHN guideline model.##334#"}]
[null,null,{"$f":"IF(PS!J8=\"*  ..  ##34###34# ##334###334#\",\"//--- END\",PS!J8)","v":"* header 1..1 BackboneElement ##34#A.1 Report header data elements##34# ##334#A.1 Report header data elements##334#"}]
[null,null,{"$f":"IF(PS!J9=\"*  ..  ##34###34# ##334###334#\",\"//--- END\",PS!J9)","v":"* header.subject 1..1 http://hl7.eu/fhir/ig/xpandh/ps/StructureDefinition/Subject ##34#A.1.1 A1.2 Patient/subject##34# ##334#A.1.1 Identification of the patient/subject and A.1.2 Patient/subject related contact information  ##334#"}]
[null,null,{"$f":"IF(PS!J10=\"*  ..  ##34###34# ##334###334#\",\"//--- END\",PS!J10)","v":"* header.insuranceInfo 0..1 BackboneElement ##34#A.1.3 Insurance information##34# ##334#A.1.3 Insurance information##334#"}]
[null,null,{"$f":"IF(PS!J11=\"*  ..  ##34###34# ##334###334#\",\"//--- END\",PS!J11)","v":"* header.insuranceInfo.insuranceNumber 0..* Identifier ##34#A.1.3.1  Insurance number##34# ##334#Example: QQ 12 34 56 A##334#"}]
[null,null,{"$f":"IF(PS!J12=\"*  ..  ##34###34# ##334###334#\",\"//--- END\",PS!J12)","v":"* header.documentData 1..1 BackboneElement ##34#A.1.4 Document data##34# ##334#A.1.4 Document data##334#"}]
[null,null,{"$f":"IF(PS!J13=\"*  ..  ##34###34# ##334###334#\",\"//--- END\",PS!J13)","v":"* header.documentData.created 1..1 dateTime ##34#A.1.4.1 Date created##34# ##334#A.1.4.1 Date created - Date on which PS was generated##334#"}]
[null,null,{"$f":"IF(PS!J14=\"*  ..  ##34###34# ##334###334#\",\"//--- END\",PS!J14)","v":"* header.documentData.lastUpdate 0..1 dateTime ##34#A.1.4.2 Date of last update##34# ##334#A.1.4.2 Date of last update - Date on which PS was updated (date of most recent version)\nPreferred system: ISO 8601##334#"}]
[null,null,{"$f":"IF(PS!J15=\"*  ..  ##34###34# ##334###334#\",\"//--- END\",PS!J15)","v":"* header.documentData.natureOfIPS 1..1 BackboneElement ##34#A.1.4.3 Nature of the PS##34# ##334#A.1.4.3 Nature of the PS - Defines the context in which it was generated. Distinguishes between three methodological approaches for generating the PS: direct human intervention by an HP, automatically generated approach and mixed approach##334#"}]
[null,null,{"$f":"IF(PS!J16=\"*  ..  ##34###34# ##334###334#\",\"//--- END\",PS!J16)","v":"* header.participant 1..* BackboneElement ##34#A.1.5 Author and Organisation##34# ##334#A.1.5 Author and Organisation##334#"}]
[null,null,{"$f":"IF(PS!J17=\"*  ..  ##34###34# ##334###334#\",\"//--- END\",PS!J17)","v":"* header.participant.author 1..* Identifier ##34#A.1.5.1 Author organization##34# ##334#A.1.5.1 Author organization - At least one Author and Organisation shall be listed. In the event that there is no Author, at least one Organisation shall be listed This Author should be able to provide further information on the provenance of the data present in the patient summary. Different authors contributing to individual sections and/or entries could be provided at the relevant level.##334#"}]
[null,null,{"$f":"IF(PS!J18=\"*  ..  ##34###34# ##334###334#\",\"//--- END\",PS!J18)","v":"* header.participant.legalAuth 0..* CodeableConcept ##34#A.1.5.2 Legal authenticator##34# ##334#A.1.5.2 Legal authenticator - Legal entity (Health Professional or Health Care Provider) who authenticated the Patient Summary##334#"}]
[null,null,{"$f":"IF(PS!J19=\"*  ..  ##34###34# ##334###334#\",\"//--- END\",PS!J19)","v":"* header.additionalInfo 0..* BackboneElement ##34#A.1.6 Additional information / Knowledge resources##34# ##334#A.1.6 Additional information / Knowledge resources - ##334#"}]
[null,null,{"$f":"IF(PS!J20=\"*  ..  ##34###34# ##334###334#\",\"//--- END\",PS!J20)","v":"* header.additionalInfo.reference 0..* Reference ##34#A.1.6.1 External reference##34# ##334#A.1.6.1 External reference -  A reference leading to Clinical Practice Guidelines (CPG), emergency and anesthesia guidelines or other clinical relevant guidelines. This should be used only for providing specific guidance which may not be readily available to the health professional caring for the patient.##334#"}]
[null,null,{"$f":"IF(PS!J21=\"*  ..  ##34###34# ##334###334#\",\"//--- END\",PS!J21)","v":"* header.additionalInfo.relatedWith 0..* Reference ##34#A.1.6.2 Related with##34# ##334#A.1.6.2 Related with - Identify the entry or entries of this Patient Summary for which this additional information relates with, for example a link between a rare disease problem (section A.2.3.1) and guidelines for that particular rare disease (this section).##334#"}]
[null,null,{"$f":"IF(PS!J22=\"*  ..  ##34###34# ##334###334#\",\"//--- END\",PS!J22)","v":"* body 1..1 BackboneElement ##34#A.2 Patient summary body data elements##34# ##334#A.2 - Patient summary body data elements##334#"}]
[null,null,{"$f":"IF(PS!J23=\"*  ..  ##34###34# ##334###334#\",\"//--- END\",PS!J23)","v":"* body.alerts 1..1 BackboneElement ##34#A.2.1 Alerts##34# ##334#A.2.1 - Alerts##334#"}]
[null,null,{"$f":"IF(PS!J24=\"*  ..  ##34###34# ##334###334#\",\"//--- END\",PS!J24)","v":"* body.alerts.allergy 0..* http://hl7.eu/fhir/ig/xpandh/ps/StructureDefinition/Allergy ##34#A.2.1.1 Allergy##34# ##334#A.2.1.1 - Allergy##334#"}]
[null,null,{"$f":"IF(PS!J25=\"*  ..  ##34###34# ##334###334#\",\"//--- END\",PS!J25)","v":"* body.alerts.alert 0..* BackboneElement ##34#A.2.1.2 Medical alert information (other alerts not included in allergies)##34# ##334#A.2.1.2 - Medical alert information (other alerts not included in allergies)##334#"}]
[null,null,{"$f":"IF(PS!J26=\"*  ..  ##34###34# ##334###334#\",\"//--- END\",PS!J26)","v":"* body.alerts.alert.description 0..* string ##34#A.2.1.2.1 Healthcare alert description##34# ##334#Description of medical alerts in textual format: any clinical information that is imperative to know so that the life or health of the patient does not come under threat. \nExample 1: intolerance to aspirin due to gastrointestinal bleeding. \nExample 2: intolerance to captopril because of cough (the patient is not allergic but can't tolerate it because of persistent cough)\nExample 3: the patient has a rare disease that requires special treatment\nExample 4: Airway Alert / Difficult Intubation\nExample 5: Diagnoses such as malignant hyperthermia, porphyria, and bleeding disvaccinations; special treatments like anticoagulants or immunosuppressants; implanted devices.\nExample 6: transplanted organs illustrate other information that has to be taken into  account in a healthcare contact.\nExample 7: participation in a clinical trial that has to be taken into account in a healthcare contact.##334#"}]
[null,null,{"$f":"IF(PS!J27=\"*  ..  ##34###34# ##334###334#\",\"//--- END\",PS!J27)","v":"* body.medicalHistory 1..1 BackboneElement ##34#A.2.2 Medical history##34# ##334#A.2.2 - Medical history##334#"}]
[null,null,{"$f":"IF(PS!J28=\"*  ..  ##34###34# ##334###334#\",\"//--- END\",PS!J28)","v":"* body.medicalHistory.vaccination 0..* http://hl7.eu/fhir/ig/xpandh/ps/StructureDefinition/Vaccination ##34#A.2.2.1 Vaccination/ prophylaxis information##34# ##334#A.2.2.1 - Vaccination/ prophylaxis information##334#"}]
[null,null,{"$f":"IF(PS!J29=\"*  ..  ##34###34# ##334###334#\",\"//--- END\",PS!J29)","v":"* body.medicalHistory.inactiveProblem 0..* http://hl7.eu/fhir/ig/xpandh/ps/StructureDefinition/ClosedProblem ##34#A.2.2.2 Resolved, closed or inactive problems##34# ##334#A.2.2.2 - Resolved, closed or inactive problems##334#"}]
[null,null,{"$f":"IF(PS!J30=\"*  ..  ##34###34# ##334###334#\",\"//--- END\",PS!J30)","v":"* body.medicalHistory.anamnesis 0..1 BackboneElement ##34#A.2.2.3 Medical history##34# ##334#A.2.2.3 - Medical history##334#"}]
[null,null,{"$f":"IF(PS!J31=\"*  ..  ##34###34# ##334###334#\",\"//--- END\",PS!J31)","v":"* body.medicalHistory.anamnesis.details 0..1 Narrative ##34#A.2.2.3.1 Medical history##34# ##334#This section may provide both synthetic anamnesis (e.g. description of phases of the pathology as a chronological summary of clustered clinical information) and anecdotal evidence that clinicians can collect from the patient, and can read in a narrative form. See Section 2, Chapter III, Art 7, (c).##334#"}]
[null,null,{"$f":"IF(PS!J32=\"*  ..  ##34###34# ##334###334#\",\"//--- END\",PS!J32)","v":"* body.medicalProblems 0..1 BackboneElement ##34#A.2.3 Medical problems##34# ##334#A.2.3 Medical problems##334#"}]
[null,null,{"$f":"IF(PS!J33=\"*  ..  ##34###34# ##334###334#\",\"//--- END\",PS!J33)","v":"* body.medicalProblems.problems 0..1 http://hl7.eu/fhir/ig/xpandh/ps/StructureDefinition/Problem ##34#A.2.3.1 Current problems##34# ##334#A.2.3.1 Current problems##334#"}]
[null,null,{"$f":"IF(PS!J34=\"*  ..  ##34###34# ##334###334#\",\"//--- END\",PS!J34)","v":"* body.medicalProblems.medicalDevices 1..1 BackboneElement ##34#A.2.3.2 Medical devices and implants##34# ##334#A.2.3.2 - Medical devices and implants##334#"}]
[null,null,{"$f":"IF(PS!J35=\"*  ..  ##34###34# ##334###334#\",\"//--- END\",PS!J35)","v":"* body.medicalProblems.procedures 1..1 BackboneElement ##34#A.2.3.3 Procedures##34# ##334#A.2.3.3 - Procedures##334#"}]
[null,null,{"$f":"IF(PS!J36=\"*  ..  ##34###34# ##334###334#\",\"//--- END\",PS!J36)","v":"* body.medicalProblems.functionalStatus 0..1 BackboneElement ##34#A.2.3.4 Functional status##34# ##334#A.2.3.4 - Functional status##334#"}]
[null,null,{"$f":"IF(PS!J37=\"*  ..  ##34###34# ##334###334#\",\"//--- END\",PS!J37)","v":"* body.medicationSummary 1..1 BackboneElement ##34#A.2.4 Medication summary##34# ##334#A.2.4 - Medication summary##334#"}]
[null,null,{"$f":"IF(PS!J38=\"*  ..  ##34###34# ##334###334#\",\"//--- END\",PS!J38)","v":"* body.medicationSummary.medication 1..* http://hl7.eu/fhir/ig/xpandh/ps/StructureDefinition/Medicine ##34#A.2.4.1 Current and relevant past medicines##34# ##334#Relevant prescribed medicines whose period of time indicated for the treatment has not yet expired whether it has been dispensed or not, or medicines that influence current health status or are relevant to a clinical decision##334#"}]
[null,null,{"$f":"IF(PS!J39=\"*  ..  ##34###34# ##334###334#\",\"//--- END\",PS!J39)","v":"* body.socialHistory 0..1 BackboneElement ##34#A.2.5 Social history##34# ##334#A.2.5 - Social history##334#"}]
[null,null,{"$f":"IF(PS!J40=\"*  ..  ##34###34# ##334###334#\",\"//--- END\",PS!J40)","v":"* body.socialHistory.observation 0..* BackboneElement ##34#A.2.5.1 Social history observations related to health##34# ##334#Health related lifestyle factors or lifestyle observations and social determinants of health. Example: cigarette smoker, alcohol consumption. - Preferred System: SNOMED CT GPS##334#"}]
[null,null,{"$f":"IF(PS!J41=\"*  ..  ##34###34# ##334###334#\",\"//--- END\",PS!J41)","v":"* body.socialHistory.referenceRange 0..* Range ##34#A.2.5.2 Reference date range##34# ##334#Example: from 1974 to 2004##334#"}]
[null,null,{"$f":"IF(PS!J42=\"*  ..  ##34###34# ##334###334#\",\"//--- END\",PS!J42)","v":"* body.pregnancyHistory 0..1 BackboneElement ##34#A.2.6 Pregnancy history##34# ##334#A.2.6 Pregnancy history##334#"}]
[null,null,{"$f":"IF(PS!J43=\"*  ..  ##34###34# ##334###334#\",\"//--- END\",PS!J43)","v":"* body.patientData 0..1 BackboneElement ##34#A.2.7 Patient provided data##34# ##334#A.2.7 - Patient provided data##334#"}]
[null,null,{"$f":"IF(PS!J44=\"*  ..  ##34###34# ##334###334#\",\"//--- END\",PS!J44)","v":"* body.patientData.travelHistory 0..1 BackboneElement ##34#A.2.7.1 Travel history##34# ##334#A.2.7.1 - Travel history##334#"}]
[null,null,{"$f":"IF(PS!J45=\"*  ..  ##34###34# ##334###334#\",\"//--- END\",PS!J45)","v":"* body.patientData.travelHistory.country 0..* CodeableConcept ##34#A.2.7.1.1 Country##34# ##334#A.1.4.1 Country(s) visited - Preferred System: ISO 3166##334#"}]
[null,null,{"$f":"IF(PS!J46=\"*  ..  ##34###34# ##334###334#\",\"//--- END\",PS!J46)","v":"* body.patientData.travelHistory.period 0..* dateTime ##34#A.2.7.1.2 Period##34# ##334#A.1.4.2 Date of entry and departure - Preferred System: ISO 8601##334#"}]
[null,null,{"$f":"IF(PS!J47=\"*  ..  ##34###34# ##334###334#\",\"//--- END\",PS!J47)","v":"* body.patientData.advanceDirective 0..1 BackboneElement ##34#A.2.7.2 Advance Directive##34# ##334#A.2.7.2 - Advance Directive##334#"}]
[null,null,{"$f":"IF(PS!J48=\"*  ..  ##34###34# ##334###334#\",\"//--- END\",PS!J48)","v":"* body.patientData.advanceDirective.documentation 0..* BackboneElement ##34#A.2.7.2.1 Documentation##34# ##334#Existence of documentation on living will.\nPreferred system: SNOMED CT GPS##334#"}]
[null,null,{"$f":"IF(PS!J49=\"*  ..  ##34###34# ##334###334#\",\"//--- END\",PS!J49)","v":"* body.results 0..1 http://hl7.eu/fhir/ig/xpandh/ps/StructureDefinition/Result ##34#A.2.8 Results##34# ##334#A.2.8 - Results##334#"}]
[null,null,{"$f":"IF(PS!J50=\"*  ..  ##34###34# ##334###334#\",\"//--- END\",PS!J50)","v":"* body.planOfCare 0..1 BackboneElement ##34#A.2.9 Plan of Care##34# ##334#(Therapeutic recommendations that do not include pharmacologic treatments, such as diet, physical exercise, planned surgeries)##334#"}]
[null,null,{"$f":"IF(PS!J51=\"*  ..  ##34###34# ##334###334#\",\"//--- END\",PS!J51)","v":"* body.planOfCare.carePlan 0..* string ##34#A.2.9.1 Plan of care##34# ##334#Narrative containing the plan including proposals, goals, and vaccination requests for monitoring, tracking, or improving the condition of the patient. In the future it is expected that this Section could be provided in a structured and coded format.##334#"}]
[null,null,{"$f":"IF(PS!J52=\"*  ..  ##34###34# ##334###334#\",\"//--- END\",PS!J52)","v":"//--- END"}]
[null,null,{"$f":"IF(PS!J53=\"*  ..  ##34###34# ##334###334#\",\"//--- END\",PS!J53)","v":"//--- END"}]
[null,null,{"$f":"IF(PS!J54=\"*  ..  ##34###34# ##334###334#\",\"//--- END\",PS!J54)","v":"//--- END"}]
[null,null,{"$f":"IF(PS!J55=\"*  ..  ##34###34# ##334###334#\",\"//--- END\",PS!J55)","v":"//--- END"}]
[null,null,{"$f":"IF(PS!J56=\"*  ..  ##34###34# ##334###334#\",\"//--- END\",PS!J56)","v":"//--- END"}]

{"sheet":"PS-ConceptMap-1","index":4,"n_rows":372,"n_cols":19,"rows_kept":372,"cut":false,"hidden":false,"merged":[[5,4,5,6],[6,4,6,6]]}
[]
[]
[null,"Mapping","PatientSummary2FHIR","Source URI","http://hl7.eu/fhir/ig/xpandh/ps/StructureDefinition/PatientSummary"]
[null,"Id","patientSummary2FHIR-eu-ps","Target URI","http://hl7.eu/fhir/ig/xpandh/ps/StructureDefinition/Bundle-eu-ps"]
[null,"Title","eHN Patient Summary to this guide Map"]
[null,"Source","http://hl7.eu/fhir/ig/xpandh/ps/StructureDefinition/PatientSummary","Source Group","http://hl7.eu/fhir/ig/xpandh/ps/StructureDefinition/PatientSummary"]
[null,"Target","http://hl7.eu/fhir/ig/xpandh/ps","Target Group","http://hl7.eu/fhir/ig/xpandh/ps/StructureDefinition/Composition-ps-xpandh"]
[null,"description","eHN Patient Summary to this guide Map",null,null,null,null,null,"* group[=].element[+].code = #Osiris.Patient.BirthDate","* group[=].element[=].display = \"Birth Date [C4]\"","* group[=].element[=].target.code = #Subject.dateOfBirth.date","* group[=].element[=].target.display = \"Date of birth\"","* group[=].element[=].target.equivalence = #equivalent",null,null,"Elements",6]
[null,"purpose","It shows how the Patient Summary data set defined by the EU eHN guidelines is mapped into this guide"]
[]
[null,null,null,null,null,null,null,null,"source:code","source:display","code","display","target to source","Comment"]
[]
[null,null,null,null,null,"target to source","Comment"]
[null,"PatientSummary",null,"Composition"]
[null,{"$f":"PS!B8","v":"header"},{"$f":"PS!C8","v":"A.1 Report header data elements"},null,null,"relatedto",null,null,{"$f":"\"* group[=].element[+].code = #\"&$B$14&\".\"&B15","v":"* group[=].element[+].code = #PatientSummary.header"},{"$f":"\"* group[=].element[=].display = ##34#\"&C15&\"##34#\"","v":"* group[=].element[=].display = ##34#A.1 Report header data elements##34#"},{"$f":"IF(F15=\"unmatched\",\"//-- unmatched\",IF(D15=\"\",\"* group[=].element[=].target.code = #\"&$D$14,\"* group[=].element[=].target.code = #\"&$D$14&\".\"&D15))","v":"* group[=].element[=].target.code = #Composition"},{"$f":"IF(F15=\"unmatched\",\"//-- unmatched\",\"* group[=].element[=].target.display = ##34#\"&E15&\"##34#\")","v":"* group[=].element[=].target.display = ##34###34#"},{"$f":"\"* group[=].element[=].target.equivalence = #\"&F15","v":"* group[=].element[=].target.equivalence = #relatedto"},{"$f":"IF(G15<>\"\",CONCATENATE(\"* group[=].element[=].target.comment = \",\"##34#\",G15,\"##34#\"),\"\")","v":""},null,1,{"$f":"IF(MOD(P15,$Q$8)=0,P15/$Q$8-1,INT(P15/$Q$8))","v":0},{"$f":"IF(MOD(P15,$Q$8)=0,$Q$8,MOD(P15,$Q$8))","v":1},{"$f":"INDEX('PS-ConceptMap-1'!$I$15:$N$286,Q15+1,R15)","v":"* group[=].element[+].code = #PatientSummary.header"}]
[null,{"$f":"PS!B9","v":"header.subject"},{"$f":"PS!C9","v":"A.1.1 A1.2 Patient/subject"},"subject",null,"relatedto",null,null,{"$f":"\"* group[=].element[+].code = #\"&$B$14&\".\"&B16","v":"* group[=].element[+].code = #PatientSummary.header.subject"},{"$f":"\"* group[=].element[=].display = ##34#\"&C16&\"##34#\"","v":"* group[=].element[=].display = ##34#A.1.1 A1.2 Patient/subject##34#"},{"$f":"IF(F16=\"unmatched\",\"//-- unmatched\",IF(D16=\"\",\"* group[=].element[=].target.code = #\"&$D$14,\"* group[=].element[=].target.code = #\"&$D$14&\".\"&D16))","v":"* group[=].element[=].target.code = #Composition.subject"},{"$f":"IF(F16=\"unmatched\",\"//-- unmatched\",\"* group[=].element[=].target.display = ##34#\"&E16&\"##34#\")","v":"* group[=].element[=].target.display = ##34###34#"},{"$f":"\"* group[=].element[=].target.equivalence = #\"&F16","v":"* group[=].element[=].target.equivalence = #relatedto"},{"$f":"IF(G16<>\"\",CONCATENATE(\"* group[=].element[=].target.comment = \",\"##34#\",G16,\"##34#\"),\"\")","v":""},null,2,{"$f":"IF(MOD(P16,$Q$8)=0,P16/$Q$8-1,INT(P16/$Q$8))","v":0},{"$f":"IF(MOD(P16,$Q$8)=0,$Q$8,MOD(P16,$Q$8))","v":2},{"$f":"INDEX('PS-ConceptMap-1'!$I$15:$N$286,Q16+1,R16)","v":"* group[=].element[=].display = ##34#A.1 Report header data elements##34#"}]
[null,{"$f":"PS!B10","v":"header.insuranceInfo"},{"$f":"PS!C10","v":"A.1.3 Insurance information"},"subject",null,"relatedto",null,null,"* group[=].element[+].code = #PatientSummary.header.insuranceInfo","* group[=].element[=].display = ##34#A.1.3 Insurance information##34#","* group[=].element[=].target.code = #Composition.subject","* group[=].element[=].target.display = ##34###34#","* group[=].element[=].target.equivalence = #relatedto","",null,3,0,3,{"$f":"INDEX('PS-ConceptMap-1'!$I$15:$N$286,Q17+1,R17)","v":"* group[=].element[=].target.code = #Composition"}]
[null,{"$f":"PS!B11","v":"header.insuranceInfo.insuranceNumber"},{"$f":"PS!C11","v":"A.1.3.1  Insurance number"},"subject.identifier",null,"relatedto","In some cases the identifier assigned by the payor (e.g. the SSN) is used as one of the Patient Identifiers, this is how it expected to be used foe the PS.\nThe appropriate resource for covneying such a kind of data is Coverage, but a dedicated section should be added to the PS.",null,"* group[=].element[+].code = #PatientSummary.header.insuranceInfo.insuranceNumber","* group[=].element[=].display = ##34#A.1.3.1  Insurance number##34#","* group[=].element[=].target.code = #Composition.subject.identifier","* group[=].element[=].target.display = ##34###34#","* group[=].element[=].target.equivalence = #relatedto","* group[=].element[=].target.comment = ##34#In some cases the identifier assigned by the payor (e.g. the SSN) is used as one of the Patient Identifiers, this is how it expected to be used foe the PS.\nThe appropriate resource for covneying such a kind of data is Coverage, but a dedicated section should be added to the PS.##34#",null,4,0,4,{"$f":"INDEX('PS-ConceptMap-1'!$I$15:$N$286,Q18+1,R18)","v":"* group[=].element[=].target.display = ##34###34#"}]
[null,{"$f":"PS!B12","v":"header.documentData"},{"$f":"PS!C12","v":"A.1.4 Document data"},null,null,"relatedto",null,null,"* group[=].element[+].code = #PatientSummary.header.documentData","* group[=].element[=].display = ##34#A.1.4 Document data##34#","* group[=].element[=].target.code = #Composition","* group[=].element[=].target.display = ##34###34#","* group[=].element[=].target.equivalence = #relatedto","",null,5,0,5,{"$f":"INDEX('PS-ConceptMap-1'!$I$15:$N$286,Q19+1,R19)","v":"* group[=].element[=].target.equivalence = #relatedto"}]
[null,{"$f":"PS!B13","v":"header.documentData.created"},{"$f":"PS!C13","v":"A.1.4.1 Date created"},"date",null,"relatedto",null,null,"* group[=].element[+].code = #PatientSummary.header.documentData.created","* group[=].element[=].display = ##34#A.1.4.1 Date created##34#","* group[=].element[=].target.code = #Composition.date","* group[=].element[=].target.display = ##34###34#","* group[=].element[=].target.equivalence = #relatedto","",null,6,0,6,{"$f":"INDEX('PS-ConceptMap-1'!$I$15:$N$286,Q20+1,R20)","v":""}]
[null,{"$f":"PS!B14","v":"header.documentData.lastUpdate"},{"$f":"PS!C14","v":"A.1.4.2 Date of last update"},"event:careProvisioningEvent.period.end",null,"relatedto","If it represents the period of time this Patient Summary is covering",null,"* group[=].element[+].code = #PatientSummary.header.documentData.lastUpdate","* group[=].element[=].display = ##34#A.1.4.2 Date of last update##34#","* group[=].element[=].target.code = #Composition.event:careProvisioningEvent.period.end","* group[=].element[=].target.display = ##34###34#","* group[=].element[=].target.equivalence = #relatedto","* group[=].element[=].target.comment = ##34#If it represents the period of time this Patient Summary is covering##34#",null,7,1,1,{"$f":"INDEX('PS-ConceptMap-1'!$I$15:$N$286,Q21+1,R21)","v":"* group[=].element[+].code = #PatientSummary.header.subject"}]
[null,{"$f":"PS!B14","v":"header.documentData.lastUpdate"},{"$f":"PS!C14","v":"A.1.4.2 Date of last update"},"meta.lastUpdated",null,"relatedto","If it represents the last update of this FHIR resource",null,"* group[=].element[+].code = #PatientSummary.header.documentData.lastUpdate","* group[=].element[=].display = ##34#A.1.4.2 Date of last update##34#","* group[=].element[=].target.code = #Composition.meta.lastUpdated","* group[=].element[=].target.display = ##34###34#","* group[=].element[=].target.equivalence = #relatedto","* group[=].element[=].target.comment = ##34#If it represents the last update of this FHIR resource##34#",null,8,1,2,{"$f":"INDEX('PS-ConceptMap-1'!$I$15:$N$286,Q22+1,R22)","v":"* group[=].element[=].display = ##34#A.1.1 A1.2 Patient/subject##34#"}]
[null,{"$f":"PS!B15","v":"header.documentData.natureOfIPS"},{"$f":"PS!C15","v":"A.1.4.3 Nature of the PS"},"author",null,"relatedto","the nature of a PS is determined as a comobination of type if author and legal authenticator. Future versions may cosndier to use Provenance data for this scope",null,"* group[=].element[+].code = #PatientSummary.header.documentData.natureOfIPS","* group[=].element[=].display = ##34#A.1.4.3 Nature of the PS##34#","* group[=].element[=].target.code = #Composition.author","* group[=].element[=].target.display = ##34###34#","* group[=].element[=].target.equivalence = #relatedto","* group[=].element[=].target.comment = ##34#the nature of a PS is determined as a comobination of type if author and legal authenticator. Future versions may cosndier to use Provenance data for this scope##34#",null,9,1,3,{"$f":"INDEX('PS-ConceptMap-1'!$I$15:$N$286,Q23+1,R23)","v":"* group[=].element[=].target.code = #Composition.subject"}]
[null,{"$f":"PS!B16","v":"header.participant"},{"$f":"PS!C16","v":"A.1.5 Author and Organisation"},null,null,"relatedto",null,null,"* group[=].element[+].code = #PatientSummary.header.participant","* group[=].element[=].display = ##34#A.1.5 Author and Organisation##34#","* group[=].element[=].target.code = #Composition","* group[=].element[=].target.display = ##34###34#","* group[=].element[=].target.equivalence = #relatedto","",null,10,1,4,{"$f":"INDEX('PS-ConceptMap-1'!$I$15:$N$286,Q24+1,R24)","v":"* group[=].element[=].target.display = ##34###34#"}]
[null,{"$f":"PS!B17","v":"header.participant.author"},{"$f":"PS!C17","v":"A.1.5.1 Author organization"},"author",null,"equivalent","author can be of type Organziation, Pracitctioner or PractictionerRole",null,"* group[=].element[+].code = #PatientSummary.header.participant.author","* group[=].element[=].display = ##34#A.1.5.1 Author organization##34#","* group[=].element[=].target.code = #Composition.author","* group[=].element[=].target.display = ##34###34#","* group[=].element[=].target.equivalence = #equivalent","* group[=].element[=].target.comment = ##34#author can be of type Organziation, Pracitctioner or PractictionerRole##34#",null,11,1,5,{"$f":"INDEX('PS-ConceptMap-1'!$I$15:$N$286,Q25+1,R25)","v":"* group[=].element[=].target.equivalence = #relatedto"}]
[null,{"$f":"PS!B18","v":"header.participant.legalAuth"},{"$f":"PS!C18","v":"A.1.5.2 Legal authenticator"},"attester",null,"relatedto","attester.mode = 'legal'",null,"* group[=].element[+].code = #PatientSummary.header.participant.legalAuth","* group[=].element[=].display = ##34#A.1.5.2 Legal authenticator##34#","* group[=].element[=].target.code = #Composition.attester","* group[=].element[=].target.display = ##34###34#","* group[=].element[=].target.equivalence = #relatedto","* group[=].element[=].target.comment = ##34#attester.mode = 'legal'##34#",null,12,1,6,{"$f":"INDEX('PS-ConceptMap-1'!$I$15:$N$286,Q26+1,R26)","v":""}]
[null,{"$f":"PS!B19","v":"header.additionalInfo"},{"$f":"PS!C19","v":"A.1.6 Additional information / Knowledge resources"},null,null,"unmatched","Covered by other resources",null,"* group[=].element[+].code = #PatientSummary.header.additionalInfo","* group[=].element[=].display = ##34#A.1.6 Additional information / Knowledge resources##34#","//-- unmatched","//-- unmatched","* group[=].element[=].target.equivalence = #unmatched","* group[=].element[=].target.comment = ##34#Covered by other resources##34#",null,13,2,1,{"$f":"INDEX('PS-ConceptMap-1'!$I$15:$N$286,Q27+1,R27)","v":"* group[=].element[+].code = #PatientSummary.header.insuranceInfo"}]
[null,{"$f":"PS!B20","v":"header.additionalInfo.reference"},{"$f":"PS!C20","v":"A.1.6.1 External reference"},null,null,"unmatched","Covered by other resources",null,"* group[=].element[+].code = #PatientSummary.header.additionalInfo.reference","* group[=].element[=].display = ##34#A.1.6.1 External reference##34#","//-- unmatched","//-- unmatched","* group[=].element[=].target.equivalence = #unmatched","* group[=].element[=].target.comment = ##34#Covered by other resources##34#",null,14,2,2,{"$f":"INDEX('PS-ConceptMap-1'!$I$15:$N$286,Q28+1,R28)","v":"* group[=].element[=].display = ##34#A.1.3 Insurance information##34#"}]
[null,{"$f":"PS!B21","v":"header.additionalInfo.relatedWith"},{"$f":"PS!C21","v":"A.1.6.2 Related with"},null,null,"unmatched","Covered by other resources",null,"* group[=].element[+].code = #PatientSummary.header.additionalInfo.relatedWith","* group[=].element[=].display = ##34#A.1.6.2 Related with##34#","//-- unmatched","//-- unmatched","* group[=].element[=].target.equivalence = #unmatched","* group[=].element[=].target.comment = ##34#Covered by other resources##34#",null,15,2,3,{"$f":"INDEX('PS-ConceptMap-1'!$I$15:$N$286,Q29+1,R29)","v":"* group[=].element[=].target.code = #Composition.subject"}]
[null,{"$f":"PS!B22","v":"body"},{"$f":"PS!C22","v":"A.2 Patient summary body data elements"},"section",null,"relatedto",null,null,"* group[=].element[+].code = #PatientSummary.body","* group[=].element[=].display = ##34#A.2 Patient summary body data elements##34#","* group[=].element[=].target.code = #Composition.section","* group[=].element[=].target.display = ##34###34#","* group[=].element[=].target.equivalence = #relatedto","",null,16,2,4,{"$f":"INDEX('PS-ConceptMap-1'!$I$15:$N$286,Q30+1,R30)","v":"* group[=].element[=].target.display = ##34###34#"}]
[null,{"$f":"PS!B23","v":"body.alerts"},{"$f":"PS!C23","v":"A.2.1 Alerts"},"section",null,"relatedto",null,null,"* group[=].element[+].code = #PatientSummary.body.alerts","* group[=].element[=].display = ##34#A.2.1 Alerts##34#","* group[=].element[=].target.code = #Composition.section","* group[=].element[=].target.display = ##34###34#","* group[=].element[=].target.equivalence = #relatedto","",null,17,2,5,{"$f":"INDEX('PS-ConceptMap-1'!$I$15:$N$286,Q31+1,R31)","v":"* group[=].element[=].target.equivalence = #relatedto"}]
[null,{"$f":"PS!B24","v":"body.alerts.allergy"},{"$f":"PS!C24","v":"A.2.1.1 Allergy"},"section:sectionAllergies",null,"relatedto",null,null,"* group[=].element[+].code = #PatientSummary.body.alerts.allergy","* group[=].element[=].display = ##34#A.2.1.1 Allergy##34#","* group[=].element[=].target.code = #Composition.section:sectionAllergies","* group[=].element[=].target.display = ##34###34#","* group[=].element[=].target.equivalence = #relatedto","",null,18,2,6,{"$f":"INDEX('PS-ConceptMap-1'!$I$15:$N$286,Q32+1,R32)","v":""}]
[null,{"$f":"PS!B25","v":"body.alerts.alert"},{"$f":"PS!C25","v":"A.2.1.2 Medical alert information (other alerts not included in allergies)"},"section:sectionAlert",null,"relatedto",null,null,"* group[=].element[+].code = #PatientSummary.body.alerts.alert","* group[=].element[=].display = ##34#A.2.1.2 Medical alert information (other alerts not included in allergies)##34#","* group[=].element[=].target.code = #Composition.section:sectionAlert","* group[=].element[=].target.display = ##34###34#","* group[=].element[=].target.equivalence = #relatedto","",null,19,3,1,{"$f":"INDEX('PS-ConceptMap-1'!$I$15:$N$286,Q33+1,R33)","v":"* group[=].element[+].code = #PatientSummary.header.insuranceInfo.insuranceNumber"}]
[null,{"$f":"PS!B26","v":"body.alerts.alert.description"},{"$f":"PS!C26","v":"A.2.1.2.1 Healthcare alert description"},"section:sectionAlert.text",null,"relatedto","Common textual descirption",null,"* group[=].element[+].code = #PatientSummary.body.alerts.alert.description","* group[=].element[=].display = ##34#A.2.1.2.1 Healthcare alert description##34#","* group[=].element[=].target.code = #Composition.section:sectionAlert.text","* group[=].element[=].target.display = ##34###34#","* group[=].element[=].target.equivalence = #relatedto","* group[=].element[=].target.comment = ##34#Common textual descirption##34#",null,20,3,2,{"$f":"INDEX('PS-ConceptMap-1'!$I$15:$N$286,Q34+1,R34)","v":"* group[=].element[=].display = ##34#A.1.3.1  Insurance number##34#"}]
[null,{"$f":"PS!B26","v":"body.alerts.alert.description"},{"$f":"PS!C26","v":"A.2.1.2.1 Healthcare alert description"},"section:sectionAlert.entry.code.text",null,"relatedto","entry level description",null,"* group[=].element[+].code = #PatientSummary.body.alerts.alert.description","* group[=].element[=].display = ##34#A.2.1.2.1 Healthcare alert description##34#","* group[=].element[=].target.code = #Composition.section:sectionAlert.entry.code.text","* group[=].element[=].target.display = ##34###34#","* group[=].element[=].target.equivalence = #relatedto","* group[=].element[=].target.comment = ##34#entry level description##34#",null,21,3,3,{"$f":"INDEX('PS-ConceptMap-1'!$I$15:$N$286,Q35+1,R35)","v":"* group[=].element[=].target.code = #Composition.subject.identifier"}]
[null,{"$f":"PS!B27","v":"body.medicalHistory"},{"$f":"PS!C27","v":"A.2.2 Medical history"},"section",null,"relatedto",null,null,"* group[=].element[+].code = #PatientSummary.body.medicalHistory","* group[=].element[=].display = ##34#A.2.2 Medical history##34#","* group[=].element[=].target.code = #Composition.section","* group[=].element[=].target.display = ##34###34#","* group[=].element[=].target.equivalence = #relatedto","",null,22,3,4,{"$f":"INDEX('PS-ConceptMap-1'!$I$15:$N$286,Q36+1,R36)","v":"* group[=].element[=].target.display = ##34###34#"}]
[null,{"$f":"PS!B28","v":"body.medicalHistory.vaccination"},{"$f":"PS!C28","v":"A.2.2.1 Vaccination/ prophylaxis information"},"section:sectionImmunizations",null,"equivalent",null,null,"* group[=].element[+].code = #PatientSummary.body.medicalHistory.vaccination","* group[=].element[=].display = ##34#A.2.2.1 Vaccination/ prophylaxis information##34#","* group[=].element[=].target.code = #Composition.section:sectionImmunizations","* group[=].element[=].target.display = ##34###34#","* group[=].element[=].target.equivalence = #equivalent","",null,23,3,5,{"$f":"INDEX('PS-ConceptMap-1'!$I$15:$N$286,Q37+1,R37)","v":"* group[=].element[=].target.equivalence = #relatedto"}]
[null,{"$f":"PS!B29","v":"body.medicalHistory.inactiveProblem"},{"$f":"PS!C29","v":"A.2.2.2 Resolved, closed or inactive problems"},"section:sectionPastIllnessHx",null,"equivalent",null,null,"* group[=].element[+].code = #PatientSummary.body.medicalHistory.inactiveProblem","* group[=].element[=].display = ##34#A.2.2.2 Resolved, closed or inactive problems##34#","* group[=].element[=].target.code = #Composition.section:sectionPastIllnessHx","* group[=].element[=].target.display = ##34###34#","* group[=].element[=].target.equivalence = #equivalent","",null,24,3,6,{"$f":"INDEX('PS-ConceptMap-1'!$I$15:$N$286,Q38+1,R38)","v":"* group[=].element[=].target.comment = ##34#In some cases the identifier assigned by the payor (e.g. the SSN) is used as one of the Patient Identifiers, this is how it expected to be used foe the PS.\nThe appropriate resource for covneying such a kind of data is Coverage, but a dedicated section should be added to the PS.##34#"}]
[null,{"$f":"PS!B30","v":"body.medicalHistory.anamnesis"},{"$f":"PS!C30","v":"A.2.2.3 Medical history"},"section",null,"relatedto",null,null,"* group[=].element[+].code = #PatientSummary.body.medicalHistory.anamnesis","* group[=].element[=].display = ##34#A.2.2.3 Medical history##34#","* group[=].element[=].target.code = #Composition.section","* group[=].element[=].target.display = ##34###34#","* group[=].element[=].target.equivalence = #relatedto","",null,25,4,1,{"$f":"INDEX('PS-ConceptMap-1'!$I$15:$N$286,Q39+1,R39)","v":"* group[=].element[+].code = #PatientSummary.header.documentData"}]
[null,{"$f":"PS!B31","v":"body.medicalHistory.anamnesis.details"},{"$f":"PS!C31","v":"A.2.2.3.1 Medical history"},"section:section:sectionPatientHx",null,"relatedto",null,null,"* group[=].element[+].code = #PatientSummary.body.medicalHistory.anamnesis.details","* group[=].element[=].display = ##34#A.2.2.3.1 Medical history##34#","* group[=].element[=].target.code = #Composition.section:section:sectionPatientHx","* group[=].element[=].target.display = ##34###34#","* group[=].element[=].target.equivalence = #relatedto","",null,26,4,2,{"$f":"INDEX('PS-ConceptMap-1'!$I$15:$N$286,Q40+1,R40)","v":"* group[=].element[=].display = ##34#A.1.4 Document data##34#"}]
[null,{"$f":"PS!B32","v":"body.medicalProblems"},{"$f":"PS!C32","v":"A.2.3 Medical problems"},"section",null,"relatedto",null,null,"* group[=].element[+].code = #PatientSummary.body.medicalProblems","* group[=].element[=].display = ##34#A.2.3 Medical problems##34#","* group[=].element[=].target.code = #Composition.section","* group[=].element[=].target.display = ##34###34#","* group[=].element[=].target.equivalence = #relatedto","",null,27,4,3,{"$f":"INDEX('PS-ConceptMap-1'!$I$15:$N$286,Q41+1,R41)","v":"* group[=].element[=].target.code = #Composition"}]
[null,{"$f":"PS!B33","v":"body.medicalProblems.problems"},{"$f":"PS!C33","v":"A.2.3.1 Current problems"},"section:section:sectionProblems",null,"equivalent",null,null,"* group[=].element[+].code = #PatientSummary.body.medicalProblems.problems","* group[=].element[=].display = ##34#A.2.3.1 Current problems##34#","* group[=].element[=].target.code = #Composition.section:section:sectionProblems","* group[=].element[=].target.display = ##34###34#","* group[=].element[=].target.equivalence = #equivalent","",null,28,4,4,{"$f":"INDEX('PS-ConceptMap-1'!$I$15:$N$286,Q42+1,R42)","v":"* group[=].element[=].target.display = ##34###34#"}]
[null,{"$f":"PS!B34","v":"body.medicalProblems.medicalDevices"},{"$f":"PS!C34","v":"A.2.3.2 Medical devices and implants"},"section:sectionMedicalDevices",null,"equivalent",null,null,"* group[=].element[+].code = #PatientSummary.body.medicalProblems.medicalDevices","* group[=].element[=].display = ##34#A.2.3.2 Medical devices and implants##34#","* group[=].element[=].target.code = #Composition.section:sectionMedicalDevices","* group[=].element[=].target.display = ##34###34#","* group[=].element[=].target.equivalence = #equivalent","",null,29,4,5,{"$f":"INDEX('PS-ConceptMap-1'!$I$15:$N$286,Q43+1,R43)","v":"* group[=].element[=].target.equivalence = #relatedto"}]
[null,{"$f":"PS!B35","v":"body.medicalProblems.procedures"},{"$f":"PS!C35","v":"A.2.3.3 Procedures"},"section:sectionProceduresHx",null,"equivalent",null,null,"* group[=].element[+].code = #PatientSummary.body.medicalProblems.procedures","* group[=].element[=].display = ##34#A.2.3.3 Procedures##34#","* group[=].element[=].target.code = #Composition.section:sectionProceduresHx","* group[=].element[=].target.display = ##34###34#","* group[=].element[=].target.equivalence = #equivalent","",null,30,4,6,{"$f":"INDEX('PS-ConceptMap-1'!$I$15:$N$286,Q44+1,R44)","v":""}]
[null,{"$f":"PS!B36","v":"body.medicalProblems.functionalStatus"},{"$f":"PS!C36","v":"A.2.3.4 Functional status"},"section:sectionFunctionalStatus",null,"equivalent",null,null,"* group[=].element[+].code = #PatientSummary.body.medicalProblems.functionalStatus","* group[=].element[=].display = ##34#A.2.3.4 Functional status##34#","* group[=].element[=].target.code = #Composition.section:sectionFunctionalStatus","* group[=].element[=].target.display = ##34###34#","* group[=].element[=].target.equivalence = #equivalent","",null,31,5,1,{"$f":"INDEX('PS-ConceptMap-1'!$I$15:$N$286,Q45+1,R45)","v":"* group[=].element[+].code = #PatientSummary.header.documentData.created"}]
[null,{"$f":"PS!B37","v":"body.medicationSummary"},{"$f":"PS!C37","v":"A.2.4 Medication summary"},"section:sectionMedications",null,"equivalent",null,null,"* group[=].element[+].code = #PatientSummary.body.medicationSummary","* group[=].element[=].display = ##34#A.2.4 Medication summary##34#","* group[=].element[=].target.code = #Composition.section:sectionMedications","* group[=].element[=].target.display = ##34###34#","* group[=].element[=].target.equivalence = #equivalent","",null,32,5,2,{"$f":"INDEX('PS-ConceptMap-1'!$I$15:$N$286,Q46+1,R46)","v":"* group[=].element[=].display = ##34#A.1.4.1 Date created##34#"}]
[null,{"$f":"PS!B38","v":"body.medicationSummary.medication"},{"$f":"PS!C38","v":"A.2.4.1 Current and relevant past medicines"},"section:sectionMedications.entry",null,"equivalent",null,null,"* group[=].element[+].code = #PatientSummary.body.medicationSummary.medication","* group[=].element[=].display = ##34#A.2.4.1 Current and relevant past medicines##34#","* group[=].element[=].target.code = #Composition.section:sectionMedications.entry","* group[=].element[=].target.display = ##34###34#","* group[=].element[=].target.equivalence = #equivalent","",null,33,5,3,{"$f":"INDEX('PS-ConceptMap-1'!$I$15:$N$286,Q47+1,R47)","v":"* group[=].element[=].target.code = #Composition.date"}]
[null,{"$f":"PS!B39","v":"body.socialHistory"},{"$f":"PS!C39","v":"A.2.5 Social history"},"section:sectionSocialHistory",null,"equivalent",null,null,"* group[=].element[+].code = #PatientSummary.body.socialHistory","* group[=].element[=].display = ##34#A.2.5 Social history##34#","* group[=].element[=].target.code = #Composition.section:sectionSocialHistory","* group[=].element[=].target.display = ##34###34#","* group[=].element[=].target.equivalence = #equivalent","",null,34,5,4,{"$f":"INDEX('PS-ConceptMap-1'!$I$15:$N$286,Q48+1,R48)","v":"* group[=].element[=].target.display = ##34###34#"}]
[null,{"$f":"PS!B40","v":"body.socialHistory.observation"},{"$f":"PS!C40","v":"A.2.5.1 Social history observations related to health"},"section:sectionSocialHistory.entry",null,"equivalent",null,null,"* group[=].element[+].code = #PatientSummary.body.socialHistory.observation","* group[=].element[=].display = ##34#A.2.5.1 Social history observations related to health##34#","* group[=].element[=].target.code = #Composition.section:sectionSocialHistory.entry","* group[=].element[=].target.display = ##34###34#","* group[=].element[=].target.equivalence = #equivalent","",null,35,5,5,{"$f":"INDEX('PS-ConceptMap-1'!$I$15:$N$286,Q49+1,R49)","v":"* group[=].element[=].target.equivalence = #relatedto"}]
[null,{"$f":"PS!B41","v":"body.socialHistory.referenceRange"},{"$f":"PS!C41","v":"A.2.5.2 Reference date range"},"section:sectionSocialHistory.entry.effective[x]",null,"equivalent",null,null,"* group[=].element[+].code = #PatientSummary.body.socialHistory.referenceRange","* group[=].element[=].display = ##34#A.2.5.2 Reference date range##34#","* group[=].element[=].target.code = #Composition.section:sectionSocialHistory.entry.effective[x]","* group[=].element[=].target.display = ##34###34#","* group[=].element[=].target.equivalence = #equivalent","",null,36,5,6,{"$f":"INDEX('PS-ConceptMap-1'!$I$15:$N$286,Q50+1,R50)","v":""}]
[null,{"$f":"PS!B42","v":"body.pregnancyHistory"},{"$f":"PS!C42","v":"A.2.6 Pregnancy history"},"section:sectionPregnancyHx",null,"equivalent",null,null,"* group[=].element[+].code = #PatientSummary.body.pregnancyHistory","* group[=].element[=].display = ##34#A.2.6 Pregnancy history##34#","* group[=].element[=].target.code = #Composition.section:sectionPregnancyHx","* group[=].element[=].target.display = ##34###34#","* group[=].element[=].target.equivalence = #equivalent","",null,37,6,1,{"$f":"INDEX('PS-ConceptMap-1'!$I$15:$N$286,Q51+1,R51)","v":"* group[=].element[+].code = #PatientSummary.header.documentData.lastUpdate"}]
[null,{"$f":"PS!B43","v":"body.patientData"},{"$f":"PS!C43","v":"A.2.7 Patient provided data"},"section",null,"relatedto",null,null,"* group[=].element[+].code = #PatientSummary.body.patientData","* group[=].element[=].display = ##34#A.2.7 Patient provided data##34#","* group[=].element[=].target.code = #Composition.section","* group[=].element[=].target.display = ##34###34#","* group[=].element[=].target.equivalence = #relatedto","",null,38,6,2,{"$f":"INDEX('PS-ConceptMap-1'!$I$15:$N$286,Q52+1,R52)","v":"* group[=].element[=].display = ##34#A.1.4.2 Date of last update##34#"}]
[null,{"$f":"PS!B44","v":"body.patientData.travelHistory"},{"$f":"PS!C44","v":"A.2.7.1 Travel history"},"section:sectionTravelHx",null,"relatedto",null,null,"* group[=].element[+].code = #PatientSummary.body.patientData.travelHistory","* group[=].element[=].display = ##34#A.2.7.1 Travel history##34#","* group[=].element[=].target.code = #Composition.section:sectionTravelHx","* group[=].element[=].target.display = ##34###34#","* group[=].element[=].target.equivalence = #relatedto","",null,39,6,3,{"$f":"INDEX('PS-ConceptMap-1'!$I$15:$N$286,Q53+1,R53)","v":"* group[=].element[=].target.code = #Composition.event:careProvisioningEvent.period.end"}]
[null,{"$f":"PS!B45","v":"body.patientData.travelHistory.country"},{"$f":"PS!C45","v":"A.2.7.1.1 Country"},"section:sectionTravelHx.text",null,"relatedto","if textual description",null,"* group[=].element[+].code = #PatientSummary.body.patientData.travelHistory.country","* group[=].element[=].display = ##34#A.2.7.1.1 Country##34#","* group[=].element[=].target.code = #Composition.section:sectionTravelHx.text","* group[=].element[=].target.display = ##34###34#","* group[=].element[=].target.equivalence = #relatedto","* group[=].element[=].target.comment = ##34#if textual description##34#",null,40,6,4,{"$f":"INDEX('PS-ConceptMap-1'!$I$15:$N$286,Q54+1,R54)","v":"* group[=].element[=].target.display = ##34###34#"}]
[null,{"$f":"PS!B46","v":"body.patientData.travelHistory.period"},{"$f":"PS!C46","v":"A.2.7.1.2 Period"},"section:sectionTravelHx.text",null,"relatedto","if textual description",null,"* group[=].element[+].code = #PatientSummary.body.patientData.travelHistory.period","* group[=].element[=].display = ##34#A.2.7.1.2 Period##34#","* group[=].element[=].target.code = #Composition.section:sectionTravelHx.text","* group[=].element[=].target.display = ##34###34#","* group[=].element[=].target.equivalence = #relatedto","* group[=].element[=].target.comment = ##34#if textual description##34#",null,41,6,5,{"$f":"INDEX('PS-ConceptMap-1'!$I$15:$N$286,Q55+1,R55)","v":"* group[=].element[=].target.equivalence = #relatedto"}]
[null,{"$f":"PS!B45","v":"body.patientData.travelHistory.country"},{"$f":"PS!C45","v":"A.2.7.1.1 Country"},"section:sectionTravelHx.entry.valueCodeableConcept",null,"relatedto","entry of type Observation and Obseravtion.code = http://loinc.org#94651-7 'Country of travel [Location]'\nTBD",null,"* group[=].element[+].code = #PatientSummary.body.patientData.travelHistory.country","* group[=].element[=].display = ##34#A.2.7.1.1 Country##34#","* group[=].element[=].target.code = #Composition.section:sectionTravelHx.entry.valueCodeableConcept","* group[=].element[=].target.display = ##34###34#","* group[=].element[=].target.equivalence = #relatedto","* group[=].element[=].target.comment = ##34#entry of type Observation and Obseravtion.code = http://loinc.org#94651-7 'Country of travel [Location]'\nTBD##34#",null,42,6,6,{"$f":"INDEX('PS-ConceptMap-1'!$I$15:$N$286,Q56+1,R56)","v":"* group[=].element[=].target.comment = ##34#If it represents the period of time this Patient Summary is covering##34#"}]
[null,{"$f":"PS!B46","v":"body.patientData.travelHistory.period"},{"$f":"PS!C46","v":"A.2.7.1.2 Period"},"section:sectionTravelHx.entry.effectivePeriod",null,"relatedto","OBSERVATION PROFILE TO BE SPECIFIED",null,"* group[=].element[+].code = #PatientSummary.body.patientData.travelHistory.period","* group[=].element[=].display = ##34#A.2.7.1.2 Period##34#","* group[=].element[=].target.code = #Composition.section:sectionTravelHx.entry.effectivePeriod","* group[=].element[=].target.display = ##34###34#","* group[=].element[=].target.equivalence = #relatedto","* group[=].element[=].target.comment = ##34#OBSERVATION PROFILE TO BE SPECIFIED##34#",null,43,7,1,{"$f":"INDEX('PS-ConceptMap-1'!$I$15:$N$286,Q57+1,R57)","v":"* group[=].element[+].code = #PatientSummary.header.documentData.lastUpdate"}]
[null,{"$f":"PS!B47","v":"body.patientData.advanceDirective"},{"$f":"PS!C47","v":"A.2.7.2 Advance Directive"},"section:sectionAdvanceDirectives",null,"equivalent",null,null,"* group[=].element[+].code = #PatientSummary.body.patientData.advanceDirective","* group[=].element[=].display = ##34#A.2.7.2 Advance Directive##34#","* group[=].element[=].target.code = #Composition.section:sectionAdvanceDirectives","* group[=].element[=].target.display = ##34###34#","* group[=].element[=].target.equivalence = #equivalent","",null,44,7,2,{"$f":"INDEX('PS-ConceptMap-1'!$I$15:$N$286,Q58+1,R58)","v":"* group[=].element[=].display = ##34#A.1.4.2 Date of last update##34#"}]
[null,{"$f":"PS!B48","v":"body.patientData.advanceDirective.documentation"},{"$f":"PS!C48","v":"A.2.7.2.1 Documentation"},"section:sectionAdvanceDirectives",null,"relatedto","to be reviewed",null,"* group[=].element[+].code = #PatientSummary.body.patientData.advanceDirective.documentation","* group[=].element[=].display = ##34#A.2.7.2.1 Documentation##34#","* group[=].element[=].target.code = #Composition.section:sectionAdvanceDirectives","* group[=].element[=].target.display = ##34###34#","* group[=].element[=].target.equivalence = #relatedto","* group[=].element[=].target.comment = ##34#to be reviewed##34#",null,45,7,3,{"$f":"INDEX('PS-ConceptMap-1'!$I$15:$N$286,Q59+1,R59)","v":"* group[=].element[=].target.code = #Composition.meta.lastUpdated"}]
[null,{"$f":"PS!B49","v":"body.results"},{"$f":"PS!C49","v":"A.2.8 Results"},"section:sectionResults",null,"equivalent",null,null,"* group[=].element[+].code = #PatientSummary.body.results","* group[=].element[=].display = ##34#A.2.8 Results##34#","* group[=].element[=].target.code = #Composition.section:sectionResults","* group[=].element[=].target.display = ##34###34#","* group[=].element[=].target.equivalence = #equivalent","",null,46,7,4,{"$f":"INDEX('PS-ConceptMap-1'!$I$15:$N$286,Q60+1,R60)","v":"* group[=].element[=].target.display = ##34###34#"}]
[null,{"$f":"PS!B50","v":"body.planOfCare"},{"$f":"PS!C50","v":"A.2.9 Plan of Care"},"section:sectionPlanOfCare",null,"equivalent",null,null,"* group[=].element[+].code = #PatientSummary.body.planOfCare","* group[=].element[=].display = ##34#A.2.9 Plan of Care##34#","* group[=].element[=].target.code = #Composition.section:sectionPlanOfCare","* group[=].element[=].target.display = ##34###34#","* group[=].element[=].target.equivalence = #equivalent","",null,47,7,5,{"$f":"INDEX('PS-ConceptMap-1'!$I$15:$N$286,Q61+1,R61)","v":"* group[=].element[=].target.equivalence = #relatedto"}]
[null,{"$f":"PS!B51","v":"body.planOfCare.carePlan"},{"$f":"PS!C51","v":"A.2.9.1 Plan of care"},"section:sectionPlanOfCare.text",null,"equivalent",null,null,"* group[=].element[+].code = #PatientSummary.body.planOfCare.carePlan","* group[=].element[=].display = ##34#A.2.9.1 Plan of care##34#","* group[=].element[=].target.code = #Composition.section:sectionPlanOfCare.text","* group[=].element[=].target.display = ##34###34#","* group[=].element[=].target.equivalence = #equivalent","",null,48,7,6,{"$f":"INDEX('PS-ConceptMap-1'!$I$15:$N$286,Q62+1,R62)","v":"* group[=].element[=].target.comment = ##34#If it represents the last update of this FHIR resource##34#"}]
[null,null,null,null,null,null,null,null,null,null,null,null,null,null,null,49,8,1,{"$f":"INDEX('PS-ConceptMap-1'!$I$15:$N$286,Q63+1,R63)","v":"* group[=].element[+].code = #PatientSummary.header.documentData.natureOfIPS"}]
[null,null,null,null,null,null,null,null,null,null,null,null,null,null,null,50,8,2,{"$f":"INDEX('PS-ConceptMap-1'!$I$15:$N$286,Q64+1,R64)","v":"* group[=].element[=].display = ##34#A.1.4.3 Nature of the PS##34#"}]
[null,null,null,null,null,null,null,null,null,null,null,null,null,null,null,51,8,3,{"$f":"INDEX('PS-ConceptMap-1'!$I$15:$N$286,Q65+1,R65)","v":"* group[=].element[=].target.code = #Composition.author"}]
[null,null,null,null,null,null,null,null,null,null,null,null,null,null,null,52,8,4,{"$f":"INDEX('PS-ConceptMap-1'!$I$15:$N$286,Q66+1,R66)","v":"* group[=].element[=].target.display = ##34###34#"}]
[null,null,null,null,null,null,null,null,null,null,null,null,null,null,null,53,8,5,{"$f":"INDEX('PS-ConceptMap-1'!$I$15:$N$286,Q67+1,R67)","v":"* group[=].element[=].target.equivalence = #relatedto"}]
[null,null,null,null,null,null,null,null,null,null,null,null,null,null,null,54,8,6,{"$f":"INDEX('PS-ConceptMap-1'!$I$15:$N$286,Q68+1,R68)","v":"* group[=].element[=].target.comment = ##34#the nature of a PS is determined as a comobination of type if author and legal authenticator. Future versions may cosndier to use Provenance data for this scope##34#"}]
[null,"* group[=].element[+].code = #Osiris.Patient.BirthDate","* group[=].element[=].display = \"Birth Date [C4]\"","* group[=].element[=].target.code = #Subject.dateOfBirth.date","* group[=].element[=].target.display = \"Date of birth\"",null,null,null,null,null,null,null,null,null,null,55,9,1,{"$f":"INDEX('PS-ConceptMap-1'!$I$15:$N$286,Q69+1,R69)","v":"* group[=].element[+].code = #PatientSummary.header.participant"}]
[null,null,null,null,null,null,null,null,null,null,null,null,null,null,null,56,9,2,{"$f":"INDEX('PS-ConceptMap-1'!$I$15:$N$286,Q70+1,R70)","v":"* group[=].element[=].display = ##34#A.1.5 Author and Organisation##34#"}]
[null,null,null,null,null,null,null,null,null,null,null,null,null,null,null,57,9,3,{"$f":"INDEX('PS-ConceptMap-1'!$I$15:$N$286,Q71+1,R71)","v":"* group[=].element[=].target.code = #Composition"}]
[null,null,null,null,null,null,null,null,null,null,null,null,null,null,null,58,9,4,{"$f":"INDEX('PS-ConceptMap-1'!$I$15:$N$286,Q72+1,R72)","v":"* group[=].element[=].target.display = ##34###34#"}]
[null,null,null,null,null,null,null,null,null,null,null,null,null,null,null,59,9,5,{"$f":"INDEX('PS-ConceptMap-1'!$I$15:$N$286,Q73+1,R73)","v":"* group[=].element[=].target.equivalence = #relatedto"}]
[null,null,null,null,null,null,null,null,null,null,null,null,null,null,null,60,9,6,{"$f":"INDEX('PS-ConceptMap-1'!$I$15:$N$286,Q74+1,R74)","v":""}]
[null,null,null,null,null,null,null,null,null,null,null,null,null,null,null,61,10,1,{"$f":"INDEX('PS-ConceptMap-1'!$I$15:$N$286,Q75+1,R75)","v":"* group[=].element[+].code = #PatientSummary.header.participant.author"}]
[null,null,null,null,null,null,null,null,null,null,null,null,null,null,null,62,10,2,{"$f":"INDEX('PS-ConceptMap-1'!$I$15:$N$286,Q76+1,R76)","v":"* group[=].element[=].display = ##34#A.1.5.1 Author organization##34#"}]
[null,null,null,null,null,null,null,null,null,null,null,null,null,null,null,63,10,3,{"$f":"INDEX('PS-ConceptMap-1'!$I$15:$N$286,Q77+1,R77)","v":"* group[=].element[=].target.code = #Composition.author"}]
[null,null,null,null,null,null,null,null,null,null,null,null,null,null,null,64,10,4,{"$f":"INDEX('PS-ConceptMap-1'!$I$15:$N$286,Q78+1,R78)","v":"* group[=].element[=].target.display = ##34###34#"}]
[null,null,null,null,null,null,null,null,null,null,null,null,null,null,null,65,10,5,{"$f":"INDEX('PS-ConceptMap-1'!$I$15:$N$286,Q79+1,R79)","v":"* group[=].element[=].target.equivalence = #equivalent"}]
[null,null,null,null,null,null,null,null,null,null,null,null,null,null,null,66,{"$f":"IF(MOD(P80,$Q$8)=0,P80/$Q$8-1,INT(P80/$Q$8))","v":10},{"$f":"IF(MOD(P80,$Q$8)=0,$Q$8,MOD(P80,$Q$8))","v":6},{"$f":"INDEX('PS-ConceptMap-1'!$I$15:$N$286,Q80+1,R80)","v":"* group[=].element[=].target.comment = ##34#author can be of type Organziation, Pracitctioner or PractictionerRole##34#"}]
[null,null,null,null,null,null,null,null,null,null,null,null,null,null,null,67,11,1,{"$f":"INDEX('PS-ConceptMap-1'!$I$15:$N$286,Q81+1,R81)","v":"* group[=].element[+].code = #PatientSummary.header.participant.legalAuth"}]
[null,null,null,null,null,null,null,null,null,null,null,null,null,null,null,68,11,2,{"$f":"INDEX('PS-ConceptMap-1'!$I$15:$N$286,Q82+1,R82)","v":"* group[=].element[=].display = ##34#A.1.5.2 Legal authenticator##34#"}]
[null,null,null,null,null,null,null,null,null,null,null,null,null,null,null,69,11,3,{"$f":"INDEX('PS-ConceptMap-1'!$I$15:$N$286,Q83+1,R83)","v":"* group[=].element[=].target.code = #Composition.attester"}]
[null,null,null,null,null,null,null,null,null,null,null,null,null,null,null,70,11,4,{"$f":"INDEX('PS-ConceptMap-1'!$I$15:$N$286,Q84+1,R84)","v":"* group[=].element[=].target.display = ##34###34#"}]
[null,null,null,null,null,null,null,null,null,null,null,null,null,null,null,71,11,5,{"$f":"INDEX('PS-ConceptMap-1'!$I$15:$N$286,Q85+1,R85)","v":"* group[=].element[=].target.equivalence = #relatedto"}]
[null,null,null,null,null,null,null,null,null,null,null,null,null,null,null,72,11,6,{"$f":"INDEX('PS-ConceptMap-1'!$I$15:$N$286,Q86+1,R86)","v":"* group[=].element[=].target.comment = ##34#attester.mode = 'legal'##34#"}]
[null,null,null,null,null,null,null,null,null,null,null,null,null,null,null,73,12,1,{"$f":"INDEX('PS-ConceptMap-1'!$I$15:$N$286,Q87+1,R87)","v":"* group[=].element[+].code = #PatientSummary.header.additionalInfo"}]
[null,null,null,null,null,null,null,null,null,null,null,null,null,null,null,74,12,2,{"$f":"INDEX('PS-ConceptMap-1'!$I$15:$N$286,Q88+1,R88)","v":"* group[=].element[=].display = ##34#A.1.6 Additional information / Knowledge resources##34#"}]
[null,null,null,null,null,null,null,null,null,null,null,null,null,null,null,75,12,3,{"$f":"INDEX('PS-ConceptMap-1'!$I$15:$N$286,Q89+1,R89)","v":"//-- unmatched"}]
[null,null,null,null,null,null,null,null,null,null,null,null,null,null,null,76,12,4,{"$f":"INDEX('PS-ConceptMap-1'!$I$15:$N$286,Q90+1,R90)","v":"//-- unmatched"}]
[null,null,null,null,null,null,null,null,null,null,null,null,null,null,null,77,12,5,{"$f":"INDEX('PS-ConceptMap-1'!$I$15:$N$286,Q91+1,R91)","v":"* group[=].element[=].target.equivalence = #unmatched"}]
[null,null,null,null,null,null,null,null,null,null,null,null,null,null,null,78,12,6,{"$f":"INDEX('PS-ConceptMap-1'!$I$15:$N$286,Q92+1,R92)","v":"* group[=].element[=].target.comment = ##34#Covered by other resources##34#"}]
[null,null,null,null,null,null,null,null,null,null,null,null,null,null,null,79,13,1,{"$f":"INDEX('PS-ConceptMap-1'!$I$15:$N$286,Q93+1,R93)","v":"* group[=].element[+].code = #PatientSummary.header.additionalInfo.reference"}]
[null,null,null,null,null,null,null,null,null,null,null,null,null,null,null,80,13,2,{"$f":"INDEX('PS-ConceptMap-1'!$I$15:$N$286,Q94+1,R94)","v":"* group[=].element[=].display = ##34#A.1.6.1 External reference##34#"}]
[null,null,null,null,null,null,null,null,null,null,null,null,null,null,null,81,13,3,{"$f":"INDEX('PS-ConceptMap-1'!$I$15:$N$286,Q95+1,R95)","v":"//-- unmatched"}]
[null,null,null,null,null,null,null,null,null,null,null,null,null,null,null,82,13,4,{"$f":"INDEX('PS-ConceptMap-1'!$I$15:$N$286,Q96+1,R96)","v":"//-- unmatched"}]
[null,null,null,null,null,null,null,null,null,null,null,null,null,null,null,83,13,5,{"$f":"INDEX('PS-ConceptMap-1'!$I$15:$N$286,Q97+1,R97)","v":"* group[=].element[=].target.equivalence = #unmatched"}]
[null,null,null,null,null,null,null,null,null,null,null,null,null,null,null,84,13,6,{"$f":"INDEX('PS-ConceptMap-1'!$I$15:$N$286,Q98+1,R98)","v":"* group[=].element[=].target.comment = ##34#Covered by other resources##34#"}]
[null,null,null,null,null,null,null,null,null,null,null,null,null,null,null,85,14,1,{"$f":"INDEX('PS-ConceptMap-1'!$I$15:$N$286,Q99+1,R99)","v":"* group[=].element[+].code = #PatientSummary.header.additionalInfo.relatedWith"}]
[null,null,null,null,null,null,null,null,null,null,null,null,null,null,null,86,14,2,{"$f":"INDEX('PS-ConceptMap-1'!$I$15:$N$286,Q100+1,R100)","v":"* group[=].element[=].display = ##34#A.1.6.2 Related with##34#"}]
[null,null,null,null,null,null,null,null,null,null,null,null,null,null,null,87,14,3,{"$f":"INDEX('PS-ConceptMap-1'!$I$15:$N$286,Q101+1,R101)","v":"//-- unmatched"}]
[null,null,null,null,null,null,null,null,null,null,null,null,null,null,null,88,14,4,{"$f":"INDEX('PS-ConceptMap-1'!$I$15:$N$286,Q102+1,R102)","v":"//-- unmatched"}]
[null,null,null,null,null,null,null,null,null,null,null,null,null,null,null,89,14,5,{"$f":"INDEX('PS-ConceptMap-1'!$I$15:$N$286,Q103+1,R103)","v":"* group[=].element[=].target.equivalence = #unmatched"}]
[null,null,null,null,null,null,null,null,null,null,null,null,null,null,null,90,14,6,{"$f":"INDEX('PS-ConceptMap-1'!$I$15:$N$286,Q104+1,R104)","v":"* group[=].element[=].target.comment = ##34#Covered by other resources##34#"}]
[null,null,null,null,null,null,null,null,null,null,null,null,null,null,null,91,15,1,{"$f":"INDEX('PS-ConceptMap-1'!$I$15:$N$286,Q105+1,R105)","v":"* group[=].element[+].code = #PatientSummary.body"}]
[null,null,null,null,null,null,null,null,null,null,null,null,null,null,null,92,15,2,{"$f":"INDEX('PS-ConceptMap-1'!$I$15:$N$286,Q106+1,R106)","v":"* group[=].element[=].display = ##34#A.2 Patient summary body data elements##34#"}]
[null,null,null,null,null,null,null,null,null,null,null,null,null,null,null,93,15,3,{"$f":"INDEX('PS-ConceptMap-1'!$I$15:$N$286,Q107+1,R107)","v":"* group[=].element[=].target.code = #Composition.section"}]
[null,null,null,null,null,null,null,null,null,null,null,null,null,null,null,94,15,4,{"$f":"INDEX('PS-ConceptMap-1'!$I$15:$N$286,Q108+1,R108)","v":"* group[=].element[=].target.display = ##34###34#"}]
[null,null,null,null,null,null,null,null,null,null,null,null,null,null,null,95,15,5,{"$f":"INDEX('PS-ConceptMap-1'!$I$15:$N$286,Q109+1,R109)","v":"* group[=].element[=].target.equivalence = #relatedto"}]
[null,null,null,null,null,null,null,null,null,null,null,null,null,null,null,96,15,6,{"$f":"INDEX('PS-ConceptMap-1'!$I$15:$N$286,Q110+1,R110)","v":""}]
[null,null,null,null,null,null,null,null,null,null,null,null,null,null,null,97,16,1,{"$f":"INDEX('PS-ConceptMap-1'!$I$15:$N$286,Q111+1,R111)","v":"* group[=].element[+].code = #PatientSummary.body.alerts"}]
[null,null,null,null,null,null,null,null,null,null,null,null,null,null,null,98,16,2,{"$f":"INDEX('PS-ConceptMap-1'!$I$15:$N$286,Q112+1,R112)","v":"* group[=].element[=].display = ##34#A.2.1 Alerts##34#"}]
[null,null,null,null,null,null,null,null,null,null,null,null,null,null,null,99,16,3,{"$f":"INDEX('PS-ConceptMap-1'!$I$15:$N$286,Q113+1,R113)","v":"* group[=].element[=].target.code = #Composition.section"}]
[null,null,null,null,null,null,null,null,null,null,null,null,null,null,null,100,16,4,{"$f":"INDEX('PS-ConceptMap-1'!$I$15:$N$286,Q114+1,R114)","v":"* group[=].element[=].target.display = ##34###34#"}]
[null,null,null,null,null,null,null,null,null,null,null,null,null,null,null,101,16,5,{"$f":"INDEX('PS-ConceptMap-1'!$I$15:$N$286,Q115+1,R115)","v":"* group[=].element[=].target.equivalence = #relatedto"}]
[null,null,null,null,null,null,null,null,null,null,null,null,null,null,null,102,16,6,{"$f":"INDEX('PS-ConceptMap-1'!$I$15:$N$286,Q116+1,R116)","v":""}]
[null,null,null,null,null,null,null,null,null,null,null,null,null,null,null,103,17,1,{"$f":"INDEX('PS-ConceptMap-1'!$I$15:$N$286,Q117+1,R117)","v":"* group[=].element[+].code = #PatientSummary.body.alerts.allergy"}]
[null,null,null,null,null,null,null,null,null,null,null,null,null,null,null,104,17,2,{"$f":"INDEX('PS-ConceptMap-1'!$I$15:$N$286,Q118+1,R118)","v":"* group[=].element[=].display = ##34#A.2.1.1 Allergy##34#"}]
[null,null,null,null,null,null,null,null,null,null,null,null,null,null,null,105,17,3,{"$f":"INDEX('PS-ConceptMap-1'!$I$15:$N$286,Q119+1,R119)","v":"* group[=].element[=].target.code = #Composition.section:sectionAllergies"}]
[null,null,null,null,null,null,null,null,null,null,null,null,null,null,null,106,17,4,{"$f":"INDEX('PS-ConceptMap-1'!$I$15:$N$286,Q120+1,R120)","v":"* group[=].element[=].target.display = ##34###34#"}]
[null,null,null,null,null,null,null,null,null,null,null,null,null,null,null,107,17,5,{"$f":"INDEX('PS-ConceptMap-1'!$I$15:$N$286,Q121+1,R121)","v":"* group[=].element[=].target.equivalence = #relatedto"}]
[null,null,null,null,null,null,null,null,null,null,null,null,null,null,null,108,17,6,{"$f":"INDEX('PS-ConceptMap-1'!$I$15:$N$286,Q122+1,R122)","v":""}]
[null,null,null,null,null,null,null,null,null,null,null,null,null,null,null,109,18,1,{"$f":"INDEX('PS-ConceptMap-1'!$I$15:$N$286,Q123+1,R123)","v":"* group[=].element[+].code = #PatientSummary.body.alerts.alert"}]
[null,null,null,null,null,null,null,null,null,null,null,null,null,null,null,110,18,2,{"$f":"INDEX('PS-ConceptMap-1'!$I$15:$N$286,Q124+1,R124)","v":"* group[=].element[=].display = ##34#A.2.1.2 Medical alert information (other alerts not included in allergies)##34#"}]
[null,null,null,null,null,null,null,null,null,null,null,null,null,null,null,111,18,3,{"$f":"INDEX('PS-ConceptMap-1'!$I$15:$N$286,Q125+1,R125)","v":"* group[=].element[=].target.code = #Composition.section:sectionAlert"}]
[null,null,null,null,null,null,null,null,null,null,null,null,null,null,null,112,18,4,{"$f":"INDEX('PS-ConceptMap-1'!$I$15:$N$286,Q126+1,R126)","v":"* group[=].element[=].target.display = ##34###34#"}]
[null,null,null,null,null,null,null,null,null,null,null,null,null,null,null,113,18,5,{"$f":"INDEX('PS-ConceptMap-1'!$I$15:$N$286,Q127+1,R127)","v":"* group[=].element[=].target.equivalence = #relatedto"}]
[null,null,null,null,null,null,null,null,null,null,null,null,null,null,null,114,18,6,{"$f":"INDEX('PS-ConceptMap-1'!$I$15:$N$286,Q128+1,R128)","v":""}]
[null,null,null,null,null,null,null,null,null,null,null,null,null,null,null,115,19,1,{"$f":"INDEX('PS-ConceptMap-1'!$I$15:$N$286,Q129+1,R129)","v":"* group[=].element[+].code = #PatientSummary.body.alerts.alert.description"}]
[null,null,null,null,null,null,null,null,null,null,null,null,null,null,null,116,19,2,{"$f":"INDEX('PS-ConceptMap-1'!$I$15:$N$286,Q130+1,R130)","v":"* group[=].element[=].display = ##34#A.2.1.2.1 Healthcare alert description##34#"}]
[null,null,null,null,null,null,null,null,null,null,null,null,null,null,null,117,19,3,{"$f":"INDEX('PS-ConceptMap-1'!$I$15:$N$286,Q131+1,R131)","v":"* group[=].element[=].target.code = #Composition.section:sectionAlert.text"}]
[null,null,null,null,null,null,null,null,null,null,null,null,null,null,null,118,19,4,{"$f":"INDEX('PS-ConceptMap-1'!$I$15:$N$286,Q132+1,R132)","v":"* group[=].element[=].target.display = ##34###34#"}]
[null,null,null,null,null,null,null,null,null,null,null,null,null,null,null,119,19,5,{"$f":"INDEX('PS-ConceptMap-1'!$I$15:$N$286,Q133+1,R133)","v":"* group[=].element[=].target.equivalence = #relatedto"}]
[null,null,null,null,null,null,null,null,null,null,null,null,null,null,null,120,19,6,{"$f":"INDEX('PS-ConceptMap-1'!$I$15:$N$286,Q134+1,R134)","v":"* group[=].element[=].target.comment = ##34#Common textual descirption##34#"}]
[null,null,null,null,null,null,null,null,null,null,null,null,null,null,null,121,20,1,{"$f":"INDEX('PS-ConceptMap-1'!$I$15:$N$286,Q135+1,R135)","v":"* group[=].element[+].code = #PatientSummary.body.alerts.alert.description"}]
[null,null,null,null,null,null,null,null,null,null,null,null,null,null,null,122,20,2,{"$f":"INDEX('PS-ConceptMap-1'!$I$15:$N$286,Q136+1,R136)","v":"* group[=].element[=].display = ##34#A.2.1.2.1 Healthcare alert description##34#"}]
[null,null,null,null,null,null,null,null,null,null,null,null,null,null,null,123,20,3,{"$f":"INDEX('PS-ConceptMap-1'!$I$15:$N$286,Q137+1,R137)","v":"* group[=].element[=].target.code = #Composition.section:sectionAlert.entry.code.text"}]
[null,null,null,null,null,null,null,null,null,null,null,null,null,null,null,124,20,4,{"$f":"INDEX('PS-ConceptMap-1'!$I$15:$N$286,Q138+1,R138)","v":"* group[=].element[=].target.display = ##34###34#"}]
[null,null,null,null,null,null,null,null,null,null,null,null,null,null,null,125,20,5,{"$f":"INDEX('PS-ConceptMap-1'!$I$15:$N$286,Q139+1,R139)","v":"* group[=].element[=].target.equivalence = #relatedto"}]
[null,null,null,null,null,null,null,null,null,null,null,null,null,null,null,126,20,6,{"$f":"INDEX('PS-ConceptMap-1'!$I$15:$N$286,Q140+1,R140)","v":"* group[=].element[=].target.comment = ##34#entry level description##34#"}]
[null,null,null,null,null,null,null,null,null,null,null,null,null,null,null,127,21,1,{"$f":"INDEX('PS-ConceptMap-1'!$I$15:$N$286,Q141+1,R141)","v":"* group[=].element[+].code = #PatientSummary.body.medicalHistory"}]
[null,null,null,null,null,null,null,null,null,null,null,null,null,null,null,128,21,2,{"$f":"INDEX('PS-ConceptMap-1'!$I$15:$N$286,Q142+1,R142)","v":"* group[=].element[=].display = ##34#A.2.2 Medical history##34#"}]
[null,null,null,null,null,null,null,null,null,null,null,null,null,null,null,129,21,3,{"$f":"INDEX('PS-ConceptMap-1'!$I$15:$N$286,Q143+1,R143)","v":"* group[=].element[=].target.code = #Composition.section"}]
[null,null,null,null,null,null,null,null,null,null,null,null,null,null,null,130,{"$f":"IF(MOD(P144,$Q$8)=0,P144/$Q$8-1,INT(P144/$Q$8))","v":21},{"$f":"IF(MOD(P144,$Q$8)=0,$Q$8,MOD(P144,$Q$8))","v":4},{"$f":"INDEX('PS-ConceptMap-1'!$I$15:$N$286,Q144+1,R144)","v":"* group[=].element[=].target.display = ##34###34#"}]
[null,null,null,null,null,null,null,null,null,null,null,null,null,null,null,131,21,5,{"$f":"INDEX('PS-ConceptMap-1'!$I$15:$N$286,Q145+1,R145)","v":"* group[=].element[=].target.equivalence = #relatedto"}]
[null,null,null,null,null,null,null,null,null,null,null,null,null,null,null,132,21,6,{"$f":"INDEX('PS-ConceptMap-1'!$I$15:$N$286,Q146+1,R146)","v":""}]
[null,null,null,null,null,null,null,null,null,null,null,null,null,null,null,133,22,1,{"$f":"INDEX('PS-ConceptMap-1'!$I$15:$N$286,Q147+1,R147)","v":"* group[=].element[+].code = #PatientSummary.body.medicalHistory.vaccination"}]
[null,null,null,null,null,null,null,null,null,null,null,null,null,null,null,134,22,2,{"$f":"INDEX('PS-ConceptMap-1'!$I$15:$N$286,Q148+1,R148)","v":"* group[=].element[=].display = ##34#A.2.2.1 Vaccination/ prophylaxis information##34#"}]
[null,null,null,null,null,null,null,null,null,null,null,null,null,null,null,135,22,3,{"$f":"INDEX('PS-ConceptMap-1'!$I$15:$N$286,Q149+1,R149)","v":"* group[=].element[=].target.code = #Composition.section:sectionImmunizations"}]
[null,null,null,null,null,null,null,null,null,null,null,null,null,null,null,136,22,4,{"$f":"INDEX('PS-ConceptMap-1'!$I$15:$N$286,Q150+1,R150)","v":"* group[=].element[=].target.display = ##34###34#"}]
[null,null,null,null,null,null,null,null,null,null,null,null,null,null,null,137,22,5,{"$f":"INDEX('PS-ConceptMap-1'!$I$15:$N$286,Q151+1,R151)","v":"* group[=].element[=].target.equivalence = #equivalent"}]
[null,null,null,null,null,null,null,null,null,null,null,null,null,null,null,138,22,6,{"$f":"INDEX('PS-ConceptMap-1'!$I$15:$N$286,Q152+1,R152)","v":""}]
[null,null,null,null,null,null,null,null,null,null,null,null,null,null,null,139,23,1,{"$f":"INDEX('PS-ConceptMap-1'!$I$15:$N$286,Q153+1,R153)","v":"* group[=].element[+].code = #PatientSummary.body.medicalHistory.inactiveProblem"}]
[null,null,null,null,null,null,null,null,null,null,null,null,null,null,null,140,23,2,{"$f":"INDEX('PS-ConceptMap-1'!$I$15:$N$286,Q154+1,R154)","v":"* group[=].element[=].display = ##34#A.2.2.2 Resolved, closed or inactive problems##34#"}]
[null,null,null,null,null,null,null,null,null,null,null,null,null,null,null,141,23,3,{"$f":"INDEX('PS-ConceptMap-1'!$I$15:$N$286,Q155+1,R155)","v":"* group[=].element[=].target.code = #Composition.section:sectionPastIllnessHx"}]
[null,null,null,null,null,null,null,null,null,null,null,null,null,null,null,142,23,4,{"$f":"INDEX('PS-ConceptMap-1'!$I$15:$N$286,Q156+1,R156)","v":"* group[=].element[=].target.display = ##34###34#"}]
[null,null,null,null,null,null,null,null,null,null,null,null,null,null,null,143,23,5,{"$f":"INDEX('PS-ConceptMap-1'!$I$15:$N$286,Q157+1,R157)","v":"* group[=].element[=].target.equivalence = #equivalent"}]
[null,null,null,null,null,null,null,null,null,null,null,null,null,null,null,144,23,6,{"$f":"INDEX('PS-ConceptMap-1'!$I$15:$N$286,Q158+1,R158)","v":""}]
[null,null,null,null,null,null,null,null,null,null,null,null,null,null,null,145,24,1,{"$f":"INDEX('PS-ConceptMap-1'!$I$15:$N$286,Q159+1,R159)","v":"* group[=].element[+].code = #PatientSummary.body.medicalHistory.anamnesis"}]
[null,null,null,null,null,null,null,null,null,null,null,null,null,null,null,146,24,2,{"$f":"INDEX('PS-ConceptMap-1'!$I$15:$N$286,Q160+1,R160)","v":"* group[=].element[=].display = ##34#A.2.2.3 Medical history##34#"}]
[null,null,null,null,null,null,null,null,null,null,null,null,null,null,null,147,24,3,{"$f":"INDEX('PS-ConceptMap-1'!$I$15:$N$286,Q161+1,R161)","v":"* group[=].element[=].target.code = #Composition.section"}]
[null,null,null,null,null,null,null,null,null,null,null,null,null,null,null,148,24,4,{"$f":"INDEX('PS-ConceptMap-1'!$I$15:$N$286,Q162+1,R162)","v":"* group[=].element[=].target.display = ##34###34#"}]
[null,null,null,null,null,null,null,null,null,null,null,null,null,null,null,149,24,5,{"$f":"INDEX('PS-ConceptMap-1'!$I$15:$N$286,Q163+1,R163)","v":"* group[=].element[=].target.equivalence = #relatedto"}]
[null,null,null,null,null,null,null,null,null,null,null,null,null,null,null,150,24,6,{"$f":"INDEX('PS-ConceptMap-1'!$I$15:$N$286,Q164+1,R164)","v":""}]
[null,null,null,null,null,null,null,null,null,null,null,null,null,null,null,151,25,1,{"$f":"INDEX('PS-ConceptMap-1'!$I$15:$N$286,Q165+1,R165)","v":"* group[=].element[+].code = #PatientSummary.body.medicalHistory.anamnesis.details"}]
[null,null,null,null,null,null,null,null,null,null,null,null,null,null,null,152,25,2,{"$f":"INDEX('PS-ConceptMap-1'!$I$15:$N$286,Q166+1,R166)","v":"* group[=].element[=].display = ##34#A.2.2.3.1 Medical history##34#"}]
[null,null,null,null,null,null,null,null,null,null,null,null,null,null,null,153,25,3,{"$f":"INDEX('PS-ConceptMap-1'!$I$15:$N$286,Q167+1,R167)","v":"* group[=].element[=].target.code = #Composition.section:section:sectionPatientHx"}]
[null,null,null,null,null,null,null,null,null,null,null,null,null,null,null,154,25,4,{"$f":"INDEX('PS-ConceptMap-1'!$I$15:$N$286,Q168+1,R168)","v":"* group[=].element[=].target.display = ##34###34#"}]
[null,null,null,null,null,null,null,null,null,null,null,null,null,null,null,155,25,5,{"$f":"INDEX('PS-ConceptMap-1'!$I$15:$N$286,Q169+1,R169)","v":"* group[=].element[=].target.equivalence = #relatedto"}]
[null,null,null,null,null,null,null,null,null,null,null,null,null,null,null,156,25,6,{"$f":"INDEX('PS-ConceptMap-1'!$I$15:$N$286,Q170+1,R170)","v":""}]
[null,null,null,null,null,null,null,null,null,null,null,null,null,null,null,157,26,1,{"$f":"INDEX('PS-ConceptMap-1'!$I$15:$N$286,Q171+1,R171)","v":"* group[=].element[+].code = #PatientSummary.body.medicalProblems"}]
[null,null,null,null,null,null,null,null,null,null,null,null,null,null,null,158,26,2,{"$f":"INDEX('PS-ConceptMap-1'!$I$15:$N$286,Q172+1,R172)","v":"* group[=].element[=].display = ##34#A.2.3 Medical problems##34#"}]
[null,null,null,null,null,null,null,null,null,null,null,null,null,null,null,159,26,3,{"$f":"INDEX('PS-ConceptMap-1'!$I$15:$N$286,Q173+1,R173)","v":"* group[=].element[=].target.code = #Composition.section"}]
[null,null,null,null,null,null,null,null,null,null,null,null,null,null,null,160,26,4,{"$f":"INDEX('PS-ConceptMap-1'!$I$15:$N$286,Q174+1,R174)","v":"* group[=].element[=].target.display = ##34###34#"}]
[null,null,null,null,null,null,null,null,null,null,null,null,null,null,null,161,26,5,{"$f":"INDEX('PS-ConceptMap-1'!$I$15:$N$286,Q175+1,R175)","v":"* group[=].element[=].target.equivalence = #relatedto"}]
[null,null,null,null,null,null,null,null,null,null,null,null,null,null,null,162,26,6,{"$f":"INDEX('PS-ConceptMap-1'!$I$15:$N$286,Q176+1,R176)","v":""}]
[null,null,null,null,null,null,null,null,null,null,null,null,null,null,null,163,27,1,{"$f":"INDEX('PS-ConceptMap-1'!$I$15:$N$286,Q177+1,R177)","v":"* group[=].element[+].code = #PatientSummary.body.medicalProblems.problems"}]
[null,null,null,null,null,null,null,null,null,null,null,null,null,null,null,164,27,2,{"$f":"INDEX('PS-ConceptMap-1'!$I$15:$N$286,Q178+1,R178)","v":"* group[=].element[=].display = ##34#A.2.3.1 Current problems##34#"}]
[null,null,null,null,null,null,null,null,null,null,null,null,null,null,null,165,27,3,{"$f":"INDEX('PS-ConceptMap-1'!$I$15:$N$286,Q179+1,R179)","v":"* group[=].element[=].target.code = #Composition.section:section:sectionProblems"}]
[null,null,null,null,null,null,null,null,null,null,null,null,null,null,null,166,27,4,{"$f":"INDEX('PS-ConceptMap-1'!$I$15:$N$286,Q180+1,R180)","v":"* group[=].element[=].target.display = ##34###34#"}]
[null,null,null,null,null,null,null,null,null,null,null,null,null,null,null,167,27,5,{"$f":"INDEX('PS-ConceptMap-1'!$I$15:$N$286,Q181+1,R181)","v":"* group[=].element[=].target.equivalence = #equivalent"}]
[null,null,null,null,null,null,null,null,null,null,null,null,null,null,null,168,27,6,{"$f":"INDEX('PS-ConceptMap-1'!$I$15:$N$286,Q182+1,R182)","v":""}]
[null,null,null,null,null,null,null,null,null,null,null,null,null,null,null,169,28,1,{"$f":"INDEX('PS-ConceptMap-1'!$I$15:$N$286,Q183+1,R183)","v":"* group[=].element[+].code = #PatientSummary.body.medicalProblems.medicalDevices"}]
[null,null,null,null,null,null,null,null,null,null,null,null,null,null,null,170,28,2,{"$f":"INDEX('PS-ConceptMap-1'!$I$15:$N$286,Q184+1,R184)","v":"* group[=].element[=].display = ##34#A.2.3.2 Medical devices and implants##34#"}]
[null,null,null,null,null,null,null,null,null,null,null,null,null,null,null,171,28,3,{"$f":"INDEX('PS-ConceptMap-1'!$I$15:$N$286,Q185+1,R185)","v":"* group[=].element[=].target.code = #Composition.section:sectionMedicalDevices"}]
[null,null,null,null,null,null,null,null,null,null,null,null,null,null,null,172,28,4,{"$f":"INDEX('PS-ConceptMap-1'!$I$15:$N$286,Q186+1,R186)","v":"* group[=].element[=].target.display = ##34###34#"}]
[null,null,null,null,null,null,null,null,null,null,null,null,null,null,null,173,28,5,{"$f":"INDEX('PS-ConceptMap-1'!$I$15:$N$286,Q187+1,R187)","v":"* group[=].element[=].target.equivalence = #equivalent"}]
[null,null,null,null,null,null,null,null,null,null,null,null,null,null,null,174,28,6,{"$f":"INDEX('PS-ConceptMap-1'!$I$15:$N$286,Q188+1,R188)","v":""}]
[null,null,null,null,null,null,null,null,null,null,null,null,null,null,null,175,29,1,{"$f":"INDEX('PS-ConceptMap-1'!$I$15:$N$286,Q189+1,R189)","v":"* group[=].element[+].code = #PatientSummary.body.medicalProblems.procedures"}]
[null,null,null,null,null,null,null,null,null,null,null,null,null,null,null,176,29,2,{"$f":"INDEX('PS-ConceptMap-1'!$I$15:$N$286,Q190+1,R190)","v":"* group[=].element[=].display = ##34#A.2.3.3 Procedures##34#"}]
[null,null,null,null,null,null,null,null,null,null,null,null,null,null,null,177,29,3,{"$f":"INDEX('PS-ConceptMap-1'!$I$15:$N$286,Q191+1,R191)","v":"* group[=].element[=].target.code = #Composition.section:sectionProceduresHx"}]
[null,null,null,null,null,null,null,null,null,null,null,null,null,null,null,178,29,4,{"$f":"INDEX('PS-ConceptMap-1'!$I$15:$N$286,Q192+1,R192)","v":"* group[=].element[=].target.display = ##34###34#"}]
[null,null,null,null,null,null,null,null,null,null,null,null,null,null,null,179,29,5,{"$f":"INDEX('PS-ConceptMap-1'!$I$15:$N$286,Q193+1,R193)","v":"* group[=].element[=].target.equivalence = #equivalent"}]
[null,null,null,null,null,null,null,null,null,null,null,null,null,null,null,180,29,6,{"$f":"INDEX('PS-ConceptMap-1'!$I$15:$N$286,Q194+1,R194)","v":""}]
[null,null,null,null,null,null,null,null,null,null,null,null,null,null,null,181,30,1,{"$f":"INDEX('PS-ConceptMap-1'!$I$15:$N$286,Q195+1,R195)","v":"* group[=].element[+].code = #PatientSummary.body.medicalProblems.functionalStatus"}]
[null,null,null,null,null,null,null,null,null,null,null,null,null,null,null,182,30,2,{"$f":"INDEX('PS-ConceptMap-1'!$I$15:$N$286,Q196+1,R196)","v":"* group[=].element[=].display = ##34#A.2.3.4 Functional status##34#"}]
[null,null,null,null,null,null,null,null,null,null,null,null,null,null,null,183,30,3,{"$f":"INDEX('PS-ConceptMap-1'!$I$15:$N$286,Q197+1,R197)","v":"* group[=].element[=].target.code = #Composition.section:sectionFunctionalStatus"}]
[null,null,null,null,null,null,null,null,null,null,null,null,null,null,null,184,30,4,{"$f":"INDEX('PS-ConceptMap-1'!$I$15:$N$286,Q198+1,R198)","v":"* group[=].element[=].target.display = ##34###34#"}]
[null,null,null,null,null,null,null,null,null,null,null,null,null,null,null,185,30,5,{"$f":"INDEX('PS-ConceptMap-1'!$I$15:$N$286,Q199+1,R199)","v":"* group[=].element[=].target.equivalence = #equivalent"}]
[null,null,null,null,null,null,null,null,null,null,null,null,null,null,null,186,30,6,{"$f":"INDEX('PS-ConceptMap-1'!$I$15:$N$286,Q200+1,R200)","v":""}]
[null,null,null,null,null,null,null,null,null,null,null,null,null,null,null,187,31,1,{"$f":"INDEX('PS-ConceptMap-1'!$I$15:$N$286,Q201+1,R201)","v":"* group[=].element[+].code = #PatientSummary.body.medicationSummary"}]
[null,null,null,null,null,null,null,null,null,null,null,null,null,null,null,188,31,2,{"$f":"INDEX('PS-ConceptMap-1'!$I$15:$N$286,Q202+1,R202)","v":"* group[=].element[=].display = ##34#A.2.4 Medication summary##34#"}]
[null,null,null,null,null,null,null,null,null,null,null,null,null,null,null,189,31,3,{"$f":"INDEX('PS-ConceptMap-1'!$I$15:$N$286,Q203+1,R203)","v":"* group[=].element[=].target.code = #Composition.section:sectionMedications"}]
[null,null,null,null,null,null,null,null,null,null,null,null,null,null,null,190,31,4,{"$f":"INDEX('PS-ConceptMap-1'!$I$15:$N$286,Q204+1,R204)","v":"* group[=].element[=].target.display = ##34###34#"}]
[null,null,null,null,null,null,null,null,null,null,null,null,null,null,null,191,31,5,{"$f":"INDEX('PS-ConceptMap-1'!$I$15:$N$286,Q205+1,R205)","v":"* group[=].element[=].target.equivalence = #equivalent"}]
[null,null,null,null,null,null,null,null,null,null,null,null,null,null,null,192,31,6,{"$f":"INDEX('PS-ConceptMap-1'!$I$15:$N$286,Q206+1,R206)","v":""}]
[null,null,null,null,null,null,null,null,null,null,null,null,null,null,null,193,32,1,{"$f":"INDEX('PS-ConceptMap-1'!$I$15:$N$286,Q207+1,R207)","v":"* group[=].element[+].code = #PatientSummary.body.medicationSummary.medication"}]
[null,null,null,null,null,null,null,null,null,null,null,null,null,null,null,194,{"$f":"IF(MOD(P208,$Q$8)=0,P208/$Q$8-1,INT(P208/$Q$8))","v":32},{"$f":"IF(MOD(P208,$Q$8)=0,$Q$8,MOD(P208,$Q$8))","v":2},{"$f":"INDEX('PS-ConceptMap-1'!$I$15:$N$286,Q208+1,R208)","v":"* group[=].element[=].display = ##34#A.2.4.1 Current and relevant past medicines##34#"}]
[null,null,null,null,null,null,null,null,null,null,null,null,null,null,null,195,32,3,{"$f":"INDEX('PS-ConceptMap-1'!$I$15:$N$286,Q209+1,R209)","v":"* group[=].element[=].target.code = #Composition.section:sectionMedications.entry"}]
[null,null,null,null,null,null,null,null,null,null,null,null,null,null,null,196,32,4,{"$f":"INDEX('PS-ConceptMap-1'!$I$15:$N$286,Q210+1,R210)","v":"* group[=].element[=].target.display = ##34###34#"}]
[null,null,null,null,null,null,null,null,null,null,null,null,null,null,null,197,32,5,{"$f":"INDEX('PS-ConceptMap-1'!$I$15:$N$286,Q211+1,R211)","v":"* group[=].element[=].target.equivalence = #equivalent"}]
[null,null,null,null,null,null,null,null,null,null,null,null,null,null,null,198,32,6,{"$f":"INDEX('PS-ConceptMap-1'!$I$15:$N$286,Q212+1,R212)","v":""}]
[null,null,null,null,null,null,null,null,null,null,null,null,null,null,null,199,33,1,{"$f":"INDEX('PS-ConceptMap-1'!$I$15:$N$286,Q213+1,R213)","v":"* group[=].element[+].code = #PatientSummary.body.socialHistory"}]
[null,null,null,null,null,null,null,null,null,null,null,null,null,null,null,200,33,2,{"$f":"INDEX('PS-ConceptMap-1'!$I$15:$N$286,Q214+1,R214)","v":"* group[=].element[=].display = ##34#A.2.5 Social history##34#"}]
[null,null,null,null,null,null,null,null,null,null,null,null,null,null,null,201,33,3,{"$f":"INDEX('PS-ConceptMap-1'!$I$15:$N$286,Q215+1,R215)","v":"* group[=].element[=].target.code = #Composition.section:sectionSocialHistory"}]
[null,null,null,null,null,null,null,null,null,null,null,null,null,null,null,202,33,4,{"$f":"INDEX('PS-ConceptMap-1'!$I$15:$N$286,Q216+1,R216)","v":"* group[=].element[=].target.display = ##34###34#"}]
[null,null,null,null,null,null,null,null,null,null,null,null,null,null,null,203,33,5,{"$f":"INDEX('PS-ConceptMap-1'!$I$15:$N$286,Q217+1,R217)","v":"* group[=].element[=].target.equivalence = #equivalent"}]
[null,null,null,null,null,null,null,null,null,null,null,null,null,null,null,204,33,6,{"$f":"INDEX('PS-ConceptMap-1'!$I$15:$N$286,Q218+1,R218)","v":""}]
[null,null,null,null,null,null,null,null,null,null,null,null,null,null,null,205,34,1,{"$f":"INDEX('PS-ConceptMap-1'!$I$15:$N$286,Q219+1,R219)","v":"* group[=].element[+].code = #PatientSummary.body.socialHistory.observation"}]
[null,null,null,null,null,null,null,null,null,null,null,null,null,null,null,206,34,2,{"$f":"INDEX('PS-ConceptMap-1'!$I$15:$N$286,Q220+1,R220)","v":"* group[=].element[=].display = ##34#A.2.5.1 Social history observations related to health##34#"}]
[null,null,null,null,null,null,null,null,null,null,null,null,null,null,null,207,34,3,{"$f":"INDEX('PS-ConceptMap-1'!$I$15:$N$286,Q221+1,R221)","v":"* group[=].element[=].target.code = #Composition.section:sectionSocialHistory.entry"}]
[null,null,null,null,null,null,null,null,null,null,null,null,null,null,null,208,34,4,{"$f":"INDEX('PS-ConceptMap-1'!$I$15:$N$286,Q222+1,R222)","v":"* group[=].element[=].target.display = ##34###34#"}]
[null,null,null,null,null,null,null,null,null,null,null,null,null,null,null,209,34,5,{"$f":"INDEX('PS-ConceptMap-1'!$I$15:$N$286,Q223+1,R223)","v":"* group[=].element[=].target.equivalence = #equivalent"}]
[null,null,null,null,null,null,null,null,null,null,null,null,null,null,null,210,34,6,{"$f":"INDEX('PS-ConceptMap-1'!$I$15:$N$286,Q224+1,R224)","v":""}]
[null,null,null,null,null,null,null,null,null,null,null,null,null,null,null,211,35,1,{"$f":"INDEX('PS-ConceptMap-1'!$I$15:$N$286,Q225+1,R225)","v":"* group[=].element[+].code = #PatientSummary.body.socialHistory.referenceRange"}]
[null,null,null,null,null,null,null,null,null,null,null,null,null,null,null,212,35,2,{"$f":"INDEX('PS-ConceptMap-1'!$I$15:$N$286,Q226+1,R226)","v":"* group[=].element[=].display = ##34#A.2.5.2 Reference date range##34#"}]
[null,null,null,null,null,null,null,null,null,null,null,null,null,null,null,213,35,3,{"$f":"INDEX('PS-ConceptMap-1'!$I$15:$N$286,Q227+1,R227)","v":"* group[=].element[=].target.code = #Composition.section:sectionSocialHistory.entry.effective[x]"}]
[null,null,null,null,null,null,null,null,null,null,null,null,null,null,null,214,35,4,{"$f":"INDEX('PS-ConceptMap-1'!$I$15:$N$286,Q228+1,R228)","v":"* group[=].element[=].target.display = ##34###34#"}]
[null,null,null,null,null,null,null,null,null,null,null,null,null,null,null,215,35,5,{"$f":"INDEX('PS-ConceptMap-1'!$I$15:$N$286,Q229+1,R229)","v":"* group[=].element[=].target.equivalence = #equivalent"}]
[null,null,null,null,null,null,null,null,null,null,null,null,null,null,null,216,35,6,{"$f":"INDEX('PS-ConceptMap-1'!$I$15:$N$286,Q230+1,R230)","v":""}]
[null,null,null,null,null,null,null,null,null,null,null,null,null,null,null,217,36,1,{"$f":"INDEX('PS-ConceptMap-1'!$I$15:$N$286,Q231+1,R231)","v":"* group[=].element[+].code = #PatientSummary.body.pregnancyHistory"}]
[null,null,null,null,null,null,null,null,null,null,null,null,null,null,null,218,36,2,{"$f":"INDEX('PS-ConceptMap-1'!$I$15:$N$286,Q232+1,R232)","v":"* group[=].element[=].display = ##34#A.2.6 Pregnancy history##34#"}]
[null,null,null,null,null,null,null,null,null,null,null,null,null,null,null,219,36,3,{"$f":"INDEX('PS-ConceptMap-1'!$I$15:$N$286,Q233+1,R233)","v":"* group[=].element[=].target.code = #Composition.section:sectionPregnancyHx"}]
[null,null,null,null,null,null,null,null,null,null,null,null,null,null,null,220,36,4,{"$f":"INDEX('PS-ConceptMap-1'!$I$15:$N$286,Q234+1,R234)","v":"* group[=].element[=].target.display = ##34###34#"}]
[null,null,null,null,null,null,null,null,null,null,null,null,null,null,null,221,36,5,{"$f":"INDEX('PS-ConceptMap-1'!$I$15:$N$286,Q235+1,R235)","v":"* group[=].element[=].target.equivalence = #equivalent"}]
[null,null,null,null,null,null,null,null,null,null,null,null,null,null,null,222,36,6,{"$f":"INDEX('PS-ConceptMap-1'!$I$15:$N$286,Q236+1,R236)","v":""}]
[null,null,null,null,null,null,null,null,null,null,null,null,null,null,null,223,37,1,{"$f":"INDEX('PS-ConceptMap-1'!$I$15:$N$286,Q237+1,R237)","v":"* group[=].element[+].code = #PatientSummary.body.patientData"}]
[null,null,null,null,null,null,null,null,null,null,null,null,null,null,null,224,37,2,{"$f":"INDEX('PS-ConceptMap-1'!$I$15:$N$286,Q238+1,R238)","v":"* group[=].element[=].display = ##34#A.2.7 Patient provided data##34#"}]
[null,null,null,null,null,null,null,null,null,null,null,null,null,null,null,225,37,3,{"$f":"INDEX('PS-ConceptMap-1'!$I$15:$N$286,Q239+1,R239)","v":"* group[=].element[=].target.code = #Composition.section"}]
[null,null,null,null,null,null,null,null,null,null,null,null,null,null,null,226,37,4,{"$f":"INDEX('PS-ConceptMap-1'!$I$15:$N$286,Q240+1,R240)","v":"* group[=].element[=].target.display = ##34###34#"}]
[null,null,null,null,null,null,null,null,null,null,null,null,null,null,null,227,37,5,{"$f":"INDEX('PS-ConceptMap-1'!$I$15:$N$286,Q241+1,R241)","v":"* group[=].element[=].target.equivalence = #relatedto"}]
[null,null,null,null,null,null,null,null,null,null,null,null,null,null,null,228,37,6,{"$f":"INDEX('PS-ConceptMap-1'!$I$15:$N$286,Q242+1,R242)","v":""}]
[null,null,null,null,null,null,null,null,null,null,null,null,null,null,null,229,38,1,{"$f":"INDEX('PS-ConceptMap-1'!$I$15:$N$286,Q243+1,R243)","v":"* group[=].element[+].code = #PatientSummary.body.patientData.travelHistory"}]
[null,null,null,null,null,null,null,null,null,null,null,null,null,null,null,230,38,2,{"$f":"INDEX('PS-ConceptMap-1'!$I$15:$N$286,Q244+1,R244)","v":"* group[=].element[=].display = ##34#A.2.7.1 Travel history##34#"}]
[null,null,null,null,null,null,null,null,null,null,null,null,null,null,null,231,38,3,{"$f":"INDEX('PS-ConceptMap-1'!$I$15:$N$286,Q245+1,R245)","v":"* group[=].element[=].target.code = #Composition.section:sectionTravelHx"}]
[null,null,null,null,null,null,null,null,null,null,null,null,null,null,null,232,38,4,{"$f":"INDEX('PS-ConceptMap-1'!$I$15:$N$286,Q246+1,R246)","v":"* group[=].element[=].target.display = ##34###34#"}]
[null,null,null,null,null,null,null,null,null,null,null,null,null,null,null,233,38,5,{"$f":"INDEX('PS-ConceptMap-1'!$I$15:$N$286,Q247+1,R247)","v":"* group[=].element[=].target.equivalence = #relatedto"}]
[null,null,null,null,null,null,null,null,null,null,null,null,null,null,null,234,38,6,{"$f":"INDEX('PS-ConceptMap-1'!$I$15:$N$286,Q248+1,R248)","v":""}]
[null,null,null,null,null,null,null,null,null,null,null,null,null,null,null,235,39,1,{"$f":"INDEX('PS-ConceptMap-1'!$I$15:$N$286,Q249+1,R249)","v":"* group[=].element[+].code = #PatientSummary.body.patientData.travelHistory.country"}]
[null,null,null,null,null,null,null,null,null,null,null,null,null,null,null,236,39,2,{"$f":"INDEX('PS-ConceptMap-1'!$I$15:$N$286,Q250+1,R250)","v":"* group[=].element[=].display = ##34#A.2.7.1.1 Country##34#"}]
[null,null,null,null,null,null,null,null,null,null,null,null,null,null,null,237,39,3,{"$f":"INDEX('PS-ConceptMap-1'!$I$15:$N$286,Q251+1,R251)","v":"* group[=].element[=].target.code = #Composition.section:sectionTravelHx.text"}]
[null,null,null,null,null,null,null,null,null,null,null,null,null,null,null,238,39,4,{"$f":"INDEX('PS-ConceptMap-1'!$I$15:$N$286,Q252+1,R252)","v":"* group[=].element[=].target.display = ##34###34#"}]
[null,null,null,null,null,null,null,null,null,null,null,null,null,null,null,239,39,5,{"$f":"INDEX('PS-ConceptMap-1'!$I$15:$N$286,Q253+1,R253)","v":"* group[=].element[=].target.equivalence = #relatedto"}]
[null,null,null,null,null,null,null,null,null,null,null,null,null,null,null,240,39,6,{"$f":"INDEX('PS-ConceptMap-1'!$I$15:$N$286,Q254+1,R254)","v":"* group[=].element[=].target.comment = ##34#if textual description##34#"}]
[null,null,null,null,null,null,null,null,null,null,null,null,null,null,null,241,40,1,{"$f":"INDEX('PS-ConceptMap-1'!$I$15:$N$286,Q255+1,R255)","v":"* group[=].element[+].code = #PatientSummary.body.patientData.travelHistory.period"}]
[null,null,null,null,null,null,null,null,null,null,null,null,null,null,null,242,40,2,{"$f":"INDEX('PS-ConceptMap-1'!$I$15:$N$286,Q256+1,R256)","v":"* group[=].element[=].display = ##34#A.2.7.1.2 Period##34#"}]
[null,null,null,null,null,null,null,null,null,null,null,null,null,null,null,243,40,3,{"$f":"INDEX('PS-ConceptMap-1'!$I$15:$N$286,Q257+1,R257)","v":"* group[=].element[=].target.code = #Composition.section:sectionTravelHx.text"}]
[null,null,null,null,null,null,null,null,null,null,null,null,null,null,null,244,40,4,{"$f":"INDEX('PS-ConceptMap-1'!$I$15:$N$286,Q258+1,R258)","v":"* group[=].element[=].target.display = ##34###34#"}]
[null,null,null,null,null,null,null,null,null,null,null,null,null,null,null,245,40,5,{"$f":"INDEX('PS-ConceptMap-1'!$I$15:$N$286,Q259+1,R259)","v":"* group[=].element[=].target.equivalence = #relatedto"}]
[null,null,null,null,null,null,null,null,null,null,null,null,null,null,null,246,40,6,{"$f":"INDEX('PS-ConceptMap-1'!$I$15:$N$286,Q260+1,R260)","v":"* group[=].element[=].target.comment = ##34#if textual description##34#"}]
[null,null,null,null,null,null,null,null,null,null,null,null,null,null,null,247,41,1,{"$f":"INDEX('PS-ConceptMap-1'!$I$15:$N$286,Q261+1,R261)","v":"* group[=].element[+].code = #PatientSummary.body.patientData.travelHistory.country"}]
[null,null,null,null,null,null,null,null,null,null,null,null,null,null,null,248,41,2,{"$f":"INDEX('PS-ConceptMap-1'!$I$15:$N$286,Q262+1,R262)","v":"* group[=].element[=].display = ##34#A.2.7.1.1 Country##34#"}]
[null,null,null,null,null,null,null,null,null,null,null,null,null,null,null,249,41,3,{"$f":"INDEX('PS-ConceptMap-1'!$I$15:$N$286,Q263+1,R263)","v":"* group[=].element[=].target.code = #Composition.section:sectionTravelHx.entry.valueCodeableConcept"}]
[null,null,null,null,null,null,null,null,null,null,null,null,null,null,null,250,41,4,{"$f":"INDEX('PS-ConceptMap-1'!$I$15:$N$286,Q264+1,R264)","v":"* group[=].element[=].target.display = ##34###34#"}]
[null,null,null,null,null,null,null,null,null,null,null,null,null,null,null,251,41,5,{"$f":"INDEX('PS-ConceptMap-1'!$I$15:$N$286,Q265+1,R265)","v":"* group[=].element[=].target.equivalence = #relatedto"}]
[null,null,null,null,null,null,null,null,null,null,null,null,null,null,null,252,41,6,{"$f":"INDEX('PS-ConceptMap-1'!$I$15:$N$286,Q266+1,R266)","v":"* group[=].element[=].target.comment = ##34#entry of type Observation and Obseravtion.code = http://loinc.org#94651-7 'Country of travel [Location]'\nTBD##34#"}]
[null,null,null,null,null,null,null,null,null,null,null,null,null,null,null,253,42,1,{"$f":"INDEX('PS-ConceptMap-1'!$I$15:$N$286,Q267+1,R267)","v":"* group[=].element[+].code = #PatientSummary.body.patientData.travelHistory.period"}]
[null,null,null,null,null,null,null,null,null,null,null,null,null,null,null,254,42,2,{"$f":"INDEX('PS-ConceptMap-1'!$I$15:$N$286,Q268+1,R268)","v":"* group[=].element[=].display = ##34#A.2.7.1.2 Period##34#"}]
[null,null,null,null,null,null,null,null,null,null,null,null,null,null,null,255,42,3,{"$f":"INDEX('PS-ConceptMap-1'!$I$15:$N$286,Q269+1,R269)","v":"* group[=].element[=].target.code = #Composition.section:sectionTravelHx.entry.effectivePeriod"}]
[null,null,null,null,null,null,null,null,null,null,null,null,null,null,null,256,42,4,{"$f":"INDEX('PS-ConceptMap-1'!$I$15:$N$286,Q270+1,R270)","v":"* group[=].element[=].target.display = ##34###34#"}]
[null,null,null,null,null,null,null,null,null,null,null,null,null,null,null,257,42,5,{"$f":"INDEX('PS-ConceptMap-1'!$I$15:$N$286,Q271+1,R271)","v":"* group[=].element[=].target.equivalence = #relatedto"}]
[null,null,null,null,null,null,null,null,null,null,null,null,null,null,null,258,{"$f":"IF(MOD(P272,$Q$8)=0,P272/$Q$8-1,INT(P272/$Q$8))","v":42},{"$f":"IF(MOD(P272,$Q$8)=0,$Q$8,MOD(P272,$Q$8))","v":6},{"$f":"INDEX('PS-ConceptMap-1'!$I$15:$N$286,Q272+1,R272)","v":"* group[=].element[=].target.comment = ##34#OBSERVATION PROFILE TO BE SPECIFIED##34#"}]
[null,null,null,null,null,null,null,null,null,null,null,null,null,null,null,259,43,1,{"$f":"INDEX('PS-ConceptMap-1'!$I$15:$N$286,Q273+1,R273)","v":"* group[=].element[+].code = #PatientSummary.body.patientData.advanceDirective"}]
[null,null,null,null,null,null,null,null,null,null,null,null,null,null,null,260,43,2,{"$f":"INDEX('PS-ConceptMap-1'!$I$15:$N$286,Q274+1,R274)","v":"* group[=].element[=].display = ##34#A.2.7.2 Advance Directive##34#"}]
[null,null,null,null,null,null,null,null,null,null,null,null,null,null,null,261,43,3,{"$f":"INDEX('PS-ConceptMap-1'!$I$15:$N$286,Q275+1,R275)","v":"* group[=].element[=].target.code = #Composition.section:sectionAdvanceDirectives"}]
[null,null,null,null,null,null,null,null,null,null,null,null,null,null,null,262,43,4,{"$f":"INDEX('PS-ConceptMap-1'!$I$15:$N$286,Q276+1,R276)","v":"* group[=].element[=].target.display = ##34###34#"}]
[null,null,null,null,null,null,null,null,null,null,null,null,null,null,null,263,43,5,{"$f":"INDEX('PS-ConceptMap-1'!$I$15:$N$286,Q277+1,R277)","v":"* group[=].element[=].target.equivalence = #equivalent"}]
[null,null,null,null,null,null,null,null,null,null,null,null,null,null,null,264,43,6,{"$f":"INDEX('PS-ConceptMap-1'!$I$15:$N$286,Q278+1,R278)","v":""}]
[null,null,null,null,null,null,null,null,null,null,null,null,null,null,null,265,44,1,{"$f":"INDEX('PS-ConceptMap-1'!$I$15:$N$286,Q279+1,R279)","v":"* group[=].element[+].code = #PatientSummary.body.patientData.advanceDirective.documentation"}]
[null,null,null,null,null,null,null,null,null,null,null,null,null,null,null,266,44,2,{"$f":"INDEX('PS-ConceptMap-1'!$I$15:$N$286,Q280+1,R280)","v":"* group[=].element[=].display = ##34#A.2.7.2.1 Documentation##34#"}]
[null,null,null,null,null,null,null,null,null,null,null,null,null,null,null,267,44,3,{"$f":"INDEX('PS-ConceptMap-1'!$I$15:$N$286,Q281+1,R281)","v":"* group[=].element[=].target.code = #Composition.section:sectionAdvanceDirectives"}]
[null,null,null,null,null,null,null,null,null,null,null,null,null,null,null,268,44,4,{"$f":"INDEX('PS-ConceptMap-1'!$I$15:$N$286,Q282+1,R282)","v":"* group[=].element[=].target.display = ##34###34#"}]
[null,null,null,null,null,null,null,null,null,null,null,null,null,null,null,269,44,5,{"$f":"INDEX('PS-ConceptMap-1'!$I$15:$N$286,Q283+1,R283)","v":"* group[=].element[=].target.equivalence = #relatedto"}]
[null,null,null,null,null,null,null,null,null,null,null,null,null,null,null,270,44,6,{"$f":"INDEX('PS-ConceptMap-1'!$I$15:$N$286,Q284+1,R284)","v":"* group[=].element[=].target.comment = ##34#to be reviewed##34#"}]
[null,null,null,null,null,null,null,null,null,null,null,null,null,null,null,271,45,1,{"$f":"INDEX('PS-ConceptMap-1'!$I$15:$N$286,Q285+1,R285)","v":"* group[=].element[+].code = #PatientSummary.body.results"}]
[null,null,null,null,null,null,null,null,null,null,null,null,null,null,null,272,45,2,{"$f":"INDEX('PS-ConceptMap-1'!$I$15:$N$286,Q286+1,R286)","v":"* group[=].element[=].display = ##34#A.2.8 Results##34#"}]
[null,null,null,null,null,null,null,null,null,null,null,null,null,null,null,273,45,3,{"$f":"INDEX('PS-ConceptMap-1'!$I$15:$N$286,Q287+1,R287)","v":"* group[=].element[=].target.code = #Composition.section:sectionResults"}]
[null,null,null,null,null,null,null,null,null,null,null,null,null,null,null,274,45,4,{"$f":"INDEX('PS-ConceptMap-1'!$I$15:$N$286,Q288+1,R288)","v":"* group[=].element[=].target.display = ##34###34#"}]
[null,null,null,null,null,null,null,null,null,null,null,null,null,null,null,275,45,5,{"$f":"INDEX('PS-ConceptMap-1'!$I$15:$N$286,Q289+1,R289)","v":"* group[=].element[=].target.equivalence = #equivalent"}]
[null,null,null,null,null,null,null,null,null,null,null,null,null,null,null,276,45,6,{"$f":"INDEX('PS-ConceptMap-1'!$I$15:$N$286,Q290+1,R290)","v":""}]
[null,null,null,null,null,null,null,null,null,null,null,null,null,null,null,277,46,1,{"$f":"INDEX('PS-ConceptMap-1'!$I$15:$N$286,Q291+1,R291)","v":"* group[=].element[+].code = #PatientSummary.body.planOfCare"}]
[null,null,null,null,null,null,null,null,null,null,null,null,null,null,null,278,46,2,{"$f":"INDEX('PS-ConceptMap-1'!$I$15:$N$286,Q292+1,R292)","v":"* group[=].element[=].display = ##34#A.2.9 Plan of Care##34#"}]
[null,null,null,null,null,null,null,null,null,null,null,null,null,null,null,279,46,3,{"$f":"INDEX('PS-ConceptMap-1'!$I$15:$N$286,Q293+1,R293)","v":"* group[=].element[=].target.code = #Composition.section:sectionPlanOfCare"}]
[null,null,null,null,null,null,null,null,null,null,null,null,null,null,null,280,46,4,{"$f":"INDEX('PS-ConceptMap-1'!$I$15:$N$286,Q294+1,R294)","v":"* group[=].element[=].target.display = ##34###34#"}]
[null,null,null,null,null,null,null,null,null,null,null,null,null,null,null,281,46,5,{"$f":"INDEX('PS-ConceptMap-1'!$I$15:$N$286,Q295+1,R295)","v":"* group[=].element[=].target.equivalence = #equivalent"}]
[null,null,null,null,null,null,null,null,null,null,null,null,null,null,null,282,46,6,{"$f":"INDEX('PS-ConceptMap-1'!$I$15:$N$286,Q296+1,R296)","v":""}]
[null,null,null,null,null,null,null,null,null,null,null,null,null,null,null,283,47,1,{"$f":"INDEX('PS-ConceptMap-1'!$I$15:$N$286,Q297+1,R297)","v":"* group[=].element[+].code = #PatientSummary.body.planOfCare.carePlan"}]
[null,null,null,null,null,null,null,null,null,null,null,null,null,null,null,284,47,2,{"$f":"INDEX('PS-ConceptMap-1'!$I$15:$N$286,Q298+1,R298)","v":"* group[=].element[=].display = ##34#A.2.9.1 Plan of care##34#"}]
[null,null,null,null,null,null,null,null,null,null,null,null,null,null,null,285,47,3,{"$f":"INDEX('PS-ConceptMap-1'!$I$15:$N$286,Q299+1,R299)","v":"* group[=].element[=].target.code = #Composition.section:sectionPlanOfCare.text"}]
[null,null,null,null,null,null,null,null,null,null,null,null,null,null,null,286,47,4,{"$f":"INDEX('PS-ConceptMap-1'!$I$15:$N$286,Q300+1,R300)","v":"* group[=].element[=].target.display = ##34###34#"}]
[null,null,null,null,null,null,null,null,null,null,null,null,null,null,null,287,47,5,{"$f":"INDEX('PS-ConceptMap-1'!$I$15:$N$286,Q301+1,R301)","v":"* group[=].element[=].target.equivalence = #equivalent"}]
[null,null,null,null,null,null,null,null,null,null,null,null,null,null,null,288,47,6,{"$f":"INDEX('PS-ConceptMap-1'!$I$15:$N$286,Q302+1,R302)","v":""}]
[null,null,null,null,null,null,null,null,null,null,null,null,null,null,null,289,48,1,{"$f":"INDEX('PS-ConceptMap-1'!$I$15:$N$286,Q303+1,R303)","v":0}]
[null,null,null,null,null,null,null,null,null,null,null,null,null,null,null,290,48,2,{"$f":"INDEX('PS-ConceptMap-1'!$I$15:$N$286,Q304+1,R304)","v":0}]
[null,null,null,null,null,null,null,null,null,null,null,null,null,null,null,291,48,3,{"$f":"INDEX('PS-ConceptMap-1'!$I$15:$N$286,Q305+1,R305)","v":0}]
[null,null,null,null,null,null,null,null,null,null,null,null,null,null,null,292,48,4,{"$f":"INDEX('PS-ConceptMap-1'!$I$15:$N$286,Q306+1,R306)","v":0}]
[null,null,null,null,null,null,null,null,null,null,null,null,null,null,null,293,48,5,{"$f":"INDEX('PS-ConceptMap-1'!$I$15:$N$286,Q307+1,R307)","v":0}]
[null,null,null,null,null,null,null,null,null,null,null,null,null,null,null,294,48,6,{"$f":"INDEX('PS-ConceptMap-1'!$I$15:$N$286,Q308+1,R308)","v":0}]
[null,null,null,null,null,null,null,null,null,null,null,null,null,null,null,295,49,1,{"$f":"INDEX('PS-ConceptMap-1'!$I$15:$N$286,Q309+1,R309)","v":0}]
[null,null,null,null,null,null,null,null,null,null,null,null,null,null,null,296,49,2,{"$f":"INDEX('PS-ConceptMap-1'!$I$15:$N$286,Q310+1,R310)","v":0}]
[null,null,null,null,null,null,null,null,null,null,null,null,null,null,null,297,49,3,{"$f":"INDEX('PS-ConceptMap-1'!$I$15:$N$286,Q311+1,R311)","v":0}]
[null,null,null,null,null,null,null,null,null,null,null,null,null,null,null,298,49,4,{"$f":"INDEX('PS-ConceptMap-1'!$I$15:$N$286,Q312+1,R312)","v":0}]
[null,null,null,null,null,null,null,null,null,null,null,null,null,null,null,299,49,5,{"$f":"INDEX('PS-ConceptMap-1'!$I$15:$N$286,Q313+1,R313)","v":0}]
[null,null,null,null,null,null,null,null,null,null,null,null,null,null,null,300,49,6,{"$f":"INDEX('PS-ConceptMap-1'!$I$15:$N$286,Q314+1,R314)","v":0}]
[null,null,null,null,null,null,null,null,null,null,null,null,null,null,null,301,50,1,{"$f":"INDEX('PS-ConceptMap-1'!$I$15:$N$286,Q315+1,R315)","v":0}]
[null,null,null,null,null,null,null,null,null,null,null,null,null,null,null,302,50,2,{"$f":"INDEX('PS-ConceptMap-1'!$I$15:$N$286,Q316+1,R316)","v":0}]
[null,null,null,null,null,null,null,null,null,null,null,null,null,null,null,303,50,3,{"$f":"INDEX('PS-ConceptMap-1'!$I$15:$N$286,Q317+1,R317)","v":0}]
[null,null,null,null,null,null,null,null,null,null,null,null,null,null,null,304,50,4,{"$f":"INDEX('PS-ConceptMap-1'!$I$15:$N$286,Q318+1,R318)","v":0}]
[null,null,null,null,null,null,null,null,null,null,null,null,null,null,null,305,50,5,{"$f":"INDEX('PS-ConceptMap-1'!$I$15:$N$286,Q319+1,R319)","v":0}]
[null,null,null,null,null,null,null,null,null,null,null,null,null,null,null,306,50,6,{"$f":"INDEX('PS-ConceptMap-1'!$I$15:$N$286,Q320+1,R320)","v":0}]
[null,null,null,null,null,null,null,null,null,null,null,null,null,null,null,307,51,1,{"$f":"INDEX('PS-ConceptMap-1'!$I$15:$N$286,Q321+1,R321)","v":0}]
[null,null,null,null,null,null,null,null,null,null,null,null,null,null,null,308,51,2,{"$f":"INDEX('PS-ConceptMap-1'!$I$15:$N$286,Q322+1,R322)","v":0}]
[null,null,null,null,null,null,null,null,null,null,null,null,null,null,null,309,51,3,{"$f":"INDEX('PS-ConceptMap-1'!$I$15:$N$286,Q323+1,R323)","v":0}]
[null,null,null,null,null,null,null,null,null,null,null,null,null,null,null,310,51,4,{"$f":"INDEX('PS-ConceptMap-1'!$I$15:$N$286,Q324+1,R324)","v":0}]
[null,null,null,null,null,null,null,null,null,null,null,null,null,null,null,311,51,5,{"$f":"INDEX('PS-ConceptMap-1'!$I$15:$N$286,Q325+1,R325)","v":0}]
[null,null,null,null,null,null,null,null,null,null,null,null,null,null,null,312,51,6,{"$f":"INDEX('PS-ConceptMap-1'!$I$15:$N$286,Q326+1,R326)","v":0}]
[null,null,null,null,null,null,null,null,null,null,null,null,null,null,null,313,52,1,{"$f":"INDEX('PS-ConceptMap-1'!$I$15:$N$286,Q327+1,R327)","v":0}]
[null,null,null,null,null,null,null,null,null,null,null,null,null,null,null,314,52,2,{"$f":"INDEX('PS-ConceptMap-1'!$I$15:$N$286,Q328+1,R328)","v":0}]
[null,null,null,null,null,null,null,null,null,null,null,null,null,null,null,315,52,3,{"$f":"INDEX('PS-ConceptMap-1'!$I$15:$N$286,Q329+1,R329)","v":0}]
[null,null,null,null,null,null,null,null,null,null,null,null,null,null,null,316,52,4,{"$f":"INDEX('PS-ConceptMap-1'!$I$15:$N$286,Q330+1,R330)","v":0}]
[null,null,null,null,null,null,null,null,null,null,null,null,null,null,null,317,52,5,{"$f":"INDEX('PS-ConceptMap-1'!$I$15:$N$286,Q331+1,R331)","v":0}]
[null,null,null,null,null,null,null,null,null,null,null,null,null,null,null,318,52,6,{"$f":"INDEX('PS-ConceptMap-1'!$I$15:$N$286,Q332+1,R332)","v":0}]
[null,null,null,null,null,null,null,null,null,null,null,null,null,null,null,319,53,1,{"$f":"INDEX('PS-ConceptMap-1'!$I$15:$N$286,Q333+1,R333)","v":0}]
[null,null,null,null,null,null,null,null,null,null,null,null,null,null,null,320,53,2,{"$f":"INDEX('PS-ConceptMap-1'!$I$15:$N$286,Q334+1,R334)","v":0}]
[null,null,null,null,null,null,null,null,null,null,null,null,null,null,null,321,53,3,{"$f":"INDEX('PS-ConceptMap-1'!$I$15:$N$286,Q335+1,R335)","v":0}]
[null,null,null,null,null,null,null,null,null,null,null,null,null,null,null,322,{"$f":"IF(MOD(P336,$Q$8)=0,P336/$Q$8-1,INT(P336/$Q$8))","v":53},{"$f":"IF(MOD(P336,$Q$8)=0,$Q$8,MOD(P336,$Q$8))","v":4},{"$f":"INDEX('PS-ConceptMap-1'!$I$15:$N$286,Q336+1,R336)","v":0}]
[null,null,null,null,null,null,null,null,null,null,null,null,null,null,null,323,53,5,{"$f":"INDEX('PS-ConceptMap-1'!$I$15:$N$286,Q337+1,R337)","v":0}]
[null,null,null,null,null,null,null,null,null,null,null,null,null,null,null,324,53,6,{"$f":"INDEX('PS-ConceptMap-1'!$I$15:$N$286,Q338+1,R338)","v":0}]
[null,null,null,null,null,null,null,null,null,null,null,null,null,null,null,325,54,1,{"$f":"INDEX('PS-ConceptMap-1'!$I$15:$N$286,Q339+1,R339)","v":0}]
[null,null,null,null,null,null,null,null,null,null,null,null,null,null,null,326,54,2,{"$f":"INDEX('PS-ConceptMap-1'!$I$15:$N$286,Q340+1,R340)","v":0}]
[null,null,null,null,null,null,null,null,null,null,null,null,null,null,null,327,54,3,{"$f":"INDEX('PS-ConceptMap-1'!$I$15:$N$286,Q341+1,R341)","v":0}]
[null,null,null,null,null,null,null,null,null,null,null,null,null,null,null,328,54,4,{"$f":"INDEX('PS-ConceptMap-1'!$I$15:$N$286,Q342+1,R342)","v":0}]
[null,null,null,null,null,null,null,null,null,null,null,null,null,null,null,329,54,5,{"$f":"INDEX('PS-ConceptMap-1'!$I$15:$N$286,Q343+1,R343)","v":0}]
[null,null,null,null,null,null,null,null,null,null,null,null,null,null,null,330,54,6,{"$f":"INDEX('PS-ConceptMap-1'!$I$15:$N$286,Q344+1,R344)","v":0}]
[null,null,null,null,null,null,null,null,null,null,null,null,null,null,null,331,55,1,{"$f":"INDEX('PS-ConceptMap-1'!$I$15:$N$286,Q345+1,R345)","v":0}]
[null,null,null,null,null,null,null,null,null,null,null,null,null,null,null,332,55,2,{"$f":"INDEX('PS-ConceptMap-1'!$I$15:$N$286,Q346+1,R346)","v":0}]
[null,null,null,null,null,null,null,null,null,null,null,null,null,null,null,333,55,3,{"$f":"INDEX('PS-ConceptMap-1'!$I$15:$N$286,Q347+1,R347)","v":0}]
[null,null,null,null,null,null,null,null,null,null,null,null,null,null,null,334,55,4,{"$f":"INDEX('PS-ConceptMap-1'!$I$15:$N$286,Q348+1,R348)","v":0}]
[null,null,null,null,null,null,null,null,null,null,null,null,null,null,null,335,55,5,{"$f":"INDEX('PS-ConceptMap-1'!$I$15:$N$286,Q349+1,R349)","v":0}]
[null,null,null,null,null,null,null,null,null,null,null,null,null,null,null,336,55,6,{"$f":"INDEX('PS-ConceptMap-1'!$I$15:$N$286,Q350+1,R350)","v":0}]
[null,null,null,null,null,null,null,null,null,null,null,null,null,null,null,337,56,1,{"$f":"INDEX('PS-ConceptMap-1'!$I$15:$N$286,Q351+1,R351)","v":0}]
[null,null,null,null,null,null,null,null,null,null,null,null,null,null,null,338,56,2,{"$f":"INDEX('PS-ConceptMap-1'!$I$15:$N$286,Q352+1,R352)","v":0}]
[null,null,null,null,null,null,null,null,null,null,null,null,null,null,null,339,56,3,{"$f":"INDEX('PS-ConceptMap-1'!$I$15:$N$286,Q353+1,R353)","v":0}]
[null,null,null,null,null,null,null,null,null,null,null,null,null,null,null,340,56,4,{"$f":"INDEX('PS-ConceptMap-1'!$I$15:$N$286,Q354+1,R354)","v":0}]
[null,null,null,null,null,null,null,null,null,null,null,null,null,null,null,341,56,5,{"$f":"INDEX('PS-ConceptMap-1'!$I$15:$N$286,Q355+1,R355)","v":0}]
[null,null,null,null,null,null,null,null,null,null,null,null,null,null,null,342,56,6,{"$f":"INDEX('PS-ConceptMap-1'!$I$15:$N$286,Q356+1,R356)","v":0}]
[null,null,null,null,null,null,null,null,null,null,null,null,null,null,null,343,57,1,{"$f":"INDEX('PS-ConceptMap-1'!$I$15:$N$286,Q357+1,R357)","v":0}]
[null,null,null,null,null,null,null,null,null,null,null,null,null,null,null,344,57,2,{"$f":"INDEX('PS-ConceptMap-1'!$I$15:$N$286,Q358+1,R358)","v":0}]
[null,null,null,null,null,null,null,null,null,null,null,null,null,null,null,345,57,3,{"$f":"INDEX('PS-ConceptMap-1'!$I$15:$N$286,Q359+1,R359)","v":0}]
[null,null,null,null,null,null,null,null,null,null,null,null,null,null,null,346,57,4,{"$f":"INDEX('PS-ConceptMap-1'!$I$15:$N$286,Q360+1,R360)","v":0}]
[null,null,null,null,null,null,null,null,null,null,null,null,null,null,null,347,57,5,{"$f":"INDEX('PS-ConceptMap-1'!$I$15:$N$286,Q361+1,R361)","v":0}]
[null,null,null,null,null,null,null,null,null,null,null,null,null,null,null,348,57,6,{"$f":"INDEX('PS-ConceptMap-1'!$I$15:$N$286,Q362+1,R362)","v":0}]
[null,null,null,null,null,null,null,null,null,null,null,null,null,null,null,349,58,1,{"$f":"INDEX('PS-ConceptMap-1'!$I$15:$N$286,Q363+1,R363)","v":0}]
[null,null,null,null,null,null,null,null,null,null,null,null,null,null,null,350,58,2,{"$f":"INDEX('PS-ConceptMap-1'!$I$15:$N$286,Q364+1,R364)","v":0}]
[null,null,null,null,null,null,null,null,null,null,null,null,null,null,null,351,58,3,{"$f":"INDEX('PS-ConceptMap-1'!$I$15:$N$286,Q365+1,R365)","v":0}]
[null,null,null,null,null,null,null,null,null,null,null,null,null,null,null,352,58,4,{"$f":"INDEX('PS-ConceptMap-1'!$I$15:$N$286,Q366+1,R366)","v":0}]
[null,null,null,null,null,null,null,null,null,null,null,null,null,null,null,353,58,5,{"$f":"INDEX('PS-ConceptMap-1'!$I$15:$N$286,Q367+1,R367)","v":0}]
[null,null,null,null,null,null,null,null,null,null,null,null,null,null,null,354,58,6,{"$f":"INDEX('PS-ConceptMap-1'!$I$15:$N$286,Q368+1,R368)","v":0}]
[null,null,null,null,null,null,null,null,null,null,null,null,null,null,null,355,59,1,{"$f":"INDEX('PS-ConceptMap-1'!$I$15:$N$286,Q369+1,R369)","v":0}]
[null,null,null,null,null,null,null,null,null,null,null,null,null,null,null,356,59,2,{"$f":"INDEX('PS-ConceptMap-1'!$I$15:$N$286,Q370+1,R370)","v":0}]
[null,null,null,null,null,null,null,null,null,null,null,null,null,null,null,357,59,3,{"$f":"INDEX('PS-ConceptMap-1'!$I$15:$N$286,Q371+1,R371)","v":0}]
[null,null,null,null,null,null,null,null,null,null,null,null,null,null,null,358,59,4,{"$f":"INDEX('PS-ConceptMap-1'!$I$15:$N$286,Q372+1,R372)","v":0}]

{"sheet":"PS-ConceptMap-2","index":5,"n_rows":40,"n_cols":19,"rows_kept":40,"cut":false,"hidden":false,"merged":[[5,4,5,6],[6,4,6,6]]}
[]
[]
[null,"Mapping","PatientSummary2FHIR","Source URI","http://hl7.eu/fhir/ig/xpandh/ps/StructureDefinition/PatientSummary"]
[null,"Id","patientSummary2FHIR-eu-ps","Target URI","http://hl7.eu/fhir/ig/xpandh/ps/StructureDefinition/Bundle-eu-ps"]
[null,"Title","eHN Patient Summary to this guide Map"]
[null,"Source","http://hl7.eu/fhir/ig/xpandh/ps/StructureDefinition/PatientSummary","Source Group","http://hl7.eu/fhir/ig/xpandh/ps/StructureDefinition/PatientSummary"]
[null,"Target","http://hl7.eu/fhir/ig/xpandh/ps","Target Group","http://hl7.eu/fhir/ig/xpandh/ps/StructureDefinition/Condition-ps-xpandh"]
[null,"description","eHN Patient Summary to this guide Map",null,null,null,null,null,"* group[=].element[+].code = #Osiris.Patient.BirthDate","* group[=].element[=].display = \"Birth Date [C4]\"","* group[=].element[=].target.code = #Subject.dateOfBirth.date","* group[=].element[=].target.display = \"Date of birth\"","* group[=].element[=].target.equivalence = #equivalent",null,null,"Elements",6]
[null,"purpose","It shows how the Patient Summary data set defined by the EU eHN guidelines is mapped into this guide"]
[]
[null,null,null,null,null,null,null,null,"source:code","source:display","code","display","target to source","Comment"]
[]
[null,null,null,null,null,"target to source","Comment"]
[null,"PatientSummary",null,"Condition"]
[null,{"$f":"PS!B19","v":"header.additionalInfo"},{"$f":"PS!C19","v":"A.1.6 Additional information / Knowledge resources"},"extension:supporintInfo",null,"relatedto",null,null,{"$f":"\"* group[=].element[+].code = #\"&$B$14&\".\"&B15","v":"* group[=].element[+].code = #PatientSummary.header.additionalInfo"},{"$f":"\"* group[=].element[=].display = ##34#\"&C15&\"##34#\"","v":"* group[=].element[=].display = ##34#A.1.6 Additional information / Knowledge resources##34#"},{"$f":"IF(F15=\"unmatched\",\"//-- unmatched\",IF(D15=\"\",\"* group[=].element[=].target.code = #\"&$D$14,\"* group[=].element[=].target.code = #\"&$D$14&\".\"&D15))","v":"* group[=].element[=].target.code = #Condition.extension:supporintInfo"},{"$f":"IF(F15=\"unmatched\",\"//-- unmatched\",\"* group[=].element[=].target.display = ##34#\"&E15&\"##34#\")","v":"* group[=].element[=].target.display = ##34###34#"},{"$f":"\"* group[=].element[=].target.equivalence = #\"&F15","v":"* group[=].element[=].target.equivalence = #relatedto"},{"$f":"IF(G15<>\"\",CONCATENATE(\"* group[=].element[=].target.comment = \",\"##34#\",G15,\"##34#\"),\"\")","v":""},null,1,{"$f":"IF(MOD(P15,$Q$8)=0,P15/$Q$8-1,INT(P15/$Q$8))","v":0},{"$f":"IF(MOD(P15,$Q$8)=0,$Q$8,MOD(P15,$Q$8))","v":1},{"$f":"INDEX('PS-ConceptMap-2'!$I$15:$N$40,Q15+1,R15)","v":"* group[=].element[+].code = #PatientSummary.header.additionalInfo"}]
[null,{"$f":"PS!B20","v":"header.additionalInfo.reference"},{"$f":"PS!C20","v":"A.1.6.1 External reference"},"extension:supporintInfo",null,"relatedto","extension[supporintInfo].resolve().ofType(DocumentReference)",null,{"$f":"\"* group[=].element[+].code = #\"&$B$14&\".\"&B16","v":"* group[=].element[+].code = #PatientSummary.header.additionalInfo.reference"},{"$f":"\"* group[=].element[=].display = ##34#\"&C16&\"##34#\"","v":"* group[=].element[=].display = ##34#A.1.6.1 External reference##34#"},{"$f":"IF(F16=\"unmatched\",\"//-- unmatched\",IF(D16=\"\",\"* group[=].element[=].target.code = #\"&$D$14,\"* group[=].element[=].target.code = #\"&$D$14&\".\"&D16))","v":"* group[=].element[=].target.code = #Condition.extension:supporintInfo"},{"$f":"IF(F16=\"unmatched\",\"//-- unmatched\",\"* group[=].element[=].target.display = ##34#\"&E16&\"##34#\")","v":"* group[=].element[=].target.display = ##34###34#"},{"$f":"\"* group[=].element[=].target.equivalence = #\"&F16","v":"* group[=].element[=].target.equivalence = #relatedto"},{"$f":"IF(G16<>\"\",CONCATENATE(\"* group[=].element[=].target.comment = \",\"##34#\",G16,\"##34#\"),\"\")","v":"* group[=].element[=].target.comment = ##34#extension[supporintInfo].resolve().ofType(DocumentReference)##34#"},null,2,{"$f":"IF(MOD(P16,$Q$8)=0,P16/$Q$8-1,INT(P16/$Q$8))","v":0},{"$f":"IF(MOD(P16,$Q$8)=0,$Q$8,MOD(P16,$Q$8))","v":2},{"$f":"INDEX('PS-ConceptMap-2'!$I$15:$N$40,Q16+1,R16)","v":"* group[=].element[=].display = ##34#A.1.6 Additional information / Knowledge resources##34#"}]
[null,{"$f":"PS!B21","v":"header.additionalInfo.relatedWith"},{"$f":"PS!C21","v":"A.1.6.2 Related with"},null,null,"relatedto","the containing resource describes the context in this case the Condition",null,"* group[=].element[+].code = #PatientSummary.header.additionalInfo.relatedWith","* group[=].element[=].display = ##34#A.1.6.2 Related with##34#","* group[=].element[=].target.code = #Condition","* group[=].element[=].target.display = ##34###34#","* group[=].element[=].target.equivalence = #relatedto","* group[=].element[=].target.comment = ##34#the containing resource describes the context in this case the Condition##34#",null,3,0,3,{"$f":"INDEX('PS-ConceptMap-2'!$I$15:$N$40,Q17+1,R17)","v":"* group[=].element[=].target.code = #Condition.extension:supporintInfo"}]
[null,null,null,null,null,null,null,null,null,null,null,null,null,null,null,4,0,4,{"$f":"INDEX('PS-ConceptMap-2'!$I$15:$N$40,Q18+1,R18)","v":"* group[=].element[=].target.display = ##34###34#"}]
[null,null,null,null,null,null,null,null,null,null,null,null,null,null,null,5,0,5,{"$f":"INDEX('PS-ConceptMap-2'!$I$15:$N$40,Q19+1,R19)","v":"* group[=].element[=].target.equivalence = #relatedto"}]
[null,null,null,null,null,null,null,null,null,null,null,null,null,null,null,6,0,6,{"$f":"INDEX('PS-ConceptMap-2'!$I$15:$N$40,Q20+1,R20)","v":""}]
[null,null,null,null,null,null,null,null,null,null,null,null,null,null,null,7,1,1,{"$f":"INDEX('PS-ConceptMap-2'!$I$15:$N$40,Q21+1,R21)","v":"* group[=].element[+].code = #PatientSummary.header.additionalInfo.reference"}]
[null,null,null,null,null,null,null,null,null,null,null,null,null,null,null,8,1,2,{"$f":"INDEX('PS-ConceptMap-2'!$I$15:$N$40,Q22+1,R22)","v":"* group[=].element[=].display = ##34#A.1.6.1 External reference##34#"}]
[null,null,null,null,null,null,null,null,null,null,null,null,null,null,null,9,1,3,{"$f":"INDEX('PS-ConceptMap-2'!$I$15:$N$40,Q23+1,R23)","v":"* group[=].element[=].target.code = #Condition.extension:supporintInfo"}]
[null,null,null,null,null,null,null,null,null,null,null,null,null,null,null,10,1,4,{"$f":"INDEX('PS-ConceptMap-2'!$I$15:$N$40,Q24+1,R24)","v":"* group[=].element[=].target.display = ##34###34#"}]
[null,null,null,null,null,null,null,null,null,null,null,null,null,null,null,11,1,5,{"$f":"INDEX('PS-ConceptMap-2'!$I$15:$N$40,Q25+1,R25)","v":"* group[=].element[=].target.equivalence = #relatedto"}]
[null,null,null,null,null,null,null,null,null,null,null,null,null,null,null,12,1,6,{"$f":"INDEX('PS-ConceptMap-2'!$I$15:$N$40,Q26+1,R26)","v":"* group[=].element[=].target.comment = ##34#extension[supporintInfo].resolve().ofType(DocumentReference)##34#"}]
[null,null,null,null,null,null,null,null,null,null,null,null,null,null,null,13,2,1,{"$f":"INDEX('PS-ConceptMap-2'!$I$15:$N$40,Q27+1,R27)","v":"* group[=].element[+].code = #PatientSummary.header.additionalInfo.relatedWith"}]
[null,null,null,null,null,null,null,null,null,null,null,null,null,null,null,14,2,2,{"$f":"INDEX('PS-ConceptMap-2'!$I$15:$N$40,Q28+1,R28)","v":"* group[=].element[=].display = ##34#A.1.6.2 Related with##34#"}]
[null,null,null,null,null,null,null,null,null,null,null,null,null,null,null,15,2,3,{"$f":"INDEX('PS-ConceptMap-2'!$I$15:$N$40,Q29+1,R29)","v":"* group[=].element[=].target.code = #Condition"}]
[null,null,null,null,null,null,null,null,null,null,null,null,null,null,null,16,2,4,{"$f":"INDEX('PS-ConceptMap-2'!$I$15:$N$40,Q30+1,R30)","v":"* group[=].element[=].target.display = ##34###34#"}]
[null,null,null,null,null,null,null,null,null,null,null,null,null,null,null,17,2,5,{"$f":"INDEX('PS-ConceptMap-2'!$I$15:$N$40,Q31+1,R31)","v":"* group[=].element[=].target.equivalence = #relatedto"}]
[null,null,null,null,null,null,null,null,null,null,null,null,null,null,null,18,2,6,{"$f":"INDEX('PS-ConceptMap-2'!$I$15:$N$40,Q32+1,R32)","v":"* group[=].element[=].target.comment = ##34#the containing resource describes the context in this case the Condition##34#"}]
[null,null,null,null,null,null,null,null,null,null,null,null,null,null,null,19,3,1,{"$f":"INDEX('PS-ConceptMap-2'!$I$15:$N$40,Q33+1,R33)","v":0}]
[null,null,null,null,null,null,null,null,null,null,null,null,null,null,null,20,3,2,{"$f":"INDEX('PS-ConceptMap-2'!$I$15:$N$40,Q34+1,R34)","v":0}]
[null,null,null,null,null,null,null,null,null,null,null,null,null,null,null,21,3,3,{"$f":"INDEX('PS-ConceptMap-2'!$I$15:$N$40,Q35+1,R35)","v":0}]
[null,null,null,null,null,null,null,null,null,null,null,null,null,null,null,22,3,4,{"$f":"INDEX('PS-ConceptMap-2'!$I$15:$N$40,Q36+1,R36)","v":0}]
[null,null,null,null,null,null,null,null,null,null,null,null,null,null,null,23,3,5,{"$f":"INDEX('PS-ConceptMap-2'!$I$15:$N$40,Q37+1,R37)","v":0}]
[null,null,null,null,null,null,null,null,null,null,null,null,null,null,null,24,3,6,{"$f":"INDEX('PS-ConceptMap-2'!$I$15:$N$40,Q38+1,R38)","v":0}]
[null,null,null,null,null,null,null,null,null,null,null,null,null,null,null,25,4,1,{"$f":"INDEX('PS-ConceptMap-2'!$I$15:$N$40,Q39+1,R39)","v":0}]
[null,null,null,null,null,null,null,null,null,null,null,null,null,null,null,26,4,2,{"$f":"INDEX('PS-ConceptMap-2'!$I$15:$N$40,Q40+1,R40)","v":0}]

{"sheet":"PS-CM-fsh","index":6,"n_rows":339,"n_cols":7,"rows_kept":339,"cut":false,"hidden":false,"merged":[]}
[null,"// -------------------------------------------------------------------------------"]
[null,"//  Concept Model. File: ",null,null,null,null,"patientSummary-to-fhir-map.fsh"]
[null,"// -------------------------------------------------------------------------------"]
[null,{"$f":"\"Instance: \"&'PS-ConceptMap-1'!C4","v":"Instance: patientSummary2FHIR-eu-ps"}]
[null,"InstanceOf: ConceptMap"]
[null,"Usage: #definition"]
[null,"// * url = ##34#http://terminology.hl7.it/ConceptMap/ConceptMap-subject2osiris##34#"]
[null,{"$f":"\"* name = ##34#\"&'PS-ConceptMap-1'!C3&\"##34#\"","v":"* name = ##34#PatientSummary2FHIR##34#"}]
[null,{"$f":"\"* title = ##34#\"&'PS-ConceptMap-1'!C5&\"##34#\"","v":"* title = ##34#eHN Patient Summary to this guide Map##34#"}]
[null,"* status = #draft"]
[null,"* experimental = true"]
[null,{"$f":"\"* description = ##34#\"&'PS-ConceptMap-1'!C8&\"##34#\"","v":"* description = ##34#eHN Patient Summary to this guide Map##34#"}]
[null,{"$f":"\"* purpose = ##34#\"&'PS-ConceptMap-1'!C9&\"##34#\"","v":"* purpose = ##34#It shows how the Patient Summary data set defined by the EU eHN guidelines is mapped into this guide##34#"}]
[null,{"$f":"\"* sourceUri = ##34#\"&'PS-ConceptMap-1'!E3&\"##34#\"","v":"* sourceUri = ##34#http://hl7.eu/fhir/ig/xpandh/ps/StructureDefinition/PatientSummary##34#"}]
[null,{"$f":"\"* targetUri = ##34#\"&'PS-ConceptMap-1'!E4&\"##34#\"","v":"* targetUri = ##34#http://hl7.eu/fhir/ig/xpandh/ps/StructureDefinition/Bundle-eu-ps##34#"}]
[]
[null,{"$f":"\"* group[+].source = ##34#\"&'PS-ConceptMap-1'!E6&\"##34#\"","v":"* group[+].source = ##34#http://hl7.eu/fhir/ig/xpandh/ps/StructureDefinition/PatientSummary##34#"}]
[null,{"$f":"\"* group[=].target = ##34#\"&'PS-ConceptMap-1'!E7&\"##34#\"","v":"* group[=].target = ##34#http://hl7.eu/fhir/ig/xpandh/ps/StructureDefinition/Composition-ps-xpandh##34#"}]
[]
[null,{"$f":"IF('PS-ConceptMap-1'!S15=0,\"//---END\",'PS-ConceptMap-1'!S15)","v":"* group[=].element[+].code = #PatientSummary.header"}]
[null,{"$f":"IF('PS-ConceptMap-1'!S16=0,\"//---END\",'PS-ConceptMap-1'!S16)","v":"* group[=].element[=].display = ##34#A.1 Report header data elements##34#"}]
[null,{"$f":"IF('PS-ConceptMap-1'!S17=0,\"//---END\",'PS-ConceptMap-1'!S17)","v":"* group[=].element[=].target.code = #Composition"}]
[null,{"$f":"IF('PS-ConceptMap-1'!S18=0,\"//---END\",'PS-ConceptMap-1'!S18)","v":"* group[=].element[=].target.display = ##34###34#"}]
[null,{"$f":"IF('PS-ConceptMap-1'!S19=0,\"//---END\",'PS-ConceptMap-1'!S19)","v":"* group[=].element[=].target.equivalence = #relatedto"}]
[null,{"$f":"IF('PS-ConceptMap-1'!S20=0,\"//---END\",'PS-ConceptMap-1'!S20)","v":""}]
[null,{"$f":"IF('PS-ConceptMap-1'!S21=0,\"//---END\",'PS-ConceptMap-1'!S21)","v":"* group[=].element[+].code = #PatientSummary.header.subject"}]
[null,{"$f":"IF('PS-ConceptMap-1'!S22=0,\"//---END\",'PS-ConceptMap-1'!S22)","v":"* group[=].element[=].display = ##34#A.1.1 A1.2 Patient/subject##34#"}]
[null,{"$f":"IF('PS-ConceptMap-1'!S23=0,\"//---END\",'PS-ConceptMap-1'!S23)","v":"* group[=].element[=].target.code = #Composition.subject"}]
[null,{"$f":"IF('PS-ConceptMap-1'!S24=0,\"//---END\",'PS-ConceptMap-1'!S24)","v":"* group[=].element[=].target.display = ##34###34#"}]
[null,{"$f":"IF('PS-ConceptMap-1'!S25=0,\"//---END\",'PS-ConceptMap-1'!S25)","v":"* group[=].element[=].target.equivalence = #relatedto"}]
[null,{"$f":"IF('PS-ConceptMap-1'!S26=0,\"//---END\",'PS-ConceptMap-1'!S26)","v":""}]
[null,{"$f":"IF('PS-ConceptMap-1'!S27=0,\"//---END\",'PS-ConceptMap-1'!S27)","v":"* group[=].element[+].code = #PatientSummary.header.insuranceInfo"}]
[null,{"$f":"IF('PS-ConceptMap-1'!S28=0,\"//---END\",'PS-ConceptMap-1'!S28)","v":"* group[=].element[=].display = ##34#A.1.3 Insurance information##34#"}]
[null,{"$f":"IF('PS-ConceptMap-1'!S29=0,\"//---END\",'PS-ConceptMap-1'!S29)","v":"* group[=].element[=].target.code = #Composition.subject"}]
[null,{"$f":"IF('PS-ConceptMap-1'!S30=0,\"//---END\",'PS-ConceptMap-1'!S30)","v":"* group[=].element[=].target.display = ##34###34#"}]
[null,{"$f":"IF('PS-ConceptMap-1'!S31=0,\"//---END\",'PS-ConceptMap-1'!S31)","v":"* group[=].element[=].target.equivalence = #relatedto"}]
[null,{"$f":"IF('PS-ConceptMap-1'!S32=0,\"//---END\",'PS-ConceptMap-1'!S32)","v":""}]
[null,{"$f":"IF('PS-ConceptMap-1'!S33=0,\"//---END\",'PS-ConceptMap-1'!S33)","v":"* group[=].element[+].code = #PatientSummary.header.insuranceInfo.insuranceNumber"}]
[null,{"$f":"IF('PS-ConceptMap-1'!S34=0,\"//---END\",'PS-ConceptMap-1'!S34)","v":"* group[=].element[=].display = ##34#A.1.3.1  Insurance number##34#"}]
[null,{"$f":"IF('PS-ConceptMap-1'!S35=0,\"//---END\",'PS-ConceptMap-1'!S35)","v":"* group[=].element[=].target.code = #Composition.subject.identifier"}]
[null,{"$f":"IF('PS-ConceptMap-1'!S36=0,\"//---END\",'PS-ConceptMap-1'!S36)","v":"* group[=].element[=].target.display = ##34###34#"}]
[null,{"$f":"IF('PS-ConceptMap-1'!S37=0,\"//---END\",'PS-ConceptMap-1'!S37)","v":"* group[=].element[=].target.equivalence = #relatedto"}]
[null,{"$f":"IF('PS-ConceptMap-1'!S38=0,\"//---END\",'PS-ConceptMap-1'!S38)","v":"* group[=].element[=].target.comment = ##34#In some cases the identifier assigned by the payor (e.g. the SSN) is used as one of the Patient Identifiers, this is how it expected to be used foe the PS.\nThe appropriate resource for covneying such a kind of data is Coverage, but a dedicated section should be added to the PS.##34#"}]
[null,{"$f":"IF('PS-ConceptMap-1'!S39=0,\"//---END\",'PS-ConceptMap-1'!S39)","v":"* group[=].element[+].code = #PatientSummary.header.documentData"}]
[null,{"$f":"IF('PS-ConceptMap-1'!S40=0,\"//---END\",'PS-ConceptMap-1'!S40)","v":"* group[=].element[=].display = ##34#A.1.4 Document data##34#"}]
[null,{"$f":"IF('PS-ConceptMap-1'!S41=0,\"//---END\",'PS-ConceptMap-1'!S41)","v":"* group[=].element[=].target.code = #Composition"}]
[null,{"$f":"IF('PS-ConceptMap-1'!S42=0,\"//---END\",'PS-ConceptMap-1'!S42)","v":"* group[=].element[=].target.display = ##34###34#"}]
[null,{"$f":"IF('PS-ConceptMap-1'!S43=0,\"//---END\",'PS-ConceptMap-1'!S43)","v":"* group[=].element[=].target.equivalence = #relatedto"}]
[null,{"$f":"IF('PS-ConceptMap-1'!S44=0,\"//---END\",'PS-ConceptMap-1'!S44)","v":""}]
[null,{"$f":"IF('PS-ConceptMap-1'!S45=0,\"//---END\",'PS-ConceptMap-1'!S45)","v":"* group[=].element[+].code = #PatientSummary.header.documentData.created"}]
[null,{"$f":"IF('PS-ConceptMap-1'!S46=0,\"//---END\",'PS-ConceptMap-1'!S46)","v":"* group[=].element[=].display = ##34#A.1.4.1 Date created##34#"}]
[null,{"$f":"IF('PS-ConceptMap-1'!S47=0,\"//---END\",'PS-ConceptMap-1'!S47)","v":"* group[=].element[=].target.code = #Composition.date"}]
[null,{"$f":"IF('PS-ConceptMap-1'!S48=0,\"//---END\",'PS-ConceptMap-1'!S48)","v":"* group[=].element[=].target.display = ##34###34#"}]
[null,{"$f":"IF('PS-ConceptMap-1'!S49=0,\"//---END\",'PS-ConceptMap-1'!S49)","v":"* group[=].element[=].target.equivalence = #relatedto"}]
[null,{"$f":"IF('PS-ConceptMap-1'!S50=0,\"//---END\",'PS-ConceptMap-1'!S50)","v":""}]
[null,{"$f":"IF('PS-ConceptMap-1'!S51=0,\"//---END\",'PS-ConceptMap-1'!S51)","v":"* group[=].element[+].code = #PatientSummary.header.documentData.lastUpdate"}]
[null,{"$f":"IF('PS-ConceptMap-1'!S52=0,\"//---END\",'PS-ConceptMap-1'!S52)","v":"* group[=].element[=].display = ##34#A.1.4.2 Date of last update##34#"}]
[null,{"$f":"IF('PS-ConceptMap-1'!S53=0,\"//---END\",'PS-ConceptMap-1'!S53)","v":"* group[=].element[=].target.code = #Composition.event:careProvisioningEvent.period.end"}]
[null,{"$f":"IF('PS-ConceptMap-1'!S54=0,\"//---END\",'PS-ConceptMap-1'!S54)","v":"* group[=].element[=].target.display = ##34###34#"}]
[null,{"$f":"IF('PS-ConceptMap-1'!S55=0,\"//---END\",'PS-ConceptMap-1'!S55)","v":"* group[=].element[=].target.equivalence = #relatedto"}]
[null,{"$f":"IF('PS-ConceptMap-1'!S56=0,\"//---END\",'PS-ConceptMap-1'!S56)","v":"* group[=].element[=].target.comment = ##34#If it represents the period of time this Patient Summary is covering##34#"}]
[null,{"$f":"IF('PS-ConceptMap-1'!S57=0,\"//---END\",'PS-ConceptMap-1'!S57)","v":"* group[=].element[+].code = #PatientSummary.header.documentData.lastUpdate"}]
[null,{"$f":"IF('PS-ConceptMap-1'!S58=0,\"//---END\",'PS-ConceptMap-1'!S58)","v":"* group[=].element[=].display = ##34#A.1.4.2 Date of last update##34#"}]
[null,{"$f":"IF('PS-ConceptMap-1'!S59=0,\"//---END\",'PS-ConceptMap-1'!S59)","v":"* group[=].element[=].target.code = #Composition.meta.lastUpdated"}]
[null,{"$f":"IF('PS-ConceptMap-1'!S60=0,\"//---END\",'PS-ConceptMap-1'!S60)","v":"* group[=].element[=].target.display = ##34###34#"}]
[null,{"$f":"IF('PS-ConceptMap-1'!S61=0,\"//---END\",'PS-ConceptMap-1'!S61)","v":"* group[=].element[=].target.equivalence = #relatedto"}]
[null,{"$f":"IF('PS-ConceptMap-1'!S62=0,\"//---END\",'PS-ConceptMap-1'!S62)","v":"* group[=].element[=].target.comment = ##34#If it represents the last update of this FHIR resource##34#"}]
[null,{"$f":"IF('PS-ConceptMap-1'!S63=0,\"//---END\",'PS-ConceptMap-1'!S63)","v":"* group[=].element[+].code = #PatientSummary.header.documentData.natureOfIPS"}]
[null,{"$f":"IF('PS-ConceptMap-1'!S64=0,\"//---END\",'PS-ConceptMap-1'!S64)","v":"* group[=].element[=].display = ##34#A.1.4.3 Nature of the PS##34#"}]
[null,{"$f":"IF('PS-ConceptMap-1'!S65=0,\"//---END\",'PS-ConceptMap-1'!S65)","v":"* group[=].element[=].target.code = #Composition.author"}]
[null,{"$f":"IF('PS-ConceptMap-1'!S66=0,\"//---END\",'PS-ConceptMap-1'!S66)","v":"* group[=].element[=].target.display = ##34###34#"}]
[null,{"$f":"IF('PS-ConceptMap-1'!S67=0,\"//---END\",'PS-ConceptMap-1'!S67)","v":"* group[=].element[=].target.equivalence = #relatedto"}]
[null,{"$f":"IF('PS-ConceptMap-1'!S68=0,\"//---END\",'PS-ConceptMap-1'!S68)","v":"* group[=].element[=].target.comment = ##34#the nature of a PS is determined as a comobination of type if author and legal authenticator. Future versions may cosndier to use Provenance data for this scope##34#"}]
[null,{"$f":"IF('PS-ConceptMap-1'!S69=0,\"//---END\",'PS-ConceptMap-1'!S69)","v":"* group[=].element[+].code = #PatientSummary.header.participant"}]
[null,{"$f":"IF('PS-ConceptMap-1'!S70=0,\"//---END\",'PS-ConceptMap-1'!S70)","v":"* group[=].element[=].display = ##34#A.1.5 Author and Organisation##34#"}]
[null,{"$f":"IF('PS-ConceptMap-1'!S71=0,\"//---END\",'PS-ConceptMap-1'!S71)","v":"* group[=].element[=].target.code = #Composition"}]
[null,{"$f":"IF('PS-ConceptMap-1'!S72=0,\"//---END\",'PS-ConceptMap-1'!S72)","v":"* group[=].element[=].target.display = ##34###34#"}]
[null,{"$f":"IF('PS-ConceptMap-1'!S73=0,\"//---END\",'PS-ConceptMap-1'!S73)","v":"* group[=].element[=].target.equivalence = #relatedto"}]
[null,{"$f":"IF('PS-ConceptMap-1'!S74=0,\"//---END\",'PS-ConceptMap-1'!S74)","v":""}]
[null,{"$f":"IF('PS-ConceptMap-1'!S75=0,\"//---END\",'PS-ConceptMap-1'!S75)","v":"* group[=].element[+].code = #PatientSummary.header.participant.author"}]
[null,{"$f":"IF('PS-ConceptMap-1'!S76=0,\"//---END\",'PS-ConceptMap-1'!S76)","v":"* group[=].element[=].display = ##34#A.1.5.1 Author organization##34#"}]
[null,{"$f":"IF('PS-ConceptMap-1'!S77=0,\"//---END\",'PS-ConceptMap-1'!S77)","v":"* group[=].element[=].target.code = #Composition.author"}]
[null,{"$f":"IF('PS-ConceptMap-1'!S78=0,\"//---END\",'PS-ConceptMap-1'!S78)","v":"* group[=].element[=].target.display = ##34###34#"}]
[null,{"$f":"IF('PS-ConceptMap-1'!S79=0,\"//---END\",'PS-ConceptMap-1'!S79)","v":"* group[=].element[=].target.equivalence = #equivalent"}]
[null,{"$f":"IF('PS-ConceptMap-1'!S80=0,\"//---END\",'PS-ConceptMap-1'!S80)","v":"* group[=].element[=].target.comment = ##34#author can be of type Organziation, Pracitctioner or PractictionerRole##34#"}]
[null,{"$f":"IF('PS-ConceptMap-1'!S81=0,\"//---END\",'PS-ConceptMap-1'!S81)","v":"* group[=].element[+].code = #PatientSummary.header.participant.legalAuth"}]
[null,{"$f":"IF('PS-ConceptMap-1'!S82=0,\"//---END\",'PS-ConceptMap-1'!S82)","v":"* group[=].element[=].display = ##34#A.1.5.2 Legal authenticator##34#"}]
[null,{"$f":"IF('PS-ConceptMap-1'!S83=0,\"//---END\",'PS-ConceptMap-1'!S83)","v":"* group[=].element[=].target.code = #Composition.attester"}]
[null,{"$f":"IF('PS-ConceptMap-1'!S84=0,\"//---END\",'PS-ConceptMap-1'!S84)","v":"* group[=].element[=].target.display = ##34###34#"}]
[null,{"$f":"IF('PS-ConceptMap-1'!S85=0,\"//---END\",'PS-ConceptMap-1'!S85)","v":"* group[=].element[=].target.equivalence = #relatedto"}]
[null,{"$f":"IF('PS-ConceptMap-1'!S86=0,\"//---END\",'PS-ConceptMap-1'!S86)","v":"* group[=].element[=].target.comment = ##34#attester.mode = 'legal'##34#"}]
[null,{"$f":"IF('PS-ConceptMap-1'!S87=0,\"//---END\",'PS-ConceptMap-1'!S87)","v":"* group[=].element[+].code = #PatientSummary.header.additionalInfo"}]
[null,{"$f":"IF('PS-ConceptMap-1'!S88=0,\"//---END\",'PS-ConceptMap-1'!S88)","v":"* group[=].element[=].display = ##34#A.1.6 Additional information / Knowledge resources##34#"}]
[null,{"$f":"IF('PS-ConceptMap-1'!S89=0,\"//---END\",'PS-ConceptMap-1'!S89)","v":"//-- unmatched"}]
[null,{"$f":"IF('PS-ConceptMap-1'!S90=0,\"//---END\",'PS-ConceptMap-1'!S90)","v":"//-- unmatched"}]
[null,{"$f":"IF('PS-ConceptMap-1'!S91=0,\"//---END\",'PS-ConceptMap-1'!S91)","v":"* group[=].element[=].target.equivalence = #unmatched"}]
[null,{"$f":"IF('PS-ConceptMap-1'!S92=0,\"//---END\",'PS-ConceptMap-1'!S92)","v":"* group[=].element[=].target.comment = ##34#Covered by other resources##34#"}]
[null,{"$f":"IF('PS-ConceptMap-1'!S93=0,\"//---END\",'PS-ConceptMap-1'!S93)","v":"* group[=].element[+].code = #PatientSummary.header.additionalInfo.reference"}]
[null,{"$f":"IF('PS-ConceptMap-1'!S94=0,\"//---END\",'PS-ConceptMap-1'!S94)","v":"* group[=].element[=].display = ##34#A.1.6.1 External reference##34#"}]
[null,{"$f":"IF('PS-ConceptMap-1'!S95=0,\"//---END\",'PS-ConceptMap-1'!S95)","v":"//-- unmatched"}]
[null,{"$f":"IF('PS-ConceptMap-1'!S96=0,\"//---END\",'PS-ConceptMap-1'!S96)","v":"//-- unmatched"}]
[null,{"$f":"IF('PS-ConceptMap-1'!S97=0,\"//---END\",'PS-ConceptMap-1'!S97)","v":"* group[=].element[=].target.equivalence = #unmatched"}]
[null,{"$f":"IF('PS-ConceptMap-1'!S98=0,\"//---END\",'PS-ConceptMap-1'!S98)","v":"* group[=].element[=].target.comment = ##34#Covered by other resources##34#"}]
[null,{"$f":"IF('PS-ConceptMap-1'!S99=0,\"//---END\",'PS-ConceptMap-1'!S99)","v":"* group[=].element[+].code = #PatientSummary.header.additionalInfo.relatedWith"}]
[null,{"$f":"IF('PS-ConceptMap-1'!S100=0,\"//---END\",'PS-ConceptMap-1'!S100)","v":"* group[=].element[=].display = ##34#A.1.6.2 Related with##34#"}]
[null,{"$f":"IF('PS-ConceptMap-1'!S101=0,\"//---END\",'PS-ConceptMap-1'!S101)","v":"//-- unmatched"}]
[null,{"$f":"IF('PS-ConceptMap-1'!S102=0,\"//---END\",'PS-ConceptMap-1'!S102)","v":"//-- unmatched"}]
[null,{"$f":"IF('PS-ConceptMap-1'!S103=0,\"//---END\",'PS-ConceptMap-1'!S103)","v":"* group[=].element[=].target.equivalence = #unmatched"}]
[null,{"$f":"IF('PS-ConceptMap-1'!S104=0,\"//---END\",'PS-ConceptMap-1'!S104)","v":"* group[=].element[=].target.comment = ##34#Covered by other resources##34#"}]
[null,{"$f":"IF('PS-ConceptMap-1'!S105=0,\"//---END\",'PS-ConceptMap-1'!S105)","v":"* group[=].element[+].code = #PatientSummary.body"}]
[null,{"$f":"IF('PS-ConceptMap-1'!S106=0,\"//---END\",'PS-ConceptMap-1'!S106)","v":"* group[=].element[=].display = ##34#A.2 Patient summary body data elements##34#"}]
[null,{"$f":"IF('PS-ConceptMap-1'!S107=0,\"//---END\",'PS-ConceptMap-1'!S107)","v":"* group[=].element[=].target.code = #Composition.section"}]
[null,{"$f":"IF('PS-ConceptMap-1'!S108=0,\"//---END\",'PS-ConceptMap-1'!S108)","v":"* group[=].element[=].target.display = ##34###34#"}]
[null,{"$f":"IF('PS-ConceptMap-1'!S109=0,\"//---END\",'PS-ConceptMap-1'!S109)","v":"* group[=].element[=].target.equivalence = #relatedto"}]
[null,{"$f":"IF('PS-ConceptMap-1'!S110=0,\"//---END\",'PS-ConceptMap-1'!S110)","v":""}]
[null,{"$f":"IF('PS-ConceptMap-1'!S111=0,\"//---END\",'PS-ConceptMap-1'!S111)","v":"* group[=].element[+].code = #PatientSummary.body.alerts"}]
[null,{"$f":"IF('PS-ConceptMap-1'!S112=0,\"//---END\",'PS-ConceptMap-1'!S112)","v":"* group[=].element[=].display = ##34#A.2.1 Alerts##34#"}]
[null,{"$f":"IF('PS-ConceptMap-1'!S113=0,\"//---END\",'PS-ConceptMap-1'!S113)","v":"* group[=].element[=].target.code = #Composition.section"}]
[null,{"$f":"IF('PS-ConceptMap-1'!S114=0,\"//---END\",'PS-ConceptMap-1'!S114)","v":"* group[=].element[=].target.display = ##34###34#"}]
[null,{"$f":"IF('PS-ConceptMap-1'!S115=0,\"//---END\",'PS-ConceptMap-1'!S115)","v":"* group[=].element[=].target.equivalence = #relatedto"}]
[null,{"$f":"IF('PS-ConceptMap-1'!S116=0,\"//---END\",'PS-ConceptMap-1'!S116)","v":""}]
[null,{"$f":"IF('PS-ConceptMap-1'!S117=0,\"//---END\",'PS-ConceptMap-1'!S117)","v":"* group[=].element[+].code = #PatientSummary.body.alerts.allergy"}]
[null,{"$f":"IF('PS-ConceptMap-1'!S118=0,\"//---END\",'PS-ConceptMap-1'!S118)","v":"* group[=].element[=].display = ##34#A.2.1.1 Allergy##34#"}]
[null,{"$f":"IF('PS-ConceptMap-1'!S119=0,\"//---END\",'PS-ConceptMap-1'!S119)","v":"* group[=].element[=].target.code = #Composition.section:sectionAllergies"}]
[null,{"$f":"IF('PS-ConceptMap-1'!S120=0,\"//---END\",'PS-ConceptMap-1'!S120)","v":"* group[=].element[=].target.display = ##34###34#"}]
[null,{"$f":"IF('PS-ConceptMap-1'!S121=0,\"//---END\",'PS-ConceptMap-1'!S121)","v":"* group[=].element[=].target.equivalence = #relatedto"}]
[null,{"$f":"IF('PS-ConceptMap-1'!S122=0,\"//---END\",'PS-ConceptMap-1'!S122)","v":""}]
[null,{"$f":"IF('PS-ConceptMap-1'!S123=0,\"//---END\",'PS-ConceptMap-1'!S123)","v":"* group[=].element[+].code = #PatientSummary.body.alerts.alert"}]
[null,{"$f":"IF('PS-ConceptMap-1'!S124=0,\"//---END\",'PS-ConceptMap-1'!S124)","v":"* group[=].element[=].display = ##34#A.2.1.2 Medical alert information (other alerts not included in allergies)##34#"}]
[null,{"$f":"IF('PS-ConceptMap-1'!S125=0,\"//---END\",'PS-ConceptMap-1'!S125)","v":"* group[=].element[=].target.code = #Composition.section:sectionAlert"}]
[null,{"$f":"IF('PS-ConceptMap-1'!S126=0,\"//---END\",'PS-ConceptMap-1'!S126)","v":"* group[=].element[=].target.display = ##34###34#"}]
[null,{"$f":"IF('PS-ConceptMap-1'!S127=0,\"//---END\",'PS-ConceptMap-1'!S127)","v":"* group[=].element[=].target.equivalence = #relatedto"}]
[null,{"$f":"IF('PS-ConceptMap-1'!S128=0,\"//---END\",'PS-ConceptMap-1'!S128)","v":""}]
[null,{"$f":"IF('PS-ConceptMap-1'!S129=0,\"//---END\",'PS-ConceptMap-1'!S129)","v":"* group[=].element[+].code = #PatientSummary.body.alerts.alert.description"}]
[null,{"$f":"IF('PS-ConceptMap-1'!S130=0,\"//---END\",'PS-ConceptMap-1'!S130)","v":"* group[=].element[=].display = ##34#A.2.1.2.1 Healthcare alert description##34#"}]
[null,{"$f":"IF('PS-ConceptMap-1'!S131=0,\"//---END\",'PS-ConceptMap-1'!S131)","v":"* group[=].element[=].target.code = #Composition.section:sectionAlert.text"}]
[null,{"$f":"IF('PS-ConceptMap-1'!S132=0,\"//---END\",'PS-ConceptMap-1'!S132)","v":"* group[=].element[=].target.display = ##34###34#"}]
[null,{"$f":"IF('PS-ConceptMap-1'!S133=0,\"//---END\",'PS-ConceptMap-1'!S133)","v":"* group[=].element[=].target.equivalence = #relatedto"}]
[null,{"$f":"IF('PS-ConceptMap-1'!S134=0,\"//---END\",'PS-ConceptMap-1'!S134)","v":"* group[=].element[=].target.comment = ##34#Common textual descirption##34#"}]
[null,{"$f":"IF('PS-ConceptMap-1'!S135=0,\"//---END\",'PS-ConceptMap-1'!S135)","v":"* group[=].element[+].code = #PatientSummary.body.alerts.alert.description"}]
[null,{"$f":"IF('PS-ConceptMap-1'!S136=0,\"//---END\",'PS-ConceptMap-1'!S136)","v":"* group[=].element[=].display = ##34#A.2.1.2.1 Healthcare alert description##34#"}]
[null,{"$f":"IF('PS-ConceptMap-1'!S137=0,\"//---END\",'PS-ConceptMap-1'!S137)","v":"* group[=].element[=].target.code = #Composition.section:sectionAlert.entry.code.text"}]
[null,{"$f":"IF('PS-ConceptMap-1'!S138=0,\"//---END\",'PS-ConceptMap-1'!S138)","v":"* group[=].element[=].target.display = ##34###34#"}]
[null,{"$f":"IF('PS-ConceptMap-1'!S139=0,\"//---END\",'PS-ConceptMap-1'!S139)","v":"* group[=].element[=].target.equivalence = #relatedto"}]
[null,{"$f":"IF('PS-ConceptMap-1'!S140=0,\"//---END\",'PS-ConceptMap-1'!S140)","v":"* group[=].element[=].target.comment = ##34#entry level description##34#"}]
[null,{"$f":"IF('PS-ConceptMap-1'!S141=0,\"//---END\",'PS-ConceptMap-1'!S141)","v":"* group[=].element[+].code = #PatientSummary.body.medicalHistory"}]
[null,{"$f":"IF('PS-ConceptMap-1'!S142=0,\"//---END\",'PS-ConceptMap-1'!S142)","v":"* group[=].element[=].display = ##34#A.2.2 Medical history##34#"}]
[null,{"$f":"IF('PS-ConceptMap-1'!S143=0,\"//---END\",'PS-ConceptMap-1'!S143)","v":"* group[=].element[=].target.code = #Composition.section"}]
[null,{"$f":"IF('PS-ConceptMap-1'!S144=0,\"//---END\",'PS-ConceptMap-1'!S144)","v":"* group[=].element[=].target.display = ##34###34#"}]
[null,{"$f":"IF('PS-ConceptMap-1'!S145=0,\"//---END\",'PS-ConceptMap-1'!S145)","v":"* group[=].element[=].target.equivalence = #relatedto"}]
[null,{"$f":"IF('PS-ConceptMap-1'!S146=0,\"//---END\",'PS-ConceptMap-1'!S146)","v":""}]
[null,{"$f":"IF('PS-ConceptMap-1'!S147=0,\"//---END\",'PS-ConceptMap-1'!S147)","v":"* group[=].element[+].code = #PatientSummary.body.medicalHistory.vaccination"}]
[null,{"$f":"IF('PS-ConceptMap-1'!S148=0,\"//---END\",'PS-ConceptMap-1'!S148)","v":"* group[=].element[=].display = ##34#A.2.2.1 Vaccination/ prophylaxis information##34#"}]
[null,{"$f":"IF('PS-ConceptMap-1'!S149=0,\"//---END\",'PS-ConceptMap-1'!S149)","v":"* group[=].element[=].target.code = #Composition.section:sectionImmunizations"}]
[null,{"$f":"IF('PS-ConceptMap-1'!S150=0,\"//---END\",'PS-ConceptMap-1'!S150)","v":"* group[=].element[=].target.display = ##34###34#"}]
[null,{"$f":"IF('PS-ConceptMap-1'!S151=0,\"//---END\",'PS-ConceptMap-1'!S151)","v":"* group[=].element[=].target.equivalence = #equivalent"}]
[null,{"$f":"IF('PS-ConceptMap-1'!S152=0,\"//---END\",'PS-ConceptMap-1'!S152)","v":""}]
[null,{"$f":"IF('PS-ConceptMap-1'!S153=0,\"//---END\",'PS-ConceptMap-1'!S153)","v":"* group[=].element[+].code = #PatientSummary.body.medicalHistory.inactiveProblem"}]
[null,{"$f":"IF('PS-ConceptMap-1'!S154=0,\"//---END\",'PS-ConceptMap-1'!S154)","v":"* group[=].element[=].display = ##34#A.2.2.2 Resolved, closed or inactive problems##34#"}]
[null,{"$f":"IF('PS-ConceptMap-1'!S155=0,\"//---END\",'PS-ConceptMap-1'!S155)","v":"* group[=].element[=].target.code = #Composition.section:sectionPastIllnessHx"}]
[null,{"$f":"IF('PS-ConceptMap-1'!S156=0,\"//---END\",'PS-ConceptMap-1'!S156)","v":"* group[=].element[=].target.display = ##34###34#"}]
[null,{"$f":"IF('PS-ConceptMap-1'!S157=0,\"//---END\",'PS-ConceptMap-1'!S157)","v":"* group[=].element[=].target.equivalence = #equivalent"}]
[null,{"$f":"IF('PS-ConceptMap-1'!S158=0,\"//---END\",'PS-ConceptMap-1'!S158)","v":""}]
[null,{"$f":"IF('PS-ConceptMap-1'!S159=0,\"//---END\",'PS-ConceptMap-1'!S159)","v":"* group[=].element[+].code = #PatientSummary.body.medicalHistory.anamnesis"}]
[null,{"$f":"IF('PS-ConceptMap-1'!S160=0,\"//---END\",'PS-ConceptMap-1'!S160)","v":"* group[=].element[=].display = ##34#A.2.2.3 Medical history##34#"}]
[null,{"$f":"IF('PS-ConceptMap-1'!S161=0,\"//---END\",'PS-ConceptMap-1'!S161)","v":"* group[=].element[=].target.code = #Composition.section"}]
[null,{"$f":"IF('PS-ConceptMap-1'!S162=0,\"//---END\",'PS-ConceptMap-1'!S162)","v":"* group[=].element[=].target.display = ##34###34#"}]
[null,{"$f":"IF('PS-ConceptMap-1'!S163=0,\"//---END\",'PS-ConceptMap-1'!S163)","v":"* group[=].element[=].target.equivalence = #relatedto"}]
[null,{"$f":"IF('PS-ConceptMap-1'!S164=0,\"//---END\",'PS-ConceptMap-1'!S164)","v":""}]
[null,{"$f":"IF('PS-ConceptMap-1'!S165=0,\"//---END\",'PS-ConceptMap-1'!S165)","v":"* group[=].element[+].code = #PatientSummary.body.medicalHistory.anamnesis.details"}]
[null,{"$f":"IF('PS-ConceptMap-1'!S166=0,\"//---END\",'PS-ConceptMap-1'!S166)","v":"* group[=].element[=].display = ##34#A.2.2.3.1 Medical history##34#"}]
[null,{"$f":"IF('PS-ConceptMap-1'!S167=0,\"//---END\",'PS-ConceptMap-1'!S167)","v":"* group[=].element[=].target.code = #Composition.section:section:sectionPatientHx"}]
[null,{"$f":"IF('PS-ConceptMap-1'!S168=0,\"//---END\",'PS-ConceptMap-1'!S168)","v":"* group[=].element[=].target.display = ##34###34#"}]
[null,{"$f":"IF('PS-ConceptMap-1'!S169=0,\"//---END\",'PS-ConceptMap-1'!S169)","v":"* group[=].element[=].target.equivalence = #relatedto"}]
[null,{"$f":"IF('PS-ConceptMap-1'!S170=0,\"//---END\",'PS-ConceptMap-1'!S170)","v":""}]
[null,{"$f":"IF('PS-ConceptMap-1'!S171=0,\"//---END\",'PS-ConceptMap-1'!S171)","v":"* group[=].element[+].code = #PatientSummary.body.medicalProblems"}]
[null,{"$f":"IF('PS-ConceptMap-1'!S172=0,\"//---END\",'PS-ConceptMap-1'!S172)","v":"* group[=].element[=].display = ##34#A.2.3 Medical problems##34#"}]
[null,{"$f":"IF('PS-ConceptMap-1'!S173=0,\"//---END\",'PS-ConceptMap-1'!S173)","v":"* group[=].element[=].target.code = #Composition.section"}]
[null,{"$f":"IF('PS-ConceptMap-1'!S174=0,\"//---END\",'PS-ConceptMap-1'!S174)","v":"* group[=].element[=].target.display = ##34###34#"}]
[null,{"$f":"IF('PS-ConceptMap-1'!S175=0,\"//---END\",'PS-ConceptMap-1'!S175)","v":"* group[=].element[=].target.equivalence = #relatedto"}]
[null,{"$f":"IF('PS-ConceptMap-1'!S176=0,\"//---END\",'PS-ConceptMap-1'!S176)","v":""}]
[null,{"$f":"IF('PS-ConceptMap-1'!S177=0,\"//---END\",'PS-ConceptMap-1'!S177)","v":"* group[=].element[+].code = #PatientSummary.body.medicalProblems.problems"}]
[null,{"$f":"IF('PS-ConceptMap-1'!S178=0,\"//---END\",'PS-ConceptMap-1'!S178)","v":"* group[=].element[=].display = ##34#A.2.3.1 Current problems##34#"}]
[null,{"$f":"IF('PS-ConceptMap-1'!S179=0,\"//---END\",'PS-ConceptMap-1'!S179)","v":"* group[=].element[=].target.code = #Composition.section:section:sectionProblems"}]
[null,{"$f":"IF('PS-ConceptMap-1'!S180=0,\"//---END\",'PS-ConceptMap-1'!S180)","v":"* group[=].element[=].target.display = ##34###34#"}]
[null,{"$f":"IF('PS-ConceptMap-1'!S181=0,\"//---END\",'PS-ConceptMap-1'!S181)","v":"* group[=].element[=].target.equivalence = #equivalent"}]
[null,{"$f":"IF('PS-ConceptMap-1'!S182=0,\"//---END\",'PS-ConceptMap-1'!S182)","v":""}]
[null,{"$f":"IF('PS-ConceptMap-1'!S183=0,\"//---END\",'PS-ConceptMap-1'!S183)","v":"* group[=].element[+].code = #PatientSummary.body.medicalProblems.medicalDevices"}]
[null,{"$f":"IF('PS-ConceptMap-1'!S184=0,\"//---END\",'PS-ConceptMap-1'!S184)","v":"* group[=].element[=].display = ##34#A.2.3.2 Medical devices and implants##34#"}]
[null,{"$f":"IF('PS-ConceptMap-1'!S185=0,\"//---END\",'PS-ConceptMap-1'!S185)","v":"* group[=].element[=].target.code = #Composition.section:sectionMedicalDevices"}]
[null,{"$f":"IF('PS-ConceptMap-1'!S186=0,\"//---END\",'PS-ConceptMap-1'!S186)","v":"* group[=].element[=].target.display = ##34###34#"}]
[null,{"$f":"IF('PS-ConceptMap-1'!S187=0,\"//---END\",'PS-ConceptMap-1'!S187)","v":"* group[=].element[=].target.equivalence = #equivalent"}]
[null,{"$f":"IF('PS-ConceptMap-1'!S188=0,\"//---END\",'PS-ConceptMap-1'!S188)","v":""}]
[null,{"$f":"IF('PS-ConceptMap-1'!S189=0,\"//---END\",'PS-ConceptMap-1'!S189)","v":"* group[=].element[+].code = #PatientSummary.body.medicalProblems.procedures"}]
[null,{"$f":"IF('PS-ConceptMap-1'!S190=0,\"//---END\",'PS-ConceptMap-1'!S190)","v":"* group[=].element[=].display = ##34#A.2.3.3 Procedures##34#"}]
[null,{"$f":"IF('PS-ConceptMap-1'!S191=0,\"//---END\",'PS-ConceptMap-1'!S191)","v":"* group[=].element[=].target.code = #Composition.section:sectionProceduresHx"}]
[null,{"$f":"IF('PS-ConceptMap-1'!S192=0,\"//---END\",'PS-ConceptMap-1'!S192)","v":"* group[=].element[=].target.display = ##34###34#"}]
[null,{"$f":"IF('PS-ConceptMap-1'!S193=0,\"//---END\",'PS-ConceptMap-1'!S193)","v":"* group[=].element[=].target.equivalence = #equivalent"}]
[null,{"$f":"IF('PS-ConceptMap-1'!S194=0,\"//---END\",'PS-ConceptMap-1'!S194)","v":""}]
[null,{"$f":"IF('PS-ConceptMap-1'!S195=0,\"//---END\",'PS-ConceptMap-1'!S195)","v":"* group[=].element[+].code = #PatientSummary.body.medicalProblems.functionalStatus"}]
[null,{"$f":"IF('PS-ConceptMap-1'!S196=0,\"//---END\",'PS-ConceptMap-1'!S196)","v":"* group[=].element[=].display = ##34#A.2.3.4 Functional status##34#"}]
[null,{"$f":"IF('PS-ConceptMap-1'!S197=0,\"//---END\",'PS-ConceptMap-1'!S197)","v":"* group[=].element[=].target.code = #Composition.section:sectionFunctionalStatus"}]
[null,{"$f":"IF('PS-ConceptMap-1'!S198=0,\"//---END\",'PS-ConceptMap-1'!S198)","v":"* group[=].element[=].target.display = ##34###34#"}]
[null,{"$f":"IF('PS-ConceptMap-1'!S199=0,\"//---END\",'PS-ConceptMap-1'!S199)","v":"* group[=].element[=].target.equivalence = #equivalent"}]
[null,{"$f":"IF('PS-ConceptMap-1'!S200=0,\"//---END\",'PS-ConceptMap-1'!S200)","v":""}]
[null,{"$f":"IF('PS-ConceptMap-1'!S201=0,\"//---END\",'PS-ConceptMap-1'!S201)","v":"* group[=].element[+].code = #PatientSummary.body.medicationSummary"}]
[null,{"$f":"IF('PS-ConceptMap-1'!S202=0,\"//---END\",'PS-ConceptMap-1'!S202)","v":"* group[=].element[=].display = ##34#A.2.4 Medication summary##34#"}]
[null,{"$f":"IF('PS-ConceptMap-1'!S203=0,\"//---END\",'PS-ConceptMap-1'!S203)","v":"* group[=].element[=].target.code = #Composition.section:sectionMedications"}]
[null,{"$f":"IF('PS-ConceptMap-1'!S204=0,\"//---END\",'PS-ConceptMap-1'!S204)","v":"* group[=].element[=].target.display = ##34###34#"}]
[null,{"$f":"IF('PS-ConceptMap-1'!S205=0,\"//---END\",'PS-ConceptMap-1'!S205)","v":"* group[=].element[=].target.equivalence = #equivalent"}]
[null,{"$f":"IF('PS-ConceptMap-1'!S206=0,\"//---END\",'PS-ConceptMap-1'!S206)","v":""}]
[null,{"$f":"IF('PS-ConceptMap-1'!S207=0,\"//---END\",'PS-ConceptMap-1'!S207)","v":"* group[=].element[+].code = #PatientSummary.body.medicationSummary.medication"}]
[null,{"$f":"IF('PS-ConceptMap-1'!S208=0,\"//---END\",'PS-ConceptMap-1'!S208)","v":"* group[=].element[=].display = ##34#A.2.4.1 Current and relevant past medicines##34#"}]
[null,{"$f":"IF('PS-ConceptMap-1'!S209=0,\"//---END\",'PS-ConceptMap-1'!S209)","v":"* group[=].element[=].target.code = #Composition.section:sectionMedications.entry"}]
[null,{"$f":"IF('PS-ConceptMap-1'!S210=0,\"//---END\",'PS-ConceptMap-1'!S210)","v":"* group[=].element[=].target.display = ##34###34#"}]
[null,{"$f":"IF('PS-ConceptMap-1'!S211=0,\"//---END\",'PS-ConceptMap-1'!S211)","v":"* group[=].element[=].target.equivalence = #equivalent"}]
[null,{"$f":"IF('PS-ConceptMap-1'!S212=0,\"//---END\",'PS-ConceptMap-1'!S212)","v":""}]
[null,{"$f":"IF('PS-ConceptMap-1'!S213=0,\"//---END\",'PS-ConceptMap-1'!S213)","v":"* group[=].element[+].code = #PatientSummary.body.socialHistory"}]
[null,{"$f":"IF('PS-ConceptMap-1'!S214=0,\"//---END\",'PS-ConceptMap-1'!S214)","v":"* group[=].element[=].display = ##34#A.2.5 Social history##34#"}]
[null,{"$f":"IF('PS-ConceptMap-1'!S215=0,\"//---END\",'PS-ConceptMap-1'!S215)","v":"* group[=].element[=].target.code = #Composition.section:sectionSocialHistory"}]
[null,{"$f":"IF('PS-ConceptMap-1'!S216=0,\"//---END\",'PS-ConceptMap-1'!S216)","v":"* group[=].element[=].target.display = ##34###34#"}]
[null,{"$f":"IF('PS-ConceptMap-1'!S217=0,\"//---END\",'PS-ConceptMap-1'!S217)","v":"* group[=].element[=].target.equivalence = #equivalent"}]
[null,{"$f":"IF('PS-ConceptMap-1'!S218=0,\"//---END\",'PS-ConceptMap-1'!S218)","v":""}]
[null,{"$f":"IF('PS-ConceptMap-1'!S219=0,\"//---END\",'PS-ConceptMap-1'!S219)","v":"* group[=].element[+].code = #PatientSummary.body.socialHistory.observation"}]
[null,{"$f":"IF('PS-ConceptMap-1'!S220=0,\"//---END\",'PS-ConceptMap-1'!S220)","v":"* group[=].element[=].display = ##34#A.2.5.1 Social history observations related to health##34#"}]
[null,{"$f":"IF('PS-ConceptMap-1'!S221=0,\"//---END\",'PS-ConceptMap-1'!S221)","v":"* group[=].element[=].target.code = #Composition.section:sectionSocialHistory.entry"}]
[null,{"$f":"IF('PS-ConceptMap-1'!S222=0,\"//---END\",'PS-ConceptMap-1'!S222)","v":"* group[=].element[=].target.display = ##34###34#"}]
[null,{"$f":"IF('PS-ConceptMap-1'!S223=0,\"//---END\",'PS-ConceptMap-1'!S223)","v":"* group[=].element[=].target.equivalence = #equivalent"}]
[null,{"$f":"IF('PS-ConceptMap-1'!S224=0,\"//---END\",'PS-ConceptMap-1'!S224)","v":""}]
[null,{"$f":"IF('PS-ConceptMap-1'!S225=0,\"//---END\",'PS-ConceptMap-1'!S225)","v":"* group[=].element[+].code = #PatientSummary.body.socialHistory.referenceRange"}]
[null,{"$f":"IF('PS-ConceptMap-1'!S226=0,\"//---END\",'PS-ConceptMap-1'!S226)","v":"* group[=].element[=].display = ##34#A.2.5.2 Reference date range##34#"}]
[null,{"$f":"IF('PS-ConceptMap-1'!S227=0,\"//---END\",'PS-ConceptMap-1'!S227)","v":"* group[=].element[=].target.code = #Composition.section:sectionSocialHistory.entry.effective[x]"}]
[null,{"$f":"IF('PS-ConceptMap-1'!S228=0,\"//---END\",'PS-ConceptMap-1'!S228)","v":"* group[=].element[=].target.display = ##34###34#"}]
[null,{"$f":"IF('PS-ConceptMap-1'!S229=0,\"//---END\",'PS-ConceptMap-1'!S229)","v":"* group[=].element[=].target.equivalence = #equivalent"}]
[null,{"$f":"IF('PS-ConceptMap-1'!S230=0,\"//---END\",'PS-ConceptMap-1'!S230)","v":""}]
[null,{"$f":"IF('PS-ConceptMap-1'!S231=0,\"//---END\",'PS-ConceptMap-1'!S231)","v":"* group[=].element[+].code = #PatientSummary.body.pregnancyHistory"}]
[null,{"$f":"IF('PS-ConceptMap-1'!S232=0,\"//---END\",'PS-ConceptMap-1'!S232)","v":"* group[=].element[=].display = ##34#A.2.6 Pregnancy history##34#"}]
[null,{"$f":"IF('PS-ConceptMap-1'!S233=0,\"//---END\",'PS-ConceptMap-1'!S233)","v":"* group[=].element[=].target.code = #Composition.section:sectionPregnancyHx"}]
[null,{"$f":"IF('PS-ConceptMap-1'!S234=0,\"//---END\",'PS-ConceptMap-1'!S234)","v":"* group[=].element[=].target.display = ##34###34#"}]
[null,{"$f":"IF('PS-ConceptMap-1'!S235=0,\"//---END\",'PS-ConceptMap-1'!S235)","v":"* group[=].element[=].target.equivalence = #equivalent"}]
[null,{"$f":"IF('PS-ConceptMap-1'!S236=0,\"//---END\",'PS-ConceptMap-1'!S236)","v":""}]
[null,{"$f":"IF('PS-ConceptMap-1'!S237=0,\"//---END\",'PS-ConceptMap-1'!S237)","v":"* group[=].element[+].code = #PatientSummary.body.patientData"}]
[null,{"$f":"IF('PS-ConceptMap-1'!S238=0,\"//---END\",'PS-ConceptMap-1'!S238)","v":"* group[=].element[=].display = ##34#A.2.7 Patient provided data##34#"}]
[null,{"$f":"IF('PS-ConceptMap-1'!S239=0,\"//---END\",'PS-ConceptMap-1'!S239)","v":"* group[=].element[=].target.code = #Composition.section"}]
[null,{"$f":"IF('PS-ConceptMap-1'!S240=0,\"//---END\",'PS-ConceptMap-1'!S240)","v":"* group[=].element[=].target.display = ##34###34#"}]
[null,{"$f":"IF('PS-ConceptMap-1'!S241=0,\"//---END\",'PS-ConceptMap-1'!S241)","v":"* group[=].element[=].target.equivalence = #relatedto"}]
[null,{"$f":"IF('PS-ConceptMap-1'!S242=0,\"//---END\",'PS-ConceptMap-1'!S242)","v":""}]
[null,{"$f":"IF('PS-ConceptMap-1'!S243=0,\"//---END\",'PS-ConceptMap-1'!S243)","v":"* group[=].element[+].code = #PatientSummary.body.patientData.travelHistory"}]
[null,{"$f":"IF('PS-ConceptMap-1'!S244=0,\"//---END\",'PS-ConceptMap-1'!S244)","v":"* group[=].element[=].display = ##34#A.2.7.1 Travel history##34#"}]
[null,{"$f":"IF('PS-ConceptMap-1'!S245=0,\"//---END\",'PS-ConceptMap-1'!S245)","v":"* group[=].element[=].target.code = #Composition.section:sectionTravelHx"}]
[null,{"$f":"IF('PS-ConceptMap-1'!S246=0,\"//---END\",'PS-ConceptMap-1'!S246)","v":"* group[=].element[=].target.display = ##34###34#"}]
[null,{"$f":"IF('PS-ConceptMap-1'!S247=0,\"//---END\",'PS-ConceptMap-1'!S247)","v":"* group[=].element[=].target.equivalence = #relatedto"}]
[null,{"$f":"IF('PS-ConceptMap-1'!S248=0,\"//---END\",'PS-ConceptMap-1'!S248)","v":""}]
[null,{"$f":"IF('PS-ConceptMap-1'!S249=0,\"//---END\",'PS-ConceptMap-1'!S249)","v":"* group[=].element[+].code = #PatientSummary.body.patientData.travelHistory.country"}]
[null,{"$f":"IF('PS-ConceptMap-1'!S250=0,\"//---END\",'PS-ConceptMap-1'!S250)","v":"* group[=].element[=].display = ##34#A.2.7.1.1 Country##34#"}]
[null,{"$f":"IF('PS-ConceptMap-1'!S251=0,\"//---END\",'PS-ConceptMap-1'!S251)","v":"* group[=].element[=].target.code = #Composition.section:sectionTravelHx.text"}]
[null,{"$f":"IF('PS-ConceptMap-1'!S252=0,\"//---END\",'PS-ConceptMap-1'!S252)","v":"* group[=].element[=].target.display = ##34###34#"}]
[null,{"$f":"IF('PS-ConceptMap-1'!S253=0,\"//---END\",'PS-ConceptMap-1'!S253)","v":"* group[=].element[=].target.equivalence = #relatedto"}]
[null,{"$f":"IF('PS-ConceptMap-1'!S254=0,\"//---END\",'PS-ConceptMap-1'!S254)","v":"* group[=].element[=].target.comment = ##34#if textual description##34#"}]
[null,{"$f":"IF('PS-ConceptMap-1'!S255=0,\"//---END\",'PS-ConceptMap-1'!S255)","v":"* group[=].element[+].code = #PatientSummary.body.patientData.travelHistory.period"}]
[null,{"$f":"IF('PS-ConceptMap-1'!S256=0,\"//---END\",'PS-ConceptMap-1'!S256)","v":"* group[=].element[=].display = ##34#A.2.7.1.2 Period##34#"}]
[null,{"$f":"IF('PS-ConceptMap-1'!S257=0,\"//---END\",'PS-ConceptMap-1'!S257)","v":"* group[=].element[=].target.code = #Composition.section:sectionTravelHx.text"}]
[null,{"$f":"IF('PS-ConceptMap-1'!S258=0,\"//---END\",'PS-ConceptMap-1'!S258)","v":"* group[=].element[=].target.display = ##34###34#"}]
[null,{"$f":"IF('PS-ConceptMap-1'!S259=0,\"//---END\",'PS-ConceptMap-1'!S259)","v":"* group[=].element[=].target.equivalence = #relatedto"}]
[null,{"$f":"IF('PS-ConceptMap-1'!S260=0,\"//---END\",'PS-ConceptMap-1'!S260)","v":"* group[=].element[=].target.comment = ##34#if textual description##34#"}]
[null,{"$f":"IF('PS-ConceptMap-1'!S261=0,\"//---END\",'PS-ConceptMap-1'!S261)","v":"* group[=].element[+].code = #PatientSummary.body.patientData.travelHistory.country"}]
[null,{"$f":"IF('PS-ConceptMap-1'!S262=0,\"//---END\",'PS-ConceptMap-1'!S262)","v":"* group[=].element[=].display = ##34#A.2.7.1.1 Country##34#"}]
[null,{"$f":"IF('PS-ConceptMap-1'!S263=0,\"//---END\",'PS-ConceptMap-1'!S263)","v":"* group[=].element[=].target.code = #Composition.section:sectionTravelHx.entry.valueCodeableConcept"}]
[null,{"$f":"IF('PS-ConceptMap-1'!S264=0,\"//---END\",'PS-ConceptMap-1'!S264)","v":"* group[=].element[=].target.display = ##34###34#"}]
[null,{"$f":"IF('PS-ConceptMap-1'!S265=0,\"//---END\",'PS-ConceptMap-1'!S265)","v":"* group[=].element[=].target.equivalence = #relatedto"}]
[null,{"$f":"IF('PS-ConceptMap-1'!S266=0,\"//---END\",'PS-ConceptMap-1'!S266)","v":"* group[=].element[=].target.comment = ##34#entry of type Observation and Obseravtion.code = http://loinc.org#94651-7 'Country of travel [Location]'\nTBD##34#"}]
[null,{"$f":"IF('PS-ConceptMap-1'!S267=0,\"//---END\",'PS-ConceptMap-1'!S267)","v":"* group[=].element[+].code = #PatientSummary.body.patientData.travelHistory.period"}]
[null,{"$f":"IF('PS-ConceptMap-1'!S268=0,\"//---END\",'PS-ConceptMap-1'!S268)","v":"* group[=].element[=].display = ##34#A.2.7.1.2 Period##34#"}]
[null,{"$f":"IF('PS-ConceptMap-1'!S269=0,\"//---END\",'PS-ConceptMap-1'!S269)","v":"* group[=].element[=].target.code = #Composition.section:sectionTravelHx.entry.effectivePeriod"}]
[null,{"$f":"IF('PS-ConceptMap-1'!S270=0,\"//---END\",'PS-ConceptMap-1'!S270)","v":"* group[=].element[=].target.display = ##34###34#"}]
[null,{"$f":"IF('PS-ConceptMap-1'!S271=0,\"//---END\",'PS-ConceptMap-1'!S271)","v":"* group[=].element[=].target.equivalence = #relatedto"}]
[null,{"$f":"IF('PS-ConceptMap-1'!S272=0,\"//---END\",'PS-ConceptMap-1'!S272)","v":"* group[=].element[=].target.comment = ##34#OBSERVATION PROFILE TO BE SPECIFIED##34#"}]
[null,{"$f":"IF('PS-ConceptMap-1'!S273=0,\"//---END\",'PS-ConceptMap-1'!S273)","v":"* group[=].element[+].code = #PatientSummary.body.patientData.advanceDirective"}]
[null,{"$f":"IF('PS-ConceptMap-1'!S274=0,\"//---END\",'PS-ConceptMap-1'!S274)","v":"* group[=].element[=].display = ##34#A.2.7.2 Advance Directive##34#"}]
[null,{"$f":"IF('PS-ConceptMap-1'!S275=0,\"//---END\",'PS-ConceptMap-1'!S275)","v":"* group[=].element[=].target.code = #Composition.section:sectionAdvanceDirectives"}]
[null,{"$f":"IF('PS-ConceptMap-1'!S276=0,\"//---END\",'PS-ConceptMap-1'!S276)","v":"* group[=].element[=].target.display = ##34###34#"}]
[null,{"$f":"IF('PS-ConceptMap-1'!S277=0,\"//---END\",'PS-ConceptMap-1'!S277)","v":"* group[=].element[=].target.equivalence = #equivalent"}]
[null,{"$f":"IF('PS-ConceptMap-1'!S278=0,\"//---END\",'PS-ConceptMap-1'!S278)","v":""}]
[null,{"$f":"IF('PS-ConceptMap-1'!S279=0,\"//---END\",'PS-ConceptMap-1'!S279)","v":"* group[=].element[+].code = #PatientSummary.body.patientData.advanceDirective.documentation"}]
[null,{"$f":"IF('PS-ConceptMap-1'!S280=0,\"//---END\",'PS-ConceptMap-1'!S280)","v":"* group[=].element[=].display = ##34#A.2.7.2.1 Documentation##34#"}]
[null,{"$f":"IF('PS-ConceptMap-1'!S281=0,\"//---END\",'PS-ConceptMap-1'!S281)","v":"* group[=].element[=].target.code = #Composition.section:sectionAdvanceDirectives"}]
[null,{"$f":"IF('PS-ConceptMap-1'!S282=0,\"//---END\",'PS-ConceptMap-1'!S282)","v":"* group[=].element[=].target.display = ##34###34#"}]
[null,{"$f":"IF('PS-ConceptMap-1'!S283=0,\"//---END\",'PS-ConceptMap-1'!S283)","v":"* group[=].element[=].target.equivalence = #relatedto"}]
[null,{"$f":"IF('PS-ConceptMap-1'!S284=0,\"//---END\",'PS-ConceptMap-1'!S284)","v":"* group[=].element[=].target.comment = ##34#to be reviewed##34#"}]
[null,{"$f":"IF('PS-ConceptMap-1'!S285=0,\"//---END\",'PS-ConceptMap-1'!S285)","v":"* group[=].element[+].code = #PatientSummary.body.results"}]
[null,{"$f":"IF('PS-ConceptMap-1'!S286=0,\"//---END\",'PS-ConceptMap-1'!S286)","v":"* group[=].element[=].display = ##34#A.2.8 Results##34#"}]
[null,{"$f":"IF('PS-ConceptMap-1'!S287=0,\"//---END\",'PS-ConceptMap-1'!S287)","v":"* group[=].element[=].target.code = #Composition.section:sectionResults"}]
[null,{"$f":"IF('PS-ConceptMap-1'!S288=0,\"//---END\",'PS-ConceptMap-1'!S288)","v":"* group[=].element[=].target.display = ##34###34#"}]
[null,{"$f":"IF('PS-ConceptMap-1'!S289=0,\"//---END\",'PS-ConceptMap-1'!S289)","v":"* group[=].element[=].target.equivalence = #equivalent"}]
[null,{"$f":"IF('PS-ConceptMap-1'!S290=0,\"//---END\",'PS-ConceptMap-1'!S290)","v":""}]
[null,{"$f":"IF('PS-ConceptMap-1'!S291=0,\"//---END\",'PS-ConceptMap-1'!S291)","v":"* group[=].element[+].code = #PatientSummary.body.planOfCare"}]
[null,{"$f":"IF('PS-ConceptMap-1'!S292=0,\"//---END\",'PS-ConceptMap-1'!S292)","v":"* group[=].element[=].display = ##34#A.2.9 Plan of Care##34#"}]
[null,{"$f":"IF('PS-ConceptMap-1'!S293=0,\"//---END\",'PS-ConceptMap-1'!S293)","v":"* group[=].element[=].target.code = #Composition.section:sectionPlanOfCare"}]
[null,{"$f":"IF('PS-ConceptMap-1'!S294=0,\"//---END\",'PS-ConceptMap-1'!S294)","v":"* group[=].element[=].target.display = ##34###34#"}]
[null,{"$f":"IF('PS-ConceptMap-1'!S295=0,\"//---END\",'PS-ConceptMap-1'!S295)","v":"* group[=].element[=].target.equivalence = #equivalent"}]
[null,{"$f":"IF('PS-ConceptMap-1'!S296=0,\"//---END\",'PS-ConceptMap-1'!S296)","v":""}]
[null,{"$f":"IF('PS-ConceptMap-1'!S297=0,\"//---END\",'PS-ConceptMap-1'!S297)","v":"* group[=].element[+].code = #PatientSummary.body.planOfCare.carePlan"}]
[null,{"$f":"IF('PS-ConceptMap-1'!S298=0,\"//---END\",'PS-ConceptMap-1'!S298)","v":"* group[=].element[=].display = ##34#A.2.9.1 Plan of care##34#"}]
[null,{"$f":"IF('PS-ConceptMap-1'!S299=0,\"//---END\",'PS-ConceptMap-1'!S299)","v":"* group[=].element[=].target.code = #Composition.section:sectionPlanOfCare.text"}]
[null,{"$f":"IF('PS-ConceptMap-1'!S300=0,\"//---END\",'PS-ConceptMap-1'!S300)","v":"* group[=].element[=].target.display = ##34###34#"}]
[null,{"$f":"IF('PS-ConceptMap-1'!S301=0,\"//---END\",'PS-ConceptMap-1'!S301)","v":"* group[=].element[=].target.equivalence = #equivalent"}]
[null,{"$f":"IF('PS-ConceptMap-1'!S302=0,\"//---END\",'PS-ConceptMap-1'!S302)","v":""}]
[null,{"$f":"IF('PS-ConceptMap-1'!S303=0,\"//---END\",'PS-ConceptMap-1'!S303)","v":"//---END"}]
[null,{"$f":"IF('PS-ConceptMap-1'!S304=0,\"//---END\",'PS-ConceptMap-1'!S304)","v":"//---END"}]
[null,{"$f":"IF('PS-ConceptMap-1'!S305=0,\"//---END\",'PS-ConceptMap-1'!S305)","v":"//---END"}]
[]
[]
[null,{"$f":"\"* group[+].source = ##34#\"&'PS-ConceptMap-2'!E6&\"##34#\"","v":"* group[+].source = ##34#http://hl7.eu/fhir/ig/xpandh/ps/StructureDefinition/PatientSummary##34#"}]
[null,{"$f":"\"* group[=].target = ##34#\"&'PS-ConceptMap-2'!E7&\"##34#\"","v":"* group[=].target = ##34#http://hl7.eu/fhir/ig/xpandh/ps/StructureDefinition/Condition-ps-xpandh##34#"}]
[]
[null,{"$f":"IF('PS-ConceptMap-2'!S15=0,\"//---END\",'PS-ConceptMap-2'!S15)","v":"* group[=].element[+].code = #PatientSummary.header.additionalInfo"}]
[null,{"$f":"IF('PS-ConceptMap-2'!S16=0,\"//---END\",'PS-ConceptMap-2'!S16)","v":"* group[=].element[=].display = ##34#A.1.6 Additional information / Knowledge resources##34#"}]
[null,{"$f":"IF('PS-ConceptMap-2'!S17=0,\"//---END\",'PS-ConceptMap-2'!S17)","v":"* group[=].element[=].target.code = #Condition.extension:supporintInfo"}]
[null,{"$f":"IF('PS-ConceptMap-2'!S18=0,\"//---END\",'PS-ConceptMap-2'!S18)","v":"* group[=].element[=].target.display = ##34###34#"}]
[null,{"$f":"IF('PS-ConceptMap-2'!S19=0,\"//---END\",'PS-ConceptMap-2'!S19)","v":"* group[=].element[=].target.equivalence = #relatedto"}]
[null,{"$f":"IF('PS-ConceptMap-2'!S20=0,\"//---END\",'PS-ConceptMap-2'!S20)","v":""}]
[null,{"$f":"IF('PS-ConceptMap-2'!S21=0,\"//---END\",'PS-ConceptMap-2'!S21)","v":"* group[=].element[+].code = #PatientSummary.header.additionalInfo.reference"}]
[null,{"$f":"IF('PS-ConceptMap-2'!S22=0,\"//---END\",'PS-ConceptMap-2'!S22)","v":"* group[=].element[=].display = ##34#A.1.6.1 External reference##34#"}]
[null,{"$f":"IF('PS-ConceptMap-2'!S23=0,\"//---END\",'PS-ConceptMap-2'!S23)","v":"* group[=].element[=].target.code = #Condition.extension:supporintInfo"}]
[null,{"$f":"IF('PS-ConceptMap-2'!S24=0,\"//---END\",'PS-ConceptMap-2'!S24)","v":"* group[=].element[=].target.display = ##34###34#"}]
[null,{"$f":"IF('PS-ConceptMap-2'!S25=0,\"//---END\",'PS-ConceptMap-2'!S25)","v":"* group[=].element[=].target.equivalence = #relatedto"}]
[null,{"$f":"IF('PS-ConceptMap-2'!S26=0,\"//---END\",'PS-ConceptMap-2'!S26)","v":"* group[=].element[=].target.comment = ##34#extension[supporintInfo].resolve().ofType(DocumentReference)##34#"}]
[null,{"$f":"IF('PS-ConceptMap-2'!S27=0,\"//---END\",'PS-ConceptMap-2'!S27)","v":"* group[=].element[+].code = #PatientSummary.header.additionalInfo.relatedWith"}]
[null,{"$f":"IF('PS-ConceptMap-2'!S28=0,\"//---END\",'PS-ConceptMap-2'!S28)","v":"* group[=].element[=].display = ##34#A.1.6.2 Related with##34#"}]
[null,{"$f":"IF('PS-ConceptMap-2'!S29=0,\"//---END\",'PS-ConceptMap-2'!S29)","v":"* group[=].element[=].target.code = #Condition"}]
[null,{"$f":"IF('PS-ConceptMap-2'!S30=0,\"//---END\",'PS-ConceptMap-2'!S30)","v":"* group[=].element[=].target.display = ##34###34#"}]
[null,{"$f":"IF('PS-ConceptMap-2'!S31=0,\"//---END\",'PS-ConceptMap-2'!S31)","v":"* group[=].element[=].target.equivalence = #relatedto"}]
[null,{"$f":"IF('PS-ConceptMap-2'!S32=0,\"//---END\",'PS-ConceptMap-2'!S32)","v":"* group[=].element[=].target.comment = ##34#the containing resource describes the context in this case the Condition##34#"}]
[null,{"$f":"IF('PS-ConceptMap-2'!S33=0,\"//---END\",'PS-ConceptMap-2'!S33)","v":"//---END"}]
[null,{"$f":"IF('PS-ConceptMap-2'!S34=0,\"//---END\",'PS-ConceptMap-2'!S34)","v":"//---END"}]
[null,{"$f":"IF('PS-ConceptMap-2'!S35=0,\"//---END\",'PS-ConceptMap-2'!S35)","v":"//---END"}]
[null,{"$f":"IF('PS-ConceptMap-2'!S36=0,\"//---END\",'PS-ConceptMap-2'!S36)","v":"//---END"}]
[null,{"$f":"IF('PS-ConceptMap-2'!S37=0,\"//---END\",'PS-ConceptMap-2'!S37)","v":"//---END"}]
[null,{"$f":"IF('PS-ConceptMap-2'!S38=0,\"//---END\",'PS-ConceptMap-2'!S38)","v":"//---END"}]

{"sheet":"A.2.3.3 Pregnancy","index":7,"n_rows":35,"n_cols":9,"rows_kept":35,"cut":false,"hidden":false,"merged":[]}
[null,null,null,null,null,null,null,null,"// -------------------------------------------------------------------------------"]
[null,null,null,null,null,null,null,null,"//  Logical Model"]
[null,null,null,null,null,null,null,null,{"$f":"I1","v":"// -------------------------------------------------------------------------------"}]
["Name","PregnancyPsEhn",null,null,null,null,null,null,{"$f":"CONCATENATE(\"Logical: \",B4)","v":"Logical: PregnancyPsEhn"}]
["Id","Pregnancy",null,null,null,null,null,null,{"$f":"CONCATENATE(\"Id: \",B5)","v":"Id: Pregnancy"}]
["Title","A.2.6 Pregnancy history",null,null,null,null,null,null,{"$f":"CONCATENATE(\"Title: ##34#\",B6,\"##34#\")","v":"Title: ##34#A.2.6 Pregnancy history##34#"}]
["Description","Functional Status. Section A.2.3.3 of the eHN guideline.",null,null,null,"max","dataType",null,{"$f":"CONCATENATE(\"Description: \",\" ##334#\",B7,\"##334#\",)","v":"Description:  ##334#Functional Status. Section A.2.3.3 of the eHN guideline.##334#"}]
[1,"pregnancyStatus","A.2.6.1 Current pregnancy status","A.2.6.1 Current pregnancy status",0,"*","BackboneElement",null,{"$f":"CONCATENATE(\"* \",B8, \" \",E8,\"..\",F8,\" \",G8,\" ##34#\",C8,\"##34# ##334#\",D8,\"##334#\")","v":"* pregnancyStatus 0..* BackboneElement ##34#A.2.6.1 Current pregnancy status##34# ##334#A.2.6.1 Current pregnancy status##334#"}]
[2,"pregnancyStatus.dateOfObservation","A.2.6.1.1 Date of observation","Date on which the observation of the pregnancy state was made - Preferred system(s): ISO 8601",0,"*","dateTime",null,{"$f":"CONCATENATE(\"* \",B9, \" \",E9,\"..\",F9,\" \",G9,\" ##34#\",C9,\"##34# ##334#\",D9,\"##334#\")","v":"* pregnancyStatus.dateOfObservation 0..* dateTime ##34#A.2.6.1.1 Date of observation##34# ##334#Date on which the observation of the pregnancy state was made - Preferred system(s): ISO 8601##334#"}]
[3,"pregnancyStatus.status","A.2.6.1.2 Status","Provides the woman's current state at the date the observation was made: e.g. pregnant, not pregnant, unknown - Preferred system(s): SNOMED CT GPS",0,"*","CodeableConcept",null,"* pregnancyStatus.status 0..* CodeableConcept ##34#A.2.6.1.2 Status##34# ##334#Provides the woman's current state at the date the observation was made: e.g. pregnant, not pregnant, unknown - Preferred system(s): SNOMED CT GPS##334#"]
[4,"pregnancyStatus.deliveryDate","A.2.6.1.3 Expected date of delivery","Date on which the woman is due to give birth. - Preferred system(s): ISO 8601",0,"*","dateTime",null,"* pregnancyStatus.deliveryDate 0..* dateTime ##34#A.2.6.1.3 Expected date of delivery##34# ##334#Date on which the woman is due to give birth. - Preferred system(s): ISO 8601##334#"]
[5,"hxPreviousPregnancies","A.2.6.2 History of previous pregnancies","A.2.6.2 History of previous pregnancies",0,"*","BackboneElement",null,"* hxPreviousPregnancies 0..* BackboneElement ##34#A.2.6.2 History of previous pregnancies##34# ##334#A.2.6.2 History of previous pregnancies##334#"]
[6,"hxPreviousPregnancies.status","A.2.6.2.1 Previous pregnancies status","Information on the woman's previous pregnancies: Yes, previous pregnancies; No, previous pregnancies; Unknown - Preferred system(s): SNOMED CT GPS",0,"*","CodeableConcept",null,"* hxPreviousPregnancies.status 0..* CodeableConcept ##34#A.2.6.2.1 Previous pregnancies status##34# ##334#Information on the woman's previous pregnancies: Yes, previous pregnancies; No, previous pregnancies; Unknown - Preferred system(s): SNOMED CT GPS##334#"]
[7,"hxPreviousPregnancies.description","A.2.6.2.2 Previous pregnancies description","A.2.6.2.2 Previous pregnancies description",0,"*","BackboneElement",null,"* hxPreviousPregnancies.description 0..* BackboneElement ##34#A.2.6.2.2 Previous pregnancies description##34# ##334#A.2.6.2.2 Previous pregnancies description##334#"]
[8,"hxPreviousPregnancies.description.outcomeDate","A.2.6.2.2.1 Outcome date","Date referred to the previous pregnancies outcome - Preferred system(s): ISO 8601",0,"*","dateTime",null,"* hxPreviousPregnancies.description.outcomeDate 0..* dateTime ##34#A.2.6.2.2.1 Outcome date##34# ##334#Date referred to the previous pregnancies outcome - Preferred system(s): ISO 8601##334#"]
[9,"hxPreviousPregnancies.description.outcome","A.2.6.2.2.2 Outcome","Outcome of the previous pregnancies - Preferred system(s): SNOMED CT GPS",0,"*","CodeableConcept",null,"* hxPreviousPregnancies.description.outcome 0..* CodeableConcept ##34#A.2.6.2.2.2 Outcome##34# ##334#Outcome of the previous pregnancies - Preferred system(s): SNOMED CT GPS##334#"]
[10,"hxPreviousPregnancies.description.numberOfChildren","A.2.6.2.2.3 Number of children","Number of children/fetus in this specific pregnancy",0,"*","integer",null,"* hxPreviousPregnancies.description.numberOfChildren 0..* integer ##34#A.2.6.2.2.3 Number of children##34# ##334#Number of children/fetus in this specific pregnancy##334#"]
[null,null,null,null,null,null,null,null,"*  ..  ##34###34# ##334###334#"]
[null,null,null,null,null,null,null,null,"*  ..  ##34###34# ##334###334#"]
[null,null,null,null,null,null,null,null,"*  ..  ##34###34# ##334###334#"]
[null,null,null,null,null,null,null,null,"*  ..  ##34###34# ##334###334#"]
[null,null,null,null,null,null,null,null,"*  ..  ##34###34# ##334###334#"]
[]
[]
[]
[null,null,"A.2.6.1 Current pregnancy status"]
[null,{"$f":"CONCATENATE(C27,\" \",D27)","v":"A.2.6.1.1 Date of observation"},"A.2.6.1.1","Date of observation","Date on which the observation of the pregnancy state was made","ISO 8601",null,null,{"$f":"CONCATENATE(E27,\" - Preferred system(s): \",F27)","v":"Date on which the observation of the pregnancy state was made - Preferred system(s): ISO 8601"}]
[null,"A.2.6.1.2 Status","A.2.6.1.2","Status","Provides the woman's current state at the date the observation was made: e.g. pregnant, not pregnant, unknown","SNOMED CT GPS",null,null,"Provides the woman's current state at the date the observation was made: e.g. pregnant, not pregnant, unknown - Preferred system(s): SNOMED CT GPS"]
[null,"A.2.6.1.3 Expected date of delivery","A.2.6.1.3","Expected date of delivery","Date on which the woman is due to give birth.","ISO 8601",null,null,"Date on which the woman is due to give birth. - Preferred system(s): ISO 8601"]
[null,"A.2.6.2 History of previous pregnancies","A.2.6.2","History of previous pregnancies",null,null,null,null," - Preferred system(s): "]
[null,"A.2.6.2.1 Previous pregnancies status","A.2.6.2.1","Previous pregnancies status","Information on the woman's previous pregnancies: Yes, previous pregnancies; No, previous pregnancies; Unknown","SNOMED CT GPS",null,null,"Information on the woman's previous pregnancies: Yes, previous pregnancies; No, previous pregnancies; Unknown - Preferred system(s): SNOMED CT GPS"]
[null,"A.2.6.2.2 Previous pregnancies description","A.2.6.2.2","Previous pregnancies description",null,null,null,null," - Preferred system(s): "]
[null,"A.2.6.2.2.1 Outcome date","A.2.6.2.2.1","Outcome date","Date referred to the previous pregnancies outcome","ISO 8601",null,null,"Date referred to the previous pregnancies outcome - Preferred system(s): ISO 8601"]
[null,"A.2.6.2.2.2 Outcome","A.2.6.2.2.2","Outcome","Outcome of the previous pregnancies","SNOMED CT GPS",null,null,"Outcome of the previous pregnancies - Preferred system(s): SNOMED CT GPS"]
[null,"A.2.6.2.2.3 Number of children","A.2.6.2.2.3","Number of children","Number of children/fetus in this specific pregnancy"]

{"sheet":"Pregnancy-fsh","index":8,"n_rows":22,"n_cols":7,"rows_kept":22,"cut":false,"hidden":false,"merged":[]}
[null,null,{"$f":"'A.2.3.3 Pregnancy'!I1","v":"// -------------------------------------------------------------------------------"}]
[null,null,{"$f":"'A.2.3.3 Pregnancy'!I2","v":"//  Logical Model"},null,null,null,"ps-pregnancy.fsh"]
[null,null,{"$f":"'A.2.3.3 Pregnancy'!I3","v":"// -------------------------------------------------------------------------------"}]
[null,null,{"$f":"'A.2.3.3 Pregnancy'!I4","v":"Logical: PregnancyPsEhn"}]
[null,null,{"$f":"'A.2.3.3 Pregnancy'!I5","v":"Id: Pregnancy"}]
[null,null,{"$f":"'A.2.3.3 Pregnancy'!I6","v":"Title: ##34#A.2.6 Pregnancy history##34#"}]
[null,null,{"$f":"'A.2.3.3 Pregnancy'!I7","v":"Description:  ##334#Functional Status. Section A.2.3.3 of the eHN guideline.##334#"}]
[null,null,{"$f":"IF('A.2.3.3 Pregnancy'!I8=\"*  ..  ##34###34# ##334###334#\",\"//--- END\",'A.2.3.3 Pregnancy'!I8)","v":"* pregnancyStatus 0..* BackboneElement ##34#A.2.6.1 Current pregnancy status##34# ##334#A.2.6.1 Current pregnancy status##334#"}]
[null,null,{"$f":"IF('A.2.3.3 Pregnancy'!I9=\"*  ..  ##34###34# ##334###334#\",\"//--- END\",'A.2.3.3 Pregnancy'!I9)","v":"* pregnancyStatus.dateOfObservation 0..* dateTime ##34#A.2.6.1.1 Date of observation##34# ##334#Date on which the observation of the pregnancy state was made - Preferred system(s): ISO 8601##334#"}]
[null,null,{"$f":"IF('A.2.3.3 Pregnancy'!I10=\"*  ..  ##34###34# ##334###334#\",\"//--- END\",'A.2.3.3 Pregnancy'!I10)","v":"* pregnancyStatus.status 0..* CodeableConcept ##34#A.2.6.1.2 Status##34# ##334#Provides the woman's current state at the date the observation was made: e.g. pregnant, not pregnant, unknown - Preferred system(s): SNOMED CT GPS##334#"},null," "]
[null,null,{"$f":"IF('A.2.3.3 Pregnancy'!I11=\"*  ..  ##34###34# ##334###334#\",\"//--- END\",'A.2.3.3 Pregnancy'!I11)","v":"* pregnancyStatus.deliveryDate 0..* dateTime ##34#A.2.6.1.3 Expected date of delivery##34# ##334#Date on which the woman is due to give birth. - Preferred system(s): ISO 8601##334#"}]
[null,null,{"$f":"IF('A.2.3.3 Pregnancy'!I12=\"*  ..  ##34###34# ##334###334#\",\"//--- END\",'A.2.3.3 Pregnancy'!I12)","v":"* hxPreviousPregnancies 0..* BackboneElement ##34#A.2.6.2 History of previous pregnancies##34# ##334#A.2.6.2 History of previous pregnancies##334#"}]
[null,null,{"$f":"IF('A.2.3.3 Pregnancy'!I13=\"*  ..  ##34###34# ##334###334#\",\"//--- END\",'A.2.3.3 Pregnancy'!I13)","v":"* hxPreviousPregnancies.status 0..* CodeableConcept ##34#A.2.6.2.1 Previous pregnancies status##34# ##334#Information on the woman's previous pregnancies: Yes, previous pregnancies; No, previous pregnancies; Unknown - Preferred system(s): SNOMED CT GPS##334#"}]
[null,null,{"$f":"IF('A.2.3.3 Pregnancy'!I14=\"*  ..  ##34###34# ##334###334#\",\"//--- END\",'A.2.3.3 Pregnancy'!I14)","v":"* hxPreviousPregnancies.description 0..* BackboneElement ##34#A.2.6.2.2 Previous pregnancies description##34# ##334#A.2.6.2.2 Previous pregnancies description##334#"}]
[null,null,{"$f":"IF('A.2.3.3 Pregnancy'!I15=\"*  ..  ##34###34# ##334###334#\",\"//--- END\",'A.2.3.3 Pregnancy'!I15)","v":"* hxPreviousPregnancies.description.outcomeDate 0..* dateTime ##34#A.2.6.2.2.1 Outcome date##34# ##334#Date referred to the previous pregnancies outcome - Preferred system(s): ISO 8601##334#"}]
[null,null,{"$f":"IF('A.2.3.3 Pregnancy'!I16=\"*  ..  ##34###34# ##334###334#\",\"//--- END\",'A.2.3.3 Pregnancy'!I16)","v":"* hxPreviousPregnancies.description.outcome 0..* CodeableConcept ##34#A.2.6.2.2.2 Outcome##34# ##334#Outcome of the previous pregnancies - Preferred system(s): SNOMED CT GPS##334#"}]
[null,null,{"$f":"IF('A.2.3.3 Pregnancy'!I17=\"*  ..  ##34###34# ##334###334#\",\"//--- END\",'A.2.3.3 Pregnancy'!I17)","v":"* hxPreviousPregnancies.description.numberOfChildren 0..* integer ##34#A.2.6.2.2.3 Number of children##34# ##334#Number of children/fetus in this specific pregnancy##334#"}]
[null,null,{"$f":"IF('A.2.3.3 Pregnancy'!I18=\"*  ..  ##34###34# ##334###334#\",\"//--- END\",'A.2.3.3 Pregnancy'!I18)","v":"//--- END"}]
[null,null,{"$f":"IF('A.2.3.3 Pregnancy'!I19=\"*  ..  ##34###34# ##334###334#\",\"//--- END\",'A.2.3.3 Pregnancy'!I19)","v":"//--- END"}]
[null,null,{"$f":"IF('A.2.3.3 Pregnancy'!I20=\"*  ..  ##34###34# ##334###334#\",\"//--- END\",'A.2.3.3 Pregnancy'!I20)","v":"//--- END"}]
[null,null,{"$f":"IF('A.2.3.3 Pregnancy'!I21=\"*  ..  ##34###34# ##334###334#\",\"//--- END\",'A.2.3.3 Pregnancy'!I21)","v":"//--- END"}]
[null,null,{"$f":"IF('A.2.3.3 Pregnancy'!I22=\"*  ..  ##34###34# ##334###334#\",\"//--- END\",'A.2.3.3 Pregnancy'!I22)","v":"//--- END"}]

{"sheet":"Pregnancy-ConceptMap-1","index":9,"n_rows":84,"n_cols":19,"rows_kept":84,"cut":false,"hidden":false,"merged":[[0,1,0,2],[2,4,2,6],[3,4,3,6],[5,4,5,6],[6,4,6,6]]}
[null,"MAPPING TO BE FURTHER INVESTIGATED\nTHIS MAP HAS TO BE CLEAN UP BY hand (REMOVE AN ADDIITONAL \")"]
[]
[null,"Mapping","Pregnancy2Fhir","Source URI",{"$f":"\"http://hl7.eu/fhir/ig/xpandh/ps/StructureDefinition/\"&'A.2.3.3 Pregnancy'!B5","v":"http://hl7.eu/fhir/ig/xpandh/ps/StructureDefinition/Pregnancy"}]
[null,"Id","pregnancy2FHIR-eu-ps","Target URI","http://hl7.eu/fhir/ig/xpandh/ps/StructureDefinition/Composition-ps-xpandh"]
[null,"Title","eHN Recipient to this guide Map"]
[null,"Source",null,"Source Group",{"$f":"E3","v":"http://hl7.eu/fhir/ig/xpandh/ps/StructureDefinition/Pregnancy"}]
[null,"Target",null,"Target Group",{"$f":"E4","v":"http://hl7.eu/fhir/ig/xpandh/ps/StructureDefinition/Composition-ps-xpandh"}]
[null,"description","eHN Medical Devices Model to this guide Map",null,null,null,null,null,"* group[=].element[+].code = #Osiris.Patient.BirthDate","* group[=].element[=].display = \"Birth Date [C4]\"","* group[=].element[=].target.code = #Subject.dateOfBirth.date","* group[=].element[=].target.display = \"Date of birth\"","* group[=].element[=].target.equivalence = #equivalent",null,null,"Elements",6]
[null,"purpose","It shows how theMedical Devices Recipient data set defined by the EU eHN guidelines is mapped into this guide"]
[]
[null,null,null,null,null,null,null,null,"source:code","source:display","code","display","target to source","Comment"]
[]
[null,null,null,null,null,"target to source","Comment"]
[null,{"$f":"'A.2.3.3 Pregnancy'!B5","v":"Pregnancy"},null,"Composition"]
[null,{"$f":"'A.2.3.3 Pregnancy'!B8","v":"pregnancyStatus"},{"$f":"'A.2.3.3 Pregnancy'!C8","v":"A.2.6.1 Current pregnancy status"},"section:sectionPregnancyHx.entry:pregnancyStatus",null,"relatedto",null,null,{"$f":"\"* group[=].element[+].code = #\"&$B$14&\".\"&B15","v":"* group[=].element[+].code = #Pregnancy.pregnancyStatus"},{"$f":"\"* group[=].element[=].display = ##34#\"&C15&\"##34#\"","v":"* group[=].element[=].display = ##34#A.2.6.1 Current pregnancy status##34#"},{"$f":"IF(F15=\"unmatched\",\"//-- unmatched\",\"* group[=].element[=].target.code = #\"&$D$14&\".\"&D15)","v":"* group[=].element[=].target.code = #Composition.section:sectionPregnancyHx.entry:pregnancyStatus"},{"$f":"IF(F15=\"unmatched\",\"//-- unmatched\",\"* group[=].element[=].target.display = ##34#\"&E15&\"##34#\")","v":"* group[=].element[=].target.display = ##34###34#"},{"$f":"\"* group[=].element[=].target.equivalence = #\"&F15","v":"* group[=].element[=].target.equivalence = #relatedto"},{"$f":"IF(G15<>\"\",CONCATENATE(\"* group[=].element[=].target.comment = \",\"##34#\",G15,\"##34#\"),\"\")","v":""},null,1,{"$f":"IF(MOD(P15,$Q$8)=0,P15/$Q$8-1,INT(P15/$Q$8))","v":0},{"$f":"IF(MOD(P15,$Q$8)=0,$Q$8,MOD(P15,$Q$8))","v":1},{"$f":"INDEX('Pregnancy-ConceptMap-1'!$I$15:$N$126,Q15+1,R15)","v":"* group[=].element[+].code = #Pregnancy.pregnancyStatus"}]
[null,{"$f":"'A.2.3.3 Pregnancy'!B9","v":"pregnancyStatus.dateOfObservation"},{"$f":"'A.2.3.3 Pregnancy'!C9","v":"A.2.6.1.1 Date of observation"},"section:sectionPregnancyHx.entry:pregnancyStatus.effectiveDateTime",null,"equivalent",null,null,{"$f":"\"* group[=].element[+].code = #\"&$B$14&\".\"&B16","v":"* group[=].element[+].code = #Pregnancy.pregnancyStatus.dateOfObservation"},"* group[=].element[=].display = ##34#A.2.6.1.1 Date of observation##34#","* group[=].element[=].target.code = #Composition.section:sectionPregnancyHx.entry:pregnancyStatus.effectiveDateTime","* group[=].element[=].target.display = ##34###34#","* group[=].element[=].target.equivalence = #equivalent","",null,2,{"$f":"IF(MOD(P16,$Q$8)=0,P16/$Q$8-1,INT(P16/$Q$8))","v":0},{"$f":"IF(MOD(P16,$Q$8)=0,$Q$8,MOD(P16,$Q$8))","v":2},{"$f":"INDEX('Pregnancy-ConceptMap-1'!$I$15:$N$126,Q16+1,R16)","v":"* group[=].element[=].display = ##34#A.2.6.1 Current pregnancy status##34#"}]
[null,{"$f":"'A.2.3.3 Pregnancy'!B10","v":"pregnancyStatus.status"},{"$f":"'A.2.3.3 Pregnancy'!C10","v":"A.2.6.1.2 Status"},"section:sectionPregnancyHx.entry:pregnancyStatus.valueCodeabelConcept",null,"equivalent",null,null,{"$f":"\"* group[=].element[+].code = #\"&$B$14&\".\"&B17","v":"* group[=].element[+].code = #Pregnancy.pregnancyStatus.status"},{"$f":"\"* group[=].element[=].display = ##34#\"&C17&\"##34#\"","v":"* group[=].element[=].display = ##34#A.2.6.1.2 Status##34#"},{"$f":"IF(F17=\"unmatched\",\"//-- unmatched\",\"* group[=].element[=].target.code = #\"&$D$14&\".\"&D17)","v":"* group[=].element[=].target.code = #Composition.section:sectionPregnancyHx.entry:pregnancyStatus.valueCodeabelConcept"},{"$f":"IF(F17=\"unmatched\",\"//-- unmatched\",\"* group[=].element[=].target.display = ##34#\"&E17&\"##34#\")","v":"* group[=].element[=].target.display = ##34###34#"},{"$f":"\"* group[=].element[=].target.equivalence = #\"&F17","v":"* group[=].element[=].target.equivalence = #equivalent"},{"$f":"IF(G17<>\"\",CONCATENATE(\"* group[=].element[=].target.comment = \",\"##34#\",G17,\"##34#\"),\"\")","v":""},null,3,0,3,{"$f":"INDEX('Pregnancy-ConceptMap-1'!$I$15:$N$126,Q17+1,R17)","v":"* group[=].element[=].target.code = #Composition.section:sectionPregnancyHx.entry:pregnancyStatus"}]
[null,{"$f":"'A.2.3.3 Pregnancy'!B11","v":"pregnancyStatus.deliveryDate"},{"$f":"'A.2.3.3 Pregnancy'!C11","v":"A.2.6.1.3 Expected date of delivery"},"section:sectionPregnancyHx.entry:pregnancyStatus.hasMember.valueDateTime",null,"equivalent","where section:sectionPregnancyHx.entry:pregnancyStatus.hasMember.code IN PregnancyExpectedDeliveryDateMethodUvIps value set",null,"* group[=].element[+].code = #Pregnancy.pregnancyStatus.deliveryDate","* group[=].element[=].display = ##34#A.2.6.1.3 Expected date of delivery##34#","* group[=].element[=].target.code = #Composition.section:sectionPregnancyHx.entry:pregnancyStatus.hasMember.valueDateTime","* group[=].element[=].target.display = ##34###34#","* group[=].element[=].target.equivalence = #equivalent","* group[=].element[=].target.comment = ##34#where section:sectionPregnancyHx.entry:pregnancyStatus.hasMember.code IN PregnancyExpectedDeliveryDateMethodUvIps value set##34#",null,4,0,4,{"$f":"INDEX('Pregnancy-ConceptMap-1'!$I$15:$N$126,Q18+1,R18)","v":"* group[=].element[=].target.display = ##34###34#"}]
[null,{"$f":"'A.2.3.3 Pregnancy'!B12","v":"hxPreviousPregnancies"},{"$f":"'A.2.3.3 Pregnancy'!C12","v":"A.2.6.2 History of previous pregnancies"},"section:sectionPregnancyHx.entry:pregnancyOutcomeSummary\t",null,"relatedto",null,null,"* group[=].element[+].code = #Pregnancy.hxPreviousPregnancies","* group[=].element[=].display = ##34#A.2.6.2 History of previous pregnancies##34#","* group[=].element[=].target.code = #Composition.section:sectionPregnancyHx.entry:pregnancyOutcomeSummary\t","* group[=].element[=].target.display = ##34###34#","* group[=].element[=].target.equivalence = #relatedto","",null,5,0,5,{"$f":"INDEX('Pregnancy-ConceptMap-1'!$I$15:$N$126,Q19+1,R19)","v":"* group[=].element[=].target.equivalence = #relatedto"}]
[null,{"$f":"'A.2.3.3 Pregnancy'!B13","v":"hxPreviousPregnancies.status"},{"$f":"'A.2.3.3 Pregnancy'!C13","v":"A.2.6.2.1 Previous pregnancies status"},"section:sectionPregnancyHx.entry",null,"relatedto","Observation profile to be added",null,"* group[=].element[+].code = #Pregnancy.hxPreviousPregnancies.status","* group[=].element[=].display = ##34#A.2.6.2.1 Previous pregnancies status##34#","* group[=].element[=].target.code = #Composition.section:sectionPregnancyHx.entry","* group[=].element[=].target.display = ##34###34#","* group[=].element[=].target.equivalence = #relatedto","* group[=].element[=].target.comment = ##34#Observation profile to be added##34#",null,6,0,6,{"$f":"INDEX('Pregnancy-ConceptMap-1'!$I$15:$N$126,Q20+1,R20)","v":""}]
[null,{"$f":"'A.2.3.3 Pregnancy'!B14","v":"hxPreviousPregnancies.description"},{"$f":"'A.2.3.3 Pregnancy'!C14","v":"A.2.6.2.2 Previous pregnancies description"},"section:sectionPregnancyHx.entry:pregnancyOutcomeSummary\t",null,"relatedto",null,null,"* group[=].element[+].code = #Pregnancy.hxPreviousPregnancies.description","* group[=].element[=].display = ##34#A.2.6.2.2 Previous pregnancies description##34#","* group[=].element[=].target.code = #Composition.section:sectionPregnancyHx.entry:pregnancyOutcomeSummary\t","* group[=].element[=].target.display = ##34###34#","* group[=].element[=].target.equivalence = #relatedto","",null,7,1,1,{"$f":"INDEX('Pregnancy-ConceptMap-1'!$I$15:$N$126,Q21+1,R21)","v":"* group[=].element[+].code = #Pregnancy.pregnancyStatus.dateOfObservation"}]
[null,{"$f":"'A.2.3.3 Pregnancy'!B15","v":"hxPreviousPregnancies.description.outcomeDate"},{"$f":"'A.2.3.3 Pregnancy'!C15","v":"A.2.6.2.2.1 Outcome date"},"section:sectionPregnancyHx.entry:pregnancyOutcomeSummary.effectiveDateTime",null,"equivalent",null,null,"* group[=].element[+].code = #Pregnancy.hxPreviousPregnancies.description.outcomeDate","* group[=].element[=].display = ##34#A.2.6.2.2.1 Outcome date##34#","* group[=].element[=].target.code = #Composition.section:sectionPregnancyHx.entry:pregnancyOutcomeSummary.effectiveDateTime","* group[=].element[=].target.display = ##34###34#","* group[=].element[=].target.equivalence = #equivalent","",null,8,1,2,{"$f":"INDEX('Pregnancy-ConceptMap-1'!$I$15:$N$126,Q22+1,R22)","v":"* group[=].element[=].display = ##34#A.2.6.1.1 Date of observation##34#"}]
[null,{"$f":"'A.2.3.3 Pregnancy'!B16","v":"hxPreviousPregnancies.description.outcome"},{"$f":"'A.2.3.3 Pregnancy'!C16","v":"A.2.6.2.2.2 Outcome"},"section:sectionPregnancyHx.entry:pregnancyOutcomeSummary.code",null,"equivalent","to be checked",null,"* group[=].element[+].code = #Pregnancy.hxPreviousPregnancies.description.outcome","* group[=].element[=].display = ##34#A.2.6.2.2.2 Outcome##34#","* group[=].element[=].target.code = #Composition.section:sectionPregnancyHx.entry:pregnancyOutcomeSummary.code","* group[=].element[=].target.display = ##34###34#","* group[=].element[=].target.equivalence = #equivalent","* group[=].element[=].target.comment = ##34#to be checked##34#",null,9,1,3,{"$f":"INDEX('Pregnancy-ConceptMap-1'!$I$15:$N$126,Q23+1,R23)","v":"* group[=].element[=].target.code = #Composition.section:sectionPregnancyHx.entry:pregnancyStatus.effectiveDateTime"}]
[null,{"$f":"'A.2.3.3 Pregnancy'!B17","v":"hxPreviousPregnancies.description.numberOfChildren"},{"$f":"'A.2.3.3 Pregnancy'!C17","v":"A.2.6.2.2.3 Number of children"},"section:sectionPregnancyHx.entry:pregnancyOutcomeSummary.valueQuentity",null,"equivalent",null,null,"* group[=].element[+].code = #Pregnancy.hxPreviousPregnancies.description.numberOfChildren","* group[=].element[=].display = ##34#A.2.6.2.2.3 Number of children##34#","* group[=].element[=].target.code = #Composition.section:sectionPregnancyHx.entry:pregnancyOutcomeSummary.valueQuentity","* group[=].element[=].target.display = ##34###34#","* group[=].element[=].target.equivalence = #equivalent","",null,10,1,4,{"$f":"INDEX('Pregnancy-ConceptMap-1'!$I$15:$N$126,Q24+1,R24)","v":"* group[=].element[=].target.display = ##34###34#"}]
[null,null,null,null,null,null,null,null,null,null,null,null,null,null,null,11,1,5,{"$f":"INDEX('Pregnancy-ConceptMap-1'!$I$15:$N$126,Q25+1,R25)","v":"* group[=].element[=].target.equivalence = #equivalent"}]
[null,null,null,null,null,null,null,null,null,null,null,null,null,null,null,12,1,6,{"$f":"INDEX('Pregnancy-ConceptMap-1'!$I$15:$N$126,Q26+1,R26)","v":""}]
[null,null,null,null,null,null,null,null,null,null,null,null,null,"",null,13,2,1,{"$f":"INDEX('Pregnancy-ConceptMap-1'!$I$15:$N$126,Q27+1,R27)","v":"* group[=].element[+].code = #Pregnancy.pregnancyStatus.status"}]
[null,null,null,null,null,null,null,null,null,null,null,null,null,"",null,14,2,2,{"$f":"INDEX('Pregnancy-ConceptMap-1'!$I$15:$N$126,Q28+1,R28)","v":"* group[=].element[=].display = ##34#A.2.6.1.2 Status##34#"}]
[null,null,null,null,null,null,null,null,null,null,null,null,null,"",null,15,2,3,{"$f":"INDEX('Pregnancy-ConceptMap-1'!$I$15:$N$126,Q29+1,R29)","v":"* group[=].element[=].target.code = #Composition.section:sectionPregnancyHx.entry:pregnancyStatus.valueCodeabelConcept"}]
[null,null,null,null,null,null,null,null,null,null,null,null,null,"",null,16,2,4,{"$f":"INDEX('Pregnancy-ConceptMap-1'!$I$15:$N$126,Q30+1,R30)","v":"* group[=].element[=].target.display = ##34###34#"}]
[null,null,null,null,null,null,null,null,null,null,null,null,null,"",null,17,2,5,{"$f":"INDEX('Pregnancy-ConceptMap-1'!$I$15:$N$126,Q31+1,R31)","v":"* group[=].element[=].target.equivalence = #equivalent"}]
[null,null,null,null,null,null,null,null,null,null,null,null,null,"",null,18,2,6,{"$f":"INDEX('Pregnancy-ConceptMap-1'!$I$15:$N$126,Q32+1,R32)","v":""}]
[null,null,null,null,null,null,null,null,null,null,null,null,null,"",null,19,3,1,{"$f":"INDEX('Pregnancy-ConceptMap-1'!$I$15:$N$126,Q33+1,R33)","v":"* group[=].element[+].code = #Pregnancy.pregnancyStatus.deliveryDate"}]
[null,null,null,null,null,null,null,null,null,null,null,null,null,"",null,20,3,2,{"$f":"INDEX('Pregnancy-ConceptMap-1'!$I$15:$N$126,Q34+1,R34)","v":"* group[=].element[=].display = ##34#A.2.6.1.3 Expected date of delivery##34#"}]
[null,null,null,null,null,null,null,null,null,null,null,null,null,"",null,21,3,3,{"$f":"INDEX('Pregnancy-ConceptMap-1'!$I$15:$N$126,Q35+1,R35)","v":"* group[=].element[=].target.code = #Composition.section:sectionPregnancyHx.entry:pregnancyStatus.hasMember.valueDateTime"}]
[null,null,null,null,null,null,null,null,null,null,null,null,null,"",null,22,3,4,{"$f":"INDEX('Pregnancy-ConceptMap-1'!$I$15:$N$126,Q36+1,R36)","v":"* group[=].element[=].target.display = ##34###34#"}]
[null,null,null,null,null,null,null,null,null,null,null,null,null,"",null,23,3,5,{"$f":"INDEX('Pregnancy-ConceptMap-1'!$I$15:$N$126,Q37+1,R37)","v":"* group[=].element[=].target.equivalence = #equivalent"}]
[null,null,null,null,null,null,null,null,null,null,null,null,null,"",null,24,3,6,{"$f":"INDEX('Pregnancy-ConceptMap-1'!$I$15:$N$126,Q38+1,R38)","v":"* group[=].element[=].target.comment = ##34#where section:sectionPregnancyHx.entry:pregnancyStatus.hasMember.code IN PregnancyExpectedDeliveryDateMethodUvIps value set##34#"}]
[null,null,null,null,null,null,null,null,null,null,null,null,null,"",null,25,4,1,{"$f":"INDEX('Pregnancy-ConceptMap-1'!$I$15:$N$126,Q39+1,R39)","v":"* group[=].element[+].code = #Pregnancy.hxPreviousPregnancies"}]
[null,null,null,null,null,null,null,null,null,null,null,null,null,"",null,26,4,2,{"$f":"INDEX('Pregnancy-ConceptMap-1'!$I$15:$N$126,Q40+1,R40)","v":"* group[=].element[=].display = ##34#A.2.6.2 History of previous pregnancies##34#"}]
[null,null,null,null,null,null,null,null,null,null,null,null,null,"",null,27,4,3,{"$f":"INDEX('Pregnancy-ConceptMap-1'!$I$15:$N$126,Q41+1,R41)","v":"* group[=].element[=].target.code = #Composition.section:sectionPregnancyHx.entry:pregnancyOutcomeSummary\t"}]
[null,null,null,null,null,null,null,null,null,null,null,null,null,"",null,28,4,4,{"$f":"INDEX('Pregnancy-ConceptMap-1'!$I$15:$N$126,Q42+1,R42)","v":"* group[=].element[=].target.display = ##34###34#"}]
[null,null,null,null,null,null,null,null,null,null,null,null,null,"",null,29,4,5,{"$f":"INDEX('Pregnancy-ConceptMap-1'!$I$15:$N$126,Q43+1,R43)","v":"* group[=].element[=].target.equivalence = #relatedto"}]
[null,null,null,null,null,null,null,null,null,null,null,null,null,"",null,30,4,6,{"$f":"INDEX('Pregnancy-ConceptMap-1'!$I$15:$N$126,Q44+1,R44)","v":""}]
[null,null,null,null,null,null,null,null,null,null,null,null,null,"",null,31,5,1,{"$f":"INDEX('Pregnancy-ConceptMap-1'!$I$15:$N$126,Q45+1,R45)","v":"* group[=].element[+].code = #Pregnancy.hxPreviousPregnancies.status"}]
[null,null,null,null,null,null,null,null,null,null,null,null,null,"",null,32,5,2,{"$f":"INDEX('Pregnancy-ConceptMap-1'!$I$15:$N$126,Q46+1,R46)","v":"* group[=].element[=].display = ##34#A.2.6.2.1 Previous pregnancies status##34#"}]
[null,null,null,null,null,null,null,null,null,null,null,null,null,null,null,33,5,3,{"$f":"INDEX('Pregnancy-ConceptMap-1'!$I$15:$N$126,Q47+1,R47)","v":"* group[=].element[=].target.code = #Composition.section:sectionPregnancyHx.entry"}]
[null,null,null,null,null,null,null,null,null,null,null,null,null,null,null,34,5,4,{"$f":"INDEX('Pregnancy-ConceptMap-1'!$I$15:$N$126,Q48+1,R48)","v":"* group[=].element[=].target.display = ##34###34#"}]
[null,null,null,null,null,null,null,null,null,null,null,null,null,null,null,35,5,5,{"$f":"INDEX('Pregnancy-ConceptMap-1'!$I$15:$N$126,Q49+1,R49)","v":"* group[=].element[=].target.equivalence = #relatedto"}]
[null,null,null,null,null,null,null,null,null,null,null,null,null,null,null,36,5,6,{"$f":"INDEX('Pregnancy-ConceptMap-1'!$I$15:$N$126,Q50+1,R50)","v":"* group[=].element[=].target.comment = ##34#Observation profile to be added##34#"}]
[null,null,null,null,null,null,null,null,null,null,null,null,null,null,null,37,6,1,{"$f":"INDEX('Pregnancy-ConceptMap-1'!$I$15:$N$126,Q51+1,R51)","v":"* group[=].element[+].code = #Pregnancy.hxPreviousPregnancies.description"}]
[null,null,null,null,null,null,null,null,null,null,null,null,null,null,null,38,6,2,{"$f":"INDEX('Pregnancy-ConceptMap-1'!$I$15:$N$126,Q52+1,R52)","v":"* group[=].element[=].display = ##34#A.2.6.2.2 Previous pregnancies description##34#"}]
[null,null,null,null,null,null,null,null,null,null,null,null,null,null,null,39,6,3,{"$f":"INDEX('Pregnancy-ConceptMap-1'!$I$15:$N$126,Q53+1,R53)","v":"* group[=].element[=].target.code = #Composition.section:sectionPregnancyHx.entry:pregnancyOutcomeSummary\t"}]
[null,null,null,null,null,null,null,null,null,null,null,null,null,null,null,40,6,4,{"$f":"INDEX('Pregnancy-ConceptMap-1'!$I$15:$N$126,Q54+1,R54)","v":"* group[=].element[=].target.display = ##34###34#"}]
[null,null,null,null,null,null,null,null,null,null,null,null,null,null,null,41,6,5,{"$f":"INDEX('Pregnancy-ConceptMap-1'!$I$15:$N$126,Q55+1,R55)","v":"* group[=].element[=].target.equivalence = #relatedto"}]
[null,null,null,null,null,null,null,null,null,null,null,null,null,null,null,42,6,6,{"$f":"INDEX('Pregnancy-ConceptMap-1'!$I$15:$N$126,Q56+1,R56)","v":""}]
[null,null,null,null,null,null,null,null,null,null,null,null,null,null,null,43,7,1,{"$f":"INDEX('Pregnancy-ConceptMap-1'!$I$15:$N$126,Q57+1,R57)","v":"* group[=].element[+].code = #Pregnancy.hxPreviousPregnancies.description.outcomeDate"}]
[null,null,null,null,null,null,null,null,null,null,null,null,null,null,null,44,7,2,{"$f":"INDEX('Pregnancy-ConceptMap-1'!$I$15:$N$126,Q58+1,R58)","v":"* group[=].element[=].display = ##34#A.2.6.2.2.1 Outcome date##34#"}]
[null,null,null,null,null,null,null,null,null,null,null,null,null,null,null,45,7,3,{"$f":"INDEX('Pregnancy-ConceptMap-1'!$I$15:$N$126,Q59+1,R59)","v":"* group[=].element[=].target.code = #Composition.section:sectionPregnancyHx.entry:pregnancyOutcomeSummary.effectiveDateTime"}]
[null,null,null,null,null,null,null,null,null,null,null,null,null,null,null,46,7,4,{"$f":"INDEX('Pregnancy-ConceptMap-1'!$I$15:$N$126,Q60+1,R60)","v":"* group[=].element[=].target.display = ##34###34#"}]
[null,null,null,null,null,null,null,null,null,null,null,null,null,null,null,47,7,5,{"$f":"INDEX('Pregnancy-ConceptMap-1'!$I$15:$N$126,Q61+1,R61)","v":"* group[=].element[=].target.equivalence = #equivalent"}]
[null,null,null,null,null,null,null,null,null,null,null,null,null,null,null,48,7,6,{"$f":"INDEX('Pregnancy-ConceptMap-1'!$I$15:$N$126,Q62+1,R62)","v":""}]
[null,null,null,null,null,null,null,null,null,null,null,null,null,null,null,49,8,1,{"$f":"INDEX('Pregnancy-ConceptMap-1'!$I$15:$N$126,Q63+1,R63)","v":"* group[=].element[+].code = #Pregnancy.hxPreviousPregnancies.description.outcome"}]
[null,null,null,null,null,null,null,null,null,null,null,null,null,null,null,50,8,2,{"$f":"INDEX('Pregnancy-ConceptMap-1'!$I$15:$N$126,Q64+1,R64)","v":"* group[=].element[=].display = ##34#A.2.6.2.2.2 Outcome##34#"}]
[null,null,null,null,null,null,null,null,null,null,null,null,null,null,null,51,8,3,{"$f":"INDEX('Pregnancy-ConceptMap-1'!$I$15:$N$126,Q65+1,R65)","v":"* group[=].element[=].target.code = #Composition.section:sectionPregnancyHx.entry:pregnancyOutcomeSummary.code"}]
[null,null,null,null,null,null,null,null,null,null,null,null,null,null,null,52,8,4,{"$f":"INDEX('Pregnancy-ConceptMap-1'!$I$15:$N$126,Q66+1,R66)","v":"* group[=].element[=].target.display = ##34###34#"}]
[null,null,null,null,null,null,null,null,null,null,null,null,null,null,null,53,8,5,{"$f":"INDEX('Pregnancy-ConceptMap-1'!$I$15:$N$126,Q67+1,R67)","v":"* group[=].element[=].target.equivalence = #equivalent"}]
[null,null,null,null,null,null,null,null,null,null,null,null,null,null,null,54,8,6,{"$f":"INDEX('Pregnancy-ConceptMap-1'!$I$15:$N$126,Q68+1,R68)","v":"* group[=].element[=].target.comment = ##34#to be checked##34#"}]
[null,null,null,null,null,null,null,null,null,null,null,null,null,null,null,55,9,1,{"$f":"INDEX('Pregnancy-ConceptMap-1'!$I$15:$N$126,Q69+1,R69)","v":"* group[=].element[+].code = #Pregnancy.hxPreviousPregnancies.description.numberOfChildren"}]
[null,null,null,null,null,null,null,null,null,null,null,null,null,null,null,56,9,2,{"$f":"INDEX('Pregnancy-ConceptMap-1'!$I$15:$N$126,Q70+1,R70)","v":"* group[=].element[=].display = ##34#A.2.6.2.2.3 Number of children##34#"}]
[null,null,null,null,null,null,null,null,null,null,null,null,null,null,null,57,9,3,{"$f":"INDEX('Pregnancy-ConceptMap-1'!$I$15:$N$126,Q71+1,R71)","v":"* group[=].element[=].target.code = #Composition.section:sectionPregnancyHx.entry:pregnancyOutcomeSummary.valueQuentity"}]
[null,null,null,null,null,null,null,null,null,null,null,null,null,null,null,58,9,4,{"$f":"INDEX('Pregnancy-ConceptMap-1'!$I$15:$N$126,Q72+1,R72)","v":"* group[=].element[=].target.display = ##34###34#"}]
[null,null,null,null,null,null,null,null,null,null,null,null,null,null,null,59,9,5,{"$f":"INDEX('Pregnancy-ConceptMap-1'!$I$15:$N$126,Q73+1,R73)","v":"* group[=].element[=].target.equivalence = #equivalent"}]
[null,null,null,null,null,null,null,null,null,null,null,null,null,null,null,60,9,6,{"$f":"INDEX('Pregnancy-ConceptMap-1'!$I$15:$N$126,Q74+1,R74)","v":""}]
[null,null,null,null,null,null,null,null,null,null,null,null,null,null,null,61,10,1,{"$f":"INDEX('Pregnancy-ConceptMap-1'!$I$15:$N$126,Q75+1,R75)","v":0}]
[null,null,null,null,null,null,null,null,null,null,null,null,null,null,null,62,10,2,{"$f":"INDEX('Pregnancy-ConceptMap-1'!$I$15:$N$126,Q76+1,R76)","v":0}]
[null,null,null,null,null,null,null,null,null,null,null,null,null,null,null,63,10,3,{"$f":"INDEX('Pregnancy-ConceptMap-1'!$I$15:$N$126,Q77+1,R77)","v":0}]
[null,null,null,null,null,null,null,null,null,null,null,null,null,null,null,64,10,4,{"$f":"INDEX('Pregnancy-ConceptMap-1'!$I$15:$N$126,Q78+1,R78)","v":0}]
[null,null,null,null,null,null,null,null,null,null,null,null,null,null,null,65,10,5,{"$f":"INDEX('Pregnancy-ConceptMap-1'!$I$15:$N$126,Q79+1,R79)","v":0}]
[null,null,null,null,null,null,null,null,null,null,null,null,null,null,null,66,{"$f":"IF(MOD(P80,$Q$8)=0,P80/$Q$8-1,INT(P80/$Q$8))","v":10},{"$f":"IF(MOD(P80,$Q$8)=0,$Q$8,MOD(P80,$Q$8))","v":6},{"$f":"INDEX('Pregnancy-ConceptMap-1'!$I$15:$N$126,Q80+1,R80)","v":0}]
[null,null,null,null,null,null,null,null,null,null,null,null,null,null,null,67,11,1,{"$f":"INDEX('Pregnancy-ConceptMap-1'!$I$15:$N$126,Q81+1,R81)","v":0}]
[null,null,null,null,null,null,null,null,null,null,null,null,null,null,null,68,11,2,{"$f":"INDEX('Pregnancy-ConceptMap-1'!$I$15:$N$126,Q82+1,R82)","v":0}]
[null,null,null,null,null,null,null,null,null,null,null,null,null,null,null,69,11,3,{"$f":"INDEX('Pregnancy-ConceptMap-1'!$I$15:$N$126,Q83+1,R83)","v":0}]
[null,null,null,null,null,null,null,null,null,null,null,null,null,null,null,70,11,4,{"$f":"INDEX('Pregnancy-ConceptMap-1'!$I$15:$N$126,Q84+1,R84)","v":0}]

{"sheet":"Pregnancy-ConceptMap-2","index":10,"n_rows":78,"n_cols":19,"rows_kept":78,"cut":false,"hidden":false,"merged":[[0,1,0,2],[2,4,2,6],[3,4,3,6],[5,4,5,6],[6,4,6,6]]}
[null,"MAPPING TO BE FURTHER INVESTIGATED\nTHIS MAP HAS TO BE CLEAN UP BY hand (REMOVE AN ADDIITONAL \")",null,null,null,"UPDATE TARGET"]
[]
[null,"Mapping","Pregnancy2Fhir","Source URI",{"$f":"\"http://hl7.eu/fhir/ig/xpandh/ps/StructureDefinition/\"&'A.2.3.3 Pregnancy'!B5","v":"http://hl7.eu/fhir/ig/xpandh/ps/StructureDefinition/Pregnancy"}]
[null,"Id","pregnancy2FHIR-eu-ps","Target URI","http://hl7.eu/fhir/ig/xpandh/ps/StructureDefinition/Composition-ps-xpandh"]
[null,"Title","eHN Recipient to this guide Map"]
[null,"Source",null,"Source Group",{"$f":"E3","v":"http://hl7.eu/fhir/ig/xpandh/ps/StructureDefinition/Pregnancy"}]
[null,"Target",null,"Target Group",{"$f":"E4","v":"http://hl7.eu/fhir/ig/xpandh/ps/StructureDefinition/Composition-ps-xpandh"}]
[null,"description","eHN Medical Devices Model to this guide Map",null,null,null,null,null,"* group[=].element[+].code = #Osiris.Patient.BirthDate","* group[=].element[=].display = \"Birth Date [C4]\"","* group[=].element[=].target.code = #Subject.dateOfBirth.date","* group[=].element[=].target.display = \"Date of birth\"","* group[=].element[=].target.equivalence = #equivalent",null,null,"Elements",6]
[null,"purpose","It shows how theMedical Devices Recipient data set defined by the EU eHN guidelines is mapped into this guide"]
[]
[null,null,null,null,null,null,null,null,"source:code","source:display","code","display","target to source","Comment"]
[]
[null,null,null,null,null,"target to source","Comment"]
[null,{"$f":"'A.2.3.3 Pregnancy'!B5","v":"Pregnancy"},null,"Observation"]
[null,{"$f":"'A.2.3.3 Pregnancy'!B8","v":"pregnancyStatus"},{"$f":"'A.2.3.3 Pregnancy'!C8","v":"A.2.6.1 Current pregnancy status"},null,null,"relatedto",null,null,{"$f":"\"* group[=].element[+].code = #\"&$B$14&\".\"&B15","v":"* group[=].element[+].code = #Pregnancy.pregnancyStatus"},{"$f":"\"* group[=].element[=].display = ##34#\"&C15&\"##34#\"","v":"* group[=].element[=].display = ##34#A.2.6.1 Current pregnancy status##34#"},{"$f":"IF(F15=\"unmatched\",\"//-- unmatched\",\"* group[=].element[=].target.code = #\"&$D$14&\".\"&D15)","v":"* group[=].element[=].target.code = #Observation."},{"$f":"IF(F15=\"unmatched\",\"//-- unmatched\",\"* group[=].element[=].target.display = ##34#\"&E15&\"##34#\")","v":"* group[=].element[=].target.display = ##34###34#"},{"$f":"\"* group[=].element[=].target.equivalence = #\"&F15","v":"* group[=].element[=].target.equivalence = #relatedto"},{"$f":"IF(G15<>\"\",CONCATENATE(\"* group[=].element[=].target.comment = \",\"##34#\",G15,\"##34#\"),\"\")","v":""},null,1,{"$f":"IF(MOD(P15,$Q$8)=0,P15/$Q$8-1,INT(P15/$Q$8))","v":0},{"$f":"IF(MOD(P15,$Q$8)=0,$Q$8,MOD(P15,$Q$8))","v":1},{"$f":"INDEX('Pregnancy-ConceptMap-2'!$I$15:$N$120,Q15+1,R15)","v":"* group[=].element[+].code = #Pregnancy.pregnancyStatus"}]
[null,{"$f":"'A.2.3.3 Pregnancy'!B9","v":"pregnancyStatus.dateOfObservation"},{"$f":"'A.2.3.3 Pregnancy'!C9","v":"A.2.6.1.1 Date of observation"},"effectiveDateTime",null,"equivalent",null,null,{"$f":"\"* group[=].element[+].code = #\"&$B$14&\".\"&B16","v":"* group[=].element[+].code = #Pregnancy.pregnancyStatus.dateOfObservation"},{"$f":"\"* group[=].element[=].display = ##34#\"&C16&\"##34#\"","v":"* group[=].element[=].display = ##34#A.2.6.1.1 Date of observation##34#"},{"$f":"IF(F16=\"unmatched\",\"//-- unmatched\",\"* group[=].element[=].target.code = #\"&$D$14&\".\"&D16)","v":"* group[=].element[=].target.code = #Observation.effectiveDateTime"},{"$f":"IF(F16=\"unmatched\",\"//-- unmatched\",\"* group[=].element[=].target.display = ##34#\"&E16&\"##34#\")","v":"* group[=].element[=].target.display = ##34###34#"},{"$f":"\"* group[=].element[=].target.equivalence = #\"&F16","v":"* group[=].element[=].target.equivalence = #equivalent"},"",null,2,{"$f":"IF(MOD(P16,$Q$8)=0,P16/$Q$8-1,INT(P16/$Q$8))","v":0},{"$f":"IF(MOD(P16,$Q$8)=0,$Q$8,MOD(P16,$Q$8))","v":2},{"$f":"INDEX('Pregnancy-ConceptMap-2'!$I$15:$N$120,Q16+1,R16)","v":"* group[=].element[=].display = ##34#A.2.6.1 Current pregnancy status##34#"}]
[null,{"$f":"'A.2.3.3 Pregnancy'!B10","v":"pregnancyStatus.status"},{"$f":"'A.2.3.3 Pregnancy'!C10","v":"A.2.6.1.2 Status"},"valueCodeabelConcept",null,"equivalent",null,null,"* group[=].element[+].code = #Pregnancy.pregnancyStatus.status","* group[=].element[=].display = ##34#A.2.6.1.2 Status##34#","* group[=].element[=].target.code = #Observation.valueCodeabelConcept","* group[=].element[=].target.display = ##34###34#","* group[=].element[=].target.equivalence = #equivalent","",null,3,0,3,{"$f":"INDEX('Pregnancy-ConceptMap-2'!$I$15:$N$120,Q17+1,R17)","v":"* group[=].element[=].target.code = #Observation."}]
[null,{"$f":"'A.2.3.3 Pregnancy'!B11","v":"pregnancyStatus.deliveryDate"},{"$f":"'A.2.3.3 Pregnancy'!C11","v":"A.2.6.1.3 Expected date of delivery"},"hasMember.valueDateTime",null,"equivalent","Where hasMember.code IN PregnancyExpectedDeliveryDateMethodUvIps value set",null,"* group[=].element[+].code = #Pregnancy.pregnancyStatus.deliveryDate","* group[=].element[=].display = ##34#A.2.6.1.3 Expected date of delivery##34#","* group[=].element[=].target.code = #Observation.hasMember.valueDateTime","* group[=].element[=].target.display = ##34###34#","* group[=].element[=].target.equivalence = #equivalent","* group[=].element[=].target.comment = ##34#Where hasMember.code IN PregnancyExpectedDeliveryDateMethodUvIps value set##34#",null,4,0,4,{"$f":"INDEX('Pregnancy-ConceptMap-2'!$I$15:$N$120,Q18+1,R18)","v":"* group[=].element[=].target.display = ##34###34#"}]
[null,null,null,null,null,null,null,null,null,null,null,null,null,null,null,5,0,5,{"$f":"INDEX('Pregnancy-ConceptMap-2'!$I$15:$N$120,Q19+1,R19)","v":"* group[=].element[=].target.equivalence = #relatedto"}]
[null,null,null,null,null,null,null,null,null,null,null,null,null,null,null,6,0,6,{"$f":"INDEX('Pregnancy-ConceptMap-2'!$I$15:$N$120,Q20+1,R20)","v":""}]
[null,null,null,null,null,null,null,null,null,null,null,null,null,{"$f":"IF(G21<>\"\",CONCATENATE(\"* group[=].element[=].target.comment = \",\"##34#\",G21,\"##34#\"),\"\")","v":""},null,7,1,1,{"$f":"INDEX('Pregnancy-ConceptMap-2'!$I$15:$N$120,Q21+1,R21)","v":"* group[=].element[+].code = #Pregnancy.pregnancyStatus.dateOfObservation"}]
[null,null,null,null,null,null,null,null,null,null,null,null,null,"",null,8,1,2,{"$f":"INDEX('Pregnancy-ConceptMap-2'!$I$15:$N$120,Q22+1,R22)","v":"* group[=].element[=].display = ##34#A.2.6.1.1 Date of observation##34#"}]
[null,null,null,null,null,null,null,null,null,null,null,null,null,"",null,9,1,3,{"$f":"INDEX('Pregnancy-ConceptMap-2'!$I$15:$N$120,Q23+1,R23)","v":"* group[=].element[=].target.code = #Observation.effectiveDateTime"}]
[null,null,null,null,null,null,null,null,null,null,null,null,null,"",null,10,1,4,{"$f":"INDEX('Pregnancy-ConceptMap-2'!$I$15:$N$120,Q24+1,R24)","v":"* group[=].element[=].target.display = ##34###34#"}]
[null,null,null,null,null,null,null,null,null,null,null,null,null,"",null,11,1,5,{"$f":"INDEX('Pregnancy-ConceptMap-2'!$I$15:$N$120,Q25+1,R25)","v":"* group[=].element[=].target.equivalence = #equivalent"}]
[null,null,null,null,null,null,null,null,null,null,null,null,null,"",null,12,1,6,{"$f":"INDEX('Pregnancy-ConceptMap-2'!$I$15:$N$120,Q26+1,R26)","v":""}]
[null,null,null,null,null,null,null,null,null,null,null,null,null,"",null,13,2,1,{"$f":"INDEX('Pregnancy-ConceptMap-2'!$I$15:$N$120,Q27+1,R27)","v":"* group[=].element[+].code = #Pregnancy.pregnancyStatus.status"}]
[null,null,null,null,null,null,null,null,null,null,null,null,null,"",null,14,2,2,{"$f":"INDEX('Pregnancy-ConceptMap-2'!$I$15:$N$120,Q28+1,R28)","v":"* group[=].element[=].display = ##34#A.2.6.1.2 Status##34#"}]
[null,null,null,null,null,null,null,null,null,null,null,null,null,"",null,15,2,3,{"$f":"INDEX('Pregnancy-ConceptMap-2'!$I$15:$N$120,Q29+1,R29)","v":"* group[=].element[=].target.code = #Observation.valueCodeabelConcept"}]
[null,null,null,null,null,null,null,null,null,null,null,null,null,"",null,16,2,4,{"$f":"INDEX('Pregnancy-ConceptMap-2'!$I$15:$N$120,Q30+1,R30)","v":"* group[=].element[=].target.display = ##34###34#"}]
[null,null,null,null,null,null,null,null,null,null,null,null,null,"",null,17,2,5,{"$f":"INDEX('Pregnancy-ConceptMap-2'!$I$15:$N$120,Q31+1,R31)","v":"* group[=].element[=].target.equivalence = #equivalent"}]
[null,null,null,null,null,null,null,null,null,null,null,null,null,"",null,18,2,6,{"$f":"INDEX('Pregnancy-ConceptMap-2'!$I$15:$N$120,Q32+1,R32)","v":""}]
[null,null,null,null,null,null,null,null,null,null,null,null,null,"",null,19,3,1,{"$f":"INDEX('Pregnancy-ConceptMap-2'!$I$15:$N$120,Q33+1,R33)","v":"* group[=].element[+].code = #Pregnancy.pregnancyStatus.deliveryDate"}]
[null,null,null,null,null,null,null,null,null,null,null,null,null,"",null,20,3,2,{"$f":"INDEX('Pregnancy-ConceptMap-2'!$I$15:$N$120,Q34+1,R34)","v":"* group[=].element[=].display = ##34#A.2.6.1.3 Expected date of delivery##34#"}]
[null,null,null,null,null,null,null,null,null,null,null,null,null,"",null,21,3,3,{"$f":"INDEX('Pregnancy-ConceptMap-2'!$I$15:$N$120,Q35+1,R35)","v":"* group[=].element[=].target.code = #Observation.hasMember.valueDateTime"}]
[null,null,null,null,null,null,null,null,null,null,null,null,null,"",null,22,3,4,{"$f":"INDEX('Pregnancy-ConceptMap-2'!$I$15:$N$120,Q36+1,R36)","v":"* group[=].element[=].target.display = ##34###34#"}]
[null,null,null,null,null,null,null,null,null,null,null,null,null,"",null,23,3,5,{"$f":"INDEX('Pregnancy-ConceptMap-2'!$I$15:$N$120,Q37+1,R37)","v":"* group[=].element[=].target.equivalence = #equivalent"}]
[null,null,null,null,null,null,null,null,null,null,null,null,null,"",null,24,3,6,{"$f":"INDEX('Pregnancy-ConceptMap-2'!$I$15:$N$120,Q38+1,R38)","v":"* group[=].element[=].target.comment = ##34#Where hasMember.code IN PregnancyExpectedDeliveryDateMethodUvIps value set##34#"}]
[null,null,null,null,null,null,null,null,null,null,null,null,null,"",null,25,4,1,{"$f":"INDEX('Pregnancy-ConceptMap-2'!$I$15:$N$120,Q39+1,R39)","v":0}]
[null,null,null,null,null,null,null,null,null,null,null,null,null,"",null,26,4,2,{"$f":"INDEX('Pregnancy-ConceptMap-2'!$I$15:$N$120,Q40+1,R40)","v":0}]
[null,null,null,null,null,null,null,null,null,null,null,null,null,null,null,27,4,3,{"$f":"INDEX('Pregnancy-ConceptMap-2'!$I$15:$N$120,Q41+1,R41)","v":0}]
[null,null,null,null,null,null,null,null,null,null,null,null,null,null,null,28,4,4,{"$f":"INDEX('Pregnancy-ConceptMap-2'!$I$15:$N$120,Q42+1,R42)","v":0}]
[null,null,null,null,null,null,null,null,null,null,null,null,null,null,null,29,4,5,{"$f":"INDEX('Pregnancy-ConceptMap-2'!$I$15:$N$120,Q43+1,R43)","v":0}]
[null,null,null,null,null,null,null,null,null,null,null,null,null,null,null,30,4,6,{"$f":"INDEX('Pregnancy-ConceptMap-2'!$I$15:$N$120,Q44+1,R44)","v":0}]
[null,null,null,null,null,null,null,null,null,null,null,null,null,null,null,31,5,1,{"$f":"INDEX('Pregnancy-ConceptMap-2'!$I$15:$N$120,Q45+1,R45)","v":0}]
[null,null,null,null,null,null,null,null,null,null,null,null,null,null,null,32,5,2,{"$f":"INDEX('Pregnancy-ConceptMap-2'!$I$15:$N$120,Q46+1,R46)","v":0}]
[null,null,null,null,null,null,null,null,null,null,null,null,null,null,null,33,5,3,{"$f":"INDEX('Pregnancy-ConceptMap-2'!$I$15:$N$120,Q47+1,R47)","v":0}]
[null,null,null,null,null,null,null,null,null,null,null,null,null,null,null,34,5,4,{"$f":"INDEX('Pregnancy-ConceptMap-2'!$I$15:$N$120,Q48+1,R48)","v":0}]
[null,null,null,null,null,null,null,null,null,null,null,null,null,null,null,35,5,5,{"$f":"INDEX('Pregnancy-ConceptMap-2'!$I$15:$N$120,Q49+1,R49)","v":0}]
[null,null,null,null,null,null,null,null,null,null,null,null,null,null,null,36,5,6,{"$f":"INDEX('Pregnancy-ConceptMap-2'!$I$15:$N$120,Q50+1,R50)","v":0}]
[null,null,null,null,null,null,null,null,null,null,null,null,null,null,null,37,6,1,{"$f":"INDEX('Pregnancy-ConceptMap-2'!$I$15:$N$120,Q51+1,R51)","v":0}]
[null,null,null,null,null,null,null,null,null,null,null,null,null,null,null,38,6,2,{"$f":"INDEX('Pregnancy-ConceptMap-2'!$I$15:$N$120,Q52+1,R52)","v":0}]
[null,null,null,null,null,null,null,null,null,null,null,null,null,null,null,39,6,3,{"$f":"INDEX('Pregnancy-ConceptMap-2'!$I$15:$N$120,Q53+1,R53)","v":0}]
[null,null,null,null,null,null,null,null,null,null,null,null,null,null,null,40,6,4,{"$f":"INDEX('Pregnancy-ConceptMap-2'!$I$15:$N$120,Q54+1,R54)","v":0}]
[null,null,null,null,null,null,null,null,null,null,null,null,null,null,null,41,6,5,{"$f":"INDEX('Pregnancy-ConceptMap-2'!$I$15:$N$120,Q55+1,R55)","v":0}]
[null,null,null,null,null,null,null,null,null,null,null,null,null,null,null,42,6,6,{"$f":"INDEX('Pregnancy-ConceptMap-2'!$I$15:$N$120,Q56+1,R56)","v":""}]
[null,null,null,null,null,null,null,null,null,null,null,null,null,null,null,43,7,1,{"$f":"INDEX('Pregnancy-ConceptMap-2'!$I$15:$N$120,Q57+1,R57)","v":0}]
[null,null,null,null,null,null,null,null,null,null,null,null,null,null,null,44,7,2,{"$f":"INDEX('Pregnancy-ConceptMap-2'!$I$15:$N$120,Q58+1,R58)","v":0}]
[null,null,null,null,null,null,null,null,null,null,null,null,null,null,null,45,7,3,{"$f":"INDEX('Pregnancy-ConceptMap-2'!$I$15:$N$120,Q59+1,R59)","v":0}]
[null,null,null,null,null,null,null,null,null,null,null,null,null,null,null,46,7,4,{"$f":"INDEX('Pregnancy-ConceptMap-2'!$I$15:$N$120,Q60+1,R60)","v":0}]
[null,null,null,null,null,null,null,null,null,null,null,null,null,null,null,47,7,5,{"$f":"INDEX('Pregnancy-ConceptMap-2'!$I$15:$N$120,Q61+1,R61)","v":0}]
[null,null,null,null,null,null,null,null,null,null,null,null,null,null,null,48,7,6,{"$f":"INDEX('Pregnancy-ConceptMap-2'!$I$15:$N$120,Q62+1,R62)","v":""}]
[null,null,null,null,null,null,null,null,null,null,null,null,null,null,null,49,8,1,{"$f":"INDEX('Pregnancy-ConceptMap-2'!$I$15:$N$120,Q63+1,R63)","v":0}]
[null,null,null,null,null,null,null,null,null,null,null,null,null,null,null,50,8,2,{"$f":"INDEX('Pregnancy-ConceptMap-2'!$I$15:$N$120,Q64+1,R64)","v":0}]
[null,null,null,null,null,null,null,null,null,null,null,null,null,null,null,51,8,3,{"$f":"INDEX('Pregnancy-ConceptMap-2'!$I$15:$N$120,Q65+1,R65)","v":0}]
[null,null,null,null,null,null,null,null,null,null,null,null,null,null,null,52,8,4,{"$f":"INDEX('Pregnancy-ConceptMap-2'!$I$15:$N$120,Q66+1,R66)","v":0}]
[null,null,null,null,null,null,null,null,null,null,null,null,null,null,null,53,8,5,{"$f":"INDEX('Pregnancy-ConceptMap-2'!$I$15:$N$120,Q67+1,R67)","v":0}]
[null,null,null,null,null,null,null,null,null,null,null,null,null,null,null,54,8,6,{"$f":"INDEX('Pregnancy-ConceptMap-2'!$I$15:$N$120,Q68+1,R68)","v":""}]
[null,null,null,null,null,null,null,null,null,null,null,null,null,null,null,55,9,1,{"$f":"INDEX('Pregnancy-ConceptMap-2'!$I$15:$N$120,Q69+1,R69)","v":0}]
[null,null,null,null,null,null,null,null,null,null,null,null,null,null,null,56,9,2,{"$f":"INDEX('Pregnancy-ConceptMap-2'!$I$15:$N$120,Q70+1,R70)","v":0}]
[null,null,null,null,null,null,null,null,null,null,null,null,null,null,null,57,9,3,{"$f":"INDEX('Pregnancy-ConceptMap-2'!$I$15:$N$120,Q71+1,R71)","v":0}]
[null,null,null,null,null,null,null,null,null,null,null,null,null,null,null,58,9,4,{"$f":"INDEX('Pregnancy-ConceptMap-2'!$I$15:$N$120,Q72+1,R72)","v":0}]
[null,null,null,null,null,null,null,null,null,null,null,null,null,null,null,59,9,5,{"$f":"INDEX('Pregnancy-ConceptMap-2'!$I$15:$N$120,Q73+1,R73)","v":0}]
[null,null,null,null,null,null,null,null,null,null,null,null,null,null,null,60,9,6,{"$f":"INDEX('Pregnancy-ConceptMap-2'!$I$15:$N$120,Q74+1,R74)","v":""}]
[null,null,null,null,null,null,null,null,null,null,null,null,null,null,null,61,10,1,{"$f":"INDEX('Pregnancy-ConceptMap-2'!$I$15:$N$120,Q75+1,R75)","v":0}]
[null,null,null,null,null,null,null,null,null,null,null,null,null,null,null,62,10,2,{"$f":"INDEX('Pregnancy-ConceptMap-2'!$I$15:$N$120,Q76+1,R76)","v":0}]
[null,null,null,null,null,null,null,null,null,null,null,null,null,null,null,63,10,3,{"$f":"INDEX('Pregnancy-ConceptMap-2'!$I$15:$N$120,Q77+1,R77)","v":0}]
[null,null,null,null,null,null,null,null,null,null,null,null,null,null,null,64,10,4,{"$f":"INDEX('Pregnancy-ConceptMap-2'!$I$15:$N$120,Q78+1,R78)","v":0}]

{"sheet":"Pregnancy-ConceptMap-3","index":11,"n_rows":80,"n_cols":19,"rows_kept":80,"cut":false,"hidden":false,"merged":[[0,1,0,2],[2,4,2,6],[3,4,3,6],[5,4,5,6],[6,4,6,6]]}
[null,"MAPPING TO BE FURTHER INVESTIGATED\nTHIS MAP HAS TO BE CLEAN UP BY hand (REMOVE AN ADDIITONAL \")",null,null,"UPDATE TARGET"]
[]
[null,"Mapping","Pregnancy2Fhir","Source URI",{"$f":"\"http://hl7.eu/fhir/ig/xpandh/ps/StructureDefinition/\"&'A.2.3.3 Pregnancy'!B5","v":"http://hl7.eu/fhir/ig/xpandh/ps/StructureDefinition/Pregnancy"}]
[null,"Id","pregnancy2FHIR-eu-ps","Target URI","http://hl7.eu/fhir/ig/xpandh/ps/StructureDefinition/Composition-ps-xpandh"]
[null,"Title","eHN Recipient to this guide Map"]
[null,"Source",null,"Source Group",{"$f":"E3","v":"http://hl7.eu/fhir/ig/xpandh/ps/StructureDefinition/Pregnancy"}]
[null,"Target",null,"Target Group",{"$f":"E4","v":"http://hl7.eu/fhir/ig/xpandh/ps/StructureDefinition/Composition-ps-xpandh"}]
[null,"description","eHN Medical Devices Model to this guide Map",null,null,null,null,null,"* group[=].element[+].code = #Osiris.Patient.BirthDate","* group[=].element[=].display = \"Birth Date [C4]\"","* group[=].element[=].target.code = #Subject.dateOfBirth.date","* group[=].element[=].target.display = \"Date of birth\"","* group[=].element[=].target.equivalence = #equivalent",null,null,"Elements",6]
[null,"purpose","It shows how theMedical Devices Recipient data set defined by the EU eHN guidelines is mapped into this guide"]
[]
[null,null,null,null,null,null,null,null,"source:code","source:display","code","display","target to source","Comment"]
[]
[null,null,null,null,null,"target to source","Comment"]
[null,{"$f":"'A.2.3.3 Pregnancy'!B5","v":"Pregnancy"},null,"Observation"]
[null,{"$f":"'A.2.3.3 Pregnancy'!B12","v":"hxPreviousPregnancies"},{"$f":"'A.2.3.3 Pregnancy'!C12","v":"A.2.6.2 History of previous pregnancies"},null,null,"relatedto",null,null,{"$f":"\"* group[=].element[+].code = #\"&$B$14&\".\"&B15","v":"* group[=].element[+].code = #Pregnancy.hxPreviousPregnancies"},{"$f":"\"* group[=].element[=].display = ##34#\"&C15&\"##34#\"","v":"* group[=].element[=].display = ##34#A.2.6.2 History of previous pregnancies##34#"},{"$f":"IF(F15=\"unmatched\",\"//-- unmatched\",\"* group[=].element[=].target.code = #\"&$D$14&\".\"&D15)","v":"* group[=].element[=].target.code = #Observation."},{"$f":"IF(F15=\"unmatched\",\"//-- unmatched\",\"* group[=].element[=].target.display = ##34#\"&E15&\"##34#\")","v":"* group[=].element[=].target.display = ##34###34#"},{"$f":"\"* group[=].element[=].target.equivalence = #\"&F15","v":"* group[=].element[=].target.equivalence = #relatedto"},{"$f":"IF(G15<>\"\",CONCATENATE(\"* group[=].element[=].target.comment = \",\"##34#\",G15,\"##34#\"),\"\")","v":""},null,1,{"$f":"IF(MOD(P15,$Q$8)=0,P15/$Q$8-1,INT(P15/$Q$8))","v":0},{"$f":"IF(MOD(P15,$Q$8)=0,$Q$8,MOD(P15,$Q$8))","v":1},{"$f":"INDEX('Pregnancy-ConceptMap-3'!$I$15:$N$122,Q15+1,R15)","v":"* group[=].element[+].code = #Pregnancy.hxPreviousPregnancies"}]
[null,{"$f":"'A.2.3.3 Pregnancy'!B13","v":"hxPreviousPregnancies.status"},{"$f":"'A.2.3.3 Pregnancy'!C13","v":"A.2.6.2.1 Previous pregnancies status"},"section:sectionPregnancyHx.entry",null,"relatedto","Observation profile to be added",null,{"$f":"\"* group[=].element[+].code = #\"&$B$14&\".\"&B16","v":"* group[=].element[+].code = #Pregnancy.hxPreviousPregnancies.status"},{"$f":"\"* group[=].element[=].display = ##34#\"&C16&\"##34#\"","v":"* group[=].element[=].display = ##34#A.2.6.2.1 Previous pregnancies status##34#"},{"$f":"IF(F16=\"unmatched\",\"//-- unmatched\",\"* group[=].element[=].target.code = #\"&$D$14&\".\"&D16)","v":"* group[=].element[=].target.code = #Observation.section:sectionPregnancyHx.entry"},{"$f":"IF(F16=\"unmatched\",\"//-- unmatched\",\"* group[=].element[=].target.display = ##34#\"&E16&\"##34#\")","v":"* group[=].element[=].target.display = ##34###34#"},{"$f":"\"* group[=].element[=].target.equivalence = #\"&F16","v":"* group[=].element[=].target.equivalence = #relatedto"},{"$f":"IF(G16<>\"\",CONCATENATE(\"* group[=].element[=].target.comment = \",\"##34#\",G16,\"##34#\"),\"\")","v":"* group[=].element[=].target.comment = ##34#Observation profile to be added##34#"},null,2,{"$f":"IF(MOD(P16,$Q$8)=0,P16/$Q$8-1,INT(P16/$Q$8))","v":0},{"$f":"IF(MOD(P16,$Q$8)=0,$Q$8,MOD(P16,$Q$8))","v":2},{"$f":"INDEX('Pregnancy-ConceptMap-3'!$I$15:$N$122,Q16+1,R16)","v":"* group[=].element[=].display = ##34#A.2.6.2 History of previous pregnancies##34#"}]
[null,{"$f":"'A.2.3.3 Pregnancy'!B14","v":"hxPreviousPregnancies.description"},{"$f":"'A.2.3.3 Pregnancy'!C14","v":"A.2.6.2.2 Previous pregnancies description"},null,null,"relatedto","To be checked",null,"* group[=].element[+].code = #Pregnancy.hxPreviousPregnancies.description","* group[=].element[=].display = ##34#A.2.6.2.2 Previous pregnancies description##34#","* group[=].element[=].target.code = #Observation.","* group[=].element[=].target.display = ##34###34#","* group[=].element[=].target.equivalence = #relatedto","* group[=].element[=].target.comment = ##34#To be checked##34#",null,3,0,3,{"$f":"INDEX('Pregnancy-ConceptMap-3'!$I$15:$N$122,Q17+1,R17)","v":"* group[=].element[=].target.code = #Observation."}]
[null,{"$f":"'A.2.3.3 Pregnancy'!B15","v":"hxPreviousPregnancies.description.outcomeDate"},{"$f":"'A.2.3.3 Pregnancy'!C15","v":"A.2.6.2.2.1 Outcome date"},"effectiveDateTime",null,"equivalent",null,null,"* group[=].element[+].code = #Pregnancy.hxPreviousPregnancies.description.outcomeDate","* group[=].element[=].display = ##34#A.2.6.2.2.1 Outcome date##34#","* group[=].element[=].target.code = #Observation.effectiveDateTime","* group[=].element[=].target.display = ##34###34#","* group[=].element[=].target.equivalence = #equivalent","",null,4,0,4,{"$f":"INDEX('Pregnancy-ConceptMap-3'!$I$15:$N$122,Q18+1,R18)","v":"* group[=].element[=].target.display = ##34###34#"}]
[null,{"$f":"'A.2.3.3 Pregnancy'!B16","v":"hxPreviousPregnancies.description.outcome"},{"$f":"'A.2.3.3 Pregnancy'!C16","v":"A.2.6.2.2.2 Outcome"},"code",null,"equivalent","to be checked",null,"* group[=].element[+].code = #Pregnancy.hxPreviousPregnancies.description.outcome","* group[=].element[=].display = ##34#A.2.6.2.2.2 Outcome##34#","* group[=].element[=].target.code = #Observation.code","* group[=].element[=].target.display = ##34###34#","* group[=].element[=].target.equivalence = #equivalent","* group[=].element[=].target.comment = ##34#to be checked##34#",null,5,0,5,{"$f":"INDEX('Pregnancy-ConceptMap-3'!$I$15:$N$122,Q19+1,R19)","v":"* group[=].element[=].target.equivalence = #relatedto"}]
[null,{"$f":"'A.2.3.3 Pregnancy'!B17","v":"hxPreviousPregnancies.description.numberOfChildren"},{"$f":"'A.2.3.3 Pregnancy'!C17","v":"A.2.6.2.2.3 Number of children"},"valueQuentity",null,"equivalent",null,null,"* group[=].element[+].code = #Pregnancy.hxPreviousPregnancies.description.numberOfChildren","* group[=].element[=].display = ##34#A.2.6.2.2.3 Number of children##34#","* group[=].element[=].target.code = #Observation.valueQuentity","* group[=].element[=].target.display = ##34###34#","* group[=].element[=].target.equivalence = #equivalent","",null,6,0,6,{"$f":"INDEX('Pregnancy-ConceptMap-3'!$I$15:$N$122,Q20+1,R20)","v":""}]
[null,null,null,null,null,null,null,null,null,null,null,null,null,null,null,7,1,1,{"$f":"INDEX('Pregnancy-ConceptMap-3'!$I$15:$N$122,Q21+1,R21)","v":"* group[=].element[+].code = #Pregnancy.hxPreviousPregnancies.status"}]
[null,null,null,null,null,null,null,null,null,null,null,null,null,null,null,8,1,2,{"$f":"INDEX('Pregnancy-ConceptMap-3'!$I$15:$N$122,Q22+1,R22)","v":"* group[=].element[=].display = ##34#A.2.6.2.1 Previous pregnancies status##34#"}]
[null,null,null,null,null,null,null,null,null,null,null,null,null,{"$f":"IF(G23<>\"\",CONCATENATE(\"* group[=].element[=].target.comment = \",\"##34#\",G23,\"##34#\"),\"\")","v":""},null,9,1,3,{"$f":"INDEX('Pregnancy-ConceptMap-3'!$I$15:$N$122,Q23+1,R23)","v":"* group[=].element[=].target.code = #Observation.section:sectionPregnancyHx.entry"}]
[null,null,null,null,null,null,null,null,null,null,null,null,null,"",null,10,1,4,{"$f":"INDEX('Pregnancy-ConceptMap-3'!$I$15:$N$122,Q24+1,R24)","v":"* group[=].element[=].target.display = ##34###34#"}]
[null,null,null,null,null,null,null,null,null,null,null,null,null,"",null,11,1,5,{"$f":"INDEX('Pregnancy-ConceptMap-3'!$I$15:$N$122,Q25+1,R25)","v":"* group[=].element[=].target.equivalence = #relatedto"}]
[null,null,null,null,null,null,null,null,null,null,null,null,null,"",null,12,1,6,{"$f":"INDEX('Pregnancy-ConceptMap-3'!$I$15:$N$122,Q26+1,R26)","v":"* group[=].element[=].target.comment = ##34#Observation profile to be added##34#"}]
[null,null,null,null,null,null,null,null,null,null,null,null,null,"",null,13,2,1,{"$f":"INDEX('Pregnancy-ConceptMap-3'!$I$15:$N$122,Q27+1,R27)","v":"* group[=].element[+].code = #Pregnancy.hxPreviousPregnancies.description"}]
[null,null,null,null,null,null,null,null,null,null,null,null,null,"",null,14,2,2,{"$f":"INDEX('Pregnancy-ConceptMap-3'!$I$15:$N$122,Q28+1,R28)","v":"* group[=].element[=].display = ##34#A.2.6.2.2 Previous pregnancies description##34#"}]
[null,null,null,null,null,null,null,null,null,null,null,null,null,"",null,15,2,3,{"$f":"INDEX('Pregnancy-ConceptMap-3'!$I$15:$N$122,Q29+1,R29)","v":"* group[=].element[=].target.code = #Observation."}]
[null,null,null,null,null,null,null,null,null,null,null,null,null,"",null,16,2,4,{"$f":"INDEX('Pregnancy-ConceptMap-3'!$I$15:$N$122,Q30+1,R30)","v":"* group[=].element[=].target.display = ##34###34#"}]
[null,null,null,null,null,null,null,null,null,null,null,null,null,"",null,17,2,5,{"$f":"INDEX('Pregnancy-ConceptMap-3'!$I$15:$N$122,Q31+1,R31)","v":"* group[=].element[=].target.equivalence = #relatedto"}]
[null,null,null,null,null,null,null,null,null,null,null,null,null,"",null,18,2,6,{"$f":"INDEX('Pregnancy-ConceptMap-3'!$I$15:$N$122,Q32+1,R32)","v":"* group[=].element[=].target.comment = ##34#To be checked##34#"}]
[null,null,null,null,null,null,null,null,null,null,null,null,null,"",null,19,3,1,{"$f":"INDEX('Pregnancy-ConceptMap-3'!$I$15:$N$122,Q33+1,R33)","v":"* group[=].element[+].code = #Pregnancy.hxPreviousPregnancies.description.outcomeDate"}]
[null,null,null,null,null,null,null,null,null,null,null,null,null,"",null,20,3,2,{"$f":"INDEX('Pregnancy-ConceptMap-3'!$I$15:$N$122,Q34+1,R34)","v":"* group[=].element[=].display = ##34#A.2.6.2.2.1 Outcome date##34#"}]
[null,null,null,null,null,null,null,null,null,null,null,null,null,"",null,21,3,3,{"$f":"INDEX('Pregnancy-ConceptMap-3'!$I$15:$N$122,Q35+1,R35)","v":"* group[=].element[=].target.code = #Observation.effectiveDateTime"}]
[null,null,null,null,null,null,null,null,null,null,null,null,null,"",null,22,3,4,{"$f":"INDEX('Pregnancy-ConceptMap-3'!$I$15:$N$122,Q36+1,R36)","v":"* group[=].element[=].target.display = ##34###34#"}]
[null,null,null,null,null,null,null,null,null,null,null,null,null,"",null,23,3,5,{"$f":"INDEX('Pregnancy-ConceptMap-3'!$I$15:$N$122,Q37+1,R37)","v":"* group[=].element[=].target.equivalence = #equivalent"}]
[null,null,null,null,null,null,null,null,null,null,null,null,null,"",null,24,3,6,{"$f":"INDEX('Pregnancy-ConceptMap-3'!$I$15:$N$122,Q38+1,R38)","v":""}]
[null,null,null,null,null,null,null,null,null,null,null,null,null,"",null,25,4,1,{"$f":"INDEX('Pregnancy-ConceptMap-3'!$I$15:$N$122,Q39+1,R39)","v":"* group[=].element[+].code = #Pregnancy.hxPreviousPregnancies.description.outcome"}]
[null,null,null,null,null,null,null,null,null,null,null,null,null,"",null,26,4,2,{"$f":"INDEX('Pregnancy-ConceptMap-3'!$I$15:$N$122,Q40+1,R40)","v":"* group[=].element[=].display = ##34#A.2.6.2.2.2 Outcome##34#"}]
[null,null,null,null,null,null,null,null,null,null,null,null,null,"",null,27,4,3,{"$f":"INDEX('Pregnancy-ConceptMap-3'!$I$15:$N$122,Q41+1,R41)","v":"* group[=].element[=].target.code = #Observation.code"}]
[null,null,null,null,null,null,null,null,null,null,null,null,null,"",null,28,4,4,{"$f":"INDEX('Pregnancy-ConceptMap-3'!$I$15:$N$122,Q42+1,R42)","v":"* group[=].element[=].target.display = ##34###34#"}]
[null,null,null,null,null,null,null,null,null,null,null,null,null,null,null,29,4,5,{"$f":"INDEX('Pregnancy-ConceptMap-3'!$I$15:$N$122,Q43+1,R43)","v":"* group[=].element[=].target.equivalence = #equivalent"}]
[null,null,null,null,null,null,null,null,null,null,null,null,null,null,null,30,4,6,{"$f":"INDEX('Pregnancy-ConceptMap-3'!$I$15:$N$122,Q44+1,R44)","v":"* group[=].element[=].target.comment = ##34#to be checked##34#"}]
[null,null,null,null,null,null,null,null,null,null,null,null,null,null,null,31,5,1,{"$f":"INDEX('Pregnancy-ConceptMap-3'!$I$15:$N$122,Q45+1,R45)","v":"* group[=].element[+].code = #Pregnancy.hxPreviousPregnancies.description.numberOfChildren"}]
[null,null,null,null,null,null,null,null,null,null,null,null,null,null,null,32,5,2,{"$f":"INDEX('Pregnancy-ConceptMap-3'!$I$15:$N$122,Q46+1,R46)","v":"* group[=].element[=].display = ##34#A.2.6.2.2.3 Number of children##34#"}]
[null,null,null,null,null,null,null,null,null,null,null,null,null,null,null,33,5,3,{"$f":"INDEX('Pregnancy-ConceptMap-3'!$I$15:$N$122,Q47+1,R47)","v":"* group[=].element[=].target.code = #Observation.valueQuentity"}]
[null,null,null,null,null,null,null,null,null,null,null,null,null,null,null,34,5,4,{"$f":"INDEX('Pregnancy-ConceptMap-3'!$I$15:$N$122,Q48+1,R48)","v":"* group[=].element[=].target.display = ##34###34#"}]
[null,null,null,null,null,null,null,null,null,null,null,null,null,null,null,35,5,5,{"$f":"INDEX('Pregnancy-ConceptMap-3'!$I$15:$N$122,Q49+1,R49)","v":"* group[=].element[=].target.equivalence = #equivalent"}]
[null,null,null,null,null,null,null,null,null,null,null,null,null,null,null,36,5,6,{"$f":"INDEX('Pregnancy-ConceptMap-3'!$I$15:$N$122,Q50+1,R50)","v":""}]
[null,null,null,null,null,null,null,null,null,null,null,null,null,null,null,37,6,1,{"$f":"INDEX('Pregnancy-ConceptMap-3'!$I$15:$N$122,Q51+1,R51)","v":0}]
[null,null,null,null,null,null,null,null,null,null,null,null,null,null,null,38,6,2,{"$f":"INDEX('Pregnancy-ConceptMap-3'!$I$15:$N$122,Q52+1,R52)","v":0}]
[null,null,null,null,null,null,null,null,null,null,null,null,null,null,null,39,6,3,{"$f":"INDEX('Pregnancy-ConceptMap-3'!$I$15:$N$122,Q53+1,R53)","v":0}]
[null,null,null,null,null,null,null,null,null,null,null,null,null,null,null,40,6,4,{"$f":"INDEX('Pregnancy-ConceptMap-3'!$I$15:$N$122,Q54+1,R54)","v":0}]
[null,null,null,null,null,null,null,null,null,null,null,null,null,null,null,41,6,5,{"$f":"INDEX('Pregnancy-ConceptMap-3'!$I$15:$N$122,Q55+1,R55)","v":0}]
[null,null,null,null,null,null,null,null,null,null,null,null,null,null,null,42,6,6,{"$f":"INDEX('Pregnancy-ConceptMap-3'!$I$15:$N$122,Q56+1,R56)","v":0}]
[null,null,null,null,null,null,null,null,null,null,null,null,null,null,null,43,7,1,{"$f":"INDEX('Pregnancy-ConceptMap-3'!$I$15:$N$122,Q57+1,R57)","v":0}]
[null,null,null,null,null,null,null,null,null,null,null,null,null,null,null,44,7,2,{"$f":"INDEX('Pregnancy-ConceptMap-3'!$I$15:$N$122,Q58+1,R58)","v":0}]
[null,null,null,null,null,null,null,null,null,null,null,null,null,null,null,45,7,3,{"$f":"INDEX('Pregnancy-ConceptMap-3'!$I$15:$N$122,Q59+1,R59)","v":0}]
[null,null,null,null,null,null,null,null,null,null,null,null,null,null,null,46,7,4,{"$f":"INDEX('Pregnancy-ConceptMap-3'!$I$15:$N$122,Q60+1,R60)","v":0}]
[null,null,null,null,null,null,null,null,null,null,null,null,null,null,null,47,7,5,{"$f":"INDEX('Pregnancy-ConceptMap-3'!$I$15:$N$122,Q61+1,R61)","v":0}]
[null,null,null,null,null,null,null,null,null,null,null,null,null,null,null,48,7,6,{"$f":"INDEX('Pregnancy-ConceptMap-3'!$I$15:$N$122,Q62+1,R62)","v":0}]
[null,null,null,null,null,null,null,null,null,null,null,null,null,null,null,49,8,1,{"$f":"INDEX('Pregnancy-ConceptMap-3'!$I$15:$N$122,Q63+1,R63)","v":0}]
[null,null,null,null,null,null,null,null,null,null,null,null,null,null,null,50,8,2,{"$f":"INDEX('Pregnancy-ConceptMap-3'!$I$15:$N$122,Q64+1,R64)","v":0}]
[null,null,null,null,null,null,null,null,null,null,null,null,null,null,null,51,8,3,{"$f":"INDEX('Pregnancy-ConceptMap-3'!$I$15:$N$122,Q65+1,R65)","v":0}]
[null,null,null,null,null,null,null,null,null,null,null,null,null,null,null,52,8,4,{"$f":"INDEX('Pregnancy-ConceptMap-3'!$I$15:$N$122,Q66+1,R66)","v":0}]
[null,null,null,null,null,null,null,null,null,null,null,null,null,null,null,53,8,5,{"$f":"INDEX('Pregnancy-ConceptMap-3'!$I$15:$N$122,Q67+1,R67)","v":0}]
[null,null,null,null,null,null,null,null,null,null,null,null,null,null,null,54,8,6,{"$f":"INDEX('Pregnancy-ConceptMap-3'!$I$15:$N$122,Q68+1,R68)","v":""}]
[null,null,null,null,null,null,null,null,null,null,null,null,null,null,null,55,9,1,{"$f":"INDEX('Pregnancy-ConceptMap-3'!$I$15:$N$122,Q69+1,R69)","v":0}]
[null,null,null,null,null,null,null,null,null,null,null,null,null,null,null,56,9,2,{"$f":"INDEX('Pregnancy-ConceptMap-3'!$I$15:$N$122,Q70+1,R70)","v":0}]
[null,null,null,null,null,null,null,null,null,null,null,null,null,null,null,57,9,3,{"$f":"INDEX('Pregnancy-ConceptMap-3'!$I$15:$N$122,Q71+1,R71)","v":0}]
[null,null,null,null,null,null,null,null,null,null,null,null,null,null,null,58,9,4,{"$f":"INDEX('Pregnancy-ConceptMap-3'!$I$15:$N$122,Q72+1,R72)","v":0}]
[null,null,null,null,null,null,null,null,null,null,null,null,null,null,null,59,9,5,{"$f":"INDEX('Pregnancy-ConceptMap-3'!$I$15:$N$122,Q73+1,R73)","v":0}]
[null,null,null,null,null,null,null,null,null,null,null,null,null,null,null,60,9,6,{"$f":"INDEX('Pregnancy-ConceptMap-3'!$I$15:$N$122,Q74+1,R74)","v":""}]
[null,null,null,null,null,null,null,null,null,null,null,null,null,null,null,61,10,1,{"$f":"INDEX('Pregnancy-ConceptMap-3'!$I$15:$N$122,Q75+1,R75)","v":0}]
[null,null,null,null,null,null,null,null,null,null,null,null,null,null,null,62,10,2,{"$f":"INDEX('Pregnancy-ConceptMap-3'!$I$15:$N$122,Q76+1,R76)","v":0}]
[null,null,null,null,null,null,null,null,null,null,null,null,null,null,null,63,10,3,{"$f":"INDEX('Pregnancy-ConceptMap-3'!$I$15:$N$122,Q77+1,R77)","v":0}]
[null,null,null,null,null,null,null,null,null,null,null,null,null,null,null,64,10,4,{"$f":"INDEX('Pregnancy-ConceptMap-3'!$I$15:$N$122,Q78+1,R78)","v":0}]
[null,null,null,null,null,null,null,null,null,null,null,null,null,null,null,65,10,5,{"$f":"INDEX('Pregnancy-ConceptMap-3'!$I$15:$N$122,Q79+1,R79)","v":0}]
[null,null,null,null,null,null,null,null,null,null,null,null,null,null,null,66,{"$f":"IF(MOD(P80,$Q$8)=0,P80/$Q$8-1,INT(P80/$Q$8))","v":10},{"$f":"IF(MOD(P80,$Q$8)=0,$Q$8,MOD(P80,$Q$8))","v":6},{"$f":"INDEX('Pregnancy-ConceptMap-3'!$I$15:$N$122,Q80+1,R80)","v":""}]

{"sheet":"Pregnancy-CM-fsh","index":12,"n_rows":163,"n_cols":7,"rows_kept":163,"cut":false,"hidden":false,"merged":[]}
[null,"// -------------------------------------------------------------------------------"]
[null,"//  Concept Model. File: ",null,null,null,null,"pregnancy-to-fhir-map.fsh"]
[null,"// -------------------------------------------------------------------------------"]
[null,{"$f":"\"Instance: \"&'Pregnancy-ConceptMap-1'!C4","v":"Instance: pregnancy2FHIR-eu-ps"}]
[null,"InstanceOf: ConceptMap"]
[null,"Usage: #definition"]
[null,"// * url = ##34#http://terminology.hl7.it/ConceptMap/ConceptMap-subject2osiris##34#"]
[null,{"$f":"\"* name = ##34#\"&'Pregnancy-ConceptMap-1'!C3&\"##34#\"","v":"* name = ##34#Pregnancy2Fhir##34#"}]
[null,{"$f":"\"* title = ##34#\"&'Pregnancy-ConceptMap-1'!C5&\"##34#\"","v":"* title = ##34#eHN Recipient to this guide Map##34#"}]
[null,"* status = #draft"]
[null,"* experimental = true"]
[null,{"$f":"\"* description = ##34#\"&'Pregnancy-ConceptMap-1'!C8&\"##34#\"","v":"* description = ##34#eHN Medical Devices Model to this guide Map##34#"}]
[null,{"$f":"\"* purpose = ##34#\"&'Pregnancy-ConceptMap-1'!C9&\"##34#\"","v":"* purpose = ##34#It shows how theMedical Devices Recipient data set defined by the EU eHN guidelines is mapped into this guide##34#"}]
[null,{"$f":"\"* sourceUri = ##34#\"&'Pregnancy-ConceptMap-1'!E3&\"##34#\"","v":"* sourceUri = ##34#http://hl7.eu/fhir/ig/xpandh/ps/StructureDefinition/Pregnancy##34#"}]
[null,{"$f":"\"* targetUri = ##34#\"&'Pregnancy-ConceptMap-1'!E4&\"##34#\"","v":"* targetUri = ##34#http://hl7.eu/fhir/ig/xpandh/ps/StructureDefinition/Composition-ps-xpandh##34#"}]
[]
[null,{"$f":"\"* group[+].source = ##34#\"&'Pregnancy-ConceptMap-1'!E6&\"##34#\"","v":"* group[+].source = ##34#http://hl7.eu/fhir/ig/xpandh/ps/StructureDefinition/Pregnancy##34#"}]
[null,{"$f":"\"* group[=].target = ##34#\"&'Pregnancy-ConceptMap-1'!E7&\"##34#\"","v":"* group[=].target = ##34#http://hl7.eu/fhir/ig/xpandh/ps/StructureDefinition/Composition-ps-xpandh##34#"}]
[]
[null,{"$f":"IF('Pregnancy-ConceptMap-1'!S15=0,\"//---END\",'Pregnancy-ConceptMap-1'!S15)","v":"* group[=].element[+].code = #Pregnancy.pregnancyStatus"}]
[null,{"$f":"IF('Pregnancy-ConceptMap-1'!S16=0,\"//---END\",'Pregnancy-ConceptMap-1'!S16)","v":"* group[=].element[=].display = ##34#A.2.6.1 Current pregnancy status##34#"}]
[null,{"$f":"IF('Pregnancy-ConceptMap-1'!S17=0,\"//---END\",'Pregnancy-ConceptMap-1'!S17)","v":"* group[=].element[=].target.code = #Composition.section:sectionPregnancyHx.entry:pregnancyStatus"}]
[null,{"$f":"IF('Pregnancy-ConceptMap-1'!S18=0,\"//---END\",'Pregnancy-ConceptMap-1'!S18)","v":"* group[=].element[=].target.display = ##34###34#"}]
[null,{"$f":"IF('Pregnancy-ConceptMap-1'!S19=0,\"//---END\",'Pregnancy-ConceptMap-1'!S19)","v":"* group[=].element[=].target.equivalence = #relatedto"}]
[null,{"$f":"IF('Pregnancy-ConceptMap-1'!S20=0,\"//---END\",'Pregnancy-ConceptMap-1'!S20)","v":""}]
[null,{"$f":"IF('Pregnancy-ConceptMap-1'!S21=0,\"//---END\",'Pregnancy-ConceptMap-1'!S21)","v":"* group[=].element[+].code = #Pregnancy.pregnancyStatus.dateOfObservation"}]
[null,{"$f":"IF('Pregnancy-ConceptMap-1'!S22=0,\"//---END\",'Pregnancy-ConceptMap-1'!S22)","v":"* group[=].element[=].display = ##34#A.2.6.1.1 Date of observation##34#"}]
[null,{"$f":"IF('Pregnancy-ConceptMap-1'!S23=0,\"//---END\",'Pregnancy-ConceptMap-1'!S23)","v":"* group[=].element[=].target.code = #Composition.section:sectionPregnancyHx.entry:pregnancyStatus.effectiveDateTime"}]
[null,{"$f":"IF('Pregnancy-ConceptMap-1'!S24=0,\"//---END\",'Pregnancy-ConceptMap-1'!S24)","v":"* group[=].element[=].target.display = ##34###34#"}]
[null,{"$f":"IF('Pregnancy-ConceptMap-1'!S25=0,\"//---END\",'Pregnancy-ConceptMap-1'!S25)","v":"* group[=].element[=].target.equivalence = #equivalent"}]
[null,{"$f":"IF('Pregnancy-ConceptMap-1'!S26=0,\"//---END\",'Pregnancy-ConceptMap-1'!S26)","v":""}]
[null,{"$f":"IF('Pregnancy-ConceptMap-1'!S27=0,\"//---END\",'Pregnancy-ConceptMap-1'!S27)","v":"* group[=].element[+].code = #Pregnancy.pregnancyStatus.status"}]
[null,{"$f":"IF('Pregnancy-ConceptMap-1'!S28=0,\"//---END\",'Pregnancy-ConceptMap-1'!S28)","v":"* group[=].element[=].display = ##34#A.2.6.1.2 Status##34#"}]
[null,{"$f":"IF('Pregnancy-ConceptMap-1'!S29=0,\"//---END\",'Pregnancy-ConceptMap-1'!S29)","v":"* group[=].element[=].target.code = #Composition.section:sectionPregnancyHx.entry:pregnancyStatus.valueCodeabelConcept"}]
[null,{"$f":"IF('Pregnancy-ConceptMap-1'!S30=0,\"//---END\",'Pregnancy-ConceptMap-1'!S30)","v":"* group[=].element[=].target.display = ##34###34#"}]
[null,{"$f":"IF('Pregnancy-ConceptMap-1'!S31=0,\"//---END\",'Pregnancy-ConceptMap-1'!S31)","v":"* group[=].element[=].target.equivalence = #equivalent"}]
[null,{"$f":"IF('Pregnancy-ConceptMap-1'!S32=0,\"//---END\",'Pregnancy-ConceptMap-1'!S32)","v":""}]
[null,{"$f":"IF('Pregnancy-ConceptMap-1'!S33=0,\"//---END\",'Pregnancy-ConceptMap-1'!S33)","v":"* group[=].element[+].code = #Pregnancy.pregnancyStatus.deliveryDate"}]
[null,{"$f":"IF('Pregnancy-ConceptMap-1'!S34=0,\"//---END\",'Pregnancy-ConceptMap-1'!S34)","v":"* group[=].element[=].display = ##34#A.2.6.1.3 Expected date of delivery##34#"}]
[null,{"$f":"IF('Pregnancy-ConceptMap-1'!S35=0,\"//---END\",'Pregnancy-ConceptMap-1'!S35)","v":"* group[=].element[=].target.code = #Composition.section:sectionPregnancyHx.entry:pregnancyStatus.hasMember.valueDateTime"}]
[null,{"$f":"IF('Pregnancy-ConceptMap-1'!S36=0,\"//---END\",'Pregnancy-ConceptMap-1'!S36)","v":"* group[=].element[=].target.display = ##34###34#"}]
[null,{"$f":"IF('Pregnancy-ConceptMap-1'!S37=0,\"//---END\",'Pregnancy-ConceptMap-1'!S37)","v":"* group[=].element[=].target.equivalence = #equivalent"}]
[null,{"$f":"IF('Pregnancy-ConceptMap-1'!S38=0,\"//---END\",'Pregnancy-ConceptMap-1'!S38)","v":"* group[=].element[=].target.comment = ##34#where section:sectionPregnancyHx.entry:pregnancyStatus.hasMember.code IN PregnancyExpectedDeliveryDateMethodUvIps value set##34#"}]
[null,{"$f":"IF('Pregnancy-ConceptMap-1'!S39=0,\"//---END\",'Pregnancy-ConceptMap-1'!S39)","v":"* group[=].element[+].code = #Pregnancy.hxPreviousPregnancies"}]
[null,{"$f":"IF('Pregnancy-ConceptMap-1'!S40=0,\"//---END\",'Pregnancy-ConceptMap-1'!S40)","v":"* group[=].element[=].display = ##34#A.2.6.2 History of previous pregnancies##34#"}]
[null,{"$f":"IF('Pregnancy-ConceptMap-1'!S41=0,\"//---END\",'Pregnancy-ConceptMap-1'!S41)","v":"* group[=].element[=].target.code = #Composition.section:sectionPregnancyHx.entry:pregnancyOutcomeSummary\t"}]
[null,{"$f":"IF('Pregnancy-ConceptMap-1'!S42=0,\"//---END\",'Pregnancy-ConceptMap-1'!S42)","v":"* group[=].element[=].target.display = ##34###34#"}]
[null,{"$f":"IF('Pregnancy-ConceptMap-1'!S43=0,\"//---END\",'Pregnancy-ConceptMap-1'!S43)","v":"* group[=].element[=].target.equivalence = #relatedto"}]
[null,{"$f":"IF('Pregnancy-ConceptMap-1'!S44=0,\"//---END\",'Pregnancy-ConceptMap-1'!S44)","v":""}]
[null,{"$f":"IF('Pregnancy-ConceptMap-1'!S45=0,\"//---END\",'Pregnancy-ConceptMap-1'!S45)","v":"* group[=].element[+].code = #Pregnancy.hxPreviousPregnancies.status"}]
[null,{"$f":"IF('Pregnancy-ConceptMap-1'!S46=0,\"//---END\",'Pregnancy-ConceptMap-1'!S46)","v":"* group[=].element[=].display = ##34#A.2.6.2.1 Previous pregnancies status##34#"}]
[null,{"$f":"IF('Pregnancy-ConceptMap-1'!S47=0,\"//---END\",'Pregnancy-ConceptMap-1'!S47)","v":"* group[=].element[=].target.code = #Composition.section:sectionPregnancyHx.entry"}]
[null,{"$f":"IF('Pregnancy-ConceptMap-1'!S48=0,\"//---END\",'Pregnancy-ConceptMap-1'!S48)","v":"* group[=].element[=].target.display = ##34###34#"}]
[null,{"$f":"IF('Pregnancy-ConceptMap-1'!S49=0,\"//---END\",'Pregnancy-ConceptMap-1'!S49)","v":"* group[=].element[=].target.equivalence = #relatedto"}]
[null,{"$f":"IF('Pregnancy-ConceptMap-1'!S50=0,\"//---END\",'Pregnancy-ConceptMap-1'!S50)","v":"* group[=].element[=].target.comment = ##34#Observation profile to be added##34#"}]
[null,{"$f":"IF('Pregnancy-ConceptMap-1'!S51=0,\"//---END\",'Pregnancy-ConceptMap-1'!S51)","v":"* group[=].element[+].code = #Pregnancy.hxPreviousPregnancies.description"}]
[null,{"$f":"IF('Pregnancy-ConceptMap-1'!S52=0,\"//---END\",'Pregnancy-ConceptMap-1'!S52)","v":"* group[=].element[=].display = ##34#A.2.6.2.2 Previous pregnancies description##34#"}]
[null,{"$f":"IF('Pregnancy-ConceptMap-1'!S53=0,\"//---END\",'Pregnancy-ConceptMap-1'!S53)","v":"* group[=].element[=].target.code = #Composition.section:sectionPregnancyHx.entry:pregnancyOutcomeSummary\t"}]
[null,{"$f":"IF('Pregnancy-ConceptMap-1'!S54=0,\"//---END\",'Pregnancy-ConceptMap-1'!S54)","v":"* group[=].element[=].target.display = ##34###34#"}]
[null,{"$f":"IF('Pregnancy-ConceptMap-1'!S55=0,\"//---END\",'Pregnancy-ConceptMap-1'!S55)","v":"* group[=].element[=].target.equivalence = #relatedto"}]
[null,{"$f":"IF('Pregnancy-ConceptMap-1'!S56=0,\"//---END\",'Pregnancy-ConceptMap-1'!S56)","v":""}]
[null,{"$f":"IF('Pregnancy-ConceptMap-1'!S57=0,\"//---END\",'Pregnancy-ConceptMap-1'!S57)","v":"* group[=].element[+].code = #Pregnancy.hxPreviousPregnancies.description.outcomeDate"}]
[null,{"$f":"IF('Pregnancy-ConceptMap-1'!S58=0,\"//---END\",'Pregnancy-ConceptMap-1'!S58)","v":"* group[=].element[=].display = ##34#A.2.6.2.2.1 Outcome date##34#"}]
[null,{"$f":"IF('Pregnancy-ConceptMap-1'!S59=0,\"//---END\",'Pregnancy-ConceptMap-1'!S59)","v":"* group[=].element[=].target.code = #Composition.section:sectionPregnancyHx.entry:pregnancyOutcomeSummary.effectiveDateTime"}]
[null,{"$f":"IF('Pregnancy-ConceptMap-1'!S60=0,\"//---END\",'Pregnancy-ConceptMap-1'!S60)","v":"* group[=].element[=].target.display = ##34###34#"}]
[null,{"$f":"IF('Pregnancy-ConceptMap-1'!S61=0,\"//---END\",'Pregnancy-ConceptMap-1'!S61)","v":"* group[=].element[=].target.equivalence = #equivalent"}]
[null,{"$f":"IF('Pregnancy-ConceptMap-1'!S62=0,\"//---END\",'Pregnancy-ConceptMap-1'!S62)","v":""}]
[null,{"$f":"IF('Pregnancy-ConceptMap-1'!S63=0,\"//---END\",'Pregnancy-ConceptMap-1'!S63)","v":"* group[=].element[+].code = #Pregnancy.hxPreviousPregnancies.description.outcome"}]
[null,{"$f":"IF('Pregnancy-ConceptMap-1'!S64=0,\"//---END\",'Pregnancy-ConceptMap-1'!S64)","v":"* group[=].element[=].display = ##34#A.2.6.2.2.2 Outcome##34#"}]
[null,{"$f":"IF('Pregnancy-ConceptMap-1'!S65=0,\"//---END\",'Pregnancy-ConceptMap-1'!S65)","v":"* group[=].element[=].target.code = #Composition.section:sectionPregnancyHx.entry:pregnancyOutcomeSummary.code"}]
[null,{"$f":"IF('Pregnancy-ConceptMap-1'!S66=0,\"//---END\",'Pregnancy-ConceptMap-1'!S66)","v":"* group[=].element[=].target.display = ##34###34#"}]
[null,{"$f":"IF('Pregnancy-ConceptMap-1'!S67=0,\"//---END\",'Pregnancy-ConceptMap-1'!S67)","v":"* group[=].element[=].target.equivalence = #equivalent"}]
[null,{"$f":"IF('Pregnancy-ConceptMap-1'!S68=0,\"//---END\",'Pregnancy-ConceptMap-1'!S68)","v":"* group[=].element[=].target.comment = ##34#to be checked##34#"}]
[null,{"$f":"IF('Pregnancy-ConceptMap-1'!S69=0,\"//---END\",'Pregnancy-ConceptMap-1'!S69)","v":"* group[=].element[+].code = #Pregnancy.hxPreviousPregnancies.description.numberOfChildren"}]
[null,{"$f":"IF('Pregnancy-ConceptMap-1'!S70=0,\"//---END\",'Pregnancy-ConceptMap-1'!S70)","v":"* group[=].element[=].display = ##34#A.2.6.2.2.3 Number of children##34#"}]
[null,{"$f":"IF('Pregnancy-ConceptMap-1'!S71=0,\"//---END\",'Pregnancy-ConceptMap-1'!S71)","v":"* group[=].element[=].target.code = #Composition.section:sectionPregnancyHx.entry:pregnancyOutcomeSummary.valueQuentity"}]
[null,{"$f":"IF('Pregnancy-ConceptMap-1'!S72=0,\"//---END\",'Pregnancy-ConceptMap-1'!S72)","v":"* group[=].element[=].target.display = ##34###34#"}]
[null,{"$f":"IF('Pregnancy-ConceptMap-1'!S73=0,\"//---END\",'Pregnancy-ConceptMap-1'!S73)","v":"* group[=].element[=].target.equivalence = #equivalent"}]
[null,{"$f":"IF('Pregnancy-ConceptMap-1'!S74=0,\"//---END\",'Pregnancy-ConceptMap-1'!S74)","v":""}]
[null,{"$f":"IF('Pregnancy-ConceptMap-1'!S75=0,\"//---END\",'Pregnancy-ConceptMap-1'!S75)","v":"//---END"}]
[null,{"$f":"IF('Pregnancy-ConceptMap-1'!S76=0,\"//---END\",'Pregnancy-ConceptMap-1'!S76)","v":"//---END"}]
[null,{"$f":"IF('Pregnancy-ConceptMap-1'!S77=0,\"//---END\",'Pregnancy-ConceptMap-1'!S77)","v":"//---END"}]
[null,{"$f":"IF('Pregnancy-ConceptMap-1'!S78=0,\"//---END\",'Pregnancy-ConceptMap-1'!S78)","v":"//---END"}]
[null,{"$f":"IF('Pregnancy-ConceptMap-1'!S79=0,\"//---END\",'Pregnancy-ConceptMap-1'!S79)","v":"//---END"}]
[null,{"$f":"IF('Pregnancy-ConceptMap-1'!S80=0,\"//---END\",'Pregnancy-ConceptMap-1'!S80)","v":"//---END"}]
[]
[]
[null,{"$f":"\"* group[+].source = ##34#\"&'Pregnancy-ConceptMap-2'!E6&\"##34#\"","v":"* group[+].source = ##34#http://hl7.eu/fhir/ig/xpandh/ps/StructureDefinition/Pregnancy##34#"}]
[null,{"$f":"\"* group[=].target = ##34#\"&'Pregnancy-ConceptMap-2'!E7&\"##34#\"","v":"* group[=].target = ##34#http://hl7.eu/fhir/ig/xpandh/ps/StructureDefinition/Composition-ps-xpandh##34#"}]
[]
[null,{"$f":"IF('Pregnancy-ConceptMap-2'!S15=0,\"//---END\",'Pregnancy-ConceptMap-2'!S15)","v":"* group[=].element[+].code = #Pregnancy.pregnancyStatus"}]
[null,{"$f":"IF('Pregnancy-ConceptMap-2'!S16=0,\"//---END\",'Pregnancy-ConceptMap-2'!S16)","v":"* group[=].element[=].display = ##34#A.2.6.1 Current pregnancy status##34#"}]
[null,{"$f":"IF('Pregnancy-ConceptMap-2'!S17=0,\"//---END\",'Pregnancy-ConceptMap-2'!S17)","v":"* group[=].element[=].target.code = #Observation."}]
[null,{"$f":"IF('Pregnancy-ConceptMap-2'!S18=0,\"//---END\",'Pregnancy-ConceptMap-2'!S18)","v":"* group[=].element[=].target.display = ##34###34#"}]
[null,{"$f":"IF('Pregnancy-ConceptMap-2'!S19=0,\"//---END\",'Pregnancy-ConceptMap-2'!S19)","v":"* group[=].element[=].target.equivalence = #relatedto"}]
[null,{"$f":"IF('Pregnancy-ConceptMap-2'!S20=0,\"//---END\",'Pregnancy-ConceptMap-2'!S20)","v":""}]
[null,{"$f":"IF('Pregnancy-ConceptMap-2'!S21=0,\"//---END\",'Pregnancy-ConceptMap-2'!S21)","v":"* group[=].element[+].code = #Pregnancy.pregnancyStatus.dateOfObservation"}]
[null,{"$f":"IF('Pregnancy-ConceptMap-2'!S22=0,\"//---END\",'Pregnancy-ConceptMap-2'!S22)","v":"* group[=].element[=].display = ##34#A.2.6.1.1 Date of observation##34#"}]
[null,{"$f":"IF('Pregnancy-ConceptMap-2'!S23=0,\"//---END\",'Pregnancy-ConceptMap-2'!S23)","v":"* group[=].element[=].target.code = #Observation.effectiveDateTime"}]
[null,{"$f":"IF('Pregnancy-ConceptMap-2'!S24=0,\"//---END\",'Pregnancy-ConceptMap-2'!S24)","v":"* group[=].element[=].target.display = ##34###34#"}]
[null,{"$f":"IF('Pregnancy-ConceptMap-2'!S25=0,\"//---END\",'Pregnancy-ConceptMap-2'!S25)","v":"* group[=].element[=].target.equivalence = #equivalent"}]
[null,{"$f":"IF('Pregnancy-ConceptMap-2'!S26=0,\"//---END\",'Pregnancy-ConceptMap-2'!S26)","v":""}]
[null,{"$f":"IF('Pregnancy-ConceptMap-2'!S27=0,\"//---END\",'Pregnancy-ConceptMap-2'!S27)","v":"* group[=].element[+].code = #Pregnancy.pregnancyStatus.status"}]
[null,{"$f":"IF('Pregnancy-ConceptMap-2'!S28=0,\"//---END\",'Pregnancy-ConceptMap-2'!S28)","v":"* group[=].element[=].display = ##34#A.2.6.1.2 Status##34#"}]
[null,{"$f":"IF('Pregnancy-ConceptMap-2'!S29=0,\"//---END\",'Pregnancy-ConceptMap-2'!S29)","v":"* group[=].element[=].target.code = #Observation.valueCodeabelConcept"}]
[null,{"$f":"IF('Pregnancy-ConceptMap-2'!S30=0,\"//---END\",'Pregnancy-ConceptMap-2'!S30)","v":"* group[=].element[=].target.display = ##34###34#"}]
[null,{"$f":"IF('Pregnancy-ConceptMap-2'!S31=0,\"//---END\",'Pregnancy-ConceptMap-2'!S31)","v":"* group[=].element[=].target.equivalence = #equivalent"}]
[null,{"$f":"IF('Pregnancy-ConceptMap-2'!S32=0,\"//---END\",'Pregnancy-ConceptMap-2'!S32)","v":""}]
[null,{"$f":"IF('Pregnancy-ConceptMap-2'!S33=0,\"//---END\",'Pregnancy-ConceptMap-2'!S33)","v":"* group[=].element[+].code = #Pregnancy.pregnancyStatus.deliveryDate"}]
[null,{"$f":"IF('Pregnancy-ConceptMap-2'!S34=0,\"//---END\",'Pregnancy-ConceptMap-2'!S34)","v":"* group[=].element[=].display = ##34#A.2.6.1.3 Expected date of delivery##34#"}]
[null,{"$f":"IF('Pregnancy-ConceptMap-2'!S35=0,\"//---END\",'Pregnancy-ConceptMap-2'!S35)","v":"* group[=].element[=].target.code = #Observation.hasMember.valueDateTime"}]
[null,{"$f":"IF('Pregnancy-ConceptMap-2'!S36=0,\"//---END\",'Pregnancy-ConceptMap-2'!S36)","v":"* group[=].element[=].target.display = ##34###34#"}]
[null,{"$f":"IF('Pregnancy-ConceptMap-2'!S37=0,\"//---END\",'Pregnancy-ConceptMap-2'!S37)","v":"* group[=].element[=].target.equivalence = #equivalent"}]
[null,{"$f":"IF('Pregnancy-ConceptMap-2'!S38=0,\"//---END\",'Pregnancy-ConceptMap-2'!S38)","v":"* group[=].element[=].target.comment = ##34#Where hasMember.code IN PregnancyExpectedDeliveryDateMethodUvIps value set##34#"}]
[null,{"$f":"IF('Pregnancy-ConceptMap-2'!S39=0,\"//---END\",'Pregnancy-ConceptMap-2'!S39)","v":"//---END"}]
[null,{"$f":"IF('Pregnancy-ConceptMap-2'!S40=0,\"//---END\",'Pregnancy-ConceptMap-2'!S40)","v":"//---END"}]
[null,{"$f":"IF('Pregnancy-ConceptMap-2'!S41=0,\"//---END\",'Pregnancy-ConceptMap-2'!S41)","v":"//---END"}]
[null,{"$f":"IF('Pregnancy-ConceptMap-2'!S42=0,\"//---END\",'Pregnancy-ConceptMap-2'!S42)","v":"//---END"}]
[null,{"$f":"IF('Pregnancy-ConceptMap-2'!S43=0,\"//---END\",'Pregnancy-ConceptMap-2'!S43)","v":"//---END"}]
[null,{"$f":"IF('Pregnancy-ConceptMap-2'!S44=0,\"//---END\",'Pregnancy-ConceptMap-2'!S44)","v":"//---END"}]
[]
[null,{"$f":"\"* group[+].source = ##34#\"&'Pregnancy-ConceptMap-3'!E6&\"##34#\"","v":"* group[+].source = ##34#http://hl7.eu/fhir/ig/xpandh/ps/StructureDefinition/Pregnancy##34#"}]
[null,{"$f":"\"* group[=].target = ##34#\"&'Pregnancy-ConceptMap-3'!E7&\"##34#\"","v":"* group[=].target = ##34#http://hl7.eu/fhir/ig/xpandh/ps/StructureDefinition/Composition-ps-xpandh##34#"}]
[]
[null,{"$f":"IF('Pregnancy-ConceptMap-3'!S15=0,\"//---END\",'Pregnancy-ConceptMap-3'!S15)","v":"* group[=].element[+].code = #Pregnancy.hxPreviousPregnancies"}]
[null,{"$f":"IF('Pregnancy-ConceptMap-3'!S16=0,\"//---END\",'Pregnancy-ConceptMap-3'!S16)","v":"* group[=].element[=].display = ##34#A.2.6.2 History of previous pregnancies##34#"}]
[null,{"$f":"IF('Pregnancy-ConceptMap-3'!S17=0,\"//---END\",'Pregnancy-ConceptMap-3'!S17)","v":"* group[=].element[=].target.code = #Observation."}]
[null,{"$f":"IF('Pregnancy-ConceptMap-3'!S18=0,\"//---END\",'Pregnancy-ConceptMap-3'!S18)","v":"* group[=].element[=].target.display = ##34###34#"}]
[null,{"$f":"IF('Pregnancy-ConceptMap-3'!S19=0,\"//---END\",'Pregnancy-ConceptMap-3'!S19)","v":"* group[=].element[=].target.equivalence = #relatedto"}]
[null,{"$f":"IF('Pregnancy-ConceptMap-3'!S20=0,\"//---END\",'Pregnancy-ConceptMap-3'!S20)","v":""}]
[null,{"$f":"IF('Pregnancy-ConceptMap-3'!S21=0,\"//---END\",'Pregnancy-ConceptMap-3'!S21)","v":"* group[=].element[+].code = #Pregnancy.hxPreviousPregnancies.status"}]
[null,{"$f":"IF('Pregnancy-ConceptMap-3'!S22=0,\"//---END\",'Pregnancy-ConceptMap-3'!S22)","v":"* group[=].element[=].display = ##34#A.2.6.2.1 Previous pregnancies status##34#"}]
[null,{"$f":"IF('Pregnancy-ConceptMap-3'!S23=0,\"//---END\",'Pregnancy-ConceptMap-3'!S23)","v":"* group[=].element[=].target.code = #Observation.section:sectionPregnancyHx.entry"}]
[null,{"$f":"IF('Pregnancy-ConceptMap-3'!S24=0,\"//---END\",'Pregnancy-ConceptMap-3'!S24)","v":"* group[=].element[=].target.display = ##34###34#"}]
[null,{"$f":"IF('Pregnancy-ConceptMap-3'!S25=0,\"//---END\",'Pregnancy-ConceptMap-3'!S25)","v":"* group[=].element[=].target.equivalence = #relatedto"}]
[null,{"$f":"IF('Pregnancy-ConceptMap-3'!S26=0,\"//---END\",'Pregnancy-ConceptMap-3'!S26)","v":"* group[=].element[=].target.comment = ##34#Observation profile to be added##34#"}]
[null,{"$f":"IF('Pregnancy-ConceptMap-3'!S27=0,\"//---END\",'Pregnancy-ConceptMap-3'!S27)","v":"* group[=].element[+].code = #Pregnancy.hxPreviousPregnancies.description"}]
[null,{"$f":"IF('Pregnancy-ConceptMap-3'!S28=0,\"//---END\",'Pregnancy-ConceptMap-3'!S28)","v":"* group[=].element[=].display = ##34#A.2.6.2.2 Previous pregnancies description##34#"}]
[null,{"$f":"IF('Pregnancy-ConceptMap-3'!S29=0,\"//---END\",'Pregnancy-ConceptMap-3'!S29)","v":"* group[=].element[=].target.code = #Observation."}]
[null,{"$f":"IF('Pregnancy-ConceptMap-3'!S30=0,\"//---END\",'Pregnancy-ConceptMap-3'!S30)","v":"* group[=].element[=].target.display = ##34###34#"}]
[null,{"$f":"IF('Pregnancy-ConceptMap-3'!S31=0,\"//---END\",'Pregnancy-ConceptMap-3'!S31)","v":"* group[=].element[=].target.equivalence = #relatedto"}]
[null,{"$f":"IF('Pregnancy-ConceptMap-3'!S32=0,\"//---END\",'Pregnancy-ConceptMap-3'!S32)","v":"* group[=].element[=].target.comment = ##34#To be checked##34#"}]
[null,{"$f":"IF('Pregnancy-ConceptMap-3'!S33=0,\"//---END\",'Pregnancy-ConceptMap-3'!S33)","v":"* group[=].element[+].code = #Pregnancy.hxPreviousPregnancies.description.outcomeDate"}]
[null,{"$f":"IF('Pregnancy-ConceptMap-3'!S34=0,\"//---END\",'Pregnancy-ConceptMap-3'!S34)","v":"* group[=].element[=].display = ##34#A.2.6.2.2.1 Outcome date##34#"}]
[null,{"$f":"IF('Pregnancy-ConceptMap-3'!S35=0,\"//---END\",'Pregnancy-ConceptMap-3'!S35)","v":"* group[=].element[=].target.code = #Observation.effectiveDateTime"}]
[null,{"$f":"IF('Pregnancy-ConceptMap-3'!S36=0,\"//---END\",'Pregnancy-ConceptMap-3'!S36)","v":"* group[=].element[=].target.display = ##34###34#"}]
[null,{"$f":"IF('Pregnancy-ConceptMap-3'!S37=0,\"//---END\",'Pregnancy-ConceptMap-3'!S37)","v":"* group[=].element[=].target.equivalence = #equivalent"}]
[null,{"$f":"IF('Pregnancy-ConceptMap-3'!S38=0,\"//---END\",'Pregnancy-ConceptMap-3'!S38)","v":""}]
[null,{"$f":"IF('Pregnancy-ConceptMap-3'!S39=0,\"//---END\",'Pregnancy-ConceptMap-3'!S39)","v":"* group[=].element[+].code = #Pregnancy.hxPreviousPregnancies.description.outcome"}]
[null,{"$f":"IF('Pregnancy-ConceptMap-3'!S40=0,\"//---END\",'Pregnancy-ConceptMap-3'!S40)","v":"* group[=].element[=].display = ##34#A.2.6.2.2.2 Outcome##34#"}]
[null,{"$f":"IF('Pregnancy-ConceptMap-3'!S41=0,\"//---END\",'Pregnancy-ConceptMap-3'!S41)","v":"* group[=].element[=].target.code = #Observation.code"}]
[null,{"$f":"IF('Pregnancy-ConceptMap-3'!S42=0,\"//---END\",'Pregnancy-ConceptMap-3'!S42)","v":"* group[=].element[=].target.display = ##34###34#"}]
[null,{"$f":"IF('Pregnancy-ConceptMap-3'!S43=0,\"//---END\",'Pregnancy-ConceptMap-3'!S43)","v":"* group[=].element[=].target.equivalence = #equivalent"}]
[null,{"$f":"IF('Pregnancy-ConceptMap-3'!S44=0,\"//---END\",'Pregnancy-ConceptMap-3'!S44)","v":"* group[=].element[=].target.comment = ##34#to be checked##34#"}]
[null,{"$f":"IF('Pregnancy-ConceptMap-3'!S45=0,\"//---END\",'Pregnancy-ConceptMap-3'!S45)","v":"* group[=].element[+].code = #Pregnancy.hxPreviousPregnancies.description.numberOfChildren"}]
[null,{"$f":"IF('Pregnancy-ConceptMap-3'!S46=0,\"//---END\",'Pregnancy-ConceptMap-3'!S46)","v":"* group[=].element[=].display = ##34#A.2.6.2.2.3 Number of children##34#"}]
[null,{"$f":"IF('Pregnancy-ConceptMap-3'!S47=0,\"//---END\",'Pregnancy-ConceptMap-3'!S47)","v":"* group[=].element[=].target.code = #Observation.valueQuentity"}]
[null,{"$f":"IF('Pregnancy-ConceptMap-3'!S48=0,\"//---END\",'Pregnancy-ConceptMap-3'!S48)","v":"* group[=].element[=].target.display = ##34###34#"}]
[null,{"$f":"IF('Pregnancy-ConceptMap-3'!S49=0,\"//---END\",'Pregnancy-ConceptMap-3'!S49)","v":"* group[=].element[=].target.equivalence = #equivalent"}]
[null,{"$f":"IF('Pregnancy-ConceptMap-3'!S50=0,\"//---END\",'Pregnancy-ConceptMap-3'!S50)","v":""}]
[null,{"$f":"IF('Pregnancy-ConceptMap-3'!S51=0,\"//---END\",'Pregnancy-ConceptMap-3'!S51)","v":"//---END"}]
[null,{"$f":"IF('Pregnancy-ConceptMap-3'!S52=0,\"//---END\",'Pregnancy-ConceptMap-3'!S52)","v":"//---END"}]
[null,{"$f":"IF('Pregnancy-ConceptMap-3'!S53=0,\"//---END\",'Pregnancy-ConceptMap-3'!S53)","v":"//---END"}]

{"sheet":"A.2.3.3 FunctionalStatus","index":13,"n_rows":31,"n_cols":9,"rows_kept":31,"cut":false,"hidden":false,"merged":[[25,2,25,5]]}
[null,null,null,null,null,null,null,null,"// -------------------------------------------------------------------------------"]
[null,null,null,null,null,null,null,null,"//  Logical Model"]
[null,null,null,null,null,null,null,null,{"$f":"I1","v":"// -------------------------------------------------------------------------------"}]
["Name","FunctionalStatusPsEhn",null,null,null,null,null,null,{"$f":"CONCATENATE(\"Logical: \",B4)","v":"Logical: FunctionalStatusPsEhn"}]
["Id","FunctionalStatus",null,null,null,null,null,null,{"$f":"CONCATENATE(\"Id: \",B5)","v":"Id: FunctionalStatus"}]
["Title","A.2.3.3 - Functional Status",null,null,null,null,null,null,{"$f":"CONCATENATE(\"Title: ##34#\",B6,\"##34#\")","v":"Title: ##34#A.2.3.3 - Functional Status##34#"}]
["Description","Functional Status. Section A.2.3.3 of the eHN guideline.",null,null,null,"max","dataType",null,{"$f":"CONCATENATE(\"Description: \",\" ##334#\",B7,\"##334#\",)","v":"Description:  ##334#Functional Status. Section A.2.3.3 of the eHN guideline.##334#"}]
[1,"description","A.2.3.4.1 Description","Need for the patient to be continuously assessed by third parties; functional status may influence decisions about how to plan and administer treatments.",0,"*","Narrative",null,{"$f":"CONCATENATE(\"* \",B8, \" \",E8,\"..\",F8,\" \",G8,\" ##34#\",C8,\"##34# ##334#\",D8,\"##334#\")","v":"* description 0..* Narrative ##34#A.2.3.4.1 Description##34# ##334#Need for the patient to be continuously assessed by third parties; functional status may influence decisions about how to plan and administer treatments.##334#"}]
[2,"onsetDate","A.2.3.4.2 Onset Date","Onset date of a condition - Preferred system(s): ISO 8601",0,"*","dateTime",null,{"$f":"CONCATENATE(\"* \",B9, \" \",E9,\"..\",F9,\" \",G9,\" ##34#\",C9,\"##34# ##334#\",D9,\"##334#\")","v":"* onsetDate 0..* dateTime ##34#A.2.3.4.2 Onset Date##34# ##334#Onset date of a condition - Preferred system(s): ISO 8601##334#"}]
[3,"code","A.2.3.4.3 Functional assessment description","Description of the functional assessment - Preferred system(s): ICF",0,"*","CodeableConcept",null,"* code 0..* CodeableConcept ##34#A.2.3.4.3 Functional assessment description##34# ##334#Description of the functional assessment - Preferred system(s): ICF##334#"]
[null,"date","A.2.3.4.4 Functional assessment date","Date of the functional assessment - Preferred system(s): ISO 8601",0,1,"dateTime",null,"* date 0..1 dateTime ##34#A.2.3.4.4 Functional assessment date##34# ##334#Date of the functional assessment - Preferred system(s): ISO 8601##334#"]
[5,"result","A.2.3.4.5 Functional assessment result","Functional assessment result value - Preferred system(s): ICF",0,"*","CodeableConcept",null,"* result 0..* CodeableConcept ##34#A.2.3.4.5 Functional assessment result##34# ##334#Functional assessment result value - Preferred system(s): ICF##334#"]
[6,null,null,null,null,null,null,null,"*  ..  ##34###34# ##334###334#"]
[7,null,null,null,null,null,null,null,"*  ..  ##34###34# ##334###334#"]
[8,null,null,null,null,null,null,null,"*  ..  ##34###34# ##334###334#"]
[9,null,null,null,null,null,null,null,"*  ..  ##34###34# ##334###334#"]
[]
[]
[]
[]
[null,{"$f":"CONCATENATE(C21,\" \",D21)","v":" "}]
[]
[]
[]
[]
[null,null,"A.1.6 Legal authenticator (The person taking responsibility for the medical content of the document)"]
[null,{"$f":"CONCATENATE(C27,\" \",D27)","v":"A.2.3.4.1 Description"},"A.2.3.4.1","Description","Need for the patient to be continuously assessed by third parties; functional status may influence decisions about how to plan and administer treatments",null,null,null,{"$f":"CONCATENATE(E27,\" - Preferred system(s): \",F27)","v":"Need for the patient to be continuously assessed by third parties; functional status may influence decisions about how to plan and administer treatments - Preferred system(s): "}]
[null,"A.2.3.4.2 Onset Date","A.2.3.4.2","Onset Date","Onset date of a condition","ISO 8601",null,null,"Onset date of a condition - Preferred system(s): ISO 8601"]
[null,"A.2.3.4.3 Functional assessment description","A.2.3.4.3","Functional assessment description","Description of the functional assessment","ICF",null,null,"Description of the functional assessment - Preferred system(s): ICF"]
[null,"A.2.3.4.4 Functional assessment date","A.2.3.4.4","Functional assessment date","Date of the functional assessment","ISO 8601",null,null,"Date of the functional assessment - Preferred system(s): ISO 8601"]
[null,"A.2.3.4.5 Functional assessment result","A.2.3.4.5","Functional assessment result","Functional assessment result value","ICF",null,null,"Functional assessment result value - Preferred system(s): ICF"]

{"sheet":"FunctionalStatus-fsh","index":14,"n_rows":16,"n_cols":7,"rows_kept":16,"cut":false,"hidden":false,"merged":[]}
[null,null,{"$f":"'A.2.3.3 FunctionalStatus'!I1","v":"// -------------------------------------------------------------------------------"}]
[null,null,{"$f":"'A.2.3.3 FunctionalStatus'!I2","v":"//  Logical Model"},null,null,null,"ps-functionalStatus.fsh"]
[null,null,{"$f":"'A.2.3.3 FunctionalStatus'!I3","v":"// -------------------------------------------------------------------------------"}]
[null,null,{"$f":"'A.2.3.3 FunctionalStatus'!I4","v":"Logical: FunctionalStatusPsEhn"}]
[null,null,{"$f":"'A.2.3.3 FunctionalStatus'!I5","v":"Id: FunctionalStatus"}]
[null,null,{"$f":"'A.2.3.3 FunctionalStatus'!I6","v":"Title: ##34#A.2.3.3 - Functional Status##34#"}]
[null,null,{"$f":"'A.2.3.3 FunctionalStatus'!I7","v":"Description:  ##334#Functional Status. Section A.2.3.3 of the eHN guideline.##334#"}]
[null,null,{"$f":"IF('A.2.3.3 FunctionalStatus'!I8=\"*  ..  ##34###34# ##334###334#\",\"//--- END\",'A.2.3.3 FunctionalStatus'!I8)","v":"* description 0..* Narrative ##34#A.2.3.4.1 Description##34# ##334#Need for the patient to be continuously assessed by third parties; functional status may influence decisions about how to plan and administer treatments.##334#"}]
[null,null,{"$f":"IF('A.2.3.3 FunctionalStatus'!I9=\"*  ..  ##34###34# ##334###334#\",\"//--- END\",'A.2.3.3 FunctionalStatus'!I9)","v":"* onsetDate 0..* dateTime ##34#A.2.3.4.2 Onset Date##34# ##334#Onset date of a condition - Preferred system(s): ISO 8601##334#"}]
[null,null,{"$f":"IF('A.2.3.3 FunctionalStatus'!I10=\"*  ..  ##34###34# ##334###334#\",\"//--- END\",'A.2.3.3 FunctionalStatus'!I10)","v":"* code 0..* CodeableConcept ##34#A.2.3.4.3 Functional assessment description##34# ##334#Description of the functional assessment - Preferred system(s): ICF##334#"},null," "]
[null,null,{"$f":"IF('A.2.3.3 FunctionalStatus'!I11=\"*  ..  ##34###34# ##334###334#\",\"//--- END\",'A.2.3.3 FunctionalStatus'!I11)","v":"* date 0..1 dateTime ##34#A.2.3.4.4 Functional assessment date##34# ##334#Date of the functional assessment - Preferred system(s): ISO 8601##334#"}]
[null,null,{"$f":"IF('A.2.3.3 FunctionalStatus'!I12=\"*  ..  ##34###34# ##334###334#\",\"//--- END\",'A.2.3.3 FunctionalStatus'!I12)","v":"* result 0..* CodeableConcept ##34#A.2.3.4.5 Functional assessment result##34# ##334#Functional assessment result value - Preferred system(s): ICF##334#"}]
[null,null,{"$f":"IF('A.2.3.3 FunctionalStatus'!I13=\"*  ..  ##34###34# ##334###334#\",\"//--- END\",'A.2.3.3 FunctionalStatus'!I13)","v":"//--- END"}]
[null,null,{"$f":"IF('A.2.3.3 FunctionalStatus'!I14=\"*  ..  ##34###34# ##334###334#\",\"//--- END\",'A.2.3.3 FunctionalStatus'!I14)","v":"//--- END"}]
[null,null,{"$f":"IF('A.2.3.3 FunctionalStatus'!I15=\"*  ..  ##34###34# ##334###334#\",\"//--- END\",'A.2.3.3 FunctionalStatus'!I15)","v":"//--- END"}]
[null,null,{"$f":"IF('A.2.3.3 FunctionalStatus'!I16=\"*  ..  ##34###34# ##334###334#\",\"//--- END\",'A.2.3.3 FunctionalStatus'!I16)","v":"//--- END"}]

{"sheet":"FunctionalStat-ConceptMap-1","index":15,"n_rows":53,"n_cols":19,"rows_kept":53,"cut":false,"hidden":false,"merged":[[2,4,2,6],[3,4,3,6],[5,4,5,6],[6,4,6,6],[0,1,0,2]]}
[null,"MAPPING TO BE FURTHER INVESTIGATED"]
[]
[null,"Mapping","FunctionalStatus2Fhir","Source URI",{"$f":"\"http://hl7.eu/fhir/ig/xpandh/ps/StructureDefinition/\"&'A.2.3.3 FunctionalStatus'!B5","v":"http://hl7.eu/fhir/ig/xpandh/ps/StructureDefinition/FunctionalStatus"}]
[null,"Id","functionalStatus2FHIR-eu-ps","Target URI","http://hl7.eu/fhir/ig/xpandh/ps/StructureDefinition/Composition-ps-xpandh"]
[null,"Title","eHN Recipient to this guide Map"]
[null,"Source",null,"Source Group",{"$f":"E3","v":"http://hl7.eu/fhir/ig/xpandh/ps/StructureDefinition/FunctionalStatus"}]
[null,"Target",null,"Target Group",{"$f":"E4","v":"http://hl7.eu/fhir/ig/xpandh/ps/StructureDefinition/Composition-ps-xpandh"}]
[null,"description","eHN Medical Devices Model to this guide Map",null,null,null,null,null,"* group[=].element[+].code = #Osiris.Patient.BirthDate","* group[=].element[=].display = \"Birth Date [C4]\"","* group[=].element[=].target.code = #Subject.dateOfBirth.date","* group[=].element[=].target.display = \"Date of birth\"","* group[=].element[=].target.equivalence = #equivalent",null,null,"Elements",6]
[null,"purpose","It shows how theMedical Devices Recipient data set defined by the EU eHN guidelines is mapped into this guide"]
[]
[null,null,null,null,null,null,null,null,"source:code","source:display","code","display","target to source","Comment"]
[]
[null,null,null,null,null,"target to source","Comment"]
[null,{"$f":"'A.2.3.3 FunctionalStatus'!B5","v":"FunctionalStatus"},null,"Composition"]
[null,{"$f":"'A.2.3.3 FunctionalStatus'!B8","v":"description"},{"$f":"'A.2.3.3 FunctionalStatus'!C8","v":"A.2.3.4.1 Description"},"section.text",null,"relatedto","where section.code = 'http://loinc.org#47420-5' ",null,{"$f":"\"* group[=].element[+].code = #\"&$B$14&\".\"&B15","v":"* group[=].element[+].code = #FunctionalStatus.description"},{"$f":"\"* group[=].element[=].display = ##34#\"&C15&\"##34#\"","v":"* group[=].element[=].display = ##34#A.2.3.4.1 Description##34#"},{"$f":"IF(F15=\"unmatched\",\"//-- unmatched\",\"* group[=].element[=].target.code = #\"&$D$14&\".\"&D15)","v":"* group[=].element[=].target.code = #Composition.section.text"},{"$f":"IF(F15=\"unmatched\",\"//-- unmatched\",\"* group[=].element[=].target.display = ##34#\"&E15&\"##34#\")","v":"* group[=].element[=].target.display = ##34###34#"},{"$f":"\"* group[=].element[=].target.equivalence = #\"&F15","v":"* group[=].element[=].target.equivalence = #relatedto"},{"$f":"IF(G15<>\"\",CONCATENATE(\"* group[=].element[=].target.comment = \",\"##34#\",G15,\"##34#\"),\"\")","v":"* group[=].element[=].target.comment = ##34#where section.code = 'http://loinc.org#47420-5' ##34#"},null,1,{"$f":"IF(MOD(P15,$Q$8)=0,P15/$Q$8-1,INT(P15/$Q$8))","v":0},{"$f":"IF(MOD(P15,$Q$8)=0,$Q$8,MOD(P15,$Q$8))","v":1},{"$f":"INDEX('FunctionalStat-ConceptMap-1'!$I$15:$N$126,Q15+1,R15)","v":"* group[=].element[+].code = #FunctionalStatus.description"}]
[null,{"$f":"'A.2.3.3 FunctionalStatus'!B9","v":"onsetDate"},{"$f":"'A.2.3.3 FunctionalStatus'!C9","v":"A.2.3.4.2 Onset Date"},"section.entry.onset[x]",null,"relatedto","where section.code = 'http://loinc.org#47420-5'  and entry of type Condition",null,{"$f":"\"* group[=].element[+].code = #\"&$B$14&\".\"&B16","v":"* group[=].element[+].code = #FunctionalStatus.onsetDate"},"* group[=].element[=].display = ##34#A.2.3.4.2 Onset Date##34#","* group[=].element[=].target.code = #Composition.section.entry.onset[x]","* group[=].element[=].target.display = ##34###34#","* group[=].element[=].target.equivalence = #relatedto","* group[=].element[=].target.comment = ##34#where section.code = 'http://loinc.org#47420-5'  and entry of type Condition##34#",null,2,{"$f":"IF(MOD(P16,$Q$8)=0,P16/$Q$8-1,INT(P16/$Q$8))","v":0},{"$f":"IF(MOD(P16,$Q$8)=0,$Q$8,MOD(P16,$Q$8))","v":2},{"$f":"INDEX('FunctionalStat-ConceptMap-1'!$I$15:$N$126,Q16+1,R16)","v":"* group[=].element[=].display = ##34#A.2.3.4.1 Description##34#"}]
[null,{"$f":"'A.2.3.3 FunctionalStatus'!B10","v":"code"},{"$f":"'A.2.3.3 FunctionalStatus'!C10","v":"A.2.3.4.3 Functional assessment description"},"section.entry.description",null,"relatedto","where section.code = 'http://loinc.org#47420-5'  and entry of type ClinicalImpression",null,{"$f":"\"* group[=].element[+].code = #\"&$B$14&\".\"&B17","v":"* group[=].element[+].code = #FunctionalStatus.code"},{"$f":"\"* group[=].element[=].display = ##34#\"&C17&\"##34#\"","v":"* group[=].element[=].display = ##34#A.2.3.4.3 Functional assessment description##34#"},{"$f":"IF(F17=\"unmatched\",\"//-- unmatched\",\"* group[=].element[=].target.code = #\"&$D$14&\".\"&D17)","v":"* group[=].element[=].target.code = #Composition.section.entry.description"},{"$f":"IF(F17=\"unmatched\",\"//-- unmatched\",\"* group[=].element[=].target.display = ##34#\"&E17&\"##34#\")","v":"* group[=].element[=].target.display = ##34###34#"},{"$f":"\"* group[=].element[=].target.equivalence = #\"&F17","v":"* group[=].element[=].target.equivalence = #relatedto"},{"$f":"IF(G17<>\"\",CONCATENATE(\"* group[=].element[=].target.comment = \",\"##34#\",G17,\"##34#\"),\"\")","v":"* group[=].element[=].target.comment = ##34#where section.code = 'http://loinc.org#47420-5'  and entry of type ClinicalImpression##34#"},null,3,0,3,{"$f":"INDEX('FunctionalStat-ConceptMap-1'!$I$15:$N$126,Q17+1,R17)","v":"* group[=].element[=].target.code = #Composition.section.text"}]
[null,{"$f":"'A.2.3.3 FunctionalStatus'!B11","v":"date"},{"$f":"'A.2.3.3 FunctionalStatus'!C11","v":"A.2.3.4.4 Functional assessment date"},"section.entry.effective[x]",null,"relatedto","where section.code = 'http://loinc.org#47420-5'  and entry of type ClinicalImpression",null,"* group[=].element[+].code = #FunctionalStatus.date","* group[=].element[=].display = ##34#A.2.3.4.4 Functional assessment date##34#","* group[=].element[=].target.code = #Composition.section.entry.effective[x]","* group[=].element[=].target.display = ##34###34#","* group[=].element[=].target.equivalence = #relatedto","* group[=].element[=].target.comment = ##34#where section.code = 'http://loinc.org#47420-5'  and entry of type ClinicalImpression##34#",null,4,0,4,{"$f":"INDEX('FunctionalStat-ConceptMap-1'!$I$15:$N$126,Q18+1,R18)","v":"* group[=].element[=].target.display = ##34###34#"}]
[null,{"$f":"'A.2.3.3 FunctionalStatus'!B12","v":"result"},{"$f":"'A.2.3.3 FunctionalStatus'!C12","v":"A.2.3.4.5 Functional assessment result"},"section.entry.code",null,"relatedto","where section.code = 'http://loinc.org#47420-5'  and entry of type Condition.Considering the result as indication of the disability",null,"* group[=].element[+].code = #FunctionalStatus.result","* group[=].element[=].display = ##34#A.2.3.4.5 Functional assessment result##34#","* group[=].element[=].target.code = #Composition.section.entry.code","* group[=].element[=].target.display = ##34###34#","* group[=].element[=].target.equivalence = #relatedto","* group[=].element[=].target.comment = ##34#where section.code = 'http://loinc.org#47420-5'  and entry of type Condition.Considering the result as indication of the disability##34#",null,5,0,{"$f":"IF(MOD(P19,$Q$8)=0,$Q$8,MOD(P19,$Q$8))","v":5},{"$f":"INDEX('FunctionalStat-ConceptMap-1'!$I$15:$N$126,Q19+1,R19)","v":"* group[=].element[=].target.equivalence = #relatedto"}]
[null,{"$f":"'A.2.3.3 FunctionalStatus'!B12","v":"result"},{"$f":"'A.2.3.3 FunctionalStatus'!C12","v":"A.2.3.4.5 Functional assessment result"},"section.entry.finding",null,"relatedto","where section.code = 'http://loinc.org#47420-5'  and entry of type ClinicalImpression",null,"* group[=].element[+].code = #FunctionalStatus.result","* group[=].element[=].display = ##34#A.2.3.4.5 Functional assessment result##34#","* group[=].element[=].target.code = #Composition.section.entry.finding","* group[=].element[=].target.display = ##34###34#","* group[=].element[=].target.equivalence = #relatedto","* group[=].element[=].target.comment = ##34#where section.code = 'http://loinc.org#47420-5'  and entry of type ClinicalImpression##34#",null,6,0,6,{"$f":"INDEX('FunctionalStat-ConceptMap-1'!$I$15:$N$126,Q20+1,R20)","v":"* group[=].element[=].target.comment = ##34#where section.code = 'http://loinc.org#47420-5' ##34#"}]
[null,null,null,null,null,null,null,null,null,null,null,null,null,{"$f":"IF(G21<>\"\",CONCATENATE(\"* group[=].element[=].target.comment = \",\"##34#\",G21,\"##34#\"),\"\")","v":""},null,7,1,1,{"$f":"INDEX('FunctionalStat-ConceptMap-1'!$I$15:$N$126,Q21+1,R21)","v":"* group[=].element[+].code = #FunctionalStatus.onsetDate"}]
[null,null,null,null,null,null,null,null,null,null,null,null,null,"",null,8,1,{"$f":"IF(MOD(P22,$Q$8)=0,$Q$8,MOD(P22,$Q$8))","v":2},{"$f":"INDEX('FunctionalStat-ConceptMap-1'!$I$15:$N$126,Q22+1,R22)","v":"* group[=].element[=].display = ##34#A.2.3.4.2 Onset Date##34#"}]
[null,null,null,null,null,null,null,null,null,null,null,null,null,"",null,9,1,3,{"$f":"INDEX('FunctionalStat-ConceptMap-1'!$I$15:$N$126,Q23+1,R23)","v":"* group[=].element[=].target.code = #Composition.section.entry.onset[x]"}]
[null,null,null,null,null,null,null,null,null,null,null,null,null,"",null,10,1,4,{"$f":"INDEX('FunctionalStat-ConceptMap-1'!$I$15:$N$126,Q24+1,R24)","v":"* group[=].element[=].target.display = ##34###34#"}]
[null,null,null,null,null,null,null,null,null,null,null,null,null,"",null,11,1,5,{"$f":"INDEX('FunctionalStat-ConceptMap-1'!$I$15:$N$126,Q25+1,R25)","v":"* group[=].element[=].target.equivalence = #relatedto"}]
[null,null,null,null,null,null,null,null,null,null,null,null,null,"",null,12,1,6,{"$f":"INDEX('FunctionalStat-ConceptMap-1'!$I$15:$N$126,Q26+1,R26)","v":"* group[=].element[=].target.comment = ##34#where section.code = 'http://loinc.org#47420-5'  and entry of type Condition##34#"}]
[null,null,null,null,null,null,null,null,null,null,null,null,null,"",null,13,2,1,{"$f":"INDEX('FunctionalStat-ConceptMap-1'!$I$15:$N$126,Q27+1,R27)","v":"* group[=].element[+].code = #FunctionalStatus.code"}]
[null,null,null,null,null,null,null,null,null,null,null,null,null,"",null,14,2,2,{"$f":"INDEX('FunctionalStat-ConceptMap-1'!$I$15:$N$126,Q28+1,R28)","v":"* group[=].element[=].display = ##34#A.2.3.4.3 Functional assessment description##34#"}]
[null,null,null,null,null,null,null,null,null,null,null,null,null,"",null,15,2,3,{"$f":"INDEX('FunctionalStat-ConceptMap-1'!$I$15:$N$126,Q29+1,R29)","v":"* group[=].element[=].target.code = #Composition.section.entry.description"}]
[null,null,null,null,null,null,null,null,null,null,null,null,null,"",null,16,2,4,{"$f":"INDEX('FunctionalStat-ConceptMap-1'!$I$15:$N$126,Q30+1,R30)","v":"* group[=].element[=].target.display = ##34###34#"}]
[null,null,null,null,null,null,null,null,null,null,null,null,null,"",null,17,2,5,{"$f":"INDEX('FunctionalStat-ConceptMap-1'!$I$15:$N$126,Q31+1,R31)","v":"* group[=].element[=].target.equivalence = #relatedto"}]
[null,null,null,null,null,null,null,null,null,null,null,null,null,"",null,18,2,6,{"$f":"INDEX('FunctionalStat-ConceptMap-1'!$I$15:$N$126,Q32+1,R32)","v":"* group[=].element[=].target.comment = ##34#where section.code = 'http://loinc.org#47420-5'  and entry of type ClinicalImpression##34#"}]
[null,null,null,null,null,null,null,null,null,null,null,null,null,"",null,19,3,1,{"$f":"INDEX('FunctionalStat-ConceptMap-1'!$I$15:$N$126,Q33+1,R33)","v":"* group[=].element[+].code = #FunctionalStatus.date"}]
[null,null,null,null,null,null,null,null,null,null,null,null,null,"",null,20,3,2,{"$f":"INDEX('FunctionalStat-ConceptMap-1'!$I$15:$N$126,Q34+1,R34)","v":"* group[=].element[=].display = ##34#A.2.3.4.4 Functional assessment date##34#"}]
[null,null,null,null,null,null,null,null,null,null,null,null,null,"",null,21,3,3,{"$f":"INDEX('FunctionalStat-ConceptMap-1'!$I$15:$N$126,Q35+1,R35)","v":"* group[=].element[=].target.code = #Composition.section.entry.effective[x]"}]
[null,null,null,null,null,null,null,null,null,null,null,null,null,"",null,22,3,4,{"$f":"INDEX('FunctionalStat-ConceptMap-1'!$I$15:$N$126,Q36+1,R36)","v":"* group[=].element[=].target.display = ##34###34#"}]
[null,null,null,null,null,null,null,null,null,null,null,null,null,"",null,23,3,5,{"$f":"INDEX('FunctionalStat-ConceptMap-1'!$I$15:$N$126,Q37+1,R37)","v":"* group[=].element[=].target.equivalence = #relatedto"}]
[null,null,null,null,null,null,null,null,null,null,null,null,null,"",null,24,3,6,{"$f":"INDEX('FunctionalStat-ConceptMap-1'!$I$15:$N$126,Q38+1,R38)","v":"* group[=].element[=].target.comment = ##34#where section.code = 'http://loinc.org#47420-5'  and entry of type ClinicalImpression##34#"}]
[null,null,null,null,null,null,null,null,null,null,null,null,null,"",null,25,4,1,{"$f":"INDEX('FunctionalStat-ConceptMap-1'!$I$15:$N$126,Q39+1,R39)","v":"* group[=].element[+].code = #FunctionalStatus.result"}]
[null,null,null,null,null,null,null,null,null,null,null,null,null,"",null,26,4,2,{"$f":"INDEX('FunctionalStat-ConceptMap-1'!$I$15:$N$126,Q40+1,R40)","v":"* group[=].element[=].display = ##34#A.2.3.4.5 Functional assessment result##34#"}]
[null,null,null,null,null,null,null,null,null,null,null,null,null,"",null,27,4,3,{"$f":"INDEX('FunctionalStat-ConceptMap-1'!$I$15:$N$126,Q41+1,R41)","v":"* group[=].element[=].target.code = #Composition.section.entry.code"}]
[null,null,null,null,null,null,null,null,null,null,null,null,null,"",null,28,4,4,{"$f":"INDEX('FunctionalStat-ConceptMap-1'!$I$15:$N$126,Q42+1,R42)","v":"* group[=].element[=].target.display = ##34###34#"}]
[null,null,null,null,null,null,null,null,null,null,null,null,null,"",null,29,4,5,{"$f":"INDEX('FunctionalStat-ConceptMap-1'!$I$15:$N$126,Q43+1,R43)","v":"* group[=].element[=].target.equivalence = #relatedto"}]
[null,null,null,null,null,null,null,null,null,null,null,null,null,"",null,30,4,6,{"$f":"INDEX('FunctionalStat-ConceptMap-1'!$I$15:$N$126,Q44+1,R44)","v":"* group[=].element[=].target.comment = ##34#where section.code = 'http://loinc.org#47420-5'  and entry of type Condition.Considering the result as indication of the disability##34#"}]
[null,null,null,null,null,null,null,null,null,null,null,null,null,"",null,31,5,1,{"$f":"INDEX('FunctionalStat-ConceptMap-1'!$I$15:$N$126,Q45+1,R45)","v":"* group[=].element[+].code = #FunctionalStatus.result"}]
[null,null,null,null,null,null,null,null,null,null,null,null,null,"",null,32,5,2,{"$f":"INDEX('FunctionalStat-ConceptMap-1'!$I$15:$N$126,Q46+1,R46)","v":"* group[=].element[=].display = ##34#A.2.3.4.5 Functional assessment result##34#"}]
[null,null,null,null,null,null,null,null,null,null,null,null,null,null,null,33,5,3,{"$f":"INDEX('FunctionalStat-ConceptMap-1'!$I$15:$N$126,Q47+1,R47)","v":"* group[=].element[=].target.code = #Composition.section.entry.finding"}]
[null,null,null,null,null,null,null,null,null,null,null,null,null,null,null,34,5,4,{"$f":"INDEX('FunctionalStat-ConceptMap-1'!$I$15:$N$126,Q48+1,R48)","v":"* group[=].element[=].target.display = ##34###34#"}]
[null,null,null,null,null,null,null,null,null,null,null,null,null,null,null,35,5,{"$f":"IF(MOD(P49,$Q$8)=0,$Q$8,MOD(P49,$Q$8))","v":5},{"$f":"INDEX('FunctionalStat-ConceptMap-1'!$I$15:$N$126,Q49+1,R49)","v":"* group[=].element[=].target.equivalence = #relatedto"}]
[null,null,null,null,null,null,null,null,null,null,null,null,null,null,null,36,5,6,{"$f":"INDEX('FunctionalStat-ConceptMap-1'!$I$15:$N$126,Q50+1,R50)","v":"* group[=].element[=].target.comment = ##34#where section.code = 'http://loinc.org#47420-5'  and entry of type ClinicalImpression##34#"}]
[null,null,null,null,null,null,null,null,null,null,null,null,null,null,null,37,6,1,{"$f":"INDEX('FunctionalStat-ConceptMap-1'!$I$15:$N$126,Q51+1,R51)","v":0}]
[null,null,null,null,null,null,null,null,null,null,null,null,null,null,null,38,6,2,{"$f":"INDEX('FunctionalStat-ConceptMap-1'!$I$15:$N$126,Q52+1,R52)","v":0}]
[null,null,null,null,null,null,null,null,null,null,null,null,null,null,null,39,6,3,{"$f":"INDEX('FunctionalStat-ConceptMap-1'!$I$15:$N$126,Q53+1,R53)","v":0}]

{"sheet":"FunctionalStatus-CM-fsh","index":16,"n_rows":60,"n_cols":7,"rows_kept":60,"cut":false,"hidden":false,"merged":[]}
[null,"// -------------------------------------------------------------------------------"]
[null,"//  Concept Model. File: ",null,null,null,null,"functionalStatus-to-fhir-map.fsh"]
[null,"// -------------------------------------------------------------------------------"]
[null,{"$f":"\"Instance: \"&'FunctionalStat-ConceptMap-1'!C4","v":"Instance: functionalStatus2FHIR-eu-ps"}]
[null,"InstanceOf: ConceptMap"]
[null,"Usage: #definition"]
[null,"// * url = ##34#http://terminology.hl7.it/ConceptMap/ConceptMap-subject2osiris##34#"]
[null,{"$f":"\"* name = ##34#\"&'FunctionalStat-ConceptMap-1'!C3&\"##34#\"","v":"* name = ##34#FunctionalStatus2Fhir##34#"}]
[null,{"$f":"\"* title = ##34#\"&'FunctionalStat-ConceptMap-1'!C5&\"##34#\"","v":"* title = ##34#eHN Recipient to this guide Map##34#"}]
[null,"* status = #draft"]
[null,"* experimental = true"]
[null,{"$f":"\"* description = ##34#\"&'FunctionalStat-ConceptMap-1'!C8&\"##34#\"","v":"* description = ##34#eHN Medical Devices Model to this guide Map##34#"}]
[null,{"$f":"\"* purpose = ##34#\"&'FunctionalStat-ConceptMap-1'!C9&\"##34#\"","v":"* purpose = ##34#It shows how theMedical Devices Recipient data set defined by the EU eHN guidelines is mapped into this guide##34#"}]
[null,{"$f":"\"* sourceUri = ##34#\"&'FunctionalStat-ConceptMap-1'!E3&\"##34#\"","v":"* sourceUri = ##34#http://hl7.eu/fhir/ig/xpandh/ps/StructureDefinition/FunctionalStatus##34#"}]
[null,{"$f":"\"* targetUri = ##34#\"&'FunctionalStat-ConceptMap-1'!E4&\"##34#\"","v":"* targetUri = ##34#http://hl7.eu/fhir/ig/xpandh/ps/StructureDefinition/Composition-ps-xpandh##34#"}]
[]
[null,{"$f":"\"* group[+].source = ##34#\"&'FunctionalStat-ConceptMap-1'!E6&\"##34#\"","v":"* group[+].source = ##34#http://hl7.eu/fhir/ig/xpandh/ps/StructureDefinition/FunctionalStatus##34#"}]
[null,{"$f":"\"* group[=].target = ##34#\"&'FunctionalStat-ConceptMap-1'!E7&\"##34#\"","v":"* group[=].target = ##34#http://hl7.eu/fhir/ig/xpandh/ps/StructureDefinition/Composition-ps-xpandh##34#"}]
[]
[null,{"$f":"IF('FunctionalStat-ConceptMap-1'!S15=0,\"//---END\",'FunctionalStat-ConceptMap-1'!S15)","v":"* group[=].element[+].code = #FunctionalStatus.description"}]
[null,{"$f":"IF('FunctionalStat-ConceptMap-1'!S16=0,\"//---END\",'FunctionalStat-ConceptMap-1'!S16)","v":"* group[=].element[=].display = ##34#A.2.3.4.1 Description##34#"}]
[null,{"$f":"IF('FunctionalStat-ConceptMap-1'!S17=0,\"//---END\",'FunctionalStat-ConceptMap-1'!S17)","v":"* group[=].element[=].target.code = #Composition.section.text"}]
[null,{"$f":"IF('FunctionalStat-ConceptMap-1'!S18=0,\"//---END\",'FunctionalStat-ConceptMap-1'!S18)","v":"* group[=].element[=].target.display = ##34###34#"}]
[null,{"$f":"IF('FunctionalStat-ConceptMap-1'!S19=0,\"//---END\",'FunctionalStat-ConceptMap-1'!S19)","v":"* group[=].element[=].target.equivalence = #relatedto"}]
[null,{"$f":"IF('FunctionalStat-ConceptMap-1'!S20=0,\"//---END\",'FunctionalStat-ConceptMap-1'!S20)","v":"* group[=].element[=].target.comment = ##34#where section.code = 'http://loinc.org#47420-5' ##34#"}]
[null,{"$f":"IF('FunctionalStat-ConceptMap-1'!S21=0,\"//---END\",'FunctionalStat-ConceptMap-1'!S21)","v":"* group[=].element[+].code = #FunctionalStatus.onsetDate"}]
[null,{"$f":"IF('FunctionalStat-ConceptMap-1'!S22=0,\"//---END\",'FunctionalStat-ConceptMap-1'!S22)","v":"* group[=].element[=].display = ##34#A.2.3.4.2 Onset Date##34#"}]
[null,{"$f":"IF('FunctionalStat-ConceptMap-1'!S23=0,\"//---END\",'FunctionalStat-ConceptMap-1'!S23)","v":"* group[=].element[=].target.code = #Composition.section.entry.onset[x]"}]
[null,{"$f":"IF('FunctionalStat-ConceptMap-1'!S24=0,\"//---END\",'FunctionalStat-ConceptMap-1'!S24)","v":"* group[=].element[=].target.display = ##34###34#"}]
[null,{"$f":"IF('FunctionalStat-ConceptMap-1'!S25=0,\"//---END\",'FunctionalStat-ConceptMap-1'!S25)","v":"* group[=].element[=].target.equivalence = #relatedto"}]
[null,{"$f":"IF('FunctionalStat-ConceptMap-1'!S26=0,\"//---END\",'FunctionalStat-ConceptMap-1'!S26)","v":"* group[=].element[=].target.comment = ##34#where section.code = 'http://loinc.org#47420-5'  and entry of type Condition##34#"}]
[null,{"$f":"IF('FunctionalStat-ConceptMap-1'!S27=0,\"//---END\",'FunctionalStat-ConceptMap-1'!S27)","v":"* group[=].element[+].code = #FunctionalStatus.code"}]
[null,{"$f":"IF('FunctionalStat-ConceptMap-1'!S28=0,\"//---END\",'FunctionalStat-ConceptMap-1'!S28)","v":"* group[=].element[=].display = ##34#A.2.3.4.3 Functional assessment description##34#"}]
[null,{"$f":"IF('FunctionalStat-ConceptMap-1'!S29=0,\"//---END\",'FunctionalStat-ConceptMap-1'!S29)","v":"* group[=].element[=].target.code = #Composition.section.entry.description"}]
[null,{"$f":"IF('FunctionalStat-ConceptMap-1'!S30=0,\"//---END\",'FunctionalStat-ConceptMap-1'!S30)","v":"* group[=].element[=].target.display = ##34###34#"}]
[null,{"$f":"IF('FunctionalStat-ConceptMap-1'!S31=0,\"//---END\",'FunctionalStat-ConceptMap-1'!S31)","v":"* group[=].element[=].target.equivalence = #relatedto"}]
[null,{"$f":"IF('FunctionalStat-ConceptMap-1'!S32=0,\"//---END\",'FunctionalStat-ConceptMap-1'!S32)","v":"* group[=].element[=].target.comment = ##34#where section.code = 'http://loinc.org#47420-5'  and entry of type ClinicalImpression##34#"}]
[null,{"$f":"IF('FunctionalStat-ConceptMap-1'!S33=0,\"//---END\",'FunctionalStat-ConceptMap-1'!S33)","v":"* group[=].element[+].code = #FunctionalStatus.date"}]
[null,{"$f":"IF('FunctionalStat-ConceptMap-1'!S34=0,\"//---END\",'FunctionalStat-ConceptMap-1'!S34)","v":"* group[=].element[=].display = ##34#A.2.3.4.4 Functional assessment date##34#"}]
[null,{"$f":"IF('FunctionalStat-ConceptMap-1'!S35=0,\"//---END\",'FunctionalStat-ConceptMap-1'!S35)","v":"* group[=].element[=].target.code = #Composition.section.entry.effective[x]"}]
[null,{"$f":"IF('FunctionalStat-ConceptMap-1'!S36=0,\"//---END\",'FunctionalStat-ConceptMap-1'!S36)","v":"* group[=].element[=].target.display = ##34###34#"}]
[null,{"$f":"IF('FunctionalStat-ConceptMap-1'!S37=0,\"//---END\",'FunctionalStat-ConceptMap-1'!S37)","v":"* group[=].element[=].target.equivalence = #relatedto"}]
[null,{"$f":"IF('FunctionalStat-ConceptMap-1'!S38=0,\"//---END\",'FunctionalStat-ConceptMap-1'!S38)","v":"* group[=].element[=].target.comment = ##34#where section.code = 'http://loinc.org#47420-5'  and entry of type ClinicalImpression##34#"}]
[null,{"$f":"IF('FunctionalStat-ConceptMap-1'!S39=0,\"//---END\",'FunctionalStat-ConceptMap-1'!S39)","v":"* group[=].element[+].code = #FunctionalStatus.result"}]
[null,{"$f":"IF('FunctionalStat-ConceptMap-1'!S40=0,\"//---END\",'FunctionalStat-ConceptMap-1'!S40)","v":"* group[=].element[=].display = ##34#A.2.3.4.5 Functional assessment result##34#"}]
[null,{"$f":"IF('FunctionalStat-ConceptMap-1'!S41=0,\"//---END\",'FunctionalStat-ConceptMap-1'!S41)","v":"* group[=].element[=].target.code = #Composition.section.entry.code"}]
[null,{"$f":"IF('FunctionalStat-ConceptMap-1'!S42=0,\"//---END\",'FunctionalStat-ConceptMap-1'!S42)","v":"* group[=].element[=].target.display = ##34###34#"}]
[null,{"$f":"IF('FunctionalStat-ConceptMap-1'!S43=0,\"//---END\",'FunctionalStat-ConceptMap-1'!S43)","v":"* group[=].element[=].target.equivalence = #relatedto"}]
[null,{"$f":"IF('FunctionalStat-ConceptMap-1'!S44=0,\"//---END\",'FunctionalStat-ConceptMap-1'!S44)","v":"* group[=].element[=].target.comment = ##34#where section.code = 'http://loinc.org#47420-5'  and entry of type Condition.Considering the result as indication of the disability##34#"}]
[null,{"$f":"IF('FunctionalStat-ConceptMap-1'!S45=0,\"//---END\",'FunctionalStat-ConceptMap-1'!S45)","v":"* group[=].element[+].code = #FunctionalStatus.result"}]
[null,{"$f":"IF('FunctionalStat-ConceptMap-1'!S46=0,\"//---END\",'FunctionalStat-ConceptMap-1'!S46)","v":"* group[=].element[=].display = ##34#A.2.3.4.5 Functional assessment result##34#"}]
[null,{"$f":"IF('FunctionalStat-ConceptMap-1'!S47=0,\"//---END\",'FunctionalStat-ConceptMap-1'!S47)","v":"* group[=].element[=].target.code = #Composition.section.entry.finding"}]
[null,{"$f":"IF('FunctionalStat-ConceptMap-1'!S48=0,\"//---END\",'FunctionalStat-ConceptMap-1'!S48)","v":"* group[=].element[=].target.display = ##34###34#"}]
[null,{"$f":"IF('FunctionalStat-ConceptMap-1'!S49=0,\"//---END\",'FunctionalStat-ConceptMap-1'!S49)","v":"* group[=].element[=].target.equivalence = #relatedto"}]
[null,{"$f":"IF('FunctionalStat-ConceptMap-1'!S50=0,\"//---END\",'FunctionalStat-ConceptMap-1'!S50)","v":"* group[=].element[=].target.comment = ##34#where section.code = 'http://loinc.org#47420-5'  and entry of type ClinicalImpression##34#"}]
[null,{"$f":"IF('FunctionalStat-ConceptMap-1'!S51=0,\"//---END\",'FunctionalStat-ConceptMap-1'!S51)","v":"//---END"}]
[null,{"$f":"IF('FunctionalStat-ConceptMap-1'!S52=0,\"//---END\",'FunctionalStat-ConceptMap-1'!S52)","v":"//---END"}]
[null,{"$f":"IF('FunctionalStat-ConceptMap-1'!S53=0,\"//---END\",'FunctionalStat-ConceptMap-1'!S53)","v":"//---END"}]
[null,{"$f":"IF('FunctionalStat-ConceptMap-1'!S54=0,\"//---END\",'FunctionalStat-ConceptMap-1'!S54)","v":"//---END"}]
[null,{"$f":"IF('FunctionalStat-ConceptMap-1'!S55=0,\"//---END\",'FunctionalStat-ConceptMap-1'!S55)","v":"//---END"}]

{"sheet":"A.2.3.3 Procedures","index":17,"n_rows":29,"n_cols":9,"rows_kept":29,"cut":false,"hidden":false,"merged":[[25,2,25,5]]}
[null,null,null,null,null,null,null,null,"// -------------------------------------------------------------------------------"]
[null,null,null,null,null,null,null,null,"//  Logical Model"]
[null,null,null,null,null,null,null,null,{"$f":"I1","v":"// -------------------------------------------------------------------------------"}]
["Name","ProcedurePsEhn",null,null,null,null,null,null,{"$f":"CONCATENATE(\"Logical: \",B4)","v":"Logical: ProcedurePsEhn"}]
["Id","ProcedurePs",null,null,null,null,null,null,{"$f":"CONCATENATE(\"Id: \",B5)","v":"Id: ProcedurePs"}]
["Title","A.2.3.3 - Procedures",null,null,null,null,null,null,{"$f":"CONCATENATE(\"Title: ##34#\",B6,\"##34#\")","v":"Title: ##34#A.2.3.3 - Procedures##34#"}]
["Description","Procedures.Section A.2.3.3 of the eHN guideline.",null,null,null,"max","dataType",null,{"$f":"CONCATENATE(\"Description: \",\" ##334#\",B7,\"##334#\",)","v":"Description:  ##334#Procedures.Section A.2.3.3 of the eHN guideline.##334#"}]
[1,"description","A.2.3.3.1 Procedure description","Describes the type of procedure - Preferred system(s): SNOMED CT GPS*",0,"*","CodeableConcept",null,{"$f":"CONCATENATE(\"* \",B8, \" \",E8,\"..\",F8,\" \",G8,\" ##34#\",C8,\"##34# ##334#\",D8,\"##334#\")","v":"* description 0..* CodeableConcept ##34#A.2.3.3.1 Procedure description##34# ##334#Describes the type of procedure - Preferred system(s): SNOMED CT GPS*##334#"}]
[2,"bodySite","A.2.3.3.2 Body site","Procedure target body site - Preferred system(s): SNOMED CT GPS*",0,"*","BackboneElement",null,{"$f":"CONCATENATE(\"* \",B9, \" \",E9,\"..\",F9,\" \",G9,\" ##34#\",C9,\"##34# ##334#\",D9,\"##334#\")","v":"* bodySite 0..* BackboneElement ##34#A.2.3.3.2 Body site##34# ##334#Procedure target body site - Preferred system(s): SNOMED CT GPS*##334#"}]
[3,"date","A.2.3.3.3 Procedure date","Date when procedure was performed - Preferred system(s): ISO 8601",0,"*","dateTime",null,"* date 0..* dateTime ##34#A.2.3.3.3 Procedure date##34# ##334#Date when procedure was performed - Preferred system(s): ISO 8601##334#"]
[null,null,null,null,null,null,null,null,"*  ..  ##34###34# ##334###334#"]
[5,null,null,null,null,null,null,null,"*  ..  ##34###34# ##334###334#"]
[6,null,null,null,null,null,null,null,"*  ..  ##34###34# ##334###334#"]
[7,null,null,null,null,null,null,null,"*  ..  ##34###34# ##334###334#"]
[8]
[9]
[]
[]
[]
[]
[null,{"$f":"CONCATENATE(C21,\" \",D21)","v":" "}]
[]
[]
[]
[]
[null,null,"A.1.6 Legal authenticator (The person taking responsibility for the medical content of the document)"]
[null,{"$f":"CONCATENATE(C27,\" \",D27)","v":"A.2.3.3.1 Procedure description"},"A.2.3.3.1","Procedure description","Describes the type of procedure","SNOMED CT GPS*",null,null,{"$f":"CONCATENATE(E27,\" - Preferred system(s): \",F27)","v":"Describes the type of procedure - Preferred system(s): SNOMED CT GPS*"}]
[null,"A.2.3.3.2 Body site","A.2.3.3.2","Body site","Procedure target body site","SNOMED CT GPS*",null,null,"Procedure target body site - Preferred system(s): SNOMED CT GPS*"]
[null,"A.2.3.3.3 Procedure date","A.2.3.3.3","Procedure date","Date when procedure was performed","ISO 8601",null,null,"Date when procedure was performed - Preferred system(s): ISO 8601"]

{"sheet":"Procedures-fsh","index":18,"n_rows":14,"n_cols":7,"rows_kept":14,"cut":false,"hidden":false,"merged":[]}
[null,null,{"$f":"'A.2.3.3 Procedures'!I1","v":"// -------------------------------------------------------------------------------"}]
[null,null,{"$f":"'A.2.3.3 Procedures'!I2","v":"//  Logical Model"},null,null,null,"ps-procedures.fsh"]
[null,null,{"$f":"'A.2.3.3 Procedures'!I3","v":"// -------------------------------------------------------------------------------"}]
[null,null,{"$f":"'A.2.3.3 Procedures'!I4","v":"Logical: ProcedurePsEhn"}]
[null,null,{"$f":"'A.2.3.3 Procedures'!I5","v":"Id: ProcedurePs"}]
[null,null,{"$f":"'A.2.3.3 Procedures'!I6","v":"Title: ##34#A.2.3.3 - Procedures##34#"}]
[null,null,{"$f":"'A.2.3.3 Procedures'!I7","v":"Description:  ##334#Procedures.Section A.2.3.3 of the eHN guideline.##334#"}]
[null,null,{"$f":"IF('A.2.3.3 Procedures'!I8=\"*  ..  ##34###34# ##334###334#\",\"//--- END\",'A.2.3.3 Procedures'!I8)","v":"* description 0..* CodeableConcept ##34#A.2.3.3.1 Procedure description##34# ##334#Describes the type of procedure - Preferred system(s): SNOMED CT GPS*##334#"}]
[null,null,{"$f":"IF('A.2.3.3 Procedures'!I9=\"*  ..  ##34###34# ##334###334#\",\"//--- END\",'A.2.3.3 Procedures'!I9)","v":"* bodySite 0..* BackboneElement ##34#A.2.3.3.2 Body site##34# ##334#Procedure target body site - Preferred system(s): SNOMED CT GPS*##334#"}]
[null,null,{"$f":"IF('A.2.3.3 Procedures'!I10=\"*  ..  ##34###34# ##334###334#\",\"//--- END\",'A.2.3.3 Procedures'!I10)","v":"* date 0..* dateTime ##34#A.2.3.3.3 Procedure date##34# ##334#Date when procedure was performed - Preferred system(s): ISO 8601##334#"},null," "]
[null,null,{"$f":"IF('A.2.3.3 Procedures'!I11=\"*  ..  ##34###34# ##334###334#\",\"//--- END\",'A.2.3.3 Procedures'!I11)","v":"//--- END"}]
[null,null,{"$f":"IF('A.2.3.3 Procedures'!I12=\"*  ..  ##34###34# ##334###334#\",\"//--- END\",'A.2.3.3 Procedures'!I12)","v":"//--- END"}]
[null,null,{"$f":"IF('A.2.3.3 Procedures'!I13=\"*  ..  ##34###34# ##334###334#\",\"//--- END\",'A.2.3.3 Procedures'!I13)","v":"//--- END"}]
[null,null,{"$f":"IF('A.2.3.3 Procedures'!I14=\"*  ..  ##34###34# ##334###334#\",\"//--- END\",'A.2.3.3 Procedures'!I14)","v":"//--- END"}]

{"sheet":"Procedures-ConceptMap-1","index":19,"n_rows":45,"n_cols":19,"rows_kept":45,"cut":false,"hidden":false,"merged":[[2,4,2,6],[3,4,3,6],[5,4,5,6],[6,4,6,6]]}
[]
[]
[null,"Mapping","Procedure2Fhir","Source URI",{"$f":"\"http://hl7.eu/fhir/ig/xpandh/ps/StructureDefinition/\"&'A.2.3.3 Procedures'!B5","v":"http://hl7.eu/fhir/ig/xpandh/ps/StructureDefinition/ProcedurePs"}]
[null,"Id","procedure2FHIR-eu-ps","Target URI","http://hl7.eu/fhir/ig/xpandh/ps/StructureDefinition/Procedure-ps-xpandh"]
[null,"Title","eHN Recipient to this guide Map"]
[null,"Source",null,"Source Group",{"$f":"E3","v":"http://hl7.eu/fhir/ig/xpandh/ps/StructureDefinition/ProcedurePs"}]
[null,"Target",null,"Target Group",{"$f":"E4","v":"http://hl7.eu/fhir/ig/xpandh/ps/StructureDefinition/Procedure-ps-xpandh"}]
[null,"description","eHN Medical Devices Model to this guide Map",null,null,null,null,null,"* group[=].element[+].code = #Osiris.Patient.BirthDate","* group[=].element[=].display = \"Birth Date [C4]\"","* group[=].element[=].target.code = #Subject.dateOfBirth.date","* group[=].element[=].target.display = \"Date of birth\"","* group[=].element[=].target.equivalence = #equivalent",null,null,"Elements",6]
[null,"purpose","It shows how theMedical Devices Recipient data set defined by the EU eHN guidelines is mapped into this guide"]
[]
[null,null,null,null,null,null,null,null,"source:code","source:display","code","display","target to source","Comment"]
[]
[null,null,null,null,null,"target to source","Comment"]
[null,{"$f":"'A.2.3.3 Procedures'!B5","v":"ProcedurePs"},null,"Procedure"]
[null,{"$f":"'A.2.3.3 Procedures'!B8","v":"description"},{"$f":"'A.2.3.3 Procedures'!C8","v":"A.2.3.3.1 Procedure description"},"code",null,"equivalent",null,null,{"$f":"\"* group[=].element[+].code = #\"&$B$14&\".\"&B15","v":"* group[=].element[+].code = #ProcedurePs.description"},{"$f":"\"* group[=].element[=].display = ##34#\"&C15&\"##34#\"","v":"* group[=].element[=].display = ##34#A.2.3.3.1 Procedure description##34#"},{"$f":"IF(F15=\"unmatched\",\"//-- unmatched\",\"* group[=].element[=].target.code = #\"&$D$14&\".\"&D15)","v":"* group[=].element[=].target.code = #Procedure.code"},{"$f":"IF(F15=\"unmatched\",\"//-- unmatched\",\"* group[=].element[=].target.display = ##34#\"&E15&\"##34#\")","v":"* group[=].element[=].target.display = ##34###34#"},{"$f":"\"* group[=].element[=].target.equivalence = #\"&F15","v":"* group[=].element[=].target.equivalence = #equivalent"},{"$f":"IF(G15<>\"\",CONCATENATE(\"* group[=].element[=].target.comment = \",\"##34#\",G15,\"##34#\"),\"\")","v":""},null,1,{"$f":"IF(MOD(P15,$Q$8)=0,P15/$Q$8-1,INT(P15/$Q$8))","v":0},{"$f":"IF(MOD(P15,$Q$8)=0,$Q$8,MOD(P15,$Q$8))","v":1},{"$f":"INDEX('Procedures-ConceptMap-1'!$I$15:$N$125,Q15+1,R15)","v":"* group[=].element[+].code = #ProcedurePs.description"}]
[null,{"$f":"'A.2.3.3 Procedures'!B9","v":"bodySite"},{"$f":"'A.2.3.3 Procedures'!C9","v":"A.2.3.3.2 Body site"},"bodySite",null,"equivalent",null,null,{"$f":"\"* group[=].element[+].code = #\"&$B$14&\".\"&B16","v":"* group[=].element[+].code = #ProcedurePs.bodySite"},"* group[=].element[=].display = ##34#A.2.3.3.2 Body site##34#","* group[=].element[=].target.code = #Procedure.bodySite","* group[=].element[=].target.display = ##34###34#","* group[=].element[=].target.equivalence = #equivalent","",null,2,{"$f":"IF(MOD(P16,$Q$8)=0,P16/$Q$8-1,INT(P16/$Q$8))","v":0},{"$f":"IF(MOD(P16,$Q$8)=0,$Q$8,MOD(P16,$Q$8))","v":2},{"$f":"INDEX('Procedures-ConceptMap-1'!$I$15:$N$125,Q16+1,R16)","v":"* group[=].element[=].display = ##34#A.2.3.3.1 Procedure description##34#"}]
[null,{"$f":"'A.2.3.3 Procedures'!B10","v":"date"},{"$f":"'A.2.3.3 Procedures'!C10","v":"A.2.3.3.3 Procedure date"},"performed[x]",null,"equivalent",null,null,{"$f":"\"* group[=].element[+].code = #\"&$B$14&\".\"&B17","v":"* group[=].element[+].code = #ProcedurePs.date"},{"$f":"\"* group[=].element[=].display = ##34#\"&C17&\"##34#\"","v":"* group[=].element[=].display = ##34#A.2.3.3.3 Procedure date##34#"},{"$f":"IF(F17=\"unmatched\",\"//-- unmatched\",\"* group[=].element[=].target.code = #\"&$D$14&\".\"&D17)","v":"* group[=].element[=].target.code = #Procedure.performed[x]"},{"$f":"IF(F17=\"unmatched\",\"//-- unmatched\",\"* group[=].element[=].target.display = ##34#\"&E17&\"##34#\")","v":"* group[=].element[=].target.display = ##34###34#"},{"$f":"\"* group[=].element[=].target.equivalence = #\"&F17","v":"* group[=].element[=].target.equivalence = #equivalent"},{"$f":"IF(G17<>\"\",CONCATENATE(\"* group[=].element[=].target.comment = \",\"##34#\",G17,\"##34#\"),\"\")","v":""},null,3,0,3,{"$f":"INDEX('Procedures-ConceptMap-1'!$I$15:$N$125,Q17+1,R17)","v":"* group[=].element[=].target.code = #Procedure.code"}]
[null,null,null,null,null,null,null,null,null,null,null,null,null,null,null,4,0,4,{"$f":"INDEX('Procedures-ConceptMap-1'!$I$15:$N$125,Q18+1,R18)","v":"* group[=].element[=].target.display = ##34###34#"}]
[null,null,null,null,null,null,null,null,null,null,null,null,null,"",null,5,0,{"$f":"IF(MOD(P19,$Q$8)=0,$Q$8,MOD(P19,$Q$8))","v":5},{"$f":"INDEX('Procedures-ConceptMap-1'!$I$15:$N$125,Q19+1,R19)","v":"* group[=].element[=].target.equivalence = #equivalent"}]
[null,null,null,null,null,null,null,null,null,null,null,null,null,"",null,6,0,6,{"$f":"INDEX('Procedures-ConceptMap-1'!$I$15:$N$125,Q20+1,R20)","v":""}]
[null,null,null,null,null,null,null,null,null,null,null,null,null,"",null,7,1,1,{"$f":"INDEX('Procedures-ConceptMap-1'!$I$15:$N$125,Q21+1,R21)","v":"* group[=].element[+].code = #ProcedurePs.bodySite"}]
[null,null,null,null,null,null,null,null,null,null,null,null,null,"",null,8,1,2,{"$f":"INDEX('Procedures-ConceptMap-1'!$I$15:$N$125,Q22+1,R22)","v":"* group[=].element[=].display = ##34#A.2.3.3.2 Body site##34#"}]
[null,null,null,null,null,null,null,null,null,null,null,null,null,"",null,9,1,3,{"$f":"INDEX('Procedures-ConceptMap-1'!$I$15:$N$125,Q23+1,R23)","v":"* group[=].element[=].target.code = #Procedure.bodySite"}]
[null,null,null,null,null,null,null,null,null,null,null,null,null,"",null,10,1,4,{"$f":"INDEX('Procedures-ConceptMap-1'!$I$15:$N$125,Q24+1,R24)","v":"* group[=].element[=].target.display = ##34###34#"}]
[null,null,null,null,null,null,null,null,null,null,null,null,null,"",null,11,1,5,{"$f":"INDEX('Procedures-ConceptMap-1'!$I$15:$N$125,Q25+1,R25)","v":"* group[=].element[=].target.equivalence = #equivalent"}]
[null,null,null,null,null,null,null,null,null,null,null,null,null,"",null,12,1,6,{"$f":"INDEX('Procedures-ConceptMap-1'!$I$15:$N$125,Q26+1,R26)","v":""}]
[null,null,null,null,null,null,null,null,null,null,null,null,null,"",null,13,2,1,{"$f":"INDEX('Procedures-ConceptMap-1'!$I$15:$N$125,Q27+1,R27)","v":"* group[=].element[+].code = #ProcedurePs.date"}]
[null,null,null,null,null,null,null,null,null,null,null,null,null,"",null,14,2,2,{"$f":"INDEX('Procedures-ConceptMap-1'!$I$15:$N$125,Q28+1,R28)","v":"* group[=].element[=].display = ##34#A.2.3.3.3 Procedure date##34#"}]
[null,null,null,null,null,null,null,null,null,null,null,null,null,"",null,15,2,3,{"$f":"INDEX('Procedures-ConceptMap-1'!$I$15:$N$125,Q29+1,R29)","v":"* group[=].element[=].target.code = #Procedure.performed[x]"}]
[null,null,null,null,null,null,null,null,null,null,null,null,null,"",null,16,2,4,{"$f":"INDEX('Procedures-ConceptMap-1'!$I$15:$N$125,Q30+1,R30)","v":"* group[=].element[=].target.display = ##34###34#"}]
[null,null,null,null,null,null,null,null,null,null,null,null,null,"",null,17,2,5,{"$f":"INDEX('Procedures-ConceptMap-1'!$I$15:$N$125,Q31+1,R31)","v":"* group[=].element[=].target.equivalence = #equivalent"}]
[null,null,null,null,null,null,null,null,null,null,null,null,null,"",null,18,2,6,{"$f":"INDEX('Procedures-ConceptMap-1'!$I$15:$N$125,Q32+1,R32)","v":""}]
[null,null,null,null,null,null,null,null,null,null,null,null,null,"",null,19,3,1,{"$f":"INDEX('Procedures-ConceptMap-1'!$I$15:$N$125,Q33+1,R33)","v":0}]
[null,null,null,null,null,null,null,null,null,null,null,null,null,"",null,20,3,2,{"$f":"INDEX('Procedures-ConceptMap-1'!$I$15:$N$125,Q34+1,R34)","v":0}]
[null,null,null,null,null,null,null,null,null,null,null,null,null,"",null,21,{"$f":"IF(MOD(P35,$Q$8)=0,P35/$Q$8-1,INT(P35/$Q$8))","v":3},{"$f":"IF(MOD(P35,$Q$8)=0,$Q$8,MOD(P35,$Q$8))","v":3},{"$f":"INDEX('Procedures-ConceptMap-1'!$I$15:$N$125,Q35+1,R35)","v":0}]
[null,null,null,null,null,null,null,null,null,null,null,null,null,"",null,22,3,{"$f":"IF(MOD(P36,$Q$8)=0,$Q$8,MOD(P36,$Q$8))","v":4},{"$f":"INDEX('Procedures-ConceptMap-1'!$I$15:$N$125,Q36+1,R36)","v":0}]
[null,null,null,null,null,null,null,null,null,null,null,null,null,"",null,23,3,5,{"$f":"INDEX('Procedures-ConceptMap-1'!$I$15:$N$125,Q37+1,R37)","v":0}]
[null,null,null,null,null,null,null,null,null,null,null,null,null,"",null,25,{"$f":"IF(MOD(P38,$Q$8)=0,P38/$Q$8-1,INT(P38/$Q$8))","v":4},{"$f":"IF(MOD(P38,$Q$8)=0,$Q$8,MOD(P38,$Q$8))","v":1},{"$f":"INDEX('Procedures-ConceptMap-1'!$I$15:$N$125,Q38+1,R38)","v":0}]
[null,null,null,null,null,null,null,null,null,null,null,null,null,""]
[null,null,null,null,null,null,null,null,null,null,null,null,null,""]
[null,null,null,null,null,null,null,null,null,null,null,null,null,""]
[null,null,null,null,null,null,null,null,null,null,null,null,null,""]
[null,null,null,null,null,null,null,null,null,null,null,null,null,""]
[null,null,null,null,null,null,null,null,null,null,null,null,null,""]
[null,null,null,null,null,null,null,null,null,null,null,null,null,""]

{"sheet":"Procedures-CM-fsh","index":20,"n_rows":45,"n_cols":7,"rows_kept":45,"cut":false,"hidden":false,"merged":[]}
[null,"// -------------------------------------------------------------------------------"]
[null,"//  Concept Model. File: ",null,null,null,null,"procedure-to-fhir-map.fsh"]
[null,"// -------------------------------------------------------------------------------"]
[null,{"$f":"\"Instance: \"&'Procedures-ConceptMap-1'!C4","v":"Instance: procedure2FHIR-eu-ps"}]
[null,"InstanceOf: ConceptMap"]
[null,"Usage: #definition"]
[null,"// * url = ##34#http://terminology.hl7.it/ConceptMap/ConceptMap-subject2osiris##34#"]
[null,{"$f":"\"* name = ##34#\"&'Procedures-ConceptMap-1'!C3&\"##34#\"","v":"* name = ##34#Procedure2Fhir##34#"}]
[null,{"$f":"\"* title = ##34#\"&'Procedures-ConceptMap-1'!C5&\"##34#\"","v":"* title = ##34#eHN Recipient to this guide Map##34#"}]
[null,"* status = #draft"]
[null,"* experimental = true"]
[null,{"$f":"\"* description = ##34#\"&'Procedures-ConceptMap-1'!C8&\"##34#\"","v":"* description = ##34#eHN Medical Devices Model to this guide Map##34#"}]
[null,{"$f":"\"* purpose = ##34#\"&'Procedures-ConceptMap-1'!C9&\"##34#\"","v":"* purpose = ##34#It shows how theMedical Devices Recipient data set defined by the EU eHN guidelines is mapped into this guide##34#"}]
[null,{"$f":"\"* sourceUri = ##34#\"&'Procedures-ConceptMap-1'!E3&\"##34#\"","v":"* sourceUri = ##34#http://hl7.eu/fhir/ig/xpandh/ps/StructureDefinition/ProcedurePs##34#"}]
[null,{"$f":"\"* targetUri = ##34#\"&'Procedures-ConceptMap-1'!E4&\"##34#\"","v":"* targetUri = ##34#http://hl7.eu/fhir/ig/xpandh/ps/StructureDefinition/Procedure-ps-xpandh##34#"}]
[]
[null,{"$f":"\"* group[+].source = ##34#\"&'Procedures-ConceptMap-1'!E6&\"##34#\"","v":"* group[+].source = ##34#http://hl7.eu/fhir/ig/xpandh/ps/StructureDefinition/ProcedurePs##34#"}]
[null,{"$f":"\"* group[=].target = ##34#\"&'Procedures-ConceptMap-1'!E7&\"##34#\"","v":"* group[=].target = ##34#http://hl7.eu/fhir/ig/xpandh/ps/StructureDefinition/Procedure-ps-xpandh##34#"}]
[]
[null,{"$f":"IF('Procedures-ConceptMap-1'!S15=0,\"//---END\",'Procedures-ConceptMap-1'!S15)","v":"* group[=].element[+].code = #ProcedurePs.description"}]
[null,{"$f":"IF('Procedures-ConceptMap-1'!S16=0,\"//---END\",'Procedures-ConceptMap-1'!S16)","v":"* group[=].element[=].display = ##34#A.2.3.3.1 Procedure description##34#"}]
[null,{"$f":"IF('Procedures-ConceptMap-1'!S17=0,\"//---END\",'Procedures-ConceptMap-1'!S17)","v":"* group[=].element[=].target.code = #Procedure.code"}]
[null,{"$f":"IF('Procedures-ConceptMap-1'!S18=0,\"//---END\",'Procedures-ConceptMap-1'!S18)","v":"* group[=].element[=].target.display = ##34###34#"}]
[null,{"$f":"IF('Procedures-ConceptMap-1'!S19=0,\"//---END\",'Procedures-ConceptMap-1'!S19)","v":"* group[=].element[=].target.equivalence = #equivalent"}]
[null,{"$f":"IF('Procedures-ConceptMap-1'!S20=0,\"//---END\",'Procedures-ConceptMap-1'!S20)","v":""}]
[null,{"$f":"IF('Procedures-ConceptMap-1'!S21=0,\"//---END\",'Procedures-ConceptMap-1'!S21)","v":"* group[=].element[+].code = #ProcedurePs.bodySite"}]
[null,{"$f":"IF('Procedures-ConceptMap-1'!S22=0,\"//---END\",'Procedures-ConceptMap-1'!S22)","v":"* group[=].element[=].display = ##34#A.2.3.3.2 Body site##34#"}]
[null,{"$f":"IF('Procedures-ConceptMap-1'!S23=0,\"//---END\",'Procedures-ConceptMap-1'!S23)","v":"* group[=].element[=].target.code = #Procedure.bodySite"}]
[null,{"$f":"IF('Procedures-ConceptMap-1'!S24=0,\"//---END\",'Procedures-ConceptMap-1'!S24)","v":"* group[=].element[=].target.display = ##34###34#"}]
[null,{"$f":"IF('Procedures-ConceptMap-1'!S25=0,\"//---END\",'Procedures-ConceptMap-1'!S25)","v":"* group[=].element[=].target.equivalence = #equivalent"}]
[null,{"$f":"IF('Procedures-ConceptMap-1'!S26=0,\"//---END\",'Procedures-ConceptMap-1'!S26)","v":""}]
[null,{"$f":"IF('Procedures-ConceptMap-1'!S27=0,\"//---END\",'Procedures-ConceptMap-1'!S27)","v":"* group[=].element[+].code = #ProcedurePs.date"}]
[null,{"$f":"IF('Procedures-ConceptMap-1'!S28=0,\"//---END\",'Procedures-ConceptMap-1'!S28)","v":"* group[=].element[=].display = ##34#A.2.3.3.3 Procedure date##34#"}]
[null,{"$f":"IF('Procedures-ConceptMap-1'!S29=0,\"//---END\",'Procedures-ConceptMap-1'!S29)","v":"* group[=].element[=].target.code = #Procedure.performed[x]"}]
[null,{"$f":"IF('Procedures-ConceptMap-1'!S30=0,\"//---END\",'Procedures-ConceptMap-1'!S30)","v":"* group[=].element[=].target.display = ##34###34#"}]
[null,{"$f":"IF('Procedures-ConceptMap-1'!S31=0,\"//---END\",'Procedures-ConceptMap-1'!S31)","v":"* group[=].element[=].target.equivalence = #equivalent"}]
[null,{"$f":"IF('Procedures-ConceptMap-1'!S32=0,\"//---END\",'Procedures-ConceptMap-1'!S32)","v":""}]
[null,{"$f":"IF('Procedures-ConceptMap-1'!S33=0,\"//---END\",'Procedures-ConceptMap-1'!S33)","v":"//---END"}]
[null,{"$f":"IF('Procedures-ConceptMap-1'!S34=0,\"//---END\",'Procedures-ConceptMap-1'!S34)","v":"//---END"}]
[null,{"$f":"IF('Procedures-ConceptMap-1'!S35=0,\"//---END\",'Procedures-ConceptMap-1'!S35)","v":"//---END"}]
[null,{"$f":"IF('Procedures-ConceptMap-1'!S36=0,\"//---END\",'Procedures-ConceptMap-1'!S36)","v":"//---END"}]
[null,{"$f":"IF('Procedures-ConceptMap-1'!S37=0,\"//---END\",'Procedures-ConceptMap-1'!S37)","v":"//---END"}]
[null,{"$f":"IF('Procedures-ConceptMap-1'!S37=0,\"//---END\",'Procedures-ConceptMap-1'!S37)","v":"//---END"}]
[null,{"$f":"IF('Procedures-ConceptMap-1'!S38=0,\"//---END\",'Procedures-ConceptMap-1'!S38)","v":"//---END"}]
[null,{"$f":"IF('Procedures-ConceptMap-1'!S39=0,\"//---END\",'Procedures-ConceptMap-1'!S39)","v":"//---END"}]

{"sheet":"A.2.3.2 Devices","index":21,"n_rows":30,"n_cols":9,"rows_kept":30,"cut":false,"hidden":false,"merged":[[25,2,25,5]]}
[null,null,null,null,null,null,null,null,"// -------------------------------------------------------------------------------"]
[null,null,null,null,null,null,null,null,"//  Logical Model"]
[null,null,null,null,null,null,null,null,{"$f":"I1","v":"// -------------------------------------------------------------------------------"}]
["Name","MedicalDevicePsEhn",null,null,null,null,null,null,{"$f":"CONCATENATE(\"Logical: \",B4)","v":"Logical: MedicalDevicePsEhn"}]
["Id","MedicalDevice",null,null,null,null,null,null,{"$f":"CONCATENATE(\"Id: \",B5)","v":"Id: MedicalDevice"}]
["Title","A.2.3.2 - Medical devices and implants",null,null,null,null,null,null,{"$f":"CONCATENATE(\"Title: ##34#\",B6,\"##34#\")","v":"Title: ##34#A.2.3.2 - Medical devices and implants##34#"}]
["Description","Medical devices and implants\nSection A.2.3.2 of the eHN guideline.",null,null,null,"max","dataType",null,{"$f":"CONCATENATE(\"Description: \",\" ##334#\",B7,\"##334#\",)","v":"Description:  ##334#Medical devices and implants\nSection A.2.3.2 of the eHN guideline.##334#"}]
[1,"description","A.2.3.2.1 Device and implant description","Describes the patient's implanted and external medical devices and equipment upon which their health status depends. Includes devices such as cardiac pacemakers, implantable fibrillator, prosthesis, ferromagnetic bone implants, etc. of which the HP needs to be aware. - Preferred system(s): SNOMED CT GPS* EMDN",0,"*","CodeableConcept",null,{"$f":"CONCATENATE(\"* \",B8, \" \",E8,\"..\",F8,\" \",G8,\" ##34#\",C8,\"##34# ##334#\",D8,\"##334#\")","v":"* description 0..* CodeableConcept ##34#A.2.3.2.1 Device and implant description##34# ##334#Describes the patient's implanted and external medical devices and equipment upon which their health status depends. Includes devices such as cardiac pacemakers, implantable fibrillator, prosthesis, ferromagnetic bone implants, etc. of which the HP needs to be aware. - Preferred system(s): SNOMED CT GPS* EMDN##334#"}]
[2,"identifier","A.2.3.2.2 Device ID","Normalised identifier of the device instance such as UDI according to REGULATION (EU) 2017/745",0,"*","Identifier",null,{"$f":"CONCATENATE(\"* \",B9, \" \",E9,\"..\",F9,\" \",G9,\" ##34#\",C9,\"##34# ##334#\",D9,\"##334#\")","v":"* identifier 0..* Identifier ##34#A.2.3.2.2 Device ID##34# ##334#Normalised identifier of the device instance such as UDI according to REGULATION (EU) 2017/745##334#"}]
[3,"implantDate","A.2.3.2.3 Implant date","Date when procedure was performed - Preferred system(s): ISO 8601",0,"*","dateTime",null,"* implantDate 0..* dateTime ##34#A.2.3.2.3 Implant date##34# ##334#Date when procedure was performed - Preferred system(s): ISO 8601##334#"]
[4,"endDate","A.2.3.2.4 End date","Date when the device was explanted from the patient or the external device was no longer in use; likewise when the device is planned to be explanted - Preferred system(s): ISO 8601",0,1,"dateTime",null,"* endDate 0..1 dateTime ##34#A.2.3.2.4 End date##34# ##334#Date when the device was explanted from the patient or the external device was no longer in use; likewise when the device is planned to be explanted - Preferred system(s): ISO 8601##334#"]
[5,null,null,null,null,null,null,null,"*  ..  ##34###34# ##334###334#"]
[6,null,null,null,null,null,null,null,"*  ..  ##34###34# ##334###334#"]
[7,null,null,null,null,null,null,null,"*  ..  ##34###34# ##334###334#"]
[8]
[9]
[]
[]
[]
[]
[null,{"$f":"CONCATENATE(C21,\" \",D21)","v":" "}]
[]
[]
[]
[]
[null,null,"A.1.6 Legal authenticator (The person taking responsibility for the medical content of the document)"]
[null,{"$f":"CONCATENATE(C27,\" \",D27)","v":"A.2.3.2.1 Device and implant description"},"A.2.3.2.1","Device and implant description","Describes the patient's implanted and external medical devices and equipment upon which their health status depends. Includes devices such as cardiac pacemakers, implantable fibrillator, prosthesis, ferromagnetic bone implants, etc. of which the HP needs to be aware.","SNOMED CT GPS* EMDN",null,null,{"$f":"CONCATENATE(E27,\" - Preferred system(s): \",F27)","v":"Describes the patient's implanted and external medical devices and equipment upon which their health status depends. Includes devices such as cardiac pacemakers, implantable fibrillator, prosthesis, ferromagnetic bone implants, etc. of which the HP needs to be aware. - Preferred system(s): SNOMED CT GPS* EMDN"}]
[null,"A.2.3.2.2 Device ID","A.2.3.2.2","Device ID","Normalised identifier of the device instance such as UDI according to REGULATION (EU) 2017/745",null,null,null,"Normalised identifier of the device instance such as UDI according to REGULATION (EU) 2017/745 - Preferred system(s): "]
[null,"A.2.3.2.3 Implant date","A.2.3.2.3","Implant date","Date when procedure was performed","ISO 8601",null,null,"Date when procedure was performed - Preferred system(s): ISO 8601"]
[null,"A.2.3.2.4 End date","A.2.3.2.4","End date","Date when the device was explanted from the patient or the external device was no longer in use; likewise when the device is planned to be explanted","ISO 8601",null,null,"Date when the device was explanted from the patient or the external device was no longer in use; likewise when the device is planned to be explanted - Preferred system(s): ISO 8601"]

{"sheet":"Devices-fsh","index":22,"n_rows":14,"n_cols":7,"rows_kept":14,"cut":false,"hidden":false,"merged":[]}
[null,null,{"$f":"'A.2.3.2 Devices'!I1","v":"// -------------------------------------------------------------------------------"}]
[null,null,{"$f":"'A.2.3.2 Devices'!I2","v":"//  Logical Model"},null,null,null,"ps-devices.fsh"]
[null,null,{"$f":"'A.2.3.2 Devices'!I3","v":"// -------------------------------------------------------------------------------"}]
[null,null,{"$f":"'A.2.3.2 Devices'!I4","v":"Logical: MedicalDevicePsEhn"}]
[null,null,{"$f":"'A.2.3.2 Devices'!I5","v":"Id: MedicalDevice"}]
[null,null,{"$f":"'A.2.3.2 Devices'!I6","v":"Title: ##34#A.2.3.2 - Medical devices and implants##34#"}]
[null,null,{"$f":"'A.2.3.2 Devices'!I7","v":"Description:  ##334#Medical devices and implants\nSection A.2.3.2 of the eHN guideline.##334#"}]
[null,null,{"$f":"IF('A.2.3.2 Devices'!I8=\"*  ..  ##34###34# ##334###334#\",\"//--- END\",'A.2.3.2 Devices'!I8)","v":"* description 0..* CodeableConcept ##34#A.2.3.2.1 Device and implant description##34# ##334#Describes the patient's implanted and external medical devices and equipment upon which their health status depends. Includes devices such as cardiac pacemakers, implantable fibrillator, prosthesis, ferromagnetic bone implants, etc. of which the HP needs to be aware. - Preferred system(s): SNOMED CT GPS* EMDN##334#"}]
[null,null,{"$f":"IF('A.2.3.2 Devices'!I9=\"*  ..  ##34###34# ##334###334#\",\"//--- END\",'A.2.3.2 Devices'!I9)","v":"* identifier 0..* Identifier ##34#A.2.3.2.2 Device ID##34# ##334#Normalised identifier of the device instance such as UDI according to REGULATION (EU) 2017/745##334#"}]
[null,null,{"$f":"IF('A.2.3.2 Devices'!I10=\"*  ..  ##34###34# ##334###334#\",\"//--- END\",'A.2.3.2 Devices'!I10)","v":"* implantDate 0..* dateTime ##34#A.2.3.2.3 Implant date##34# ##334#Date when procedure was performed - Preferred system(s): ISO 8601##334#"},null," "]
[null,null,{"$f":"IF('A.2.3.2 Devices'!I11=\"*  ..  ##34###34# ##334###334#\",\"//--- END\",'A.2.3.2 Devices'!I11)","v":"* endDate 0..1 dateTime ##34#A.2.3.2.4 End date##34# ##334#Date when the device was explanted from the patient or the external device was no longer in use; likewise when the device is planned to be explanted - Preferred system(s): ISO 8601##334#"}]
[null,null,{"$f":"IF('A.2.3.2 Devices'!I12=\"*  ..  ##34###34# ##334###334#\",\"//--- END\",'A.2.3.2 Devices'!I12)","v":"//--- END"}]
[null,null,{"$f":"IF('A.2.3.2 Devices'!I13=\"*  ..  ##34###34# ##334###334#\",\"//--- END\",'A.2.3.2 Devices'!I13)","v":"//--- END"}]
[null,null,{"$f":"IF('A.2.3.2 Devices'!I14=\"*  ..  ##34###34# ##334###334#\",\"//--- END\",'A.2.3.2 Devices'!I14)","v":"//--- END"}]

{"sheet":"Devices-ConceptMap-1","index":23,"n_rows":46,"n_cols":19,"rows_kept":46,"cut":false,"hidden":false,"merged":[[2,4,2,6],[3,4,3,6],[5,4,5,6],[6,4,6,6]]}
[]
[]
[null,"Mapping","MedicalDevice2Fhir","Source URI",{"$f":"\"http://hl7.eu/fhir/ig/xpandh/ps/StructureDefinition/\"&'A.2.3.2 Devices'!B5","v":"http://hl7.eu/fhir/ig/xpandh/ps/StructureDefinition/MedicalDevice"}]
[null,"Id","medicalDevice2FHIR-eu-ps","Target URI","http://hl7.eu/fhir/ig/xpandh/ps/StructureDefinition/DeviceUseStatement-ps-xpandh"]
[null,"Title","eHN Recipient to this guide Map"]
[null,"Source",null,"Source Group",{"$f":"E3","v":"http://hl7.eu/fhir/ig/xpandh/ps/StructureDefinition/MedicalDevice"}]
[null,"Target",null,"Target Group",{"$f":"E4","v":"http://hl7.eu/fhir/ig/xpandh/ps/StructureDefinition/DeviceUseStatement-ps-xpandh"}]
[null,"description","eHN Medical Devices Model to this guide Map",null,null,null,null,null,"* group[=].element[+].code = #Osiris.Patient.BirthDate","* group[=].element[=].display = \"Birth Date [C4]\"","* group[=].element[=].target.code = #Subject.dateOfBirth.date","* group[=].element[=].target.display = \"Date of birth\"","* group[=].element[=].target.equivalence = #equivalent",null,null,"Elements",6]
[null,"purpose","It shows how theMedical Devices Recipient data set defined by the EU eHN guidelines is mapped into this guide"]
[]
[null,null,null,null,null,null,null,null,"source:code","source:display","code","display","target to source","Comment"]
[]
[null,null,null,null,null,"target to source","Comment"]
[null,{"$f":"'A.2.3.2 Devices'!B5","v":"MedicalDevice"},null,"DeviceUseStatement"]
[null,{"$f":"'A.2.3.2 Devices'!B8","v":"description"},{"$f":"'A.2.3.2 Devices'!C8","v":"A.2.3.2.1 Device and implant description"},"device.type",null,"equivalent",null,null,{"$f":"\"* group[=].element[+].code = #\"&$B$14&\".\"&B15","v":"* group[=].element[+].code = #MedicalDevice.description"},{"$f":"\"* group[=].element[=].display = ##34#\"&C15&\"##34#\"","v":"* group[=].element[=].display = ##34#A.2.3.2.1 Device and implant description##34#"},{"$f":"IF(F15=\"unmatched\",\"//-- unmatched\",\"* group[=].element[=].target.code = #\"&$D$14&\".\"&D15)","v":"* group[=].element[=].target.code = #DeviceUseStatement.device.type"},{"$f":"IF(F15=\"unmatched\",\"//-- unmatched\",\"* group[=].element[=].target.display = ##34#\"&E15&\"##34#\")","v":"* group[=].element[=].target.display = ##34###34#"},{"$f":"\"* group[=].element[=].target.equivalence = #\"&F15","v":"* group[=].element[=].target.equivalence = #equivalent"},{"$f":"IF(G15<>\"\",CONCATENATE(\"* group[=].element[=].target.comment = \",\"##34#\",G15,\"##34#\"),\"\")","v":""},null,1,{"$f":"IF(MOD(P15,$Q$8)=0,P15/$Q$8-1,INT(P15/$Q$8))","v":0},{"$f":"IF(MOD(P15,$Q$8)=0,$Q$8,MOD(P15,$Q$8))","v":1},{"$f":"INDEX('Devices-ConceptMap-1'!$I$15:$N$126,Q15+1,R15)","v":"* group[=].element[+].code = #MedicalDevice.description"}]
[null,{"$f":"'A.2.3.2 Devices'!B9","v":"identifier"},{"$f":"'A.2.3.2 Devices'!C9","v":"A.2.3.2.2 Device ID"},"device.identifier",null,"relatedto","If it is a generic identifier",null,{"$f":"\"* group[=].element[+].code = #\"&$B$14&\".\"&B16","v":"* group[=].element[+].code = #MedicalDevice.identifier"},"* group[=].element[=].display = ##34#A.2.3.2.2 Device ID##34#","* group[=].element[=].target.code = #DeviceUseStatement.device.identifier","* group[=].element[=].target.display = ##34###34#","* group[=].element[=].target.equivalence = #relatedto","* group[=].element[=].target.comment = ##34#If it is a generic identifier##34#",null,2,{"$f":"IF(MOD(P16,$Q$8)=0,P16/$Q$8-1,INT(P16/$Q$8))","v":0},{"$f":"IF(MOD(P16,$Q$8)=0,$Q$8,MOD(P16,$Q$8))","v":2},{"$f":"INDEX('Devices-ConceptMap-1'!$I$15:$N$126,Q16+1,R16)","v":"* group[=].element[=].display = ##34#A.2.3.2.1 Device and implant description##34#"}]
[null,{"$f":"'A.2.3.2 Devices'!B9","v":"identifier"},{"$f":"'A.2.3.2 Devices'!C9","v":"A.2.3.2.2 Device ID"},"device.udiCarrier",null,"relatedto","If it is an UDI",null,"* group[=].element[+].code = #MedicalDevice.identifier","* group[=].element[=].display = ##34#A.2.3.2.2 Device ID##34#","* group[=].element[=].target.code = #DeviceUseStatement.device.udiCarrier","* group[=].element[=].target.display = ##34###34#","* group[=].element[=].target.equivalence = #relatedto","* group[=].element[=].target.comment = ##34#If it is an UDI##34#",null,3,0,3,{"$f":"INDEX('Devices-ConceptMap-1'!$I$15:$N$126,Q17+1,R17)","v":"* group[=].element[=].target.code = #DeviceUseStatement.device.type"}]
[null,{"$f":"'A.2.3.2 Devices'!B10","v":"implantDate"},{"$f":"'A.2.3.2 Devices'!C10","v":"A.2.3.2.3 Implant date"},"timingPeriod.start",null,"equivalent",null,null,"* group[=].element[+].code = #MedicalDevice.implantDate","* group[=].element[=].display = ##34#A.2.3.2.3 Implant date##34#","* group[=].element[=].target.code = #DeviceUseStatement.timingPeriod.start","* group[=].element[=].target.display = ##34###34#","* group[=].element[=].target.equivalence = #equivalent","",null,4,0,4,{"$f":"INDEX('Devices-ConceptMap-1'!$I$15:$N$126,Q18+1,R18)","v":"* group[=].element[=].target.display = ##34###34#"}]
[null,{"$f":"'A.2.3.2 Devices'!B11","v":"endDate"},{"$f":"'A.2.3.2 Devices'!C11","v":"A.2.3.2.4 End date"},"timingPeriod.end",null,"equivalent",null,null,"* group[=].element[+].code = #MedicalDevice.endDate","* group[=].element[=].display = ##34#A.2.3.2.4 End date##34#","* group[=].element[=].target.code = #DeviceUseStatement.timingPeriod.end","* group[=].element[=].target.display = ##34###34#","* group[=].element[=].target.equivalence = #equivalent","",null,5,0,5,{"$f":"INDEX('Devices-ConceptMap-1'!$I$15:$N$126,Q19+1,R19)","v":"* group[=].element[=].target.equivalence = #equivalent"}]
[null,null,null,null,null,null,null,null,null,null,null,null,null,"",null,6,0,6,{"$f":"INDEX('Devices-ConceptMap-1'!$I$15:$N$126,Q20+1,R20)","v":""}]
[null,null,null,null,null,null,null,null,null,null,null,null,null,"",null,7,1,1,{"$f":"INDEX('Devices-ConceptMap-1'!$I$15:$N$126,Q21+1,R21)","v":"* group[=].element[+].code = #MedicalDevice.identifier"}]
[null,null,null,null,null,null,null,null,null,null,null,null,null,"",null,8,1,2,{"$f":"INDEX('Devices-ConceptMap-1'!$I$15:$N$126,Q22+1,R22)","v":"* group[=].element[=].display = ##34#A.2.3.2.2 Device ID##34#"}]
[null,null,null,null,null,null,null,null,null,null,null,null,null,"",null,9,1,3,{"$f":"INDEX('Devices-ConceptMap-1'!$I$15:$N$126,Q23+1,R23)","v":"* group[=].element[=].target.code = #DeviceUseStatement.device.identifier"}]
[null,null,null,null,null,null,null,null,null,null,null,null,null,"",null,10,1,4,{"$f":"INDEX('Devices-ConceptMap-1'!$I$15:$N$126,Q24+1,R24)","v":"* group[=].element[=].target.display = ##34###34#"}]
[null,null,null,null,null,null,null,null,null,null,null,null,null,"",null,11,1,5,{"$f":"INDEX('Devices-ConceptMap-1'!$I$15:$N$126,Q25+1,R25)","v":"* group[=].element[=].target.equivalence = #relatedto"}]
[null,null,null,null,null,null,null,null,null,null,null,null,null,"",null,12,1,6,{"$f":"INDEX('Devices-ConceptMap-1'!$I$15:$N$126,Q26+1,R26)","v":"* group[=].element[=].target.comment = ##34#If it is a generic identifier##34#"}]
[null,null,null,null,null,null,null,null,null,null,null,null,null,"",null,13,2,1,{"$f":"INDEX('Devices-ConceptMap-1'!$I$15:$N$126,Q27+1,R27)","v":"* group[=].element[+].code = #MedicalDevice.identifier"}]
[null,null,null,null,null,null,null,null,null,null,null,null,null,"",null,14,2,2,{"$f":"INDEX('Devices-ConceptMap-1'!$I$15:$N$126,Q28+1,R28)","v":"* group[=].element[=].display = ##34#A.2.3.2.2 Device ID##34#"}]
[null,null,null,null,null,null,null,null,null,null,null,null,null,"",null,15,2,3,{"$f":"INDEX('Devices-ConceptMap-1'!$I$15:$N$126,Q29+1,R29)","v":"* group[=].element[=].target.code = #DeviceUseStatement.device.udiCarrier"}]
[null,null,null,null,null,null,null,null,null,null,null,null,null,"",null,16,2,4,{"$f":"INDEX('Devices-ConceptMap-1'!$I$15:$N$126,Q30+1,R30)","v":"* group[=].element[=].target.display = ##34###34#"}]
[null,null,null,null,null,null,null,null,null,null,null,null,null,"",null,17,2,5,{"$f":"INDEX('Devices-ConceptMap-1'!$I$15:$N$126,Q31+1,R31)","v":"* group[=].element[=].target.equivalence = #relatedto"}]
[null,null,null,null,null,null,null,null,null,null,null,null,null,"",null,18,2,6,{"$f":"INDEX('Devices-ConceptMap-1'!$I$15:$N$126,Q32+1,R32)","v":"* group[=].element[=].target.comment = ##34#If it is an UDI##34#"}]
[null,null,null,null,null,null,null,null,null,null,null,null,null,"",null,19,3,1,{"$f":"INDEX('Devices-ConceptMap-1'!$I$15:$N$126,Q33+1,R33)","v":"* group[=].element[+].code = #MedicalDevice.implantDate"}]
[null,null,null,null,null,null,null,null,null,null,null,null,null,"",null,20,3,2,{"$f":"INDEX('Devices-ConceptMap-1'!$I$15:$N$126,Q34+1,R34)","v":"* group[=].element[=].display = ##34#A.2.3.2.3 Implant date##34#"}]
[null,null,null,null,null,null,null,null,null,null,null,null,null,"",null,21,3,3,{"$f":"INDEX('Devices-ConceptMap-1'!$I$15:$N$126,Q35+1,R35)","v":"* group[=].element[=].target.code = #DeviceUseStatement.timingPeriod.start"}]
[null,null,null,null,null,null,null,null,null,null,null,null,null,"",null,22,3,4,{"$f":"INDEX('Devices-ConceptMap-1'!$I$15:$N$126,Q36+1,R36)","v":"* group[=].element[=].target.display = ##34###34#"}]
[null,null,null,null,null,null,null,null,null,null,null,null,null,"",null,23,3,5,{"$f":"INDEX('Devices-ConceptMap-1'!$I$15:$N$126,Q37+1,R37)","v":"* group[=].element[=].target.equivalence = #equivalent"}]
[null,null,null,null,null,null,null,null,null,null,null,null,null,"",null,24,3,6,{"$f":"INDEX('Devices-ConceptMap-1'!$I$15:$N$126,Q38+1,R38)","v":""}]
[null,null,null,null,null,null,null,null,null,null,null,null,null,"",null,25,4,1,{"$f":"INDEX('Devices-ConceptMap-1'!$I$15:$N$126,Q39+1,R39)","v":"* group[=].element[+].code = #MedicalDevice.endDate"}]
[null,null,null,null,null,null,null,null,null,null,null,null,null,"",null,26,4,2,{"$f":"INDEX('Devices-ConceptMap-1'!$I$15:$N$126,Q40+1,R40)","v":"* group[=].element[=].display = ##34#A.2.3.2.4 End date##34#"}]
[null,null,null,null,null,null,null,null,null,null,null,null,null,"",null,27,4,3,{"$f":"INDEX('Devices-ConceptMap-1'!$I$15:$N$126,Q41+1,R41)","v":"* group[=].element[=].target.code = #DeviceUseStatement.timingPeriod.end"}]
[null,null,null,null,null,null,null,null,null,null,null,null,null,"",null,28,4,4,{"$f":"INDEX('Devices-ConceptMap-1'!$I$15:$N$126,Q42+1,R42)","v":"* group[=].element[=].target.display = ##34###34#"}]
[null,null,null,null,null,null,null,null,null,null,null,null,null,"",null,29,4,5,{"$f":"INDEX('Devices-ConceptMap-1'!$I$15:$N$126,Q43+1,R43)","v":"* group[=].element[=].target.equivalence = #equivalent"}]
[null,null,null,null,null,null,null,null,null,null,null,null,null,"",null,30,4,6,{"$f":"INDEX('Devices-ConceptMap-1'!$I$15:$N$126,Q44+1,R44)","v":""}]
[null,null,null,null,null,null,null,null,null,null,null,null,null,"",null,31,5,1,{"$f":"INDEX('Devices-ConceptMap-1'!$I$15:$N$126,Q45+1,R45)","v":0}]
[null,null,null,null,null,null,null,null,null,null,null,null,null,"",null,32,5,2,{"$f":"INDEX('Devices-ConceptMap-1'!$I$15:$N$126,Q46+1,R46)","v":0}]

{"sheet":"Devices-CM-fsh","index":24,"n_rows":55,"n_cols":7,"rows_kept":55,"cut":false,"hidden":false,"merged":[]}
[null,"// -------------------------------------------------------------------------------"]
[null,"//  Concept Model. File: ",null,null,null,null,"devices-to-fhir-map.fsh"]
[null,"// -------------------------------------------------------------------------------"]
[null,{"$f":"\"Instance: \"&'Devices-ConceptMap-1'!C4","v":"Instance: medicalDevice2FHIR-eu-ps"}]
[null,"InstanceOf: ConceptMap"]
[null,"Usage: #definition"]
[null,"// * url = ##34#http://terminology.hl7.it/ConceptMap/ConceptMap-subject2osiris##34#"]
[null,{"$f":"\"* name = ##34#\"&'Devices-ConceptMap-1'!C3&\"##34#\"","v":"* name = ##34#MedicalDevice2Fhir##34#"}]
[null,{"$f":"\"* title = ##34#\"&'Devices-ConceptMap-1'!C5&\"##34#\"","v":"* title = ##34#eHN Recipient to this guide Map##34#"}]
[null,"* status = #draft"]
[null,"* experimental = true"]
[null,{"$f":"\"* description = ##34#\"&'Devices-ConceptMap-1'!C8&\"##34#\"","v":"* description = ##34#eHN Medical Devices Model to this guide Map##34#"}]
[null,{"$f":"\"* purpose = ##34#\"&'Devices-ConceptMap-1'!C9&\"##34#\"","v":"* purpose = ##34#It shows how theMedical Devices Recipient data set defined by the EU eHN guidelines is mapped into this guide##34#"}]
[null,{"$f":"\"* sourceUri = ##34#\"&'Devices-ConceptMap-1'!E3&\"##34#\"","v":"* sourceUri = ##34#http://hl7.eu/fhir/ig/xpandh/ps/StructureDefinition/MedicalDevice##34#"}]
[null,{"$f":"\"* targetUri = ##34#\"&'Devices-ConceptMap-1'!E4&\"##34#\"","v":"* targetUri = ##34#http://hl7.eu/fhir/ig/xpandh/ps/StructureDefinition/DeviceUseStatement-ps-xpandh##34#"}]
[]
[null,{"$f":"\"* group[+].source = ##34#\"&'Devices-ConceptMap-1'!E6&\"##34#\"","v":"* group[+].source = ##34#http://hl7.eu/fhir/ig/xpandh/ps/StructureDefinition/MedicalDevice##34#"}]
[null,{"$f":"\"* group[=].target = ##34#\"&'Devices-ConceptMap-1'!E7&\"##34#\"","v":"* group[=].target = ##34#http://hl7.eu/fhir/ig/xpandh/ps/StructureDefinition/DeviceUseStatement-ps-xpandh##34#"}]
[]
[null,{"$f":"IF('Devices-ConceptMap-1'!S15=0,\"//---END\",'Devices-ConceptMap-1'!S15)","v":"* group[=].element[+].code = #MedicalDevice.description"}]
[null,{"$f":"IF('Devices-ConceptMap-1'!S16=0,\"//---END\",'Devices-ConceptMap-1'!S16)","v":"* group[=].element[=].display = ##34#A.2.3.2.1 Device and implant description##34#"}]
[null,{"$f":"IF('Devices-ConceptMap-1'!S17=0,\"//---END\",'Devices-ConceptMap-1'!S17)","v":"* group[=].element[=].target.code = #DeviceUseStatement.device.type"}]
[null,{"$f":"IF('Devices-ConceptMap-1'!S18=0,\"//---END\",'Devices-ConceptMap-1'!S18)","v":"* group[=].element[=].target.display = ##34###34#"}]
[null,{"$f":"IF('Devices-ConceptMap-1'!S19=0,\"//---END\",'Devices-ConceptMap-1'!S19)","v":"* group[=].element[=].target.equivalence = #equivalent"}]
[null,{"$f":"IF('Devices-ConceptMap-1'!S20=0,\"//---END\",'Devices-ConceptMap-1'!S20)","v":""}]
[null,{"$f":"IF('Devices-ConceptMap-1'!S21=0,\"//---END\",'Devices-ConceptMap-1'!S21)","v":"* group[=].element[+].code = #MedicalDevice.identifier"}]
[null,{"$f":"IF('Devices-ConceptMap-1'!S22=0,\"//---END\",'Devices-ConceptMap-1'!S22)","v":"* group[=].element[=].display = ##34#A.2.3.2.2 Device ID##34#"}]
[null,{"$f":"IF('Devices-ConceptMap-1'!S23=0,\"//---END\",'Devices-ConceptMap-1'!S23)","v":"* group[=].element[=].target.code = #DeviceUseStatement.device.identifier"}]
[null,{"$f":"IF('Devices-ConceptMap-1'!S24=0,\"//---END\",'Devices-ConceptMap-1'!S24)","v":"* group[=].element[=].target.display = ##34###34#"}]
[null,{"$f":"IF('Devices-ConceptMap-1'!S25=0,\"//---END\",'Devices-ConceptMap-1'!S25)","v":"* group[=].element[=].target.equivalence = #relatedto"}]
[null,{"$f":"IF('Devices-ConceptMap-1'!S26=0,\"//---END\",'Devices-ConceptMap-1'!S26)","v":"* group[=].element[=].target.comment = ##34#If it is a generic identifier##34#"}]
[null,{"$f":"IF('Devices-ConceptMap-1'!S27=0,\"//---END\",'Devices-ConceptMap-1'!S27)","v":"* group[=].element[+].code = #MedicalDevice.identifier"}]
[null,{"$f":"IF('Devices-ConceptMap-1'!S28=0,\"//---END\",'Devices-ConceptMap-1'!S28)","v":"* group[=].element[=].display = ##34#A.2.3.2.2 Device ID##34#"}]
[null,{"$f":"IF('Devices-ConceptMap-1'!S29=0,\"//---END\",'Devices-ConceptMap-1'!S29)","v":"* group[=].element[=].target.code = #DeviceUseStatement.device.udiCarrier"}]
[null,{"$f":"IF('Devices-ConceptMap-1'!S30=0,\"//---END\",'Devices-ConceptMap-1'!S30)","v":"* group[=].element[=].target.display = ##34###34#"}]
[null,{"$f":"IF('Devices-ConceptMap-1'!S31=0,\"//---END\",'Devices-ConceptMap-1'!S31)","v":"* group[=].element[=].target.equivalence = #relatedto"}]
[null,{"$f":"IF('Devices-ConceptMap-1'!S32=0,\"//---END\",'Devices-ConceptMap-1'!S32)","v":"* group[=].element[=].target.comment = ##34#If it is an UDI##34#"}]
[null,{"$f":"IF('Devices-ConceptMap-1'!S33=0,\"//---END\",'Devices-ConceptMap-1'!S33)","v":"* group[=].element[+].code = #MedicalDevice.implantDate"}]
[null,{"$f":"IF('Devices-ConceptMap-1'!S34=0,\"//---END\",'Devices-ConceptMap-1'!S34)","v":"* group[=].element[=].display = ##34#A.2.3.2.3 Implant date##34#"}]
[null,{"$f":"IF('Devices-ConceptMap-1'!S35=0,\"//---END\",'Devices-ConceptMap-1'!S35)","v":"* group[=].element[=].target.code = #DeviceUseStatement.timingPeriod.start"}]
[null,{"$f":"IF('Devices-ConceptMap-1'!S36=0,\"//---END\",'Devices-ConceptMap-1'!S36)","v":"* group[=].element[=].target.display = ##34###34#"}]
[null,{"$f":"IF('Devices-ConceptMap-1'!S37=0,\"//---END\",'Devices-ConceptMap-1'!S37)","v":"* group[=].element[=].target.equivalence = #equivalent"}]
[null,{"$f":"IF('Devices-ConceptMap-1'!S38=0,\"//---END\",'Devices-ConceptMap-1'!S38)","v":""}]
[null,{"$f":"IF('Devices-ConceptMap-1'!S39=0,\"//---END\",'Devices-ConceptMap-1'!S39)","v":"* group[=].element[+].code = #MedicalDevice.endDate"}]
[null,{"$f":"IF('Devices-ConceptMap-1'!S40=0,\"//---END\",'Devices-ConceptMap-1'!S40)","v":"* group[=].element[=].display = ##34#A.2.3.2.4 End date##34#"}]
[null,{"$f":"IF('Devices-ConceptMap-1'!S41=0,\"//---END\",'Devices-ConceptMap-1'!S41)","v":"* group[=].element[=].target.code = #DeviceUseStatement.timingPeriod.end"}]
[null,{"$f":"IF('Devices-ConceptMap-1'!S42=0,\"//---END\",'Devices-ConceptMap-1'!S42)","v":"* group[=].element[=].target.display = ##34###34#"}]
[null,{"$f":"IF('Devices-ConceptMap-1'!S43=0,\"//---END\",'Devices-ConceptMap-1'!S43)","v":"* group[=].element[=].target.equivalence = #equivalent"}]
[null,{"$f":"IF('Devices-ConceptMap-1'!S44=0,\"//---END\",'Devices-ConceptMap-1'!S44)","v":""}]
[null,{"$f":"IF('Devices-ConceptMap-1'!S45=0,\"//---END\",'Devices-ConceptMap-1'!S45)","v":"//---END"}]
[null,{"$f":"IF('Devices-ConceptMap-1'!S46=0,\"//---END\",'Devices-ConceptMap-1'!S46)","v":"//---END"}]
[null,{"$f":"IF('Devices-ConceptMap-1'!S47=0,\"//---END\",'Devices-ConceptMap-1'!S47)","v":"//---END"}]
[null,{"$f":"IF('Devices-ConceptMap-1'!S48=0,\"//---END\",'Devices-ConceptMap-1'!S48)","v":"//---END"}]
[null,{"$f":"IF('Devices-ConceptMap-1'!S49=0,\"//---END\",'Devices-ConceptMap-1'!S49)","v":"//---END"}]
[null,{"$f":"IF('Devices-ConceptMap-1'!S50=0,\"//---END\",'Devices-ConceptMap-1'!S50)","v":"//---END"}]

{"sheet":"A.2.3.1 Problem","index":25,"n_rows":23,"n_cols":9,"rows_kept":23,"cut":false,"hidden":false,"merged":[[19,2,19,5]]}
[null,null,null,null,null,null,null,null,"// -------------------------------------------------------------------------------"]
[null,null,null,null,null,null,null,null,"//  Logical Model"]
[null,null,null,null,null,null,null,null,{"$f":"I1","v":"// -------------------------------------------------------------------------------"}]
["Name","ProblemPsEhn",null,null,null,null,null,null,{"$f":"CONCATENATE(\"Logical: \",B4)","v":"Logical: ProblemPsEhn"}]
["Id","Problem",null,null,null,null,null,null,{"$f":"CONCATENATE(\"Id: \",B5)","v":"Id: Problem"}]
["Title","A.2.3.1 Current problems",null,null,null,null,null,null,{"$f":"CONCATENATE(\"Title: ##34#\",B6,\"##34#\")","v":"Title: ##34#A.2.3.1 Current problems##34#"}]
["Description","Current problems. Section A.2.3.1 of the eHN guideline.",null,null,null,"max","dataType",null,{"$f":"CONCATENATE(\"Description: \",\" ##334#\",B7,\"##334#\",)","v":"Description:  ##334#Current problems. Section A.2.3.1 of the eHN guideline.##334#"}]
[1,"description","A.2.3.1.1 Problem / diagnosis description","Health conditions affecting the health of the patient and are important to be known for a health professional during a health encounter. - Preferred system(s): ICD-10* SNOMED CT GPS Orphacode if rare disease is diagnosed",0,"*","CodeableConcept",null,{"$f":"CONCATENATE(\"* \",B8, \" \",E8,\"..\",F8,\" \",G8,\" ##34#\",C8,\"##34# ##334#\",D8,\"##334#\")","v":"* description 0..* CodeableConcept ##34#A.2.3.1.1 Problem / diagnosis description##34# ##334#Health conditions affecting the health of the patient and are important to be known for a health professional during a health encounter. - Preferred system(s): ICD-10* SNOMED CT GPS Orphacode if rare disease is diagnosed##334#"}]
[2,"onsetDate","A.2.3.1.2 Onset date","Date of problem onset - Preferred system(s): ISO 8601",0,"*","dateTime",null,{"$f":"CONCATENATE(\"* \",B9, \" \",E9,\"..\",F9,\" \",G9,\" ##34#\",C9,\"##34# ##334#\",D9,\"##334#\")","v":"* onsetDate 0..* dateTime ##34#A.2.3.1.2 Onset date##34# ##334#Date of problem onset - Preferred system(s): ISO 8601##334#"}]
[3,"assertionStatus","A.2.3.1.3 Diagnosis assertion status","Assertion about the certainty associated with a diagnosis. Diagnostic and/or clinical evidence of condition. - Preferred system(s): HL7",0,"*","dateTime",null,"* assertionStatus 0..* dateTime ##34#A.2.3.1.3 Diagnosis assertion status##34# ##334#Assertion about the certainty associated with a diagnosis. Diagnostic and/or clinical evidence of condition. - Preferred system(s): HL7##334#"]
[null,null,null,null,null,null,null,null,"*  ..  ##34###34# ##334###334#"]
[null,null,null,null,null,null,null,null,"*  ..  ##34###34# ##334###334#"]
[null,null,null,null,null,null,null,null,"*  ..  ##34###34# ##334###334#"]
[null,null,null,null,null,null,null,null,"*  ..  ##34###34# ##334###334#"]
[]
[]
[]
[]
[]
[null,{"$f":"CONCATENATE(C20,\" \",D20)","v":" "}]
[null,"A.2.3.1.1 Problem / diagnosis description","A.2.3.1.1","Problem / diagnosis description","Health conditions affecting the health of the patient and are important to be known for a health professional during a health encounter.","ICD-10* SNOMED CT GPS Orphacode if rare disease is diagnosed",null,null,{"$f":"CONCATENATE(E21,\" - Preferred system(s): \",F21)","v":"Health conditions affecting the health of the patient and are important to be known for a health professional during a health encounter. - Preferred system(s): ICD-10* SNOMED CT GPS Orphacode if rare disease is diagnosed"}]
[null,"A.2.3.1.2 Onset date","A.2.3.1.2","Onset date","Date of problem onset","ISO 8601",null,null,"Date of problem onset - Preferred system(s): ISO 8601"]
[null,"A.2.3.1.3 Diagnosis assertion status","A.2.3.1.3","Diagnosis assertion status","Assertion about the certainty associated with a diagnosis. Diagnostic and/or clinical evidence of condition.","HL7",null,null,"Assertion about the certainty associated with a diagnosis. Diagnostic and/or clinical evidence of condition. - Preferred system(s): HL7"]

{"sheet":"Problem-fsh","index":26,"n_rows":14,"n_cols":7,"rows_kept":14,"cut":false,"hidden":false,"merged":[]}
[null,null,{"$f":"'A.2.3.1 Problem'!I1","v":"// -------------------------------------------------------------------------------"}]
[null,null,{"$f":"'A.2.3.1 Problem'!I2","v":"//  Logical Model"},null,null,null,"ps-problem.fsh"]
[null,null,{"$f":"'A.2.3.1 Problem'!I3","v":"// -------------------------------------------------------------------------------"}]
[null,null,{"$f":"'A.2.3.1 Problem'!I4","v":"Logical: ProblemPsEhn"}]
[null,null,{"$f":"'A.2.3.1 Problem'!I5","v":"Id: Problem"}]
[null,null,{"$f":"'A.2.3.1 Problem'!I6","v":"Title: ##34#A.2.3.1 Current problems##34#"}]
[null,null,{"$f":"'A.2.3.1 Problem'!I7","v":"Description:  ##334#Current problems. Section A.2.3.1 of the eHN guideline.##334#"}]
[null,null,{"$f":"IF('A.2.3.1 Problem'!I8=\"*  ..  ##34###34# ##334###334#\",\"//--- END\",'A.2.3.1 Problem'!I8)","v":"* description 0..* CodeableConcept ##34#A.2.3.1.1 Problem / diagnosis description##34# ##334#Health conditions affecting the health of the patient and are important to be known for a health professional during a health encounter. - Preferred system(s): ICD-10* SNOMED CT GPS Orphacode if rare disease is diagnosed##334#"}]
[null,null,{"$f":"IF('A.2.3.1 Problem'!I9=\"*  ..  ##34###34# ##334###334#\",\"//--- END\",'A.2.3.1 Problem'!I9)","v":"* onsetDate 0..* dateTime ##34#A.2.3.1.2 Onset date##34# ##334#Date of problem onset - Preferred system(s): ISO 8601##334#"}]
[null,null,{"$f":"IF('A.2.3.1 Problem'!I10=\"*  ..  ##34###34# ##334###334#\",\"//--- END\",'A.2.3.1 Problem'!I10)","v":"* assertionStatus 0..* dateTime ##34#A.2.3.1.3 Diagnosis assertion status##34# ##334#Assertion about the certainty associated with a diagnosis. Diagnostic and/or clinical evidence of condition. - Preferred system(s): HL7##334#"},null," "]
[null,null,{"$f":"IF('A.2.3.1 Problem'!I11=\"*  ..  ##34###34# ##334###334#\",\"//--- END\",'A.2.3.1 Problem'!I11)","v":"//--- END"}]
[null,null,{"$f":"IF('A.2.3.1 Problem'!I12=\"*  ..  ##34###34# ##334###334#\",\"//--- END\",'A.2.3.1 Problem'!I12)","v":"//--- END"}]
[null,null,{"$f":"IF('A.2.3.1 Problem'!I13=\"*  ..  ##34###34# ##334###334#\",\"//--- END\",'A.2.3.1 Problem'!I13)","v":"//--- END"}]
[null,null,{"$f":"IF('A.2.3.1 Problem'!I14=\"*  ..  ##34###34# ##334###334#\",\"//--- END\",'A.2.3.1 Problem'!I14)","v":"//--- END"}]

{"sheet":"Problem-ConceptMap-1","index":27,"n_rows":52,"n_cols":19,"rows_kept":52,"cut":false,"hidden":false,"merged":[[3,4,3,6],[5,4,5,6],[6,4,6,6]]}
[]
[]
[null,"Mapping","Problem2Fhir","Source URI",{"$f":"\"http://hl7.eu/fhir/ig/xpandh/ps/StructureDefinition/\"&'A.2.3.1 Problem'!B5","v":"http://hl7.eu/fhir/ig/xpandh/ps/StructureDefinition/Problem"}]
[null,"Id","problem2FHIR-eu-ps","Target URI","http://hl7.eu/fhir/ig/xpandh/ps/StructureDefinition/Condition-ps-xpandh"]
[null,"Title","eHN Problem to this guide Map"]
[null,"Source",null,"Source Group",{"$f":"E3","v":"http://hl7.eu/fhir/ig/xpandh/ps/StructureDefinition/Problem"}]
[null,"Target",null,"Target Group",{"$f":"E4","v":"http://hl7.eu/fhir/ig/xpandh/ps/StructureDefinition/Condition-ps-xpandh"}]
[null,"description","eHN Problem Model to this guide Map",null,null,null,null,null,"* group[=].element[+].code = #Osiris.Patient.BirthDate","* group[=].element[=].display = \"Birth Date [C4]\"","* group[=].element[=].target.code = #Subject.dateOfBirth.date","* group[=].element[=].target.display = \"Date of birth\"","* group[=].element[=].target.equivalence = #equivalent",null,null,"Elements",6]
[null,"purpose","It shows how the Problem data set defined by the EU eHN guidelines is mapped into this guide"]
[]
[null,null,null,null,null,null,null,null,"source:code","source:display","code","display","target to source","Comment"]
[]
[null,null,null,null,null,"target to source","Comment"]
[null,{"$f":"'A.2.3.1 Problem'!B5","v":"Problem"},null,"Condition"]
[null,{"$f":"'A.2.3.1 Problem'!B8","v":"description"},{"$f":"'A.2.3.1 Problem'!C8","v":"A.2.3.1.1 Problem / diagnosis description"},"code",null,"equivalent",null,null,{"$f":"\"* group[=].element[+].code = #\"&$B$14&\".\"&B15","v":"* group[=].element[+].code = #Problem.description"},{"$f":"\"* group[=].element[=].display = ##34#\"&C15&\"##34#\"","v":"* group[=].element[=].display = ##34#A.2.3.1.1 Problem / diagnosis description##34#"},{"$f":"IF(F15=\"unmatched\",\"//-- unmatched\",\"* group[=].element[=].target.code = #\"&$D$14&\".\"&D15)","v":"* group[=].element[=].target.code = #Condition.code"},{"$f":"IF(F15=\"unmatched\",\"//-- unmatched\",\"* group[=].element[=].target.display = ##34#\"&E15&\"##34#\")","v":"* group[=].element[=].target.display = ##34###34#"},{"$f":"\"* group[=].element[=].target.equivalence = #\"&F15","v":"* group[=].element[=].target.equivalence = #equivalent"},{"$f":"IF(G15<>\"\",CONCATENATE(\"* group[=].element[=].target.comment = \",\"##34#\",G15,\"##34#\"),\"\")","v":""},null,1,{"$f":"IF(MOD(P15,$Q$8)=0,P15/$Q$8-1,INT(P15/$Q$8))","v":0},{"$f":"IF(MOD(P15,$Q$8)=0,$Q$8,MOD(P15,$Q$8))","v":1},{"$f":"INDEX('Problem-ConceptMap-1'!$I$15:$N$55,Q15+1,R15)","v":"* group[=].element[+].code = #Problem.description"}]
[null,{"$f":"'A.2.3.1 Problem'!B9","v":"onsetDate"},{"$f":"'A.2.3.1 Problem'!C9","v":"A.2.3.1.2 Onset date"},"onsetDateTime",null,"equivalent",null,null,{"$f":"\"* group[=].element[+].code = #\"&$B$14&\".\"&B16","v":"* group[=].element[+].code = #Problem.onsetDate"},{"$f":"\"* group[=].element[=].display = ##34#\"&C16&\"##34#\"","v":"* group[=].element[=].display = ##34#A.2.3.1.2 Onset date##34#"},{"$f":"IF(F16=\"unmatched\",\"//-- unmatched\",\"* group[=].element[=].target.code = #\"&$D$14&\".\"&D16)","v":"* group[=].element[=].target.code = #Condition.onsetDateTime"},{"$f":"IF(F16=\"unmatched\",\"//-- unmatched\",\"* group[=].element[=].target.display = ##34#\"&E16&\"##34#\")","v":"* group[=].element[=].target.display = ##34###34#"},{"$f":"\"* group[=].element[=].target.equivalence = #\"&F16","v":"* group[=].element[=].target.equivalence = #equivalent"},{"$f":"IF(G16<>\"\",CONCATENATE(\"* group[=].element[=].target.comment = \",\"##34#\",G16,\"##34#\"),\"\")","v":""},null,2,{"$f":"IF(MOD(P16,$Q$8)=0,P16/$Q$8-1,INT(P16/$Q$8))","v":0},{"$f":"IF(MOD(P16,$Q$8)=0,$Q$8,MOD(P16,$Q$8))","v":2},{"$f":"INDEX('Problem-ConceptMap-1'!$I$15:$N$55,Q16+1,R16)","v":"* group[=].element[=].display = ##34#A.2.3.1.1 Problem / diagnosis description##34#"}]
[null,{"$f":"'A.2.3.1 Problem'!B10","v":"assertionStatus"},{"$f":"'A.2.3.1 Problem'!C10","v":"A.2.3.1.3 Diagnosis assertion status"},"verificationStatus",null,"equivalent",null,null,"* group[=].element[+].code = #Problem.assertionStatus","* group[=].element[=].display = ##34#A.2.3.1.3 Diagnosis assertion status##34#","* group[=].element[=].target.code = #Condition.verificationStatus","* group[=].element[=].target.display = ##34###34#","* group[=].element[=].target.equivalence = #equivalent","",null,3,0,3,{"$f":"INDEX('Problem-ConceptMap-1'!$I$15:$N$55,Q17+1,R17)","v":"* group[=].element[=].target.code = #Condition.code"}]
[null,null,null,null,null,null,null,null,null,null,null,null,null,null,null,4,0,4,{"$f":"INDEX('Problem-ConceptMap-1'!$I$15:$N$55,Q18+1,R18)","v":"* group[=].element[=].target.display = ##34###34#"}]
[null,null,null,null,null,null,null,null,null,null,null,null,null,null,null,5,0,5,{"$f":"INDEX('Problem-ConceptMap-1'!$I$15:$N$55,Q19+1,R19)","v":"* group[=].element[=].target.equivalence = #equivalent"}]
[null,null,null,null,null,null,null,null,null,null,null,null,null,null,null,6,0,6,{"$f":"INDEX('Problem-ConceptMap-1'!$I$15:$N$55,Q20+1,R20)","v":""}]
[null,null,null,null,null,null,null,null,null,null,null,null,null,null,null,7,1,1,{"$f":"INDEX('Problem-ConceptMap-1'!$I$15:$N$55,Q21+1,R21)","v":"* group[=].element[+].code = #Problem.onsetDate"}]
[null,null,null,null,null,null,null,null,null,null,null,null,null,null,null,8,1,2,{"$f":"INDEX('Problem-ConceptMap-1'!$I$15:$N$55,Q22+1,R22)","v":"* group[=].element[=].display = ##34#A.2.3.1.2 Onset date##34#"}]
[null,null,null,null,null,null,null,null,null,null,null,null,null,null,null,9,1,3,{"$f":"INDEX('Problem-ConceptMap-1'!$I$15:$N$55,Q23+1,R23)","v":"* group[=].element[=].target.code = #Condition.onsetDateTime"}]
[null,null,null,null,null,null,null,null,null,null,null,null,null,null,null,10,1,4,{"$f":"INDEX('Problem-ConceptMap-1'!$I$15:$N$55,Q24+1,R24)","v":"* group[=].element[=].target.display = ##34###34#"}]
[null,null,null,null,null,null,null,null,null,null,null,null,null,null,null,11,1,5,{"$f":"INDEX('Problem-ConceptMap-1'!$I$15:$N$55,Q25+1,R25)","v":"* group[=].element[=].target.equivalence = #equivalent"}]
[null,null,null,null,null,null,null,null,null,null,null,null,null,null,null,12,1,6,{"$f":"INDEX('Problem-ConceptMap-1'!$I$15:$N$55,Q26+1,R26)","v":""}]
[null,null,null,null,null,null,null,null,null,null,null,null,null,null,null,13,2,1,{"$f":"INDEX('Problem-ConceptMap-1'!$I$15:$N$55,Q27+1,R27)","v":"* group[=].element[+].code = #Problem.assertionStatus"}]
[null,null,null,null,null,null,null,null,null,null,null,null,null,null,null,14,2,2,{"$f":"INDEX('Problem-ConceptMap-1'!$I$15:$N$55,Q28+1,R28)","v":"* group[=].element[=].display = ##34#A.2.3.1.3 Diagnosis assertion status##34#"}]
[null,null,null,null,null,null,null,null,null,null,null,null,null,null,null,15,2,3,{"$f":"INDEX('Problem-ConceptMap-1'!$I$15:$N$55,Q29+1,R29)","v":"* group[=].element[=].target.code = #Condition.verificationStatus"}]
[null,null,null,null,null,null,null,null,null,null,null,null,null,null,null,16,2,4,{"$f":"INDEX('Problem-ConceptMap-1'!$I$15:$N$55,Q30+1,R30)","v":"* group[=].element[=].target.display = ##34###34#"}]
[null,null,null,null,null,null,null,null,null,null,null,null,null,null,null,17,2,5,{"$f":"INDEX('Problem-ConceptMap-1'!$I$15:$N$55,Q31+1,R31)","v":"* group[=].element[=].target.equivalence = #equivalent"}]
[null,null,null,null,null,null,null,null,null,null,null,null,null,null,null,18,2,6,{"$f":"INDEX('Problem-ConceptMap-1'!$I$15:$N$55,Q32+1,R32)","v":""}]
[null,null,null,null,null,null,null,null,null,null,null,null,null,null,null,19,3,1,{"$f":"INDEX('Problem-ConceptMap-1'!$I$15:$N$55,Q33+1,R33)","v":0}]
[null,null,null,null,null,null,null,null,null,null,null,null,null,null,null,20,3,2,{"$f":"INDEX('Problem-ConceptMap-1'!$I$15:$N$55,Q34+1,R34)","v":0}]
[null,null,null,null,null,null,null,null,null,null,null,null,null,null,null,21,3,3,{"$f":"INDEX('Problem-ConceptMap-1'!$I$15:$N$55,Q35+1,R35)","v":0}]
[null,null,null,null,null,null,null,null,null,null,null,null,null,null,null,22,3,4,{"$f":"INDEX('Problem-ConceptMap-1'!$I$15:$N$55,Q36+1,R36)","v":0}]
[null,null,null,null,null,null,null,null,null,null,null,null,null,null,null,23,3,5,{"$f":"INDEX('Problem-ConceptMap-1'!$I$15:$N$55,Q37+1,R37)","v":0}]
[null,null,null,null,null,null,null,null,null,null,null,null,null,null,null,24,3,6,{"$f":"INDEX('Problem-ConceptMap-1'!$I$15:$N$55,Q38+1,R38)","v":0}]
[null,null,null,null,null,null,null,null,null,null,null,null,null,null,null,25,4,1,{"$f":"INDEX('Problem-ConceptMap-1'!$I$15:$N$55,Q39+1,R39)","v":0}]
[null,null,null,null,null,null,null,null,null,null,null,null,null,null,null,26,4,2,{"$f":"INDEX('Problem-ConceptMap-1'!$I$15:$N$55,Q40+1,R40)","v":0}]
[null,null,null,null,null,null,null,null,null,null,null,null,null,null,null,27,4,3,{"$f":"INDEX('Problem-ConceptMap-1'!$I$15:$N$55,Q41+1,R41)","v":0}]
[null,null,null,null,null,null,null,null,null,null,null,null,null,null,null,28,4,4,{"$f":"INDEX('Problem-ConceptMap-1'!$I$15:$N$55,Q42+1,R42)","v":0}]
[null,null,null,null,null,null,null,null,null,null,null,null,null,null,null,29,4,5,{"$f":"INDEX('Problem-ConceptMap-1'!$I$15:$N$55,Q43+1,R43)","v":0}]
[null,null,null,null,null,null,null,null,null,null,null,null,null,null,null,30,4,6,{"$f":"INDEX('Problem-ConceptMap-1'!$I$15:$N$55,Q44+1,R44)","v":0}]
[null,null,null,null,null,null,null,null,null,null,null,null,null,null,null,31,5,1,{"$f":"INDEX('Problem-ConceptMap-1'!$I$15:$N$55,Q45+1,R45)","v":0}]
[null,null,null,null,null,null,null,null,null,null,null,null,null,null,null,32,5,2,{"$f":"INDEX('Problem-ConceptMap-1'!$I$15:$N$55,Q46+1,R46)","v":0}]
[null,null,null,null,null,null,null,null,null,null,null,null,null,null,null,33,5,3,{"$f":"INDEX('Problem-ConceptMap-1'!$I$15:$N$55,Q47+1,R47)","v":0}]
[null,null,null,null,null,null,null,null,null,null,null,null,null,null,null,34,5,4,{"$f":"INDEX('Problem-ConceptMap-1'!$I$15:$N$55,Q48+1,R48)","v":0}]
[null,null,null,null,null,null,null,null,null,null,null,null,null,null,null,35,5,5,{"$f":"INDEX('Problem-ConceptMap-1'!$I$15:$N$55,Q49+1,R49)","v":0}]
[null,null,null,null,null,null,null,null,null,null,null,null,null,null,null,36,5,6,{"$f":"INDEX('Problem-ConceptMap-1'!$I$15:$N$55,Q50+1,R50)","v":0}]
[null,null,null,null,null,null,null,null,null,null,null,null,null,null,null,37,6,1,{"$f":"INDEX('Problem-ConceptMap-1'!$I$15:$N$55,Q51+1,R51)","v":0}]
[null,null,null,null,null,null,null,null,null,null,null,null,null,null,null,38,6,2,{"$f":"INDEX('Problem-ConceptMap-1'!$I$15:$N$55,Q52+1,R52)","v":0}]

{"sheet":"Problem-CM-fsh","index":28,"n_rows":51,"n_cols":7,"rows_kept":51,"cut":false,"hidden":false,"merged":[]}
[null,"// -------------------------------------------------------------------------------"]
[null,"//  Concept Model. File: ",null,null,null,null,"problem-to-fhir-map.fsh"]
[null,"// -------------------------------------------------------------------------------"]
[null,{"$f":"\"Instance: \"&'Problem-ConceptMap-1'!C4","v":"Instance: problem2FHIR-eu-ps"}]
[null,"InstanceOf: ConceptMap"]
[null,"Usage: #definition"]
[null,"// * url = ##34#http://terminology.hl7.it/ConceptMap/ConceptMap-subject2osiris##34#"]
[null,{"$f":"\"* name = ##34#\"&'Problem-ConceptMap-1'!C3&\"##34#\"","v":"* name = ##34#Problem2Fhir##34#"}]
[null,{"$f":"\"* title = ##34#\"&'Problem-ConceptMap-1'!C5&\"##34#\"","v":"* title = ##34#eHN Problem to this guide Map##34#"}]
[null,"* status = #draft"]
[null,"* experimental = true"]
[null,{"$f":"\"* description = ##34#\"&'Problem-ConceptMap-1'!C8&\"##34#\"","v":"* description = ##34#eHN Problem Model to this guide Map##34#"}]
[null,{"$f":"\"* purpose = ##34#\"&'Problem-ConceptMap-1'!C9&\"##34#\"","v":"* purpose = ##34#It shows how the Problem data set defined by the EU eHN guidelines is mapped into this guide##34#"}]
[null,{"$f":"\"* sourceUri = ##34#\"&'Problem-ConceptMap-1'!E3&\"##34#\"","v":"* sourceUri = ##34#http://hl7.eu/fhir/ig/xpandh/ps/StructureDefinition/Problem##34#"}]
[null,{"$f":"\"* targetUri = ##34#\"&'Problem-ConceptMap-1'!E4&\"##34#\"","v":"* targetUri = ##34#http://hl7.eu/fhir/ig/xpandh/ps/StructureDefinition/Condition-ps-xpandh##34#"}]
[null,{"$f":"\"* group[+].source = ##34#\"&'Problem-ConceptMap-1'!E6&\"##34#\"","v":"* group[+].source = ##34#http://hl7.eu/fhir/ig/xpandh/ps/StructureDefinition/Problem##34#"}]
[null,{"$f":"\"* group[=].target = ##34#\"&'Problem-ConceptMap-1'!E7&\"##34#\"","v":"* group[=].target = ##34#http://hl7.eu/fhir/ig/xpandh/ps/StructureDefinition/Condition-ps-xpandh##34#"}]
[]
[null,{"$f":"IF('Problem-ConceptMap-1'!S15=0,\"//---END\",'Problem-ConceptMap-1'!S15)","v":"* group[=].element[+].code = #Problem.description"}]
[null,{"$f":"IF('Problem-ConceptMap-1'!S16=0,\"//---END\",'Problem-ConceptMap-1'!S16)","v":"* group[=].element[=].display = ##34#A.2.3.1.1 Problem / diagnosis description##34#"}]
[null,{"$f":"IF('Problem-ConceptMap-1'!S17=0,\"//---END\",'Problem-ConceptMap-1'!S17)","v":"* group[=].element[=].target.code = #Condition.code"}]
[null,{"$f":"IF('Problem-ConceptMap-1'!S18=0,\"//---END\",'Problem-ConceptMap-1'!S18)","v":"* group[=].element[=].target.display = ##34###34#"}]
[null,{"$f":"IF('Problem-ConceptMap-1'!S19=0,\"//---END\",'Problem-ConceptMap-1'!S19)","v":"* group[=].element[=].target.equivalence = #equivalent"}]
[null,{"$f":"IF('Problem-ConceptMap-1'!S20=0,\"//---END\",'Problem-ConceptMap-1'!S20)","v":""}]
[null,{"$f":"IF('Problem-ConceptMap-1'!S21=0,\"//---END\",'Problem-ConceptMap-1'!S21)","v":"* group[=].element[+].code = #Problem.onsetDate"}]
[null,{"$f":"IF('Problem-ConceptMap-1'!S22=0,\"//---END\",'Problem-ConceptMap-1'!S22)","v":"* group[=].element[=].display = ##34#A.2.3.1.2 Onset date##34#"}]
[null,{"$f":"IF('Problem-ConceptMap-1'!S23=0,\"//---END\",'Problem-ConceptMap-1'!S23)","v":"* group[=].element[=].target.code = #Condition.onsetDateTime"}]
[null,{"$f":"IF('Problem-ConceptMap-1'!S24=0,\"//---END\",'Problem-ConceptMap-1'!S24)","v":"* group[=].element[=].target.display = ##34###34#"}]
[null,{"$f":"IF('Problem-ConceptMap-1'!S25=0,\"//---END\",'Problem-ConceptMap-1'!S25)","v":"* group[=].element[=].target.equivalence = #equivalent"}]
[null,{"$f":"IF('Problem-ConceptMap-1'!S26=0,\"//---END\",'Problem-ConceptMap-1'!S26)","v":""}]
[null,{"$f":"IF('Problem-ConceptMap-1'!S27=0,\"//---END\",'Problem-ConceptMap-1'!S27)","v":"* group[=].element[+].code = #Problem.assertionStatus"}]
[null,{"$f":"IF('Problem-ConceptMap-1'!S28=0,\"//---END\",'Problem-ConceptMap-1'!S28)","v":"* group[=].element[=].display = ##34#A.2.3.1.3 Diagnosis assertion status##34#"}]
[null,{"$f":"IF('Problem-ConceptMap-1'!S29=0,\"//---END\",'Problem-ConceptMap-1'!S29)","v":"* group[=].element[=].target.code = #Condition.verificationStatus"}]
[null,{"$f":"IF('Problem-ConceptMap-1'!S30=0,\"//---END\",'Problem-ConceptMap-1'!S30)","v":"* group[=].element[=].target.display = ##34###34#"}]
[null,{"$f":"IF('Problem-ConceptMap-1'!S31=0,\"//---END\",'Problem-ConceptMap-1'!S31)","v":"* group[=].element[=].target.equivalence = #equivalent"}]
[null,{"$f":"IF('Problem-ConceptMap-1'!S32=0,\"//---END\",'Problem-ConceptMap-1'!S32)","v":""}]
[null,{"$f":"IF('Problem-ConceptMap-1'!S33=0,\"//---END\",'Problem-ConceptMap-1'!S33)","v":"//---END"}]
[null,{"$f":"IF('Problem-ConceptMap-1'!S34=0,\"//---END\",'Problem-ConceptMap-1'!S34)","v":"//---END"}]
[null,{"$f":"IF('Problem-ConceptMap-1'!S35=0,\"//---END\",'Problem-ConceptMap-1'!S35)","v":"//---END"}]
[null,{"$f":"IF('Problem-ConceptMap-1'!S36=0,\"//---END\",'Problem-ConceptMap-1'!S36)","v":"//---END"}]
[null,{"$f":"IF('Problem-ConceptMap-1'!S37=0,\"//---END\",'Problem-ConceptMap-1'!S37)","v":"//---END"}]
[null,{"$f":"IF('Problem-ConceptMap-1'!S38=0,\"//---END\",'Problem-ConceptMap-1'!S38)","v":"//---END"}]
[null,{"$f":"IF('Problem-ConceptMap-1'!S39=0,\"//---END\",'Problem-ConceptMap-1'!S39)","v":"//---END"}]
[null,{"$f":"IF('Problem-ConceptMap-1'!S40=0,\"//---END\",'Problem-ConceptMap-1'!S40)","v":"//---END"}]
[null,{"$f":"IF('Problem-ConceptMap-1'!S41=0,\"//---END\",'Problem-ConceptMap-1'!S41)","v":"//---END"}]
[null,{"$f":"IF('Problem-ConceptMap-1'!S42=0,\"//---END\",'Problem-ConceptMap-1'!S42)","v":"//---END"}]
[null,{"$f":"IF('Problem-ConceptMap-1'!S43=0,\"//---END\",'Problem-ConceptMap-1'!S43)","v":"//---END"}]
[null,{"$f":"IF('Problem-ConceptMap-1'!S44=0,\"//---END\",'Problem-ConceptMap-1'!S44)","v":"//---END"}]
[null,{"$f":"IF('Problem-ConceptMap-1'!S45=0,\"//---END\",'Problem-ConceptMap-1'!S45)","v":"//---END"}]
[null,{"$f":"IF('Problem-ConceptMap-1'!S46=0,\"//---END\",'Problem-ConceptMap-1'!S46)","v":"//---END"}]
[null,{"$f":"IF('Problem-ConceptMap-1'!S47=0,\"//---END\",'Problem-ConceptMap-1'!S47)","v":"//---END"}]

{"sheet":"A.2.2.2 ClosedProblem","index":29,"n_rows":25,"n_cols":9,"rows_kept":25,"cut":false,"hidden":false,"merged":[[20,2,20,5]]}
[null,null,null,null,null,null,null,null,"// -------------------------------------------------------------------------------"]
[null,null,null,null,null,null,null,null,"//  Logical Model"]
[null,null,null,null,null,null,null,null,{"$f":"I1","v":"// -------------------------------------------------------------------------------"}]
["Name","ClosedProblemPsEhn",null,null,null,null,null,null,{"$f":"CONCATENATE(\"Logical: \",B4)","v":"Logical: ClosedProblemPsEhn"}]
["Id","ClosedProblem",null,null,null,null,null,null,{"$f":"CONCATENATE(\"Id: \",B5)","v":"Id: ClosedProblem"}]
["Title","A.2.2.2 - Resolved, closed or inactive problems",null,null,null,null,null,null,{"$f":"CONCATENATE(\"Title: ##34#\",B6,\"##34#\")","v":"Title: ##34#A.2.2.2 - Resolved, closed or inactive problems##34#"}]
["Description","Resolved, closed or inactive problems. Section A.2.2.2 of the eHN guideline.",null,null,null,"max","dataType",null,{"$f":"CONCATENATE(\"Description: \",\" ##334#\",B7,\"##334#\",)","v":"Description:  ##334#Resolved, closed or inactive problems. Section A.2.2.2 of the eHN guideline.##334#"}]
[1,"description","A.2.2.2.1 Problem description","Problems or diagnoses that the patient suffered in the past, and which have been resolved, closed or declared as inactive (not included in \"current problems or diagnosis\") Example: hepatic cyst (the patient has been treated with a hepatic cystectomy that solved the problem and the problem is therefore closed) - Preferred system(s):  ICD-10* SNOMED CT GPS Orphacode if rare disease is diagnosed",0,"*","CodeableConcept",null,{"$f":"CONCATENATE(\"* \",B8, \" \",E8,\"..\",F8,\" \",G8,\" ##34#\",C8,\"##34# ##334#\",D8,\"##334#\")","v":"* description 0..* CodeableConcept ##34#A.2.2.2.1 Problem description##34# ##334#Problems or diagnoses that the patient suffered in the past, and which have been resolved, closed or declared as inactive (not included in \"current problems or diagnosis\") Example: hepatic cyst (the patient has been treated with a hepatic cystectomy that solved the problem and the problem is therefore closed) - Preferred system(s):  ICD-10* SNOMED CT GPS Orphacode if rare disease is diagnosed##334#"}]
[2,"onsetDate","A.2.2.2.2 Onset date","Date of problem onset - Preferred system(s): ISO 8601",0,"*","dateTime",null,{"$f":"CONCATENATE(\"* \",B9, \" \",E9,\"..\",F9,\" \",G9,\" ##34#\",C9,\"##34# ##334#\",D9,\"##334#\")","v":"* onsetDate 0..* dateTime ##34#A.2.2.2.2 Onset date##34# ##334#Date of problem onset - Preferred system(s): ISO 8601##334#"}]
[3,"endDate","A.2.2.2.3 End date","Problem resolution date - Preferred system(s): ISO 8601",0,"*","dateTime",null,"* endDate 0..* dateTime ##34#A.2.2.2.3 End date##34# ##334#Problem resolution date - Preferred system(s): ISO 8601##334#"]
[4,"resolution","A.2.2.2.4 Resolution circumstances","Describes the reason for which the status of the problem changed from current to inactive (e.g. surgical procedure, medical treatment, etc.). This field includes \"free text\" if the resolution circumstances are not already included in other fields such as surgical procedure, medical device, etc., e.g. hepatic cystectomy (this will be the resolution circumstances for the problem \"hepatic cyst\" and will be included in surgical procedures). - Preferred system(s): ",0,"*","CodeableConcept",null,"* resolution 0..* CodeableConcept ##34#A.2.2.2.4 Resolution circumstances##34# ##334#Describes the reason for which the status of the problem changed from current to inactive (e.g. surgical procedure, medical treatment, etc.). This field includes \"free text\" if the resolution circumstances are not already included in other fields such as surgical procedure, medical device, etc., e.g. hepatic cystectomy (this will be the resolution circumstances for the problem \"hepatic cyst\" and will be included in surgical procedures). - Preferred system(s): ##334#"]
[null,null,null,null,null,null,null,null,"*  ..  ##34###34# ##334###334#"]
[null,null,null,null,null,null,null,null,"*  ..  ##34###34# ##334###334#"]
[null,null,null,null,null,null,null,null,"*  ..  ##34###34# ##334###334#"]
[null,null,null,null,null,null,null,null,"*  ..  ##34###34# ##334###334#"]
[]
[]
[]
[]
[]
[null,{"$f":"CONCATENATE(C21,\" \",D21)","v":" "}]
[null,"A.2.2.2.1 Problem description","A.2.2.2.1","Problem description","Problems or diagnoses that the patient suffered in the past, and which have been resolved, closed or declared as inactive (not included in \"current problems or diagnosis\") Example: hepatic cyst (the patient has been treated with a hepatic cystectomy that solved the problem and the problem is therefore closed)"," ICD-10* SNOMED CT GPS Orphacode if rare disease is diagnosed",null,null,{"$f":"CONCATENATE(E22,\" - Preferred system(s): \",F22)","v":"Problems or diagnoses that the patient suffered in the past, and which have been resolved, closed or declared as inactive (not included in \"current problems or diagnosis\") Example: hepatic cyst (the patient has been treated with a hepatic cystectomy that solved the problem and the problem is therefore closed) - Preferred system(s):  ICD-10* SNOMED CT GPS Orphacode if rare disease is diagnosed"}]
[null,"A.2.2.2.2 Onset date","A.2.2.2.2","Onset date","Date of problem onset","ISO 8601",null,null,"Date of problem onset - Preferred system(s): ISO 8601"]
[null,"A.2.2.2.3 End date","A.2.2.2.3","End date","Problem resolution date","ISO 8601",null,null,"Problem resolution date - Preferred system(s): ISO 8601"]
[null,"A.2.2.2.4 Resolution circumstances","A.2.2.2.4","Resolution circumstances","Describes the reason for which the status of the problem changed from current to inactive (e.g. surgical procedure, medical treatment, etc.). This field includes \"free text\" if the resolution circumstances are not already included in other fields such as surgical procedure, medical device, etc., e.g. hepatic cystectomy (this will be the resolution circumstances for the problem \"hepatic cyst\" and will be included in surgical procedures).",null,null,null,"Describes the reason for which the status of the problem changed from current to inactive (e.g. surgical procedure, medical treatment, etc.). This field includes \"free text\" if the resolution circumstances are not already included in other fields such as surgical procedure, medical device, etc., e.g. hepatic cystectomy (this will be the resolution circumstances for the problem \"hepatic cyst\" and will be included in surgical procedures). - Preferred system(s): "]

{"sheet":"ClosedProblem-fsh","index":30,"n_rows":14,"n_cols":7,"rows_kept":14,"cut":false,"hidden":false,"merged":[]}
[null,null,{"$f":"'A.2.2.2 ClosedProblem'!I1","v":"// -------------------------------------------------------------------------------"}]
[null,null,{"$f":"'A.2.2.2 ClosedProblem'!I2","v":"//  Logical Model"},null,null,null,"ps-closedproblem.fsh"]
[null,null,{"$f":"'A.2.2.2 ClosedProblem'!I3","v":"// -------------------------------------------------------------------------------"}]
[null,null,{"$f":"'A.2.2.2 ClosedProblem'!I4","v":"Logical: ClosedProblemPsEhn"}]
[null,null,{"$f":"'A.2.2.2 ClosedProblem'!I5","v":"Id: ClosedProblem"}]
[null,null,{"$f":"'A.2.2.2 ClosedProblem'!I6","v":"Title: ##34#A.2.2.2 - Resolved, closed or inactive problems##34#"}]
[null,null,{"$f":"'A.2.2.2 ClosedProblem'!I7","v":"Description:  ##334#Resolved, closed or inactive problems. Section A.2.2.2 of the eHN guideline.##334#"}]
[null,null,{"$f":"IF('A.2.2.2 ClosedProblem'!I8=\"*  ..  ##34###34# ##334###334#\",\"//--- END\",'A.2.2.2 ClosedProblem'!I8)","v":"* description 0..* CodeableConcept ##34#A.2.2.2.1 Problem description##34# ##334#Problems or diagnoses that the patient suffered in the past, and which have been resolved, closed or declared as inactive (not included in \"current problems or diagnosis\") Example: hepatic cyst (the patient has been treated with a hepatic cystectomy that solved the problem and the problem is therefore closed) - Preferred system(s):  ICD-10* SNOMED CT GPS Orphacode if rare disease is diagnosed##334#"}]
[null,null,{"$f":"IF('A.2.2.2 ClosedProblem'!I9=\"*  ..  ##34###34# ##334###334#\",\"//--- END\",'A.2.2.2 ClosedProblem'!I9)","v":"* onsetDate 0..* dateTime ##34#A.2.2.2.2 Onset date##34# ##334#Date of problem onset - Preferred system(s): ISO 8601##334#"}]
[null,null,{"$f":"IF('A.2.2.2 ClosedProblem'!I10=\"*  ..  ##34###34# ##334###334#\",\"//--- END\",'A.2.2.2 ClosedProblem'!I10)","v":"* endDate 0..* dateTime ##34#A.2.2.2.3 End date##34# ##334#Problem resolution date - Preferred system(s): ISO 8601##334#"},null," "]
[null,null,{"$f":"IF('A.2.2.2 ClosedProblem'!I11=\"*  ..  ##34###34# ##334###334#\",\"//--- END\",'A.2.2.2 ClosedProblem'!I11)","v":"* resolution 0..* CodeableConcept ##34#A.2.2.2.4 Resolution circumstances##34# ##334#Describes the reason for which the status of the problem changed from current to inactive (e.g. surgical procedure, medical treatment, etc.). This field includes \"free text\" if the resolution circumstances are not already included in other fields such as surgical procedure, medical device, etc., e.g. hepatic cystectomy (this will be the resolution circumstances for the problem \"hepatic cyst\" and will be included in surgical procedures). - Preferred system(s): ##334#"}]
[null,null,{"$f":"IF('A.2.2.2 ClosedProblem'!I12=\"*  ..  ##34###34# ##334###334#\",\"//--- END\",'A.2.2.2 ClosedProblem'!I12)","v":"//--- END"}]
[null,null,{"$f":"IF('A.2.2.2 ClosedProblem'!I13=\"*  ..  ##34###34# ##334###334#\",\"//--- END\",'A.2.2.2 ClosedProblem'!I13)","v":"//--- END"}]
[null,null,{"$f":"IF('A.2.2.2 ClosedProblem'!I14=\"*  ..  ##34###34# ##334###334#\",\"//--- END\",'A.2.2.2 ClosedProblem'!I14)","v":"//--- END"}]

{"sheet":"ClosedProblem-ConceptMap-1","index":31,"n_rows":53,"n_cols":19,"rows_kept":53,"cut":false,"hidden":false,"merged":[[5,4,5,6],[6,4,6,6],[3,4,3,6]]}
[]
[null,null,null,null,"http://hl7.eu/fhir/ig/xpandh/ps/StructureDefinition/ClosedProblem"]
[null,"Mapping","ClosedProblem2Fhir","Source URI",{"$f":"\"http://hl7.eu/fhir/ig/xpandh/ps/StructureDefinition/\"&'A.2.2.2 ClosedProblem'!B5","v":"http://hl7.eu/fhir/ig/xpandh/ps/StructureDefinition/ClosedProblem"}]
[null,"Id","closedProblem2FHIR-eu-ps","Target URI","http://hl7.eu/fhir/ig/xpandh/ps/StructureDefinition/Condition-ps-xpandh"]
[null,"Title","eHN ClosedProblem to this guide Map"]
[null,"Source",null,"Source Group",{"$f":"E3","v":"http://hl7.eu/fhir/ig/xpandh/ps/StructureDefinition/ClosedProblem"}]
[null,"Target",null,"Target Group",{"$f":"E4","v":"http://hl7.eu/fhir/ig/xpandh/ps/StructureDefinition/Condition-ps-xpandh"}]
[null,"description","eHN ClosedProblem Model to this guide Map",null,null,null,null,null,"* group[=].element[+].code = #Osiris.Patient.BirthDate","* group[=].element[=].display = \"Birth Date [C4]\"","* group[=].element[=].target.code = #Subject.dateOfBirth.date","* group[=].element[=].target.display = \"Date of birth\"","* group[=].element[=].target.equivalence = #equivalent",null,null,"Elements",6]
[null,"purpose","It shows how the ClosedProblem data set defined by the EU eHN guidelines is mapped into this guide"]
[]
[null,null,null,null,null,null,null,null,"source:code","source:display","code","display","target to source","Comment"]
[]
[null,null,null,null,null,"target to source","Comment"]
[null,{"$f":"'A.2.2.2 ClosedProblem'!B5","v":"ClosedProblem"},null,"Condition"]
[null,{"$f":"'A.2.2.2 ClosedProblem'!B8","v":"description"},{"$f":"'A.2.2.2 ClosedProblem'!C8","v":"A.2.2.2.1 Problem description"},"code",null,"equivalent",null,null,{"$f":"\"* group[=].element[+].code = #\"&$B$14&\".\"&B15","v":"* group[=].element[+].code = #ClosedProblem.description"},{"$f":"\"* group[=].element[=].display = ##34#\"&C15&\"##34#\"","v":"* group[=].element[=].display = ##34#A.2.2.2.1 Problem description##34#"},{"$f":"IF(F15=\"unmatched\",\"//-- unmatched\",\"* group[=].element[=].target.code = #\"&$D$14&\".\"&D15)","v":"* group[=].element[=].target.code = #Condition.code"},{"$f":"IF(F15=\"unmatched\",\"//-- unmatched\",\"* group[=].element[=].target.display = ##34#\"&E15&\"##34#\")","v":"* group[=].element[=].target.display = ##34###34#"},{"$f":"\"* group[=].element[=].target.equivalence = #\"&F15","v":"* group[=].element[=].target.equivalence = #equivalent"},{"$f":"IF(G15<>\"\",CONCATENATE(\"* group[=].element[=].target.comment = \",\"##34#\",G15,\"##34#\"),\"\")","v":""},null,1,{"$f":"IF(MOD(P15,$Q$8)=0,P15/$Q$8-1,INT(P15/$Q$8))","v":0},{"$f":"IF(MOD(P15,$Q$8)=0,$Q$8,MOD(P15,$Q$8))","v":1},{"$f":"INDEX('ClosedProblem-ConceptMap-1'!$I$15:$N$56,Q15+1,R15)","v":"* group[=].element[+].code = #ClosedProblem.description"}]
[null,{"$f":"'A.2.2.2 ClosedProblem'!B9","v":"onsetDate"},{"$f":"'A.2.2.2 ClosedProblem'!C9","v":"A.2.2.2.2 Onset date"},"onsetDateTime",null,"equivalent",null,null,{"$f":"\"* group[=].element[+].code = #\"&$B$14&\".\"&B16","v":"* group[=].element[+].code = #ClosedProblem.onsetDate"},{"$f":"\"* group[=].element[=].display = ##34#\"&C16&\"##34#\"","v":"* group[=].element[=].display = ##34#A.2.2.2.2 Onset date##34#"},{"$f":"IF(F16=\"unmatched\",\"//-- unmatched\",\"* group[=].element[=].target.code = #\"&$D$14&\".\"&D16)","v":"* group[=].element[=].target.code = #Condition.onsetDateTime"},{"$f":"IF(F16=\"unmatched\",\"//-- unmatched\",\"* group[=].element[=].target.display = ##34#\"&E16&\"##34#\")","v":"* group[=].element[=].target.display = ##34###34#"},{"$f":"\"* group[=].element[=].target.equivalence = #\"&F16","v":"* group[=].element[=].target.equivalence = #equivalent"},{"$f":"IF(G16<>\"\",CONCATENATE(\"* group[=].element[=].target.comment = \",\"##34#\",G16,\"##34#\"),\"\")","v":""},null,2,{"$f":"IF(MOD(P16,$Q$8)=0,P16/$Q$8-1,INT(P16/$Q$8))","v":0},{"$f":"IF(MOD(P16,$Q$8)=0,$Q$8,MOD(P16,$Q$8))","v":2},{"$f":"INDEX('ClosedProblem-ConceptMap-1'!$I$15:$N$56,Q16+1,R16)","v":"* group[=].element[=].display = ##34#A.2.2.2.1 Problem description##34#"}]
[null,{"$f":"'A.2.2.2 ClosedProblem'!B10","v":"endDate"},{"$f":"'A.2.2.2 ClosedProblem'!C10","v":"A.2.2.2.3 End date"},"abatementDateTime",null,"equivalent",null,null,"* group[=].element[+].code = #ClosedProblem.endDate","* group[=].element[=].display = ##34#A.2.2.2.3 End date##34#","* group[=].element[=].target.code = #Condition.abatementDateTime","* group[=].element[=].target.display = ##34###34#","* group[=].element[=].target.equivalence = #equivalent","",null,3,0,3,{"$f":"INDEX('ClosedProblem-ConceptMap-1'!$I$15:$N$56,Q17+1,R17)","v":"* group[=].element[=].target.code = #Condition.code"}]
[null,{"$f":"'A.2.2.2 ClosedProblem'!B11","v":"resolution"},{"$f":"'A.2.2.2 ClosedProblem'!C11","v":"A.2.2.2.4 Resolution circumstances"},"extension:statusReason",null,"equivalent",null,null,"* group[=].element[+].code = #ClosedProblem.resolution","* group[=].element[=].display = ##34#A.2.2.2.4 Resolution circumstances##34#","* group[=].element[=].target.code = #Condition.extension:statusReason","* group[=].element[=].target.display = ##34###34#","* group[=].element[=].target.equivalence = #equivalent","",null,4,0,4,{"$f":"INDEX('ClosedProblem-ConceptMap-1'!$I$15:$N$56,Q18+1,R18)","v":"* group[=].element[=].target.display = ##34###34#"}]
[null,null,null,null,null,null,null,null,null,null,null,null,null,null,null,5,0,5,{"$f":"INDEX('ClosedProblem-ConceptMap-1'!$I$15:$N$56,Q19+1,R19)","v":"* group[=].element[=].target.equivalence = #equivalent"}]
[null,null,null,null,null,null,null,null,null,null,null,null,null,null,null,6,0,6,{"$f":"INDEX('ClosedProblem-ConceptMap-1'!$I$15:$N$56,Q20+1,R20)","v":""}]
[null,null,null,null,null,null,null,null,null,null,null,null,null,null,null,7,{"$f":"IF(MOD(P21,$Q$8)=0,P21/$Q$8-1,INT(P21/$Q$8))","v":1},{"$f":"IF(MOD(P21,$Q$8)=0,$Q$8,MOD(P21,$Q$8))","v":1},{"$f":"INDEX('ClosedProblem-ConceptMap-1'!$I$15:$N$56,Q21+1,R21)","v":"* group[=].element[+].code = #ClosedProblem.onsetDate"}]
[null,null,null,null,null,null,null,null,null,null,null,null,null,null,null,8,1,2,{"$f":"INDEX('ClosedProblem-ConceptMap-1'!$I$15:$N$56,Q22+1,R22)","v":"* group[=].element[=].display = ##34#A.2.2.2.2 Onset date##34#"}]
[null,null,null,null,null,null,null,null,null,null,null,null,null,null,null,9,1,3,{"$f":"INDEX('ClosedProblem-ConceptMap-1'!$I$15:$N$56,Q23+1,R23)","v":"* group[=].element[=].target.code = #Condition.onsetDateTime"}]
[null,null,null,null,null,null,null,null,null,null,null,null,null,null,null,10,1,4,{"$f":"INDEX('ClosedProblem-ConceptMap-1'!$I$15:$N$56,Q24+1,R24)","v":"* group[=].element[=].target.display = ##34###34#"}]
[null,null,null,null,null,null,null,null,null,null,null,null,null,null,null,11,1,5,{"$f":"INDEX('ClosedProblem-ConceptMap-1'!$I$15:$N$56,Q25+1,R25)","v":"* group[=].element[=].target.equivalence = #equivalent"}]
[null,null,null,null,null,null,null,null,null,null,null,null,null,null,null,12,1,6,{"$f":"INDEX('ClosedProblem-ConceptMap-1'!$I$15:$N$56,Q26+1,R26)","v":""}]
[null,null,null,null,null,null,null,null,null,null,null,null,null,null,null,13,2,1,{"$f":"INDEX('ClosedProblem-ConceptMap-1'!$I$15:$N$56,Q27+1,R27)","v":"* group[=].element[+].code = #ClosedProblem.endDate"}]
[null,null,null,null,null,null,null,null,null,null,null,null,null,null,null,14,2,2,{"$f":"INDEX('ClosedProblem-ConceptMap-1'!$I$15:$N$56,Q28+1,R28)","v":"* group[=].element[=].display = ##34#A.2.2.2.3 End date##34#"}]
[null,null,null,null,null,null,null,null,null,null,null,null,null,null,null,15,2,3,{"$f":"INDEX('ClosedProblem-ConceptMap-1'!$I$15:$N$56,Q29+1,R29)","v":"* group[=].element[=].target.code = #Condition.abatementDateTime"}]
[null,null,null,null,null,null,null,null,null,null,null,null,null,null,null,16,2,4,{"$f":"INDEX('ClosedProblem-ConceptMap-1'!$I$15:$N$56,Q30+1,R30)","v":"* group[=].element[=].target.display = ##34###34#"}]
[null,null,null,null,null,null,null,null,null,null,null,null,null,null,null,17,2,5,{"$f":"INDEX('ClosedProblem-ConceptMap-1'!$I$15:$N$56,Q31+1,R31)","v":"* group[=].element[=].target.equivalence = #equivalent"}]
[null,null,null,null,null,null,null,null,null,null,null,null,null,null,null,18,2,6,{"$f":"INDEX('ClosedProblem-ConceptMap-1'!$I$15:$N$56,Q32+1,R32)","v":""}]
[null,null,null,null,null,null,null,null,null,null,null,null,null,null,null,19,3,1,{"$f":"INDEX('ClosedProblem-ConceptMap-1'!$I$15:$N$56,Q33+1,R33)","v":"* group[=].element[+].code = #ClosedProblem.resolution"}]
[null,null,null,null,null,null,null,null,null,null,null,null,null,null,null,20,3,2,{"$f":"INDEX('ClosedProblem-ConceptMap-1'!$I$15:$N$56,Q34+1,R34)","v":"* group[=].element[=].display = ##34#A.2.2.2.4 Resolution circumstances##34#"}]
[null,null,null,null,null,null,null,null,null,null,null,null,null,null,null,21,3,3,{"$f":"INDEX('ClosedProblem-ConceptMap-1'!$I$15:$N$56,Q35+1,R35)","v":"* group[=].element[=].target.code = #Condition.extension:statusReason"}]
[null,null,null,null,null,null,null,null,null,null,null,null,null,null,null,22,3,4,{"$f":"INDEX('ClosedProblem-ConceptMap-1'!$I$15:$N$56,Q36+1,R36)","v":"* group[=].element[=].target.display = ##34###34#"}]
[null,null,null,null,null,null,null,null,null,null,null,null,null,null,null,23,3,5,{"$f":"INDEX('ClosedProblem-ConceptMap-1'!$I$15:$N$56,Q37+1,R37)","v":"* group[=].element[=].target.equivalence = #equivalent"}]
[null,null,null,null,null,null,null,null,null,null,null,null,null,null,null,24,3,6,{"$f":"INDEX('ClosedProblem-ConceptMap-1'!$I$15:$N$56,Q38+1,R38)","v":""}]
[null,null,null,null,null,null,null,null,null,null,null,null,null,null,null,25,4,1,{"$f":"INDEX('ClosedProblem-ConceptMap-1'!$I$15:$N$56,Q39+1,R39)","v":0}]
[null,null,null,null,null,null,null,null,null,null,null,null,null,null,null,26,4,2,{"$f":"INDEX('ClosedProblem-ConceptMap-1'!$I$15:$N$56,Q40+1,R40)","v":0}]
[null,null,null,null,null,null,null,null,null,null,null,null,null,null,null,27,4,3,{"$f":"INDEX('ClosedProblem-ConceptMap-1'!$I$15:$N$56,Q41+1,R41)","v":0}]
[null,null,null,null,null,null,null,null,null,null,null,null,null,null,null,28,{"$f":"IF(MOD(P42,$Q$8)=0,P42/$Q$8-1,INT(P42/$Q$8))","v":4},{"$f":"IF(MOD(P42,$Q$8)=0,$Q$8,MOD(P42,$Q$8))","v":4},{"$f":"INDEX('ClosedProblem-ConceptMap-1'!$I$15:$N$56,Q42+1,R42)","v":0}]
[null,null,null,null,null,null,null,null,null,null,null,null,null,null,null,29,4,5,{"$f":"INDEX('ClosedProblem-ConceptMap-1'!$I$15:$N$56,Q43+1,R43)","v":0}]
[null,null,null,null,null,null,null,null,null,null,null,null,null,null,null,30,4,6,{"$f":"INDEX('ClosedProblem-ConceptMap-1'!$I$15:$N$56,Q44+1,R44)","v":0}]
[null,null,null,null,null,null,null,null,null,null,null,null,null,null,null,31,5,1,{"$f":"INDEX('ClosedProblem-ConceptMap-1'!$I$15:$N$56,Q45+1,R45)","v":0}]
[null,null,null,null,null,null,null,null,null,null,null,null,null,null,null,32,5,2,{"$f":"INDEX('ClosedProblem-ConceptMap-1'!$I$15:$N$56,Q46+1,R46)","v":0}]
[null,null,null,null,null,null,null,null,null,null,null,null,null,null,null,33,5,3,{"$f":"INDEX('ClosedProblem-ConceptMap-1'!$I$15:$N$56,Q47+1,R47)","v":0}]
[null,null,null,null,null,null,null,null,null,null,null,null,null,null,null,34,5,4,{"$f":"INDEX('ClosedProblem-ConceptMap-1'!$I$15:$N$56,Q48+1,R48)","v":0}]
[null,null,null,null,null,null,null,null,null,null,null,null,null,null,null,35,5,5,{"$f":"INDEX('ClosedProblem-ConceptMap-1'!$I$15:$N$56,Q49+1,R49)","v":0}]
[null,null,null,null,null,null,null,null,null,null,null,null,null,null,null,36,5,6,{"$f":"INDEX('ClosedProblem-ConceptMap-1'!$I$15:$N$56,Q50+1,R50)","v":0}]
[null,null,null,null,null,null,null,null,null,null,null,null,null,null,null,37,6,1,{"$f":"INDEX('ClosedProblem-ConceptMap-1'!$I$15:$N$56,Q51+1,R51)","v":0}]
[null,null,null,null,null,null,null,null,null,null,null,null,null,null,null,38,6,2,{"$f":"INDEX('ClosedProblem-ConceptMap-1'!$I$15:$N$56,Q52+1,R52)","v":0}]
[null,null,null,null,null,null,null,null,null,null,null,null,null,null,null,39,6,3,{"$f":"INDEX('ClosedProblem-ConceptMap-1'!$I$15:$N$56,Q53+1,R53)","v":0}]

{"sheet":"ClosedProblem-CM-fsh","index":32,"n_rows":51,"n_cols":7,"rows_kept":51,"cut":false,"hidden":false,"merged":[]}
[null,"// -------------------------------------------------------------------------------"]
[null,"//  Concept Model. File: ",null,null,null,null,"closedproblem-to-fhir-map.fsh"]
[null,"// -------------------------------------------------------------------------------"]
[null,{"$f":"\"Instance: \"&'ClosedProblem-ConceptMap-1'!C4","v":"Instance: closedProblem2FHIR-eu-ps"}]
[null,"InstanceOf: ConceptMap"]
[null,"Usage: #definition"]
[null,"// * url = ##34#http://terminology.hl7.it/ConceptMap/ConceptMap-subject2osiris##34#"]
[null,{"$f":"\"* name = ##34#\"&'ClosedProblem-ConceptMap-1'!C3&\"##34#\"","v":"* name = ##34#ClosedProblem2Fhir##34#"}]
[null,{"$f":"\"* title = ##34#\"&'ClosedProblem-ConceptMap-1'!C5&\"##34#\"","v":"* title = ##34#eHN ClosedProblem to this guide Map##34#"}]
[null,"* status = #draft"]
[null,"* experimental = true"]
[null,{"$f":"\"* description = ##34#\"&'ClosedProblem-ConceptMap-1'!C8&\"##34#\"","v":"* description = ##34#eHN ClosedProblem Model to this guide Map##34#"}]
[null,{"$f":"\"* purpose = ##34#\"&'ClosedProblem-ConceptMap-1'!C9&\"##34#\"","v":"* purpose = ##34#It shows how the ClosedProblem data set defined by the EU eHN guidelines is mapped into this guide##34#"}]
[null,{"$f":"\"* sourceUri = ##34#\"&'ClosedProblem-ConceptMap-1'!E3&\"##34#\"","v":"* sourceUri = ##34#http://hl7.eu/fhir/ig/xpandh/ps/StructureDefinition/ClosedProblem##34#"}]
[null,{"$f":"\"* targetUri = ##34#\"&'ClosedProblem-ConceptMap-1'!E4&\"##34#\"","v":"* targetUri = ##34#http://hl7.eu/fhir/ig/xpandh/ps/StructureDefinition/Condition-ps-xpandh##34#"}]
[null,{"$f":"\"* group[+].source = ##34#\"&'ClosedProblem-ConceptMap-1'!E6&\"##34#\"","v":"* group[+].source = ##34#http://hl7.eu/fhir/ig/xpandh/ps/StructureDefinition/ClosedProblem##34#"}]
[null,{"$f":"\"* group[=].target = ##34#\"&'ClosedProblem-ConceptMap-1'!E7&\"##34#\"","v":"* group[=].target = ##34#http://hl7.eu/fhir/ig/xpandh/ps/StructureDefinition/Condition-ps-xpandh##34#"}]
[]
[null,{"$f":"IF('ClosedProblem-ConceptMap-1'!S15=0,\"//---END\",'ClosedProblem-ConceptMap-1'!S15)","v":"* group[=].element[+].code = #ClosedProblem.description"}]
[null,{"$f":"IF('ClosedProblem-ConceptMap-1'!S16=0,\"//---END\",'ClosedProblem-ConceptMap-1'!S16)","v":"* group[=].element[=].display = ##34#A.2.2.2.1 Problem description##34#"}]
[null,{"$f":"IF('ClosedProblem-ConceptMap-1'!S17=0,\"//---END\",'ClosedProblem-ConceptMap-1'!S17)","v":"* group[=].element[=].target.code = #Condition.code"}]
[null,{"$f":"IF('ClosedProblem-ConceptMap-1'!S18=0,\"//---END\",'ClosedProblem-ConceptMap-1'!S18)","v":"* group[=].element[=].target.display = ##34###34#"}]
[null,{"$f":"IF('ClosedProblem-ConceptMap-1'!S19=0,\"//---END\",'ClosedProblem-ConceptMap-1'!S19)","v":"* group[=].element[=].target.equivalence = #equivalent"}]
[null,{"$f":"IF('ClosedProblem-ConceptMap-1'!S20=0,\"//---END\",'ClosedProblem-ConceptMap-1'!S20)","v":""}]
[null,{"$f":"IF('ClosedProblem-ConceptMap-1'!S21=0,\"//---END\",'ClosedProblem-ConceptMap-1'!S21)","v":"* group[=].element[+].code = #ClosedProblem.onsetDate"}]
[null,{"$f":"IF('ClosedProblem-ConceptMap-1'!S22=0,\"//---END\",'ClosedProblem-ConceptMap-1'!S22)","v":"* group[=].element[=].display = ##34#A.2.2.2.2 Onset date##34#"}]
[null,{"$f":"IF('ClosedProblem-ConceptMap-1'!S23=0,\"//---END\",'ClosedProblem-ConceptMap-1'!S23)","v":"* group[=].element[=].target.code = #Condition.onsetDateTime"}]
[null,{"$f":"IF('ClosedProblem-ConceptMap-1'!S24=0,\"//---END\",'ClosedProblem-ConceptMap-1'!S24)","v":"* group[=].element[=].target.display = ##34###34#"}]
[null,{"$f":"IF('ClosedProblem-ConceptMap-1'!S25=0,\"//---END\",'ClosedProblem-ConceptMap-1'!S25)","v":"* group[=].element[=].target.equivalence = #equivalent"}]
[null,{"$f":"IF('ClosedProblem-ConceptMap-1'!S26=0,\"//---END\",'ClosedProblem-ConceptMap-1'!S26)","v":""}]
[null,{"$f":"IF('ClosedProblem-ConceptMap-1'!S27=0,\"//---END\",'ClosedProblem-ConceptMap-1'!S27)","v":"* group[=].element[+].code = #ClosedProblem.endDate"}]
[null,{"$f":"IF('ClosedProblem-ConceptMap-1'!S28=0,\"//---END\",'ClosedProblem-ConceptMap-1'!S28)","v":"* group[=].element[=].display = ##34#A.2.2.2.3 End date##34#"}]
[null,{"$f":"IF('ClosedProblem-ConceptMap-1'!S29=0,\"//---END\",'ClosedProblem-ConceptMap-1'!S29)","v":"* group[=].element[=].target.code = #Condition.abatementDateTime"}]
[null,{"$f":"IF('ClosedProblem-ConceptMap-1'!S30=0,\"//---END\",'ClosedProblem-ConceptMap-1'!S30)","v":"* group[=].element[=].target.display = ##34###34#"}]
[null,{"$f":"IF('ClosedProblem-ConceptMap-1'!S31=0,\"//---END\",'ClosedProblem-ConceptMap-1'!S31)","v":"* group[=].element[=].target.equivalence = #equivalent"}]
[null,{"$f":"IF('ClosedProblem-ConceptMap-1'!S32=0,\"//---END\",'ClosedProblem-ConceptMap-1'!S32)","v":""}]
[null,{"$f":"IF('ClosedProblem-ConceptMap-1'!S33=0,\"//---END\",'ClosedProblem-ConceptMap-1'!S33)","v":"* group[=].element[+].code = #ClosedProblem.resolution"}]
[null,{"$f":"IF('ClosedProblem-ConceptMap-1'!S34=0,\"//---END\",'ClosedProblem-ConceptMap-1'!S34)","v":"* group[=].element[=].display = ##34#A.2.2.2.4 Resolution circumstances##34#"}]
[null,{"$f":"IF('ClosedProblem-ConceptMap-1'!S35=0,\"//---END\",'ClosedProblem-ConceptMap-1'!S35)","v":"* group[=].element[=].target.code = #Condition.extension:statusReason"}]
[null,{"$f":"IF('ClosedProblem-ConceptMap-1'!S36=0,\"//---END\",'ClosedProblem-ConceptMap-1'!S36)","v":"* group[=].element[=].target.display = ##34###34#"}]
[null,{"$f":"IF('ClosedProblem-ConceptMap-1'!S37=0,\"//---END\",'ClosedProblem-ConceptMap-1'!S37)","v":"* group[=].element[=].target.equivalence = #equivalent"}]
[null,{"$f":"IF('ClosedProblem-ConceptMap-1'!S38=0,\"//---END\",'ClosedProblem-ConceptMap-1'!S38)","v":""}]
[null,{"$f":"IF('ClosedProblem-ConceptMap-1'!S39=0,\"//---END\",'ClosedProblem-ConceptMap-1'!S39)","v":"//---END"}]
[null,{"$f":"IF('ClosedProblem-ConceptMap-1'!S40=0,\"//---END\",'ClosedProblem-ConceptMap-1'!S40)","v":"//---END"}]
[null,{"$f":"IF('ClosedProblem-ConceptMap-1'!S41=0,\"//---END\",'ClosedProblem-ConceptMap-1'!S41)","v":"//---END"}]
[null,{"$f":"IF('ClosedProblem-ConceptMap-1'!S42=0,\"//---END\",'ClosedProblem-ConceptMap-1'!S42)","v":"//---END"}]
[null,{"$f":"IF('ClosedProblem-ConceptMap-1'!S43=0,\"//---END\",'ClosedProblem-ConceptMap-1'!S43)","v":"//---END"}]
[null,{"$f":"IF('ClosedProblem-ConceptMap-1'!S44=0,\"//---END\",'ClosedProblem-ConceptMap-1'!S44)","v":"//---END"}]
[null,{"$f":"IF('ClosedProblem-ConceptMap-1'!S45=0,\"//---END\",'ClosedProblem-ConceptMap-1'!S45)","v":"//---END"}]
[null,{"$f":"IF('ClosedProblem-ConceptMap-1'!S46=0,\"//---END\",'ClosedProblem-ConceptMap-1'!S46)","v":"//---END"}]
[null,{"$f":"IF('ClosedProblem-ConceptMap-1'!S47=0,\"//---END\",'ClosedProblem-ConceptMap-1'!S47)","v":"//---END"}]

{"sheet":"A.2.8 Results","index":33,"n_rows":31,"n_cols":9,"rows_kept":31,"cut":false,"hidden":false,"merged":[]}
[null,null,null,null,null,null,null,null,"// -------------------------------------------------------------------------------"]
[null,null,null,null,null,null,null,null,"//  Logical Model"]
[null,null,null,null,null,null,null,null,{"$f":"I1","v":"// -------------------------------------------------------------------------------"}]
["Name","ResultPsEhn",null,null,null,null,null,null,{"$f":"CONCATENATE(\"Logical: \",B4)","v":"Logical: ResultPsEhn"}]
["Id","Result",null,null,null,null,null,null,{"$f":"CONCATENATE(\"Id: \",B5)","v":"Id: Result"}]
["Title","A.2.8 - Results",null,null,null,null,null,null,{"$f":"CONCATENATE(\"Title: ##34#\",B6,\"##34#\")","v":"Title: ##34#A.2.8 - Results##34#"}]
["Description","Results data elements. Section A2.8 of the eHN guideline.",null,null,null,"max","dataType",null,{"$f":"CONCATENATE(\"Description: \",\" ##334#\",B7,\"##334#\",)","v":"Description:  ##334#Results data elements. Section A2.8 of the eHN guideline.##334#"}]
[1,"observation","A.2.8.1 Result observations","(A list of observation results pertaining to the subject of care's health condition and which might have impact on future treatments)",0,1,"BackboneElement",null,{"$f":"CONCATENATE(\"* \",B8, \" \",E8,\"..\",F8,\" \",G8,\" ##34#\",C8,\"##34# ##334#\",D8,\"##334#\")","v":"* observation 0..1 BackboneElement ##34#A.2.8.1 Result observations##34# ##334#(A list of observation results pertaining to the subject of care's health condition and which might have impact on future treatments)##334#"}]
[2,"date","A.2.8.1.1 Date","Date and time of the observation - Preferred system(s): ISO 8601",0,"*","dateTime",null,{"$f":"CONCATENATE(\"* \",B9, \" \",E9,\"..\",F9,\" \",G9,\" ##34#\",C9,\"##34# ##334#\",D9,\"##334#\")","v":"* date 0..* dateTime ##34#A.2.8.1.1 Date##34# ##334#Date and time of the observation - Preferred system(s): ISO 8601##334#"}]
[3,"type","A.2.8.1.2 Observation type","Observation results types that may be measurements, laboratory results, anatomic pathology results, radiology results or other imaging or clinical results. Examples: Diagnostic results (Blood group, Laboratory Observations, Imaging results etc.) Physical findings (Vital signs observations)  - Preferred system(s): HL7 ObservationCategoryCodes",0,"*","CodeableConcept",null,"* type 0..* CodeableConcept ##34#A.2.8.1.2 Observation type##34# ##334#Observation results types that may be measurements, laboratory results, anatomic pathology results, radiology results or other imaging or clinical results. Examples: Diagnostic results (Blood group, Laboratory Observations, Imaging results etc.) Physical findings (Vital signs observations)  - Preferred system(s): HL7 ObservationCategoryCodes##334#"]
[4,"description","A.2.8.1.3 Result description","Narrative representation of the observation result and findings.",0,"*","Narrative",null,"* description 0..* Narrative ##34#A.2.8.1.3 Result description##34# ##334#Narrative representation of the observation result and findings.##334#"]
[5,"details","A.2.8.1.4 Observation details","Observation details including code that identifies observation, specification of the observed body structure or specimen, date and time of the specimen collection. LOINC - Preferred system(s): SNOMED CT GPS NPU",0,"*","BackboneElement",null,"* details 0..* BackboneElement ##34#A.2.8.1.4 Observation details##34# ##334#Observation details including code that identifies observation, specification of the observed body structure or specimen, date and time of the specimen collection. LOINC - Preferred system(s): SNOMED CT GPS NPU##334#"]
[6,"result","A.2.8.1.5 Observation results","Result of the observation including numeric and coded results of the measurement, details about how the tests were done to get the result values, information about referential ranges and result interpretation. Content of the observation result will vary according to the type of the observation. - Preferred system(s): SNOMED CT GPS (for ordinal or nominal scale results) UCUM (for units)",0,"*","BackboneElement",null,"* result 0..* BackboneElement ##34#A.2.8.1.5 Observation results##34# ##334#Result of the observation including numeric and coded results of the measurement, details about how the tests were done to get the result values, information about referential ranges and result interpretation. Content of the observation result will vary according to the type of the observation. - Preferred system(s): SNOMED CT GPS (for ordinal or nominal scale results) UCUM (for units)##334#"]
[7,"performer","A.2.8.1.6 Performer","Identifies the originator/author and provides provenance information about the source of the results data that may have not originated with the source of the whole PS document.",0,"*","BackboneElement",null,"* performer 0..* BackboneElement ##34#A.2.8.1.6 Performer##34# ##334#Identifies the originator/author and provides provenance information about the source of the results data that may have not originated with the source of the whole PS document.##334#"]
[8,"reporter","A.2.8.1.7 Reporter","With certain observation results, e.g. there may also be an interpreter or a person responsible for validation.",0,"*","BackboneElement",null,"* reporter 0..* BackboneElement ##34#A.2.8.1.7 Reporter##34# ##334#With certain observation results, e.g. there may also be an interpreter or a person responsible for validation.##334#"]
[null,null,null,null,null,null,null,null,"*  ..  ##34###34# ##334###334#"]
[null,null,null,null,null,null,null,null,"*  ..  ##34###34# ##334###334#"]
[null,null,null,null,null,null,null,null,"*  ..  ##34###34# ##334###334#"]
[]
[]
[]
[]
[]
[null,{"$f":"CONCATENATE(C24,\" \",D24)","v":"A.2.8.1 Result observations"},"A.2.8.1","Result observations","(A list of observation results pertaining to the subject of care's health condition and which might have impact on future treatments)",null,null,null,{"$f":"CONCATENATE(E24,\" - Preferred system(s): \",F24)","v":"(A list of observation results pertaining to the subject of care's health condition and which might have impact on future treatments) - Preferred system(s): "}]
[null,"A.2.8.1.1 Date","A.2.8.1.1","Date","Date and time of the observation","ISO 8601",null,null,"Date and time of the observation - Preferred system(s): ISO 8601"]
[null,"A.2.8.1.2 Observation type","A.2.8.1.2","Observation type","Observation results types that may be measurements, laboratory results, anatomic pathology results, radiology results or other imaging or clinical results. Examples: Diagnostic results (Blood group, Laboratory Observations, Imaging results etc.) Physical findings (Vital signs observations) ","HL7 ObservationCategoryCodes",null,null,"Observation results types that may be measurements, laboratory results, anatomic pathology results, radiology results or other imaging or clinical results. Examples: Diagnostic results (Blood group, Laboratory Observations, Imaging results etc.) Physical findings (Vital signs observations)  - Preferred system(s): HL7 ObservationCategoryCodes"]
[null,"A.2.8.1.3 Result description","A.2.8.1.3","Result description","Narrative representation of the observation result and findings.",null,null,null,"Narrative representation of the observation result and findings. - Preferred system(s): "]
[null,"A.2.8.1.4 Observation details","A.2.8.1.4","Observation details","Observation details including code that identifies observation, specification of the observed body structure or specimen, date and time of the specimen collection. LOINC","SNOMED CT GPS NPU",null,null,"Observation details including code that identifies observation, specification of the observed body structure or specimen, date and time of the specimen collection. LOINC - Preferred system(s): SNOMED CT GPS NPU"]
[null,"A.2.8.1.5 Observation results","A.2.8.1.5","Observation results","Result of the observation including numeric and coded results of the measurement, details about how the tests were done to get the result values, information about referential ranges and result interpretation. Content of the observation result will vary according to the type of the observation.","SNOMED CT GPS (for ordinal or nominal scale results) UCUM (for units)",null,null,"Result of the observation including numeric and coded results of the measurement, details about how the tests were done to get the result values, information about referential ranges and result interpretation. Content of the observation result will vary according to the type of the observation. - Preferred system(s): SNOMED CT GPS (for ordinal or nominal scale results) UCUM (for units)"]
[null,"A.2.8.1.6 Performer","A.2.8.1.6","Performer","Identifies the originator/author and provides provenance information about the source of the results data that may have not originated with the source of the whole PS document.",null,null,null,"Identifies the originator/author and provides provenance information about the source of the results data that may have not originated with the source of the whole PS document. - Preferred system(s): "]
[null,"A.2.8.1.7 Reporter","A.2.8.1.7","Reporter","With certain observation results, e.g. there may also be an interpreter or a person responsible for validation.",null,null,null,"With certain observation results, e.g. there may also be an interpreter or a person responsible for validation. - Preferred system(s): "]

{"sheet":"Results-fsh","index":34,"n_rows":18,"n_cols":7,"rows_kept":18,"cut":false,"hidden":false,"merged":[]}
[null,null,{"$f":"'A.2.8 Results'!I1","v":"// -------------------------------------------------------------------------------"}]
[null,null,{"$f":"'A.2.8 Results'!I2","v":"//  Logical Model"},null,null,null,"ps-result.fsh"]
[null,null,{"$f":"'A.2.8 Results'!I3","v":"// -------------------------------------------------------------------------------"}]
[null,null,{"$f":"'A.2.8 Results'!I4","v":"Logical: ResultPsEhn"}]
[null,null,{"$f":"'A.2.8 Results'!I5","v":"Id: Result"}]
[null,null,{"$f":"'A.2.8 Results'!I6","v":"Title: ##34#A.2.8 - Results##34#"}]
[null,null,{"$f":"'A.2.8 Results'!I7","v":"Description:  ##334#Results data elements. Section A2.8 of the eHN guideline.##334#"}]
[null,null,{"$f":"IF('A.2.8 Results'!I8=\"*  ..  ##34###34# ##334###334#\",\"//--- END\",'A.2.8 Results'!I8)","v":"* observation 0..1 BackboneElement ##34#A.2.8.1 Result observations##34# ##334#(A list of observation results pertaining to the subject of care's health condition and which might have impact on future treatments)##334#"}]
[null,null,{"$f":"IF('A.2.8 Results'!I9=\"*  ..  ##34###34# ##334###334#\",\"//--- END\",'A.2.8 Results'!I9)","v":"* date 0..* dateTime ##34#A.2.8.1.1 Date##34# ##334#Date and time of the observation - Preferred system(s): ISO 8601##334#"}]
[null,null,{"$f":"IF('A.2.8 Results'!I10=\"*  ..  ##34###34# ##334###334#\",\"//--- END\",'A.2.8 Results'!I10)","v":"* type 0..* CodeableConcept ##34#A.2.8.1.2 Observation type##34# ##334#Observation results types that may be measurements, laboratory results, anatomic pathology results, radiology results or other imaging or clinical results. Examples: Diagnostic results (Blood group, Laboratory Observations, Imaging results etc.) Physical findings (Vital signs observations)  - Preferred system(s): HL7 ObservationCategoryCodes##334#"},null," "]
[null,null,{"$f":"IF('A.2.8 Results'!I11=\"*  ..  ##34###34# ##334###334#\",\"//--- END\",'A.2.8 Results'!I11)","v":"* description 0..* Narrative ##34#A.2.8.1.3 Result description##34# ##334#Narrative representation of the observation result and findings.##334#"}]
[null,null,{"$f":"IF('A.2.8 Results'!I12=\"*  ..  ##34###34# ##334###334#\",\"//--- END\",'A.2.8 Results'!I12)","v":"* details 0..* BackboneElement ##34#A.2.8.1.4 Observation details##34# ##334#Observation details including code that identifies observation, specification of the observed body structure or specimen, date and time of the specimen collection. LOINC - Preferred system(s): SNOMED CT GPS NPU##334#"}]
[null,null,{"$f":"IF('A.2.8 Results'!I13=\"*  ..  ##34###34# ##334###334#\",\"//--- END\",'A.2.8 Results'!I13)","v":"* result 0..* BackboneElement ##34#A.2.8.1.5 Observation results##34# ##334#Result of the observation including numeric and coded results of the measurement, details about how the tests were done to get the result values, information about referential ranges and result interpretation. Content of the observation result will vary according to the type of the observation. - Preferred system(s): SNOMED CT GPS (for ordinal or nominal scale results) UCUM (for units)##334#"}]
[null,null,{"$f":"IF('A.2.8 Results'!I14=\"*  ..  ##34###34# ##334###334#\",\"//--- END\",'A.2.8 Results'!I14)","v":"* performer 0..* BackboneElement ##34#A.2.8.1.6 Performer##34# ##334#Identifies the originator/author and provides provenance information about the source of the results data that may have not originated with the source of the whole PS document.##334#"}]
[null,null,{"$f":"IF('A.2.8 Results'!I15=\"*  ..  ##34###34# ##334###334#\",\"//--- END\",'A.2.8 Results'!I15)","v":"* reporter 0..* BackboneElement ##34#A.2.8.1.7 Reporter##34# ##334#With certain observation results, e.g. there may also be an interpreter or a person responsible for validation.##334#"}]
[null,null,{"$f":"IF('A.2.8 Results'!I16=\"*  ..  ##34###34# ##334###334#\",\"//--- END\",'A.2.8 Results'!I16)","v":"//--- END"}]
[null,null,{"$f":"IF('A.2.8 Results'!I17=\"*  ..  ##34###34# ##334###334#\",\"//--- END\",'A.2.8 Results'!I17)","v":"//--- END"}]
[null,null,{"$f":"IF('A.2.8 Results'!I18=\"*  ..  ##34###34# ##334###334#\",\"//--- END\",'A.2.8 Results'!I18)","v":"//--- END"}]

{"sheet":"Results-ConceptMap-1","index":35,"n_rows":86,"n_cols":19,"rows_kept":86,"cut":false,"hidden":false,"merged":[[5,4,5,6],[6,4,6,6],[3,4,3,6]]}
[]
[]
[null,"Mapping","PatientSummaryResult2FHIR","Source URI",{"$f":"\"http://hl7.eu/fhir/ig/xpandh/ps/StructureDefinition/\"&'A.2.8 Results'!B5","v":"http://hl7.eu/fhir/ig/xpandh/ps/StructureDefinition/Result"}]
[null,"Id","result2FHIR-eu-ps","Target URI","http://hl7.eu/fhir/ig/xpandh/ps/StructureDefinition/Observation-results-xpandh"]
[null,"Title","eHN Result to this guide Map"]
[null,"Source",null,"Source Group",{"$f":"E3","v":"http://hl7.eu/fhir/ig/xpandh/ps/StructureDefinition/Result"}]
[null,"Target",null,"Target Group","http://hl7.eu/fhir/ig/xpandh/ps/StructureDefinition/Observation-results-xpandh"]
[null,"description","eHN Result Model to this guide Map",null,null,null,null,null,"* group[=].element[+].code = #Osiris.Patient.BirthDate","* group[=].element[=].display = \"Birth Date [C4]\"","* group[=].element[=].target.code = #Subject.dateOfBirth.date","* group[=].element[=].target.display = \"Date of birth\"","* group[=].element[=].target.equivalence = #equivalent",null,null,"Elements",6]
[null,"purpose","It shows how the Result data set defined by the EU eHN guidelines is mapped into this guide"]
[]
[null,null,null,null,null,null,null,null,"source:code","source:display","code","display","target to source","Comment"]
[]
[null,null,null,null,null,"target to source","Comment"]
[null,{"$f":"'A.2.8 Results'!B5","v":"Result"},null,"Observation"]
[null,{"$f":"'A.2.8 Results'!B8","v":"observation"},{"$f":"'A.2.8 Results'!C8","v":"A.2.8.1 Result observations"},null,null,"relatedto",null,null,{"$f":"\"* group[=].element[+].code = #\"&$B$14&\".\"&B15","v":"* group[=].element[+].code = #Result.observation"},{"$f":"\"* group[=].element[=].display = ##34#\"&C15&\"##34#\"","v":"* group[=].element[=].display = ##34#A.2.8.1 Result observations##34#"},{"$f":"IF(F15=\"unmatched\",\"//-- unmatched\",IF(D15=\"\",\"* group[=].element[=].target.code = #\"&$D$14,\"* group[=].element[=].target.code = #\"&$D$14&\".\"&D15))","v":"* group[=].element[=].target.code = #Observation"},{"$f":"IF(F15=\"unmatched\",\"//-- unmatched\",\"* group[=].element[=].target.display = ##34#\"&E15&\"##34#\")","v":"* group[=].element[=].target.display = ##34###34#"},{"$f":"\"* group[=].element[=].target.equivalence = #\"&F15","v":"* group[=].element[=].target.equivalence = #relatedto"},{"$f":"IF(G15<>\"\",CONCATENATE(\"* group[=].element[=].target.comment = \",\"##34#\",G15,\"##34#\"),\"\")","v":""},null,1,{"$f":"IF(MOD(P15,$Q$8)=0,P15/$Q$8-1,INT(P15/$Q$8))","v":0},{"$f":"IF(MOD(P15,$Q$8)=0,$Q$8,MOD(P15,$Q$8))","v":1},{"$f":"INDEX('Results-ConceptMap-1'!$I$15:$N$86,Q15+1,R15)","v":"* group[=].element[+].code = #Result.observation"}]
[null,{"$f":"'A.2.8 Results'!B9","v":"date"},{"$f":"'A.2.8 Results'!C9","v":"A.2.8.1.1 Date"},"effectiveDateTime",null,"relatedto","Whe it represents the date clincally relevant time (e.g. the time of specimen collection for Lab results",null,{"$f":"\"* group[=].element[+].code = #\"&$B$14&\".\"&B16","v":"* group[=].element[+].code = #Result.date"},{"$f":"\"* group[=].element[=].display = ##34#\"&C16&\"##34#\"","v":"* group[=].element[=].display = ##34#A.2.8.1.1 Date##34#"},{"$f":"IF(F16=\"unmatched\",\"//-- unmatched\",IF(D16=\"\",\"* group[=].element[=].target.code = #\"&$D$14,\"* group[=].element[=].target.code = #\"&$D$14&\".\"&D16))","v":"* group[=].element[=].target.code = #Observation.effectiveDateTime"},{"$f":"IF(F16=\"unmatched\",\"//-- unmatched\",\"* group[=].element[=].target.display = ##34#\"&E16&\"##34#\")","v":"* group[=].element[=].target.display = ##34###34#"},{"$f":"\"* group[=].element[=].target.equivalence = #\"&F16","v":"* group[=].element[=].target.equivalence = #relatedto"},{"$f":"IF(G16<>\"\",CONCATENATE(\"* group[=].element[=].target.comment = \",\"##34#\",G16,\"##34#\"),\"\")","v":"* group[=].element[=].target.comment = ##34#Whe it represents the date clincally relevant time (e.g. the time of specimen collection for Lab results##34#"},null,2,{"$f":"IF(MOD(P16,$Q$8)=0,P16/$Q$8-1,INT(P16/$Q$8))","v":0},{"$f":"IF(MOD(P16,$Q$8)=0,$Q$8,MOD(P16,$Q$8))","v":2},{"$f":"INDEX('Results-ConceptMap-1'!$I$15:$N$86,Q16+1,R16)","v":"* group[=].element[=].display = ##34#A.2.8.1 Result observations##34#"}]
[null,{"$f":"'A.2.8 Results'!B9","v":"date"},{"$f":"'A.2.8 Results'!C9","v":"A.2.8.1.1 Date"},"issued",null,"relatedto","When is the time when this result has been made available",null,{"$f":"\"* group[=].element[+].code = #\"&$B$14&\".\"&B17","v":"* group[=].element[+].code = #Result.date"},"* group[=].element[=].display = ##34#A.2.8.1.1 Date##34#",{"$f":"IF(F17=\"unmatched\",\"//-- unmatched\",IF(D17=\"\",\"* group[=].element[=].target.code = #\"&$D$14,\"* group[=].element[=].target.code = #\"&$D$14&\".\"&D17))","v":"* group[=].element[=].target.code = #Observation.issued"},"* group[=].element[=].target.display = ##34###34#","* group[=].element[=].target.equivalence = #relatedto","* group[=].element[=].target.comment = ##34#When is the time when this result has been made available##34#",null,3,0,3,{"$f":"INDEX('Results-ConceptMap-1'!$I$15:$N$86,Q17+1,R17)","v":"* group[=].element[=].target.code = #Observation"}]
[null,{"$f":"'A.2.8 Results'!B10","v":"type"},{"$f":"'A.2.8 Results'!C10","v":"A.2.8.1.2 Observation type"},"code",null,"equivalent",null,null,"* group[=].element[+].code = #Result.type",{"$f":"\"* group[=].element[=].display = ##34#\"&C18&\"##34#\"","v":"* group[=].element[=].display = ##34#A.2.8.1.2 Observation type##34#"},"* group[=].element[=].target.code = #Observation.code",{"$f":"IF(F18=\"unmatched\",\"//-- unmatched\",\"* group[=].element[=].target.display = ##34#\"&E18&\"##34#\")","v":"* group[=].element[=].target.display = ##34###34#"},{"$f":"\"* group[=].element[=].target.equivalence = #\"&F18","v":"* group[=].element[=].target.equivalence = #equivalent"},{"$f":"IF(G18<>\"\",CONCATENATE(\"* group[=].element[=].target.comment = \",\"##34#\",G18,\"##34#\"),\"\")","v":""},null,4,0,4,{"$f":"INDEX('Results-ConceptMap-1'!$I$15:$N$86,Q18+1,R18)","v":"* group[=].element[=].target.display = ##34###34#"}]
[null,{"$f":"'A.2.8 Results'!B11","v":"description"},{"$f":"'A.2.8 Results'!C11","v":"A.2.8.1.3 Result description"},"text",null,"equivalent","text describing the result",null,"* group[=].element[+].code = #Result.description","* group[=].element[=].display = ##34#A.2.8.1.3 Result description##34#","* group[=].element[=].target.code = #Observation.text","* group[=].element[=].target.display = ##34###34#","* group[=].element[=].target.equivalence = #equivalent","* group[=].element[=].target.comment = ##34#text describing the result##34#",null,5,0,5,{"$f":"INDEX('Results-ConceptMap-1'!$I$15:$N$86,Q19+1,R19)","v":"* group[=].element[=].target.equivalence = #relatedto"}]
[null,{"$f":"'A.2.8 Results'!B12","v":"details"},{"$f":"'A.2.8 Results'!C12","v":"A.2.8.1.4 Observation details"},null,null,"relatedto","details are described by a set of observation elements ",null,{"$f":"\"* group[=].element[+].code = #\"&$B$14&\".\"&B20","v":"* group[=].element[+].code = #Result.details"},{"$f":"\"* group[=].element[=].display = ##34#\"&C20&\"##34#\"","v":"* group[=].element[=].display = ##34#A.2.8.1.4 Observation details##34#"},{"$f":"IF(F20=\"unmatched\",\"//-- unmatched\",IF(D20=\"\",\"* group[=].element[=].target.code = #\"&$D$14,\"* group[=].element[=].target.code = #\"&$D$14&\".\"&D20))","v":"* group[=].element[=].target.code = #Observation"},{"$f":"IF(F20=\"unmatched\",\"//-- unmatched\",\"* group[=].element[=].target.display = ##34#\"&E20&\"##34#\")","v":"* group[=].element[=].target.display = ##34###34#"},{"$f":"\"* group[=].element[=].target.equivalence = #\"&F20","v":"* group[=].element[=].target.equivalence = #relatedto"},{"$f":"IF(G20<>\"\",CONCATENATE(\"* group[=].element[=].target.comment = \",\"##34#\",G20,\"##34#\"),\"\")","v":"* group[=].element[=].target.comment = ##34#details are described by a set of observation elements ##34#"},null,6,0,6,{"$f":"INDEX('Results-ConceptMap-1'!$I$15:$N$86,Q20+1,R20)","v":""}]
[null,{"$f":"'A.2.8 Results'!B13","v":"result"},{"$f":"'A.2.8 Results'!C13","v":"A.2.8.1.5 Observation results"},"value",null,"relatedto",null,null,"* group[=].element[+].code = #Result.result","* group[=].element[=].display = ##34#A.2.8.1.5 Observation results##34#","* group[=].element[=].target.code = #Observation.value","* group[=].element[=].target.display = ##34###34#","* group[=].element[=].target.equivalence = #relatedto","",null,7,1,1,{"$f":"INDEX('Results-ConceptMap-1'!$I$15:$N$86,Q21+1,R21)","v":"* group[=].element[+].code = #Result.date"}]
[null,{"$f":"'A.2.8 Results'!B13","v":"result"},{"$f":"'A.2.8 Results'!C13","v":"A.2.8.1.5 Observation results"},"hasMember",null,"relatedto","when the result is provided in a subordinated observation",null,{"$f":"\"* group[=].element[+].code = #\"&$B$14&\".\"&B22","v":"* group[=].element[+].code = #Result.result"},{"$f":"\"* group[=].element[=].display = ##34#\"&C22&\"##34#\"","v":"* group[=].element[=].display = ##34#A.2.8.1.5 Observation results##34#"},{"$f":"IF(F22=\"unmatched\",\"//-- unmatched\",IF(D22=\"\",\"* group[=].element[=].target.code = #\"&$D$14,\"* group[=].element[=].target.code = #\"&$D$14&\".\"&D22))","v":"* group[=].element[=].target.code = #Observation.hasMember"},{"$f":"IF(F22=\"unmatched\",\"//-- unmatched\",\"* group[=].element[=].target.display = ##34#\"&E22&\"##34#\")","v":"* group[=].element[=].target.display = ##34###34#"},{"$f":"\"* group[=].element[=].target.equivalence = #\"&F22","v":"* group[=].element[=].target.equivalence = #relatedto"},{"$f":"IF(G22<>\"\",CONCATENATE(\"* group[=].element[=].target.comment = \",\"##34#\",G22,\"##34#\"),\"\")","v":"* group[=].element[=].target.comment = ##34#when the result is provided in a subordinated observation##34#"},null,8,1,2,{"$f":"INDEX('Results-ConceptMap-1'!$I$15:$N$86,Q22+1,R22)","v":"* group[=].element[=].display = ##34#A.2.8.1.1 Date##34#"}]
[null,{"$f":"'A.2.8 Results'!B13","v":"result"},{"$f":"'A.2.8 Results'!C13","v":"A.2.8.1.5 Observation results"},"component.value",null,"relatedto","when it refers to a component result",null,"* group[=].element[+].code = #Result.result","* group[=].element[=].display = ##34#A.2.8.1.5 Observation results##34#","* group[=].element[=].target.code = #Observation.component.value","* group[=].element[=].target.display = ##34###34#","* group[=].element[=].target.equivalence = #relatedto","* group[=].element[=].target.comment = ##34#when it refers to a component result##34#",null,9,1,3,{"$f":"INDEX('Results-ConceptMap-1'!$I$15:$N$86,Q23+1,R23)","v":"* group[=].element[=].target.code = #Observation.effectiveDateTime"}]
[null,{"$f":"'A.2.8 Results'!B14","v":"performer"},{"$f":"'A.2.8 Results'!C14","v":"A.2.8.1.6 Performer"},"performer",null,"equivalent",null,null,"* group[=].element[+].code = #Result.performer","* group[=].element[=].display = ##34#A.2.8.1.6 Performer##34#","* group[=].element[=].target.code = #Observation.performer","* group[=].element[=].target.display = ##34###34#","* group[=].element[=].target.equivalence = #equivalent","",null,10,1,4,{"$f":"INDEX('Results-ConceptMap-1'!$I$15:$N$86,Q24+1,R24)","v":"* group[=].element[=].target.display = ##34###34#"}]
[null,{"$f":"'A.2.8 Results'!B15","v":"reporter"},{"$f":"'A.2.8 Results'!C15","v":"A.2.8.1.7 Reporter"},"performer",null,"relatedto","For interpreter: performer.extension:performerFunction = AUT (author)\nIf the person responsible for validation:  performer.extension:performerFunction = AUTHEN or LA",null,"* group[=].element[+].code = #Result.reporter","* group[=].element[=].display = ##34#A.2.8.1.7 Reporter##34#","* group[=].element[=].target.code = #Observation.performer","* group[=].element[=].target.display = ##34###34#","* group[=].element[=].target.equivalence = #relatedto","* group[=].element[=].target.comment = ##34#For interpreter: performer.extension:performerFunction = AUT (author)\nIf the person responsible for validation:  performer.extension:performerFunction = AUTHEN or LA##34#",null,11,1,5,{"$f":"INDEX('Results-ConceptMap-1'!$I$15:$N$86,Q25+1,R25)","v":"* group[=].element[=].target.equivalence = #relatedto"}]
[null,null,null,null,null,null,null,null,null,null,null,null,null,null,null,12,1,6,{"$f":"INDEX('Results-ConceptMap-1'!$I$15:$N$86,Q26+1,R26)","v":"* group[=].element[=].target.comment = ##34#Whe it represents the date clincally relevant time (e.g. the time of specimen collection for Lab results##34#"}]
[null,null,null,null,null,null,null,null,null,null,null,null,null,null,null,13,2,1,{"$f":"INDEX('Results-ConceptMap-1'!$I$15:$N$86,Q27+1,R27)","v":"* group[=].element[+].code = #Result.date"}]
[null,null,null,null,null,null,null,null,null,null,null,null,null,null,null,14,2,2,{"$f":"INDEX('Results-ConceptMap-1'!$I$15:$N$86,Q28+1,R28)","v":"* group[=].element[=].display = ##34#A.2.8.1.1 Date##34#"}]
[null,null,null,null,null,null,null,null,null,null,null,null,null,null,null,15,2,3,{"$f":"INDEX('Results-ConceptMap-1'!$I$15:$N$86,Q29+1,R29)","v":"* group[=].element[=].target.code = #Observation.issued"}]
[null,null,null,null,null,null,null,null,null,null,null,null,null,null,null,16,2,4,{"$f":"INDEX('Results-ConceptMap-1'!$I$15:$N$86,Q30+1,R30)","v":"* group[=].element[=].target.display = ##34###34#"}]
[null,null,null,null,null,null,null,null,null,null,null,null,null,null,null,17,{"$f":"IF(MOD(P31,$Q$8)=0,P31/$Q$8-1,INT(P31/$Q$8))","v":2},{"$f":"IF(MOD(P31,$Q$8)=0,$Q$8,MOD(P31,$Q$8))","v":5},{"$f":"INDEX('Results-ConceptMap-1'!$I$15:$N$86,Q31+1,R31)","v":"* group[=].element[=].target.equivalence = #relatedto"}]
[null,null,null,null,null,null,null,null,null,null,null,null,null,null,null,18,2,6,{"$f":"INDEX('Results-ConceptMap-1'!$I$15:$N$86,Q32+1,R32)","v":"* group[=].element[=].target.comment = ##34#When is the time when this result has been made available##34#"}]
[null,null,null,null,null,null,null,null,null,null,null,null,null,null,null,19,3,1,{"$f":"INDEX('Results-ConceptMap-1'!$I$15:$N$86,Q33+1,R33)","v":"* group[=].element[+].code = #Result.type"}]
[null,null,null,null,null,null,null,null,null,null,null,null,null,null,null,20,3,2,{"$f":"INDEX('Results-ConceptMap-1'!$I$15:$N$86,Q34+1,R34)","v":"* group[=].element[=].display = ##34#A.2.8.1.2 Observation type##34#"}]
[null,null,null,null,null,null,null,null,null,null,null,null,null,null,null,21,3,3,{"$f":"INDEX('Results-ConceptMap-1'!$I$15:$N$86,Q35+1,R35)","v":"* group[=].element[=].target.code = #Observation.code"}]
[null,null,null,null,null,null,null,null,null,null,null,null,null,{"$f":"IF(G36<>\"\",CONCATENATE(\"* group[=].element[=].target.comment = \",\"##34#\",G36,\"##34#\"),\"\")","v":""},null,22,3,4,{"$f":"INDEX('Results-ConceptMap-1'!$I$15:$N$86,Q36+1,R36)","v":"* group[=].element[=].target.display = ##34###34#"}]
[null,null,null,null,null,null,null,null,null,null,null,null,null,"",null,23,3,5,{"$f":"INDEX('Results-ConceptMap-1'!$I$15:$N$86,Q37+1,R37)","v":"* group[=].element[=].target.equivalence = #equivalent"}]
[null,null,null,null,null,null,null,null,null,null,null,null,null,"",null,24,3,6,{"$f":"INDEX('Results-ConceptMap-1'!$I$15:$N$86,Q38+1,R38)","v":""}]
[null,null,null,null,null,null,null,null,null,null,null,null,null,null,null,25,4,1,{"$f":"INDEX('Results-ConceptMap-1'!$I$15:$N$86,Q39+1,R39)","v":"* group[=].element[+].code = #Result.description"}]
[null,null,null,null,null,null,null,null,null,null,null,null,null,null,null,26,4,2,{"$f":"INDEX('Results-ConceptMap-1'!$I$15:$N$86,Q40+1,R40)","v":"* group[=].element[=].display = ##34#A.2.8.1.3 Result description##34#"}]
[null,null,null,null,null,null,null,null,null,null,null,null,null,null,null,27,4,3,{"$f":"INDEX('Results-ConceptMap-1'!$I$15:$N$86,Q41+1,R41)","v":"* group[=].element[=].target.code = #Observation.text"}]
[null,null,null,null,null,null,null,null,null,null,null,null,null,null,null,28,4,4,{"$f":"INDEX('Results-ConceptMap-1'!$I$15:$N$86,Q42+1,R42)","v":"* group[=].element[=].target.display = ##34###34#"}]
[null,null,null,null,null,null,null,null,null,null,null,null,null,null,null,29,4,5,{"$f":"INDEX('Results-ConceptMap-1'!$I$15:$N$86,Q43+1,R43)","v":"* group[=].element[=].target.equivalence = #equivalent"}]
[null,null,null,null,null,null,null,null,null,null,null,null,null,null,null,30,4,6,{"$f":"INDEX('Results-ConceptMap-1'!$I$15:$N$86,Q44+1,R44)","v":"* group[=].element[=].target.comment = ##34#text describing the result##34#"}]
[null,null,null,null,null,null,null,null,null,null,null,null,null,null,null,31,5,1,{"$f":"INDEX('Results-ConceptMap-1'!$I$15:$N$86,Q45+1,R45)","v":"* group[=].element[+].code = #Result.details"}]
[null,null,null,null,null,null,null,null,null,null,null,null,null,null,null,32,5,2,{"$f":"INDEX('Results-ConceptMap-1'!$I$15:$N$86,Q46+1,R46)","v":"* group[=].element[=].display = ##34#A.2.8.1.4 Observation details##34#"}]
[null,null,null,null,null,null,null,null,null,null,null,null,null,null,null,33,5,3,{"$f":"INDEX('Results-ConceptMap-1'!$I$15:$N$86,Q47+1,R47)","v":"* group[=].element[=].target.code = #Observation"}]
[null,null,null,null,null,null,null,null,null,null,null,null,null,null,null,34,5,4,{"$f":"INDEX('Results-ConceptMap-1'!$I$15:$N$86,Q48+1,R48)","v":"* group[=].element[=].target.display = ##34###34#"}]
[null,null,null,null,null,null,null,null,null,null,null,null,null,null,null,35,5,5,{"$f":"INDEX('Results-ConceptMap-1'!$I$15:$N$86,Q49+1,R49)","v":"* group[=].element[=].target.equivalence = #relatedto"}]
[null,null,null,null,null,null,null,null,null,null,null,null,null,null,null,36,5,6,{"$f":"INDEX('Results-ConceptMap-1'!$I$15:$N$86,Q50+1,R50)","v":"* group[=].element[=].target.comment = ##34#details are described by a set of observation elements ##34#"}]
[null,null,null,null,null,null,null,null,null,null,null,null,null,null,null,37,6,1,{"$f":"INDEX('Results-ConceptMap-1'!$I$15:$N$86,Q51+1,R51)","v":"* group[=].element[+].code = #Result.result"}]
[null,null,null,null,null,null,null,null,null,null,null,null,null,null,null,38,6,2,{"$f":"INDEX('Results-ConceptMap-1'!$I$15:$N$86,Q52+1,R52)","v":"* group[=].element[=].display = ##34#A.2.8.1.5 Observation results##34#"}]
[null,null,null,null,null,null,null,null,null,null,null,null,null,null,null,39,6,3,{"$f":"INDEX('Results-ConceptMap-1'!$I$15:$N$86,Q53+1,R53)","v":"* group[=].element[=].target.code = #Observation.value"}]
[null,null,null,null,null,null,null,null,null,null,null,null,null,null,null,40,6,4,{"$f":"INDEX('Results-ConceptMap-1'!$I$15:$N$86,Q54+1,R54)","v":"* group[=].element[=].target.display = ##34###34#"}]
[null,null,null,null,null,null,null,null,null,null,null,null,null,null,null,41,6,5,{"$f":"INDEX('Results-ConceptMap-1'!$I$15:$N$86,Q55+1,R55)","v":"* group[=].element[=].target.equivalence = #relatedto"}]
[null,null,null,null,null,null,null,null,null,null,null,null,null,null,null,42,6,6,{"$f":"INDEX('Results-ConceptMap-1'!$I$15:$N$86,Q56+1,R56)","v":""}]
[null,null,null,null,null,null,null,null,null,null,null,null,null,null,null,43,7,1,{"$f":"INDEX('Results-ConceptMap-1'!$I$15:$N$86,Q57+1,R57)","v":"* group[=].element[+].code = #Result.result"}]
[null,null,null,null,null,null,null,null,null,null,null,null,null,null,null,44,7,2,{"$f":"INDEX('Results-ConceptMap-1'!$I$15:$N$86,Q58+1,R58)","v":"* group[=].element[=].display = ##34#A.2.8.1.5 Observation results##34#"}]
[null,null,null,null,null,null,null,null,null,null,null,null,null,null,null,45,7,3,{"$f":"INDEX('Results-ConceptMap-1'!$I$15:$N$86,Q59+1,R59)","v":"* group[=].element[=].target.code = #Observation.hasMember"}]
[null,null,null,null,null,null,null,null,null,null,null,null,null,null,null,46,7,4,{"$f":"INDEX('Results-ConceptMap-1'!$I$15:$N$86,Q60+1,R60)","v":"* group[=].element[=].target.display = ##34###34#"}]
[null,null,null,null,null,null,null,null,null,null,null,null,null,null,null,47,7,5,{"$f":"INDEX('Results-ConceptMap-1'!$I$15:$N$86,Q61+1,R61)","v":"* group[=].element[=].target.equivalence = #relatedto"}]
[null,null,null,null,null,null,null,null,null,null,null,null,null,null,null,48,7,6,{"$f":"INDEX('Results-ConceptMap-1'!$I$15:$N$86,Q62+1,R62)","v":"* group[=].element[=].target.comment = ##34#when the result is provided in a subordinated observation##34#"}]
[null,null,null,null,null,null,null,null,null,null,null,null,null,null,null,49,8,1,{"$f":"INDEX('Results-ConceptMap-1'!$I$15:$N$86,Q63+1,R63)","v":"* group[=].element[+].code = #Result.result"}]
[null,null,null,null,null,null,null,null,null,null,null,null,null,null,null,50,8,2,{"$f":"INDEX('Results-ConceptMap-1'!$I$15:$N$86,Q64+1,R64)","v":"* group[=].element[=].display = ##34#A.2.8.1.5 Observation results##34#"}]
[null,null,null,null,null,null,null,null,null,null,null,null,null,null,null,51,8,3,{"$f":"INDEX('Results-ConceptMap-1'!$I$15:$N$86,Q65+1,R65)","v":"* group[=].element[=].target.code = #Observation.component.value"}]
[null,null,null,null,null,null,null,null,null,null,null,null,null,null,null,52,8,4,{"$f":"INDEX('Results-ConceptMap-1'!$I$15:$N$86,Q66+1,R66)","v":"* group[=].element[=].target.display = ##34###34#"}]
[null,null,null,null,null,null,null,null,null,null,null,null,null,null,null,53,8,5,{"$f":"INDEX('Results-ConceptMap-1'!$I$15:$N$86,Q67+1,R67)","v":"* group[=].element[=].target.equivalence = #relatedto"}]
[null,null,null,null,null,null,null,null,null,null,null,null,null,null,null,54,8,6,{"$f":"INDEX('Results-ConceptMap-1'!$I$15:$N$86,Q68+1,R68)","v":"* group[=].element[=].target.comment = ##34#when it refers to a component result##34#"}]
[null,null,null,null,null,null,null,null,null,null,null,null,null,null,null,55,9,1,{"$f":"INDEX('Results-ConceptMap-1'!$I$15:$N$86,Q69+1,R69)","v":"* group[=].element[+].code = #Result.performer"}]
[null,null,null,null,null,null,null,null,null,null,null,null,null,null,null,56,9,2,{"$f":"INDEX('Results-ConceptMap-1'!$I$15:$N$86,Q70+1,R70)","v":"* group[=].element[=].display = ##34#A.2.8.1.6 Performer##34#"}]
[null,null,null,null,null,null,null,null,null,null,null,null,null,null,null,57,9,3,{"$f":"INDEX('Results-ConceptMap-1'!$I$15:$N$86,Q71+1,R71)","v":"* group[=].element[=].target.code = #Observation.performer"}]
[null,null,null,null,null,null,null,null,null,null,null,null,null,null,null,58,9,4,{"$f":"INDEX('Results-ConceptMap-1'!$I$15:$N$86,Q72+1,R72)","v":"* group[=].element[=].target.display = ##34###34#"}]
[null,null,null,null,null,null,null,null,null,null,null,null,null,null,null,59,9,5,{"$f":"INDEX('Results-ConceptMap-1'!$I$15:$N$86,Q73+1,R73)","v":"* group[=].element[=].target.equivalence = #equivalent"}]
[null,null,null,null,null,null,null,null,null,null,null,null,null,null,null,60,9,6,{"$f":"INDEX('Results-ConceptMap-1'!$I$15:$N$86,Q74+1,R74)","v":""}]
[null,null,null,null,null,null,null,null,null,null,null,null,null,null,null,61,10,1,{"$f":"INDEX('Results-ConceptMap-1'!$I$15:$N$86,Q75+1,R75)","v":"* group[=].element[+].code = #Result.reporter"}]
[null,null,null,null,null,null,null,null,null,null,null,null,null,null,null,62,10,2,{"$f":"INDEX('Results-ConceptMap-1'!$I$15:$N$86,Q76+1,R76)","v":"* group[=].element[=].display = ##34#A.2.8.1.7 Reporter##34#"}]
[null,null,null,null,null,null,null,null,null,null,null,null,null,null,null,63,10,3,{"$f":"INDEX('Results-ConceptMap-1'!$I$15:$N$86,Q77+1,R77)","v":"* group[=].element[=].target.code = #Observation.performer"}]
[null,null,null,null,null,null,null,null,null,null,null,null,null,null,null,64,10,4,{"$f":"INDEX('Results-ConceptMap-1'!$I$15:$N$86,Q78+1,R78)","v":"* group[=].element[=].target.display = ##34###34#"}]
[null,null,null,null,null,null,null,null,null,null,null,null,null,null,null,65,10,5,{"$f":"INDEX('Results-ConceptMap-1'!$I$15:$N$86,Q79+1,R79)","v":"* group[=].element[=].target.equivalence = #relatedto"}]
[null,null,null,null,null,null,null,null,null,null,null,null,null,null,null,66,10,6,{"$f":"INDEX('Results-ConceptMap-1'!$I$15:$N$86,Q80+1,R80)","v":"* group[=].element[=].target.comment = ##34#For interpreter: performer.extension:performerFunction = AUT (author)\nIf the person responsible for validation:  performer.extension:performerFunction = AUTHEN or LA##34#"}]
[null,null,null,null,null,null,null,null,null,null,null,null,null,null,null,67,11,1,{"$f":"INDEX('Results-ConceptMap-1'!$I$15:$N$86,Q81+1,R81)","v":0}]
[null,null,null,null,null,null,null,null,null,null,null,null,null,null,null,68,11,2,{"$f":"INDEX('Results-ConceptMap-1'!$I$15:$N$86,Q82+1,R82)","v":0}]
[null,null,null,null,null,null,null,null,null,null,null,null,null,null,null,69,11,3,{"$f":"INDEX('Results-ConceptMap-1'!$I$15:$N$86,Q83+1,R83)","v":0}]
[null,null,null,null,null,null,null,null,null,null,null,null,null,null,null,70,11,4,{"$f":"INDEX('Results-ConceptMap-1'!$I$15:$N$86,Q84+1,R84)","v":0}]
[null,null,null,null,null,null,null,null,null,null,null,null,null,null,null,71,11,5,{"$f":"INDEX('Results-ConceptMap-1'!$I$15:$N$86,Q85+1,R85)","v":0}]
[null,null,null,null,null,null,null,null,null,null,null,null,null,null,null,72,11,6,{"$f":"INDEX('Results-ConceptMap-1'!$I$15:$N$86,Q86+1,R86)","v":0}]

{"sheet":"Results-CM-fsh","index":36,"n_rows":94,"n_cols":7,"rows_kept":94,"cut":false,"hidden":false,"merged":[]}
[null,"// -------------------------------------------------------------------------------"]
[null,"//  Concept Model. File: ",null,null,null,null,"result-to-fhir-map.fsh"]
[null,"// -------------------------------------------------------------------------------"]
[null,{"$f":"\"Instance: \"&'Results-ConceptMap-1'!C4","v":"Instance: result2FHIR-eu-ps"}]
[null,"InstanceOf: ConceptMap"]
[null,"Usage: #definition"]
[null,"// * url = ##34#http://terminology.hl7.it/ConceptMap/ConceptMap-subject2osiris##34#"]
[null,{"$f":"\"* name = ##34#\"&'Results-ConceptMap-1'!C3&\"##34#\"","v":"* name = ##34#PatientSummaryResult2FHIR##34#"}]
[null,{"$f":"\"* title = ##34#\"&'Results-ConceptMap-1'!C5&\"##34#\"","v":"* title = ##34#eHN Result to this guide Map##34#"}]
[null,"* status = #draft"]
[null,"* experimental = true"]
[null,{"$f":"\"* description = ##34#\"&'Results-ConceptMap-1'!C8&\"##34#\"","v":"* description = ##34#eHN Result Model to this guide Map##34#"}]
[null,{"$f":"\"* purpose = ##34#\"&'Results-ConceptMap-1'!C9&\"##34#\"","v":"* purpose = ##34#It shows how the Result data set defined by the EU eHN guidelines is mapped into this guide##34#"}]
[null,{"$f":"\"* sourceUri = ##34#\"&'Results-ConceptMap-1'!E3&\"##34#\"","v":"* sourceUri = ##34#http://hl7.eu/fhir/ig/xpandh/ps/StructureDefinition/Result##34#"}]
[null,{"$f":"\"* targetUri = ##34#\"&'Results-ConceptMap-1'!E4&\"##34#\"","v":"* targetUri = ##34#http://hl7.eu/fhir/ig/xpandh/ps/StructureDefinition/Observation-results-xpandh##34#"}]
[]
[]
[]
[null,{"$f":"\"* group[+].source = ##34#\"&'Results-ConceptMap-1'!E6&\"##34#\"","v":"* group[+].source = ##34#http://hl7.eu/fhir/ig/xpandh/ps/StructureDefinition/Result##34#"}]
[null,{"$f":"\"* group[=].target = ##34#\"&'Results-ConceptMap-1'!E7&\"##34#\"","v":"* group[=].target = ##34#http://hl7.eu/fhir/ig/xpandh/ps/StructureDefinition/Observation-results-xpandh##34#"}]
[]
[null,{"$f":"IF('Results-ConceptMap-1'!S15=0,\"//---END\",'Results-ConceptMap-1'!S15)","v":"* group[=].element[+].code = #Result.observation"}]
[null,{"$f":"IF('Results-ConceptMap-1'!S16=0,\"//---END\",'Results-ConceptMap-1'!S16)","v":"* group[=].element[=].display = ##34#A.2.8.1 Result observations##34#"}]
[null,{"$f":"IF('Results-ConceptMap-1'!S17=0,\"//---END\",'Results-ConceptMap-1'!S17)","v":"* group[=].element[=].target.code = #Observation"}]
[null,{"$f":"IF('Results-ConceptMap-1'!S18=0,\"//---END\",'Results-ConceptMap-1'!S18)","v":"* group[=].element[=].target.display = ##34###34#"}]
[null,{"$f":"IF('Results-ConceptMap-1'!S19=0,\"//---END\",'Results-ConceptMap-1'!S19)","v":"* group[=].element[=].target.equivalence = #relatedto"}]
[null,{"$f":"IF('Results-ConceptMap-1'!S20=0,\"//---END\",'Results-ConceptMap-1'!S20)","v":""}]
[null,{"$f":"IF('Results-ConceptMap-1'!S21=0,\"//---END\",'Results-ConceptMap-1'!S21)","v":"* group[=].element[+].code = #Result.date"}]
[null,{"$f":"IF('Results-ConceptMap-1'!S22=0,\"//---END\",'Results-ConceptMap-1'!S22)","v":"* group[=].element[=].display = ##34#A.2.8.1.1 Date##34#"}]
[null,{"$f":"IF('Results-ConceptMap-1'!S23=0,\"//---END\",'Results-ConceptMap-1'!S23)","v":"* group[=].element[=].target.code = #Observation.effectiveDateTime"}]
[null,{"$f":"IF('Results-ConceptMap-1'!S24=0,\"//---END\",'Results-ConceptMap-1'!S24)","v":"* group[=].element[=].target.display = ##34###34#"}]
[null,{"$f":"IF('Results-ConceptMap-1'!S25=0,\"//---END\",'Results-ConceptMap-1'!S25)","v":"* group[=].element[=].target.equivalence = #relatedto"}]
[null,{"$f":"IF('Results-ConceptMap-1'!S26=0,\"//---END\",'Results-ConceptMap-1'!S26)","v":"* group[=].element[=].target.comment = ##34#Whe it represents the date clincally relevant time (e.g. the time of specimen collection for Lab results##34#"}]
[null,{"$f":"IF('Results-ConceptMap-1'!S27=0,\"//---END\",'Results-ConceptMap-1'!S27)","v":"* group[=].element[+].code = #Result.date"}]
[null,{"$f":"IF('Results-ConceptMap-1'!S28=0,\"//---END\",'Results-ConceptMap-1'!S28)","v":"* group[=].element[=].display = ##34#A.2.8.1.1 Date##34#"}]
[null,{"$f":"IF('Results-ConceptMap-1'!S29=0,\"//---END\",'Results-ConceptMap-1'!S29)","v":"* group[=].element[=].target.code = #Observation.issued"}]
[null,{"$f":"IF('Results-ConceptMap-1'!S30=0,\"//---END\",'Results-ConceptMap-1'!S30)","v":"* group[=].element[=].target.display = ##34###34#"}]
[null,{"$f":"IF('Results-ConceptMap-1'!S31=0,\"//---END\",'Results-ConceptMap-1'!S31)","v":"* group[=].element[=].target.equivalence = #relatedto"}]
[null,{"$f":"IF('Results-ConceptMap-1'!S32=0,\"//---END\",'Results-ConceptMap-1'!S32)","v":"* group[=].element[=].target.comment = ##34#When is the time when this result has been made available##34#"}]
[null,{"$f":"IF('Results-ConceptMap-1'!S33=0,\"//---END\",'Results-ConceptMap-1'!S33)","v":"* group[=].element[+].code = #Result.type"}]
[null,{"$f":"IF('Results-ConceptMap-1'!S34=0,\"//---END\",'Results-ConceptMap-1'!S34)","v":"* group[=].element[=].display = ##34#A.2.8.1.2 Observation type##34#"}]
[null,{"$f":"IF('Results-ConceptMap-1'!S35=0,\"//---END\",'Results-ConceptMap-1'!S35)","v":"* group[=].element[=].target.code = #Observation.code"}]
[null,{"$f":"IF('Results-ConceptMap-1'!S36=0,\"//---END\",'Results-ConceptMap-1'!S36)","v":"* group[=].element[=].target.display = ##34###34#"}]
[null,{"$f":"IF('Results-ConceptMap-1'!S37=0,\"//---END\",'Results-ConceptMap-1'!S37)","v":"* group[=].element[=].target.equivalence = #equivalent"}]
[null,{"$f":"IF('Results-ConceptMap-1'!S38=0,\"//---END\",'Results-ConceptMap-1'!S38)","v":""}]
[null,{"$f":"IF('Results-ConceptMap-1'!S39=0,\"//---END\",'Results-ConceptMap-1'!S39)","v":"* group[=].element[+].code = #Result.description"}]
[null,{"$f":"IF('Results-ConceptMap-1'!S40=0,\"//---END\",'Results-ConceptMap-1'!S40)","v":"* group[=].element[=].display = ##34#A.2.8.1.3 Result description##34#"}]
[null,{"$f":"IF('Results-ConceptMap-1'!S41=0,\"//---END\",'Results-ConceptMap-1'!S41)","v":"* group[=].element[=].target.code = #Observation.text"}]
[null,{"$f":"IF('Results-ConceptMap-1'!S42=0,\"//---END\",'Results-ConceptMap-1'!S42)","v":"* group[=].element[=].target.display = ##34###34#"}]
[null,{"$f":"IF('Results-ConceptMap-1'!S43=0,\"//---END\",'Results-ConceptMap-1'!S43)","v":"* group[=].element[=].target.equivalence = #equivalent"}]
[null,{"$f":"IF('Results-ConceptMap-1'!S44=0,\"//---END\",'Results-ConceptMap-1'!S44)","v":"* group[=].element[=].target.comment = ##34#text describing the result##34#"}]
[null,{"$f":"IF('Results-ConceptMap-1'!S45=0,\"//---END\",'Results-ConceptMap-1'!S45)","v":"* group[=].element[+].code = #Result.details"}]
[null,{"$f":"IF('Results-ConceptMap-1'!S46=0,\"//---END\",'Results-ConceptMap-1'!S46)","v":"* group[=].element[=].display = ##34#A.2.8.1.4 Observation details##34#"}]
[null,{"$f":"IF('Results-ConceptMap-1'!S47=0,\"//---END\",'Results-ConceptMap-1'!S47)","v":"* group[=].element[=].target.code = #Observation"}]
[null,{"$f":"IF('Results-ConceptMap-1'!S48=0,\"//---END\",'Results-ConceptMap-1'!S48)","v":"* group[=].element[=].target.display = ##34###34#"}]
[null,{"$f":"IF('Results-ConceptMap-1'!S49=0,\"//---END\",'Results-ConceptMap-1'!S49)","v":"* group[=].element[=].target.equivalence = #relatedto"}]
[null,{"$f":"IF('Results-ConceptMap-1'!S50=0,\"//---END\",'Results-ConceptMap-1'!S50)","v":"* group[=].element[=].target.comment = ##34#details are described by a set of observation elements ##34#"}]
[null,{"$f":"IF('Results-ConceptMap-1'!S51=0,\"//---END\",'Results-ConceptMap-1'!S51)","v":"* group[=].element[+].code = #Result.result"}]
[null,{"$f":"IF('Results-ConceptMap-1'!S52=0,\"//---END\",'Results-ConceptMap-1'!S52)","v":"* group[=].element[=].display = ##34#A.2.8.1.5 Observation results##34#"}]
[null,{"$f":"IF('Results-ConceptMap-1'!S53=0,\"//---END\",'Results-ConceptMap-1'!S53)","v":"* group[=].element[=].target.code = #Observation.value"}]
[null,{"$f":"IF('Results-ConceptMap-1'!S54=0,\"//---END\",'Results-ConceptMap-1'!S54)","v":"* group[=].element[=].target.display = ##34###34#"}]
[null,{"$f":"IF('Results-ConceptMap-1'!S55=0,\"//---END\",'Results-ConceptMap-1'!S55)","v":"* group[=].element[=].target.equivalence = #relatedto"}]
[null,{"$f":"IF('Results-ConceptMap-1'!S56=0,\"//---END\",'Results-ConceptMap-1'!S56)","v":""}]
[null,{"$f":"IF('Results-ConceptMap-1'!S57=0,\"//---END\",'Results-ConceptMap-1'!S57)","v":"* group[=].element[+].code = #Result.result"}]
[null,{"$f":"IF('Results-ConceptMap-1'!S58=0,\"//---END\",'Results-ConceptMap-1'!S58)","v":"* group[=].element[=].display = ##34#A.2.8.1.5 Observation results##34#"}]
[null,{"$f":"IF('Results-ConceptMap-1'!S59=0,\"//---END\",'Results-ConceptMap-1'!S59)","v":"* group[=].element[=].target.code = #Observation.hasMember"}]
[null,{"$f":"IF('Results-ConceptMap-1'!S60=0,\"//---END\",'Results-ConceptMap-1'!S60)","v":"* group[=].element[=].target.display = ##34###34#"}]
[null,{"$f":"IF('Results-ConceptMap-1'!S61=0,\"//---END\",'Results-ConceptMap-1'!S61)","v":"* group[=].element[=].target.equivalence = #relatedto"}]
[null,{"$f":"IF('Results-ConceptMap-1'!S62=0,\"//---END\",'Results-ConceptMap-1'!S62)","v":"* group[=].element[=].target.comment = ##34#when the result is provided in a subordinated observation##34#"}]
[null,{"$f":"IF('Results-ConceptMap-1'!S63=0,\"//---END\",'Results-ConceptMap-1'!S63)","v":"* group[=].element[+].code = #Result.result"}]
[null,{"$f":"IF('Results-ConceptMap-1'!S64=0,\"//---END\",'Results-ConceptMap-1'!S64)","v":"* group[=].element[=].display = ##34#A.2.8.1.5 Observation results##34#"}]
[null,{"$f":"IF('Results-ConceptMap-1'!S65=0,\"//---END\",'Results-ConceptMap-1'!S65)","v":"* group[=].element[=].target.code = #Observation.component.value"}]
[null,{"$f":"IF('Results-ConceptMap-1'!S66=0,\"//---END\",'Results-ConceptMap-1'!S66)","v":"* group[=].element[=].target.display = ##34###34#"}]
[null,{"$f":"IF('Results-ConceptMap-1'!S67=0,\"//---END\",'Results-ConceptMap-1'!S67)","v":"* group[=].element[=].target.equivalence = #relatedto"}]
[null,{"$f":"IF('Results-ConceptMap-1'!S68=0,\"//---END\",'Results-ConceptMap-1'!S68)","v":"* group[=].element[=].target.comment = ##34#when it refers to a component result##34#"}]
[null,{"$f":"IF('Results-ConceptMap-1'!S69=0,\"//---END\",'Results-ConceptMap-1'!S69)","v":"* group[=].element[+].code = #Result.performer"}]
[null,{"$f":"IF('Results-ConceptMap-1'!S70=0,\"//---END\",'Results-ConceptMap-1'!S70)","v":"* group[=].element[=].display = ##34#A.2.8.1.6 Performer##34#"}]
[null,{"$f":"IF('Results-ConceptMap-1'!S71=0,\"//---END\",'Results-ConceptMap-1'!S71)","v":"* group[=].element[=].target.code = #Observation.performer"}]
[null,{"$f":"IF('Results-ConceptMap-1'!S72=0,\"//---END\",'Results-ConceptMap-1'!S72)","v":"* group[=].element[=].target.display = ##34###34#"}]
[null,{"$f":"IF('Results-ConceptMap-1'!S73=0,\"//---END\",'Results-ConceptMap-1'!S73)","v":"* group[=].element[=].target.equivalence = #equivalent"}]
[null,{"$f":"IF('Results-ConceptMap-1'!S74=0,\"//---END\",'Results-ConceptMap-1'!S74)","v":""}]
[null,{"$f":"IF('Results-ConceptMap-1'!S75=0,\"//---END\",'Results-ConceptMap-1'!S75)","v":"* group[=].element[+].code = #Result.reporter"}]
[null,{"$f":"IF('Results-ConceptMap-1'!S76=0,\"//---END\",'Results-ConceptMap-1'!S76)","v":"* group[=].element[=].display = ##34#A.2.8.1.7 Reporter##34#"}]
[null,{"$f":"IF('Results-ConceptMap-1'!S77=0,\"//---END\",'Results-ConceptMap-1'!S77)","v":"* group[=].element[=].target.code = #Observation.performer"}]
[null,{"$f":"IF('Results-ConceptMap-1'!S78=0,\"//---END\",'Results-ConceptMap-1'!S78)","v":"* group[=].element[=].target.display = ##34###34#"}]
[null,{"$f":"IF('Results-ConceptMap-1'!S79=0,\"//---END\",'Results-ConceptMap-1'!S79)","v":"* group[=].element[=].target.equivalence = #relatedto"}]
[null,{"$f":"IF('Results-ConceptMap-1'!S80=0,\"//---END\",'Results-ConceptMap-1'!S80)","v":"* group[=].element[=].target.comment = ##34#For interpreter: performer.extension:performerFunction = AUT (author)\nIf the person responsible for validation:  performer.extension:performerFunction = AUTHEN or LA##34#"}]
[null,{"$f":"IF('Results-ConceptMap-1'!S81=0,\"//---END\",'Results-ConceptMap-1'!S81)","v":"//---END"}]
[null,{"$f":"IF('Results-ConceptMap-1'!S82=0,\"//---END\",'Results-ConceptMap-1'!S82)","v":"//---END"}]
[null,{"$f":"IF('Results-ConceptMap-1'!S83=0,\"//---END\",'Results-ConceptMap-1'!S83)","v":"//---END"}]
[null,{"$f":"IF('Results-ConceptMap-1'!S84=0,\"//---END\",'Results-ConceptMap-1'!S84)","v":"//---END"}]
[null,{"$f":"IF('Results-ConceptMap-1'!S85=0,\"//---END\",'Results-ConceptMap-1'!S85)","v":"//---END"}]
[null,{"$f":"IF('Results-ConceptMap-1'!S86=0,\"//---END\",'Results-ConceptMap-1'!S86)","v":"//---END"}]
[null,{"$f":"IF('Results-ConceptMap-1'!S87=0,\"//---END\",'Results-ConceptMap-1'!S87)","v":"//---END"}]

{"sheet":"A.2.4.1  Medicine","index":37,"n_rows":48,"n_cols":9,"rows_kept":48,"cut":false,"hidden":false,"merged":[[37,2,37,5]]}
[null,null,null,null,null,null,null,null,"// -------------------------------------------------------------------------------"]
[null,null,null,null,null,null,null,null,"//  Logical Model"]
[null,null,null,null,null,null,null,null,{"$f":"I1","v":"// -------------------------------------------------------------------------------"}]
["Name","MedicinePsEhn",null,null,null,null,null,null,{"$f":"CONCATENATE(\"Logical: \",B4)","v":"Logical: MedicinePsEhn"}]
["Id","Medicine",null,null,null,null,null,null,{"$f":"CONCATENATE(\"Id: \",B5)","v":"Id: Medicine"}]
["Title","A.2.4.1 Current and relevant past medicines",null,null,null,null,null,null,{"$f":"CONCATENATE(\"Title: ##34#\",B6,\"##34#\")","v":"Title: ##34#A.2.4.1 Current and relevant past medicines##34#"}]
["Description","Relevant prescribed medicines whose period of time indicated for the treatment has not yet expired whether it has been dispensed or not, or medicines that influence current health status or are relevant to a clinical decision.\nSection A2.4.1 of the eHN guideline.",null,null,null,"max","dataType",null,{"$f":"CONCATENATE(\"Description: \",\" ##334#\",B7,\"##334#\",)","v":"Description:  ##334#Relevant prescribed medicines whose period of time indicated for the treatment has not yet expired whether it has been dispensed or not, or medicines that influence current health status or are relevant to a clinical decision.\nSection A2.4.1 of the eHN guideline.##334#"}]
[1,"reason","A.2.4.1.1 Medication reason","The reason why the medication is or was prescribed, or used This is the reason why the medication is being prescribed or used. It provides a link to the Past or current health conditions or problems that the patient has had or has. - Preferred system(s): ICD-10* SNOMED CT GPS Orphacode if rare disease is diagnosed",0,"*","CodeableConcept",null,{"$f":"CONCATENATE(\"* \",B8, \" \",E8,\"..\",F8,\" \",G8,\" ##34#\",C8,\"##34# ##334#\",D8,\"##334#\")","v":"* reason 0..* CodeableConcept ##34#A.2.4.1.1 Medication reason##34# ##334#The reason why the medication is or was prescribed, or used This is the reason why the medication is being prescribed or used. It provides a link to the Past or current health conditions or problems that the patient has had or has. - Preferred system(s): ICD-10* SNOMED CT GPS Orphacode if rare disease is diagnosed##334#"}]
[2,"intendedUse","A.2.4.1.2 Intended use","Indication intended use as: prevention or treatment Example: prophylaxis, treatment, diagnostic, anaesthesia, care of equipment",0,"*","CodeableConcept",null,{"$f":"CONCATENATE(\"* \",B9, \" \",E9,\"..\",F9,\" \",G9,\" ##34#\",C9,\"##34# ##334#\",D9,\"##334#\")","v":"* intendedUse 0..* CodeableConcept ##34#A.2.4.1.2 Intended use##34# ##334#Indication intended use as: prevention or treatment Example: prophylaxis, treatment, diagnostic, anaesthesia, care of equipment##334#"}]
[3,"productName","A.2.4.1.3 Brand name","Brand name if biological medicinal product or when justified by the health professional (ref. Commission Directive 2012/52/EU)",1,"*","string",null,"* productName 1..* string ##34#A.2.4.1.3 Brand name##34# ##334#Brand name if biological medicinal product or when justified by the health professional (ref. Commission Directive 2012/52/EU)##334#"]
[null,"activeIngredient","A.2.4.1.4 Active ingredient lists","Substance that alone or in combination with one or more other ingredients produces the intended activity of a medicinal product. Example: \"paracetamol\" ATC* (IDMP identifier, when available)",2,"*","BackboneElement",null,"* activeIngredient 2..* BackboneElement ##34#A.2.4.1.4 Active ingredient lists##34# ##334#Substance that alone or in combination with one or more other ingredients produces the intended activity of a medicinal product. Example: \"paracetamol\" ATC* (IDMP identifier, when available)##334#"]
[null,"strength","A.2.4.1.5 Strength","The content of the active ingredient expressed quantifiably per dosage unit, per unit of volume or per unit of weight, according to the pharmaceutical dose form. Example: 500 mg per tablet UCUM, - Preferred system(s): EDQM Standard Terms",3,"*","Ratio",null,"* strength 3..* Ratio ##34#A.2.4.1.5 Strength##34# ##334#The content of the active ingredient expressed quantifiably per dosage unit, per unit of volume or per unit of weight, according to the pharmaceutical dose form. Example: 500 mg per tablet UCUM, - Preferred system(s): EDQM Standard Terms##334#"]
[null,"doseForm","A.2.4.1.6 Pharmaceutical dose form","The form in which a pharmaceutical product is presented in the medicinal product package (e.g. tablet, syrup) - Preferred system(s): EDQM Standard Terms",4,"*","CodeableConcept",null,"* doseForm 4..* CodeableConcept ##34#A.2.4.1.6 Pharmaceutical dose form##34# ##334#The form in which a pharmaceutical product is presented in the medicinal product package (e.g. tablet, syrup) - Preferred system(s): EDQM Standard Terms##334#"]
[null,"dosageRegimen","A.2.4.1.7 Dosage Regimen","Number of units per intake and frequency of intake over a specified duration of time. Example: 1 tablet every 24h, for .1z",5,"*","BackboneElement",null,"* dosageRegimen 5..* BackboneElement ##34#A.2.4.1.7 Dosage Regimen##34# ##334#Number of units per intake and frequency of intake over a specified duration of time. Example: 1 tablet every 24h, for .1z##334#"]
[null,"route","A.2.4.1.8 Route of administration","Path by which the pharmaceutical product is taken into or makes contact with the body.  - Preferred system(s): EDQM Standard Terms",6,"*","CodeableConcept",null,"* route 6..* CodeableConcept ##34#A.2.4.1.8 Route of administration##34# ##334#Path by which the pharmaceutical product is taken into or makes contact with the body.  - Preferred system(s): EDQM Standard Terms##334#"]
[null,"onsetDate","A.2.4.1.9 Date of onset of treatment","Date when patient needs to start taking the medicine prescribed - Preferred system(s): ISO 8601",7,"*","dateTime",null,"* onsetDate 7..* dateTime ##34#A.2.4.1.9 Date of onset of treatment##34# ##334#Date when patient needs to start taking the medicine prescribed - Preferred system(s): ISO 8601##334#"]
[null,null,null,null,null,null,null,null,{"$f":"CONCATENATE(\"* \",B17, \" \",E17,\"..\",F17,\" \",G17,\" ##34#\",C17,\"##34# ##334#\",D17,\"##334#\")","v":"*  ..  ##34###34# ##334###334#"}]
[null,null,null,null,null,null,null,null,"*  ..  ##34###34# ##334###334#"]
[null,null,null,null,null,null,null,null,"*  ..  ##34###34# ##334###334#"]
[null,null,null,null,null,null,null,null,"*  ..  ##34###34# ##334###334#"]
[]
[]
[]
[]
[]
[]
[8]
[9]
[]
[]
[]
[]
[null,{"$f":"CONCATENATE(C33,\" \",D33)","v":" "}]
[]
[]
[]
[]
[null,null,"A.1.7 Result Medication"]
[null,{"$f":"CONCATENATE(C39,\" \",D39)","v":"A.2.4.1 Current and relevant past medicines"},"A.2.4.1","Current and relevant past medicines","(Relevant prescribed medicines whose period of time indicated for the treatment has not yet expired whether it has been dispensed or not, or medicines that influence current health status or are relevant to a clinical decision)",null,null,null,{"$f":"CONCATENATE(E39,\" - Preferred system(s): \",F39)","v":"(Relevant prescribed medicines whose period of time indicated for the treatment has not yet expired whether it has been dispensed or not, or medicines that influence current health status or are relevant to a clinical decision) - Preferred system(s): "}]
[null,"A.2.4.1.1 Medication reason","A.2.4.1.1","Medication reason","The reason why the medication is or was prescribed, or used This is the reason why the medication is being prescribed or used. It provides a link to the Past or current health conditions or problems that the patient has had or has.","ICD-10* SNOMED CT GPS Orphacode if rare disease is diagnosed",null,null,"The reason why the medication is or was prescribed, or used This is the reason why the medication is being prescribed or used. It provides a link to the Past or current health conditions or problems that the patient has had or has. - Preferred system(s): ICD-10* SNOMED CT GPS Orphacode if rare disease is diagnosed"]
[null,"A.2.4.1.2 Intended use","A.2.4.1.2","Intended use","Indication intended use as: prevention or treatment Example: prophylaxis, treatment, diagnostic, anaesthesia, care of equipment",null,null,null,"Indication intended use as: prevention or treatment Example: prophylaxis, treatment, diagnostic, anaesthesia, care of equipment - Preferred system(s): "]
[null,"A.2.4.1.3 Brand name","A.2.4.1.3","Brand name","Brand name if biological medicinal product or when justified by the health professional (ref. Commission Directive 2012/52/EU)",null,null,null,"Brand name if biological medicinal product or when justified by the health professional (ref. Commission Directive 2012/52/EU) - Preferred system(s): "]
[null,"A.2.4.1.4 Active ingredient lists","A.2.4.1.4","Active ingredient lists","Substance that alone or in combination with one or more other ingredients produces the intended activity of a medicinal product. Example: \"paracetamol\" ATC* (IDMP identifier, when available)",null,null,null,"Substance that alone or in combination with one or more other ingredients produces the intended activity of a medicinal product. Example: \"paracetamol\" ATC* (IDMP identifier, when available) - Preferred system(s): "]
[null,"A.2.4.1.5 Strength","A.2.4.1.5","Strength","The content of the active ingredient expressed quantifiably per dosage unit, per unit of volume or per unit of weight, according to the pharmaceutical dose form. Example: 500 mg per tablet UCUM, EDQM Standard Terms",null,null,null,"The content of the active ingredient expressed quantifiably per dosage unit, per unit of volume or per unit of weight, according to the pharmaceutical dose form. Example: 500 mg per tablet UCUM, EDQM Standard Terms - Preferred system(s): "]
[null,"A.2.4.1.6 Pharmaceutical dose form","A.2.4.1.6","Pharmaceutical dose form","The form in which a pharmaceutical product is presented in the medicinal product package (e.g. tablet, syrup) EDQM Standard Terms",null,null,null,"The form in which a pharmaceutical product is presented in the medicinal product package (e.g. tablet, syrup) EDQM Standard Terms - Preferred system(s): "]
[null,"A.2.4.1.7 Dosage Regimen","A.2.4.1.7","Dosage Regimen","Number of units per intake and frequency of intake over a specified duration of time. Example: 1 tablet every 24h, for .1z","days",null,null,"Number of units per intake and frequency of intake over a specified duration of time. Example: 1 tablet every 24h, for .1z - Preferred system(s): days"]
[null,"A.2.4.1.8 Route of administration","A.2.4.1.8","Route of administration","Path by which the pharmaceutical product is taken into or makes contact with the body. ","EDQM Standard Terms",null,null,"Path by which the pharmaceutical product is taken into or makes contact with the body.  - Preferred system(s): EDQM Standard Terms"]
[null,"A.2.4.1.9 Date of onset of treatment","A.2.4.1.9","Date of onset of treatment","Date when patient needs to start taking the medicine prescribed","ISO 8601",null,null,"Date when patient needs to start taking the medicine prescribed - Preferred system(s): ISO 8601"]

{"sheet":"Medicine-fsh","index":38,"n_rows":20,"n_cols":7,"rows_kept":20,"cut":false,"hidden":false,"merged":[]}
[null,null,{"$f":"'A.2.4.1  Medicine'!I1","v":"// -------------------------------------------------------------------------------"}]
[null,null,{"$f":"'A.2.4.1  Medicine'!I2","v":"//  Logical Model"},null,null,null,"ps-medicine.fsh"]
[null,null,{"$f":"'A.2.4.1  Medicine'!I3","v":"// -------------------------------------------------------------------------------"}]
[null,null,{"$f":"'A.2.4.1  Medicine'!I4","v":"Logical: MedicinePsEhn"}]
[null,null,{"$f":"'A.2.4.1  Medicine'!I5","v":"Id: Medicine"}]
[null,null,{"$f":"'A.2.4.1  Medicine'!I6","v":"Title: ##34#A.2.4.1 Current and relevant past medicines##34#"}]
[null,null,{"$f":"'A.2.4.1  Medicine'!I7","v":"Description:  ##334#Relevant prescribed medicines whose period of time indicated for the treatment has not yet expired whether it has been dispensed or not, or medicines that influence current health status or are relevant to a clinical decision.\nSection A2.4.1 of the eHN guideline.##334#"}]
[null,null,{"$f":"IF('A.2.4.1  Medicine'!I8=\"*  ..  ##34###34# ##334###334#\",\"//--- END\",'A.2.4.1  Medicine'!I8)","v":"* reason 0..* CodeableConcept ##34#A.2.4.1.1 Medication reason##34# ##334#The reason why the medication is or was prescribed, or used This is the reason why the medication is being prescribed or used. It provides a link to the Past or current health conditions or problems that the patient has had or has. - Preferred system(s): ICD-10* SNOMED CT GPS Orphacode if rare disease is diagnosed##334#"}]
[null,null,{"$f":"IF('A.2.4.1  Medicine'!I9=\"*  ..  ##34###34# ##334###334#\",\"//--- END\",'A.2.4.1  Medicine'!I9)","v":"* intendedUse 0..* CodeableConcept ##34#A.2.4.1.2 Intended use##34# ##334#Indication intended use as: prevention or treatment Example: prophylaxis, treatment, diagnostic, anaesthesia, care of equipment##334#"}]
[null,null,{"$f":"IF('A.2.4.1  Medicine'!I10=\"*  ..  ##34###34# ##334###334#\",\"//--- END\",'A.2.4.1  Medicine'!I10)","v":"* productName 1..* string ##34#A.2.4.1.3 Brand name##34# ##334#Brand name if biological medicinal product or when justified by the health professional (ref. Commission Directive 2012/52/EU)##334#"},null," "]
[null,null,{"$f":"IF('A.2.4.1  Medicine'!I11=\"*  ..  ##34###34# ##334###334#\",\"//--- END\",'A.2.4.1  Medicine'!I11)","v":"* activeIngredient 2..* BackboneElement ##34#A.2.4.1.4 Active ingredient lists##34# ##334#Substance that alone or in combination with one or more other ingredients produces the intended activity of a medicinal product. Example: \"paracetamol\" ATC* (IDMP identifier, when available)##334#"}]
[null,null,{"$f":"IF('A.2.4.1  Medicine'!I12=\"*  ..  ##34###34# ##334###334#\",\"//--- END\",'A.2.4.1  Medicine'!I12)","v":"* strength 3..* Ratio ##34#A.2.4.1.5 Strength##34# ##334#The content of the active ingredient expressed quantifiably per dosage unit, per unit of volume or per unit of weight, according to the pharmaceutical dose form. Example: 500 mg per tablet UCUM, - Preferred system(s): EDQM Standard Terms##334#"}]
[null,null,{"$f":"IF('A.2.4.1  Medicine'!I13=\"*  ..  ##34###34# ##334###334#\",\"//--- END\",'A.2.4.1  Medicine'!I13)","v":"* doseForm 4..* CodeableConcept ##34#A.2.4.1.6 Pharmaceutical dose form##34# ##334#The form in which a pharmaceutical product is presented in the medicinal product package (e.g. tablet, syrup) - Preferred system(s): EDQM Standard Terms##334#"}]
[null,null,{"$f":"IF('A.2.4.1  Medicine'!I14=\"*  ..  ##34###34# ##334###334#\",\"//--- END\",'A.2.4.1  Medicine'!I14)","v":"* dosageRegimen 5..* BackboneElement ##34#A.2.4.1.7 Dosage Regimen##34# ##334#Number of units per intake and frequency of intake over a specified duration of time. Example: 1 tablet every 24h, for .1z##334#"}]
[null,null,{"$f":"IF('A.2.4.1  Medicine'!I15=\"*  ..  ##34###34# ##334###334#\",\"//--- END\",'A.2.4.1  Medicine'!I15)","v":"* route 6..* CodeableConcept ##34#A.2.4.1.8 Route of administration##34# ##334#Path by which the pharmaceutical product is taken into or makes contact with the body.  - Preferred system(s): EDQM Standard Terms##334#"}]
[null,null,{"$f":"IF('A.2.4.1  Medicine'!I16=\"*  ..  ##34###34# ##334###334#\",\"//--- END\",'A.2.4.1  Medicine'!I16)","v":"* onsetDate 7..* dateTime ##34#A.2.4.1.9 Date of onset of treatment##34# ##334#Date when patient needs to start taking the medicine prescribed - Preferred system(s): ISO 8601##334#"}]
[null,null,{"$f":"IF('A.2.4.1  Medicine'!I17=\"*  ..  ##34###34# ##334###334#\",\"//--- END\",'A.2.4.1  Medicine'!I17)","v":"//--- END"}]
[null,null,{"$f":"IF('A.2.4.1  Medicine'!I18=\"*  ..  ##34###34# ##334###334#\",\"//--- END\",'A.2.4.1  Medicine'!I18)","v":"//--- END"}]
[null,null,{"$f":"IF('A.2.4.1  Medicine'!I19=\"*  ..  ##34###34# ##334###334#\",\"//--- END\",'A.2.4.1  Medicine'!I19)","v":"//--- END"}]
[null,null,{"$f":"IF('A.2.4.1  Medicine'!I20=\"*  ..  ##34###34# ##334###334#\",\"//--- END\",'A.2.4.1  Medicine'!I20)","v":"//--- END"}]

{"sheet":"Medicine-ConceptMap-1","index":39,"n_rows":82,"n_cols":19,"rows_kept":82,"cut":false,"hidden":false,"merged":[[2,4,2,6],[3,4,3,6],[5,4,5,6],[6,4,6,6]]}
[]
[]
[null,"Mapping","Medicine2Fhir","Source URI",{"$f":"\"http://hl7.eu/fhir/ig/xpandh/ps/StructureDefinition/\"&'A.2.4.1  Medicine'!B5","v":"http://hl7.eu/fhir/ig/xpandh/ps/StructureDefinition/Medicine"}]
[null,"Id","medicine2FHIR-eu-ps","Target URI","http://hl7.eu/fhir/ig/xpandh/ps/StructureDefinition/MedicationStatement-ps-xpandh"]
[null,"Title","eHN Medicine to this guide Map"]
[null,"Source",null,"Source Group",{"$f":"E3","v":"http://hl7.eu/fhir/ig/xpandh/ps/StructureDefinition/Medicine"}]
[null,"Target",null,"Target Group",{"$f":"E4","v":"http://hl7.eu/fhir/ig/xpandh/ps/StructureDefinition/MedicationStatement-ps-xpandh"}]
[null,"description","eHN Medicine Model to this guide Map",null,null,null,null,null,"* group[=].element[+].code = #Osiris.Patient.BirthDate","* group[=].element[=].display = \"Birth Date [C4]\"","* group[=].element[=].target.code = #Subject.dateOfBirth.date","* group[=].element[=].target.display = \"Date of birth\"","* group[=].element[=].target.equivalence = #equivalent",null,null,"Elements",6]
[null,"purpose","It shows how the Medicine  data set defined by the EU eHN guidelines is mapped into this guide"]
[]
[null,null,null,null,null,null,null,null,"source:code","source:display","code","display","target to source","Comment"]
[]
[null,null,null,null,null,"target to source","Comment"]
[null,{"$f":"'A.2.4.1  Medicine'!B5","v":"Medicine"},null,"MedicationStatement"]
[null,{"$f":"'A.2.4.1  Medicine'!B8","v":"reason"},{"$f":"'A.2.4.1  Medicine'!C8","v":"A.2.4.1.1 Medication reason"},"reasonCode",null,"equivalent","if only a code is provided",null,{"$f":"\"* group[=].element[+].code = #\"&$B$14&\".\"&B15","v":"* group[=].element[+].code = #Medicine.reason"},{"$f":"\"* group[=].element[=].display = ##34#\"&C15&\"##34#\"","v":"* group[=].element[=].display = ##34#A.2.4.1.1 Medication reason##34#"},{"$f":"IF(F15=\"unmatched\",\"//-- unmatched\",\"* group[=].element[=].target.code = #\"&$D$14&\".\"&D15)","v":"* group[=].element[=].target.code = #MedicationStatement.reasonCode"},{"$f":"IF(F15=\"unmatched\",\"//-- unmatched\",\"* group[=].element[=].target.display = ##34#\"&E15&\"##34#\")","v":"* group[=].element[=].target.display = ##34###34#"},{"$f":"\"* group[=].element[=].target.equivalence = #\"&F15","v":"* group[=].element[=].target.equivalence = #equivalent"},{"$f":"IF(G15<>\"\",CONCATENATE(\"* group[=].element[=].target.comment = \",\"##34#\",G15,\"##34#\"),\"\")","v":"* group[=].element[=].target.comment = ##34#if only a code is provided##34#"},null,1,{"$f":"IF(MOD(P15,$Q$8)=0,P15/$Q$8-1,INT(P15/$Q$8))","v":0},{"$f":"IF(MOD(P15,$Q$8)=0,$Q$8,MOD(P15,$Q$8))","v":1},{"$f":"INDEX('Medicine-ConceptMap-1'!$I$15:$N$99,Q15+1,R15)","v":"* group[=].element[+].code = #Medicine.reason"}]
[null,{"$f":"'A.2.4.1  Medicine'!B8","v":"reason"},{"$f":"'A.2.4.1  Medicine'!C8","v":"A.2.4.1.1 Medication reason"},"reasonReference",null,"equivalent","if provided as a reference to a Condition",null,{"$f":"\"* group[=].element[+].code = #\"&$B$14&\".\"&B16","v":"* group[=].element[+].code = #Medicine.reason"},{"$f":"\"* group[=].element[=].display = ##34#\"&C16&\"##34#\"","v":"* group[=].element[=].display = ##34#A.2.4.1.1 Medication reason##34#"},{"$f":"IF(F16=\"unmatched\",\"//-- unmatched\",\"* group[=].element[=].target.code = #\"&$D$14&\".\"&D16)","v":"* group[=].element[=].target.code = #MedicationStatement.reasonReference"},{"$f":"IF(F16=\"unmatched\",\"//-- unmatched\",\"* group[=].element[=].target.display = ##34#\"&E16&\"##34#\")","v":"* group[=].element[=].target.display = ##34###34#"},{"$f":"\"* group[=].element[=].target.equivalence = #\"&F16","v":"* group[=].element[=].target.equivalence = #equivalent"},{"$f":"IF(G16<>\"\",CONCATENATE(\"* group[=].element[=].target.comment = \",\"##34#\",G16,\"##34#\"),\"\")","v":"* group[=].element[=].target.comment = ##34#if provided as a reference to a Condition##34#"},null,2,{"$f":"IF(MOD(P16,$Q$8)=0,P16/$Q$8-1,INT(P16/$Q$8))","v":0},{"$f":"IF(MOD(P16,$Q$8)=0,$Q$8,MOD(P16,$Q$8))","v":2},{"$f":"INDEX('Medicine-ConceptMap-1'!$I$15:$N$99,Q16+1,R16)","v":"* group[=].element[=].display = ##34#A.2.4.1.1 Medication reason##34#"}]
[null,{"$f":"'A.2.4.1  Medicine'!B9","v":"intendedUse"},{"$f":"'A.2.4.1  Medicine'!C9","v":"A.2.4.1.2 Intended use"},"category",null,"relatedto","this map adopts  the definition given in R5",null,"* group[=].element[+].code = #Medicine.intendedUse","* group[=].element[=].display = ##34#A.2.4.1.2 Intended use##34#","* group[=].element[=].target.code = #MedicationStatement.category","* group[=].element[=].target.display = ##34###34#","* group[=].element[=].target.equivalence = #relatedto","* group[=].element[=].target.comment = ##34#this map adopts  the definition given in R5##34#",null,3,0,3,{"$f":"INDEX('Medicine-ConceptMap-1'!$I$15:$N$99,Q17+1,R17)","v":"* group[=].element[=].target.code = #MedicationStatement.reasonCode"}]
[null,{"$f":"'A.2.4.1  Medicine'!B10","v":"productName"},{"$f":"'A.2.4.1  Medicine'!C10","v":"A.2.4.1.3 Brand name"},"medication[x]",null,"equivalent","see group 2",null,"* group[=].element[+].code = #Medicine.productName","* group[=].element[=].display = ##34#A.2.4.1.3 Brand name##34#","* group[=].element[=].target.code = #MedicationStatement.medication[x]","* group[=].element[=].target.display = ##34###34#","* group[=].element[=].target.equivalence = #equivalent","* group[=].element[=].target.comment = ##34#see group 2##34#",null,4,0,4,{"$f":"INDEX('Medicine-ConceptMap-1'!$I$15:$N$99,Q18+1,R18)","v":"* group[=].element[=].target.display = ##34###34#"}]
[null,{"$f":"'A.2.4.1  Medicine'!B11","v":"activeIngredient"},{"$f":"'A.2.4.1  Medicine'!C11","v":"A.2.4.1.4 Active ingredient lists"},"medication[x]",null,"equivalent","see group 2",null,"* group[=].element[+].code = #Medicine.activeIngredient","* group[=].element[=].display = ##34#A.2.4.1.4 Active ingredient lists##34#","* group[=].element[=].target.code = #MedicationStatement.medication[x]","* group[=].element[=].target.display = ##34###34#","* group[=].element[=].target.equivalence = #equivalent","* group[=].element[=].target.comment = ##34#see group 2##34#",null,5,0,{"$f":"IF(MOD(P19,$Q$8)=0,$Q$8,MOD(P19,$Q$8))","v":5},{"$f":"INDEX('Medicine-ConceptMap-1'!$I$15:$N$99,Q19+1,R19)","v":"* group[=].element[=].target.equivalence = #equivalent"}]
[null,{"$f":"'A.2.4.1  Medicine'!B12","v":"strength"},{"$f":"'A.2.4.1  Medicine'!C12","v":"A.2.4.1.5 Strength"},"medication[x]",null,"equivalent","see group 2",null,"* group[=].element[+].code = #Medicine.strength","* group[=].element[=].display = ##34#A.2.4.1.5 Strength##34#","* group[=].element[=].target.code = #MedicationStatement.medication[x]","* group[=].element[=].target.display = ##34###34#","* group[=].element[=].target.equivalence = #equivalent","* group[=].element[=].target.comment = ##34#see group 2##34#",null,6,0,6,{"$f":"INDEX('Medicine-ConceptMap-1'!$I$15:$N$99,Q20+1,R20)","v":"* group[=].element[=].target.comment = ##34#if only a code is provided##34#"}]
[null,{"$f":"'A.2.4.1  Medicine'!B13","v":"doseForm"},{"$f":"'A.2.4.1  Medicine'!C13","v":"A.2.4.1.6 Pharmaceutical dose form"},"medication[x]",null,"equivalent","see group 2",null,"* group[=].element[+].code = #Medicine.doseForm","* group[=].element[=].display = ##34#A.2.4.1.6 Pharmaceutical dose form##34#","* group[=].element[=].target.code = #MedicationStatement.medication[x]","* group[=].element[=].target.display = ##34###34#","* group[=].element[=].target.equivalence = #equivalent","* group[=].element[=].target.comment = ##34#see group 2##34#",null,7,1,1,{"$f":"INDEX('Medicine-ConceptMap-1'!$I$15:$N$99,Q21+1,R21)","v":"* group[=].element[+].code = #Medicine.reason"}]
[null,{"$f":"'A.2.4.1  Medicine'!B14","v":"dosageRegimen"},{"$f":"'A.2.4.1  Medicine'!C14","v":"A.2.4.1.7 Dosage Regimen"},"dosage",null,"relatedto",null,null,"* group[=].element[+].code = #Medicine.dosageRegimen","* group[=].element[=].display = ##34#A.2.4.1.7 Dosage Regimen##34#","* group[=].element[=].target.code = #MedicationStatement.dosage","* group[=].element[=].target.display = ##34###34#","* group[=].element[=].target.equivalence = #relatedto","",null,8,1,2,{"$f":"INDEX('Medicine-ConceptMap-1'!$I$15:$N$99,Q22+1,R22)","v":"* group[=].element[=].display = ##34#A.2.4.1.1 Medication reason##34#"}]
[null,{"$f":"'A.2.4.1  Medicine'!B15","v":"route"},{"$f":"'A.2.4.1  Medicine'!C15","v":"A.2.4.1.8 Route of administration"},"dosage.route",null,"relatedto",null,null,"* group[=].element[+].code = #Medicine.route","* group[=].element[=].display = ##34#A.2.4.1.8 Route of administration##34#","* group[=].element[=].target.code = #MedicationStatement.dosage.route","* group[=].element[=].target.display = ##34###34#","* group[=].element[=].target.equivalence = #relatedto","",null,9,1,3,{"$f":"INDEX('Medicine-ConceptMap-1'!$I$15:$N$99,Q23+1,R23)","v":"* group[=].element[=].target.code = #MedicationStatement.reasonReference"}]
[null,{"$f":"'A.2.4.1  Medicine'!B16","v":"onsetDate"},{"$f":"'A.2.4.1  Medicine'!C16","v":"A.2.4.1.9 Date of onset of treatment"},"effectivePeriod.start",null,"equivalent",null,null,"* group[=].element[+].code = #Medicine.onsetDate","* group[=].element[=].display = ##34#A.2.4.1.9 Date of onset of treatment##34#","* group[=].element[=].target.code = #MedicationStatement.effectivePeriod.start","* group[=].element[=].target.display = ##34###34#","* group[=].element[=].target.equivalence = #equivalent","",null,10,1,4,{"$f":"INDEX('Medicine-ConceptMap-1'!$I$15:$N$99,Q24+1,R24)","v":"* group[=].element[=].target.display = ##34###34#"}]
[null,null,null,null,null,null,null,null,null,null,null,null,null,null,null,11,1,5,{"$f":"INDEX('Medicine-ConceptMap-1'!$I$15:$N$99,Q25+1,R25)","v":"* group[=].element[=].target.equivalence = #equivalent"}]
[null,null,null,null,null,null,null,null,null,null,null,null,null,null,null,12,1,6,{"$f":"INDEX('Medicine-ConceptMap-1'!$I$15:$N$99,Q26+1,R26)","v":"* group[=].element[=].target.comment = ##34#if provided as a reference to a Condition##34#"}]
[null,null,null,null,null,null,null,null,null,null,null,null,null,null,null,13,2,1,{"$f":"INDEX('Medicine-ConceptMap-1'!$I$15:$N$99,Q27+1,R27)","v":"* group[=].element[+].code = #Medicine.intendedUse"}]
[null,null,null,null,null,null,null,null,null,null,null,null,null,null,null,14,2,2,{"$f":"INDEX('Medicine-ConceptMap-1'!$I$15:$N$99,Q28+1,R28)","v":"* group[=].element[=].display = ##34#A.2.4.1.2 Intended use##34#"}]
[null,null,null,null,null,null,null,null,null,null,null,null,null,null,null,15,2,3,{"$f":"INDEX('Medicine-ConceptMap-1'!$I$15:$N$99,Q29+1,R29)","v":"* group[=].element[=].target.code = #MedicationStatement.category"}]
[null,null,null,null,null,null,null,null,null,null,null,null,null,null,null,16,2,4,{"$f":"INDEX('Medicine-ConceptMap-1'!$I$15:$N$99,Q30+1,R30)","v":"* group[=].element[=].target.display = ##34###34#"}]
[null,null,null,null,null,null,null,null,null,null,null,null,null,null,null,17,2,5,{"$f":"INDEX('Medicine-ConceptMap-1'!$I$15:$N$99,Q31+1,R31)","v":"* group[=].element[=].target.equivalence = #relatedto"}]
[null,null,null,null,null,null,null,null,null,null,null,null,null,null,null,18,2,6,{"$f":"INDEX('Medicine-ConceptMap-1'!$I$15:$N$99,Q32+1,R32)","v":"* group[=].element[=].target.comment = ##34#this map adopts  the definition given in R5##34#"}]
[null,null,null,null,null,null,null,null,null,null,null,null,null,null,null,19,3,1,{"$f":"INDEX('Medicine-ConceptMap-1'!$I$15:$N$99,Q33+1,R33)","v":"* group[=].element[+].code = #Medicine.productName"}]
[null,null,null,null,null,null,null,null,null,null,null,null,null,null,null,20,3,2,{"$f":"INDEX('Medicine-ConceptMap-1'!$I$15:$N$99,Q34+1,R34)","v":"* group[=].element[=].display = ##34#A.2.4.1.3 Brand name##34#"}]
[null,null,null,null,null,null,null,null,null,null,null,null,null,null,null,21,3,3,{"$f":"INDEX('Medicine-ConceptMap-1'!$I$15:$N$99,Q35+1,R35)","v":"* group[=].element[=].target.code = #MedicationStatement.medication[x]"}]
[null,null,null,null,null,null,null,null,null,null,null,null,null,null,null,22,3,4,{"$f":"INDEX('Medicine-ConceptMap-1'!$I$15:$N$99,Q36+1,R36)","v":"* group[=].element[=].target.display = ##34###34#"}]
[null,null,null,null,null,null,null,null,null,null,null,null,null,null,null,23,3,5,{"$f":"INDEX('Medicine-ConceptMap-1'!$I$15:$N$99,Q37+1,R37)","v":"* group[=].element[=].target.equivalence = #equivalent"}]
[null,null,null,null,null,null,null,null,null,null,null,null,null,null,null,24,3,6,{"$f":"INDEX('Medicine-ConceptMap-1'!$I$15:$N$99,Q38+1,R38)","v":"* group[=].element[=].target.comment = ##34#see group 2##34#"}]
[null,null,null,null,null,null,null,null,null,null,null,null,null,null,null,25,4,1,{"$f":"INDEX('Medicine-ConceptMap-1'!$I$15:$N$99,Q39+1,R39)","v":"* group[=].element[+].code = #Medicine.activeIngredient"}]
[null,null,null,null,null,null,null,null,null,null,null,null,null,null,null,26,4,2,{"$f":"INDEX('Medicine-ConceptMap-1'!$I$15:$N$99,Q40+1,R40)","v":"* group[=].element[=].display = ##34#A.2.4.1.4 Active ingredient lists##34#"}]
[null,null,null,null,null,null,null,null,null,null,null,null,null,null,null,27,4,3,{"$f":"INDEX('Medicine-ConceptMap-1'!$I$15:$N$99,Q41+1,R41)","v":"* group[=].element[=].target.code = #MedicationStatement.medication[x]"}]
[null,null,null,null,null,null,null,null,null,null,null,null,null,null,null,28,4,4,{"$f":"INDEX('Medicine-ConceptMap-1'!$I$15:$N$99,Q42+1,R42)","v":"* group[=].element[=].target.display = ##34###34#"}]
[null,null,null,null,null,null,null,null,null,null,null,null,null,null,null,29,4,5,{"$f":"INDEX('Medicine-ConceptMap-1'!$I$15:$N$99,Q43+1,R43)","v":"* group[=].element[=].target.equivalence = #equivalent"}]
[null,null,null,null,null,null,null,null,null,null,null,null,null,null,null,30,4,6,{"$f":"INDEX('Medicine-ConceptMap-1'!$I$15:$N$99,Q44+1,R44)","v":"* group[=].element[=].target.comment = ##34#see group 2##34#"}]
[null,null,null,null,null,null,null,null,null,null,null,null,null,null,null,31,5,1,{"$f":"INDEX('Medicine-ConceptMap-1'!$I$15:$N$99,Q45+1,R45)","v":"* group[=].element[+].code = #Medicine.strength"}]
[null,null,null,null,null,null,null,null,null,null,null,null,null,null,null,32,5,2,{"$f":"INDEX('Medicine-ConceptMap-1'!$I$15:$N$99,Q46+1,R46)","v":"* group[=].element[=].display = ##34#A.2.4.1.5 Strength##34#"}]
[null,null,null,null,null,null,null,null,null,null,null,null,null,null,null,33,5,3,{"$f":"INDEX('Medicine-ConceptMap-1'!$I$15:$N$99,Q47+1,R47)","v":"* group[=].element[=].target.code = #MedicationStatement.medication[x]"}]
[null,null,null,null,null,null,null,null,null,null,null,null,null,null,null,34,{"$f":"IF(MOD(P48,$Q$8)=0,P48/$Q$8-1,INT(P48/$Q$8))","v":5},{"$f":"IF(MOD(P48,$Q$8)=0,$Q$8,MOD(P48,$Q$8))","v":4},{"$f":"INDEX('Medicine-ConceptMap-1'!$I$15:$N$99,Q48+1,R48)","v":"* group[=].element[=].target.display = ##34###34#"}]
[null,null,null,null,null,null,null,null,null,null,null,null,null,null,null,35,5,{"$f":"IF(MOD(P49,$Q$8)=0,$Q$8,MOD(P49,$Q$8))","v":5},{"$f":"INDEX('Medicine-ConceptMap-1'!$I$15:$N$99,Q49+1,R49)","v":"* group[=].element[=].target.equivalence = #equivalent"}]
[null,null,null,null,null,null,null,null,null,null,null,null,null,null,null,36,5,6,{"$f":"INDEX('Medicine-ConceptMap-1'!$I$15:$N$99,Q50+1,R50)","v":"* group[=].element[=].target.comment = ##34#see group 2##34#"}]
[null,null,null,null,null,null,null,null,null,null,null,null,null,null,null,37,6,1,{"$f":"INDEX('Medicine-ConceptMap-1'!$I$15:$N$99,Q51+1,R51)","v":"* group[=].element[+].code = #Medicine.doseForm"}]
[null,null,null,null,null,null,null,null,null,null,null,null,null,null,null,38,6,2,{"$f":"INDEX('Medicine-ConceptMap-1'!$I$15:$N$99,Q52+1,R52)","v":"* group[=].element[=].display = ##34#A.2.4.1.6 Pharmaceutical dose form##34#"}]
[null,null,null,null,null,null,null,null,null,null,null,null,null,null,null,39,6,3,{"$f":"INDEX('Medicine-ConceptMap-1'!$I$15:$N$99,Q53+1,R53)","v":"* group[=].element[=].target.code = #MedicationStatement.medication[x]"}]
[null,null,null,null,null,null,null,null,null,null,null,null,null,null,null,40,6,4,{"$f":"INDEX('Medicine-ConceptMap-1'!$I$15:$N$99,Q54+1,R54)","v":"* group[=].element[=].target.display = ##34###34#"}]
[null,null,null,null,null,null,null,null,null,null,null,null,null,null,null,41,6,5,{"$f":"INDEX('Medicine-ConceptMap-1'!$I$15:$N$99,Q55+1,R55)","v":"* group[=].element[=].target.equivalence = #equivalent"}]
[null,null,null,null,null,null,null,null,null,null,null,null,null,null,null,42,6,6,{"$f":"INDEX('Medicine-ConceptMap-1'!$I$15:$N$99,Q56+1,R56)","v":"* group[=].element[=].target.comment = ##34#see group 2##34#"}]
[null,null,null,null,null,null,null,null,null,null,null,null,null,null,null,43,7,1,{"$f":"INDEX('Medicine-ConceptMap-1'!$I$15:$N$99,Q57+1,R57)","v":"* group[=].element[+].code = #Medicine.dosageRegimen"}]
[null,null,null,null,null,null,null,null,null,null,null,null,null,null,null,44,7,2,{"$f":"INDEX('Medicine-ConceptMap-1'!$I$15:$N$99,Q58+1,R58)","v":"* group[=].element[=].display = ##34#A.2.4.1.7 Dosage Regimen##34#"}]
[null,null,null,null,null,null,null,null,null,null,null,null,null,null,null,45,7,3,{"$f":"INDEX('Medicine-ConceptMap-1'!$I$15:$N$99,Q59+1,R59)","v":"* group[=].element[=].target.code = #MedicationStatement.dosage"}]
[null,null,null,null,null,null,null,null,null,null,null,null,null,null,null,46,7,4,{"$f":"INDEX('Medicine-ConceptMap-1'!$I$15:$N$99,Q60+1,R60)","v":"* group[=].element[=].target.display = ##34###34#"}]
[null,null,null,null,null,null,null,null,null,null,null,null,null,null,null,47,7,5,{"$f":"INDEX('Medicine-ConceptMap-1'!$I$15:$N$99,Q61+1,R61)","v":"* group[=].element[=].target.equivalence = #relatedto"}]
[null,null,null,null,null,null,null,null,null,null,null,null,null,null,null,48,7,6,{"$f":"INDEX('Medicine-ConceptMap-1'!$I$15:$N$99,Q62+1,R62)","v":""}]
[null,null,null,null,null,null,null,null,null,null,null,null,null,null,null,49,8,1,{"$f":"INDEX('Medicine-ConceptMap-1'!$I$15:$N$99,Q63+1,R63)","v":"* group[=].element[+].code = #Medicine.route"}]
[null,null,null,null,null,null,null,null,null,null,null,null,null,null,null,50,8,{"$f":"IF(MOD(P64,$Q$8)=0,$Q$8,MOD(P64,$Q$8))","v":2},{"$f":"INDEX('Medicine-ConceptMap-1'!$I$15:$N$99,Q64+1,R64)","v":"* group[=].element[=].display = ##34#A.2.4.1.8 Route of administration##34#"}]
[null,null,null,null,null,null,null,null,null,null,null,null,null,null,null,51,8,3,{"$f":"INDEX('Medicine-ConceptMap-1'!$I$15:$N$99,Q65+1,R65)","v":"* group[=].element[=].target.code = #MedicationStatement.dosage.route"}]
[null,null,null,null,null,null,null,null,null,null,null,null,null,null,null,52,8,4,{"$f":"INDEX('Medicine-ConceptMap-1'!$I$15:$N$99,Q66+1,R66)","v":"* group[=].element[=].target.display = ##34###34#"}]
[null,null,null,null,null,null,null,null,null,null,null,null,null,null,null,53,8,5,{"$f":"INDEX('Medicine-ConceptMap-1'!$I$15:$N$99,Q67+1,R67)","v":"* group[=].element[=].target.equivalence = #relatedto"}]
[null,null,null,null,null,null,null,null,null,null,null,null,null,null,null,54,8,6,{"$f":"INDEX('Medicine-ConceptMap-1'!$I$15:$N$99,Q68+1,R68)","v":""}]
[null,null,null,null,null,null,null,null,null,null,null,null,null,null,null,55,9,1,{"$f":"INDEX('Medicine-ConceptMap-1'!$I$15:$N$99,Q69+1,R69)","v":"* group[=].element[+].code = #Medicine.onsetDate"}]
[null,null,null,null,null,null,null,null,null,null,null,null,null,null,null,56,9,2,{"$f":"INDEX('Medicine-ConceptMap-1'!$I$15:$N$99,Q70+1,R70)","v":"* group[=].element[=].display = ##34#A.2.4.1.9 Date of onset of treatment##34#"}]
[null,null,null,null,null,null,null,null,null,null,null,null,null,null,null,57,9,3,{"$f":"INDEX('Medicine-ConceptMap-1'!$I$15:$N$99,Q71+1,R71)","v":"* group[=].element[=].target.code = #MedicationStatement.effectivePeriod.start"}]
[null,null,null,null,null,null,null,null,null,null,null,null,null,null,null,58,9,4,{"$f":"INDEX('Medicine-ConceptMap-1'!$I$15:$N$99,Q72+1,R72)","v":"* group[=].element[=].target.display = ##34###34#"}]
[null,null,null,null,null,null,null,null,null,null,null,null,null,null,null,59,9,5,{"$f":"INDEX('Medicine-ConceptMap-1'!$I$15:$N$99,Q73+1,R73)","v":"* group[=].element[=].target.equivalence = #equivalent"}]
[null,null,null,null,null,null,null,null,null,null,null,null,null,null,null,60,9,6,{"$f":"INDEX('Medicine-ConceptMap-1'!$I$15:$N$99,Q74+1,R74)","v":""}]
[null,null,null,null,null,null,null,null,null,null,null,null,null,null,null,61,10,1,{"$f":"INDEX('Medicine-ConceptMap-1'!$I$15:$N$99,Q75+1,R75)","v":0}]
[null,null,null,null,null,null,null,null,null,null,null,null,null,null,null,62,10,2,{"$f":"INDEX('Medicine-ConceptMap-1'!$I$15:$N$99,Q76+1,R76)","v":0}]
[null,null,null,null,null,null,null,null,null,null,null,null,null,null,null,63,10,3,{"$f":"INDEX('Medicine-ConceptMap-1'!$I$15:$N$99,Q77+1,R77)","v":0}]
[null,null,null,null,null,null,null,null,null,null,null,null,null,null,null,64,10,4,{"$f":"INDEX('Medicine-ConceptMap-1'!$I$15:$N$99,Q78+1,R78)","v":0}]
[null,null,null,null,null,null,null,null,null,null,null,null,null,null,null,65,10,5,{"$f":"INDEX('Medicine-ConceptMap-1'!$I$15:$N$99,Q79+1,R79)","v":0}]
[null,null,null,null,null,null,null,null,null,null,null,null,null,null,null,66,10,6,{"$f":"INDEX('Medicine-ConceptMap-1'!$I$15:$N$99,Q80+1,R80)","v":0}]
[null,null,null,null,null,null,null,null,null,null,null,null,null,null,null,67,11,1,{"$f":"INDEX('Medicine-ConceptMap-1'!$I$15:$N$99,Q81+1,R81)","v":0}]
[null,null,null,null,null,null,null,null,null,null,null,null,null,null,null,68,11,2,{"$f":"INDEX('Medicine-ConceptMap-1'!$I$15:$N$99,Q82+1,R82)","v":0}]

{"sheet":"Medicine-ConceptMap-2","index":40,"n_rows":67,"n_cols":19,"rows_kept":67,"cut":false,"hidden":false,"merged":[[2,4,2,6],[3,4,3,6],[5,4,5,6],[6,4,6,6]]}
[]
[]
[null,"Mapping","Medicine2Fhir","Source URI",{"$f":"\"http://hl7.eu/fhir/ig/xpandh/ps/StructureDefinition/\"&'A.2.4.1  Medicine'!B5","v":"http://hl7.eu/fhir/ig/xpandh/ps/StructureDefinition/Medicine"}]
[null,"Id","medicine2FHIR-eu-ps","Target URI","http://hl7.eu/fhir/ig/xpandh/ps/StructureDefinition/Medication-ps-xpandh"]
[null,"Title","eHN Medicine to this guide Map"]
[null,"Source",null,"Source Group",{"$f":"E3","v":"http://hl7.eu/fhir/ig/xpandh/ps/StructureDefinition/Medicine"}]
[null,"Target",null,"Target Group",{"$f":"E4","v":"http://hl7.eu/fhir/ig/xpandh/ps/StructureDefinition/Medication-ps-xpandh"}]
[null,"description","eHN Medicine Model to this guide Map",null,null,null,null,null,"* group[=].element[+].code = #Osiris.Patient.BirthDate","* group[=].element[=].display = \"Birth Date [C4]\"","* group[=].element[=].target.code = #Subject.dateOfBirth.date","* group[=].element[=].target.display = \"Date of birth\"","* group[=].element[=].target.equivalence = #equivalent",null,null,"Elements",6]
[null,"purpose","It shows how the Medicine  data set defined by the EU eHN guidelines is mapped into this guide"]
[]
[null,null,null,null,null,null,null,null,"source:code","source:display","code","display","target to source","Comment"]
[]
[null,null,null,null,null,"target to source","Comment"]
[null,{"$f":"'A.2.4.1  Medicine'!B5","v":"Medicine"},null,"Medication"]
[null,{"$f":"'A.2.4.1  Medicine'!B10","v":"productName"},{"$f":"'A.2.4.1  Medicine'!C10","v":"A.2.4.1.3 Brand name"},"code.text",null,"relatedto",null,null,{"$f":"\"* group[=].element[+].code = #\"&$B$14&\".\"&B15","v":"* group[=].element[+].code = #Medicine.productName"},{"$f":"\"* group[=].element[=].display = ##34#\"&C15&\"##34#\"","v":"* group[=].element[=].display = ##34#A.2.4.1.3 Brand name##34#"},{"$f":"IF(F15=\"unmatched\",\"//-- unmatched\",\"* group[=].element[=].target.code = #\"&$D$14&\".\"&D15)","v":"* group[=].element[=].target.code = #Medication.code.text"},{"$f":"IF(F15=\"unmatched\",\"//-- unmatched\",\"* group[=].element[=].target.display = ##34#\"&E15&\"##34#\")","v":"* group[=].element[=].target.display = ##34###34#"},{"$f":"\"* group[=].element[=].target.equivalence = #\"&F15","v":"* group[=].element[=].target.equivalence = #relatedto"},{"$f":"IF(G15<>\"\",CONCATENATE(\"* group[=].element[=].target.comment = \",\"##34#\",G15,\"##34#\"),\"\")","v":""},null,1,{"$f":"IF(MOD(P15,$Q$8)=0,P15/$Q$8-1,INT(P15/$Q$8))","v":0},{"$f":"IF(MOD(P15,$Q$8)=0,$Q$8,MOD(P15,$Q$8))","v":1},{"$f":"INDEX('Medicine-ConceptMap-2'!$I$15:$N$93,Q15+1,R15)","v":"* group[=].element[+].code = #Medicine.productName"}]
[null,{"$f":"'A.2.4.1  Medicine'!B11","v":"activeIngredient"},{"$f":"'A.2.4.1  Medicine'!C11","v":"A.2.4.1.4 Active ingredient lists"},"ingredient.itemCodeableConcept",null,"equivalent","where ingredient.isActive = true",null,{"$f":"\"* group[=].element[+].code = #\"&$B$14&\".\"&B16","v":"* group[=].element[+].code = #Medicine.activeIngredient"},{"$f":"\"* group[=].element[=].display = ##34#\"&C16&\"##34#\"","v":"* group[=].element[=].display = ##34#A.2.4.1.4 Active ingredient lists##34#"},{"$f":"IF(F16=\"unmatched\",\"//-- unmatched\",\"* group[=].element[=].target.code = #\"&$D$14&\".\"&D16)","v":"* group[=].element[=].target.code = #Medication.ingredient.itemCodeableConcept"},{"$f":"IF(F16=\"unmatched\",\"//-- unmatched\",\"* group[=].element[=].target.display = ##34#\"&E16&\"##34#\")","v":"* group[=].element[=].target.display = ##34###34#"},{"$f":"\"* group[=].element[=].target.equivalence = #\"&F16","v":"* group[=].element[=].target.equivalence = #equivalent"},{"$f":"IF(G16<>\"\",CONCATENATE(\"* group[=].element[=].target.comment = \",\"##34#\",G16,\"##34#\"),\"\")","v":"* group[=].element[=].target.comment = ##34#where ingredient.isActive = true##34#"},null,2,{"$f":"IF(MOD(P16,$Q$8)=0,P16/$Q$8-1,INT(P16/$Q$8))","v":0},{"$f":"IF(MOD(P16,$Q$8)=0,$Q$8,MOD(P16,$Q$8))","v":2},{"$f":"INDEX('Medicine-ConceptMap-2'!$I$15:$N$93,Q16+1,R16)","v":"* group[=].element[=].display = ##34#A.2.4.1.3 Brand name##34#"}]
[null,{"$f":"'A.2.4.1  Medicine'!B12","v":"strength"},{"$f":"'A.2.4.1  Medicine'!C12","v":"A.2.4.1.5 Strength"},"ingredient.strength",null,"equivalent","where ingredient.isActive = true",null,"* group[=].element[+].code = #Medicine.strength","* group[=].element[=].display = ##34#A.2.4.1.5 Strength##34#","* group[=].element[=].target.code = #Medication.ingredient.strength","* group[=].element[=].target.display = ##34###34#","* group[=].element[=].target.equivalence = #equivalent","* group[=].element[=].target.comment = ##34#where ingredient.isActive = true##34#",null,3,0,3,{"$f":"INDEX('Medicine-ConceptMap-2'!$I$15:$N$93,Q17+1,R17)","v":"* group[=].element[=].target.code = #Medication.code.text"}]
[null,{"$f":"'A.2.4.1  Medicine'!B13","v":"doseForm"},{"$f":"'A.2.4.1  Medicine'!C13","v":"A.2.4.1.6 Pharmaceutical dose form"},"form",null,"equivalent",null,null,"* group[=].element[+].code = #Medicine.doseForm","* group[=].element[=].display = ##34#A.2.4.1.6 Pharmaceutical dose form##34#","* group[=].element[=].target.code = #Medication.form","* group[=].element[=].target.display = ##34###34#","* group[=].element[=].target.equivalence = #equivalent","",null,4,0,4,{"$f":"INDEX('Medicine-ConceptMap-2'!$I$15:$N$93,Q18+1,R18)","v":"* group[=].element[=].target.display = ##34###34#"}]
[null,null,null,null,null,null,null,null,null,null,null,null,null,null,null,5,0,5,{"$f":"INDEX('Medicine-ConceptMap-2'!$I$15:$N$93,Q19+1,R19)","v":"* group[=].element[=].target.equivalence = #relatedto"}]
[null,null,null,null,null,null,null,null,null,null,null,null,null,null,null,6,0,6,{"$f":"INDEX('Medicine-ConceptMap-2'!$I$15:$N$93,Q20+1,R20)","v":""}]
[null,null,null,null,null,null,null,null,null,null,null,null,null,null,null,7,1,1,{"$f":"INDEX('Medicine-ConceptMap-2'!$I$15:$N$93,Q21+1,R21)","v":"* group[=].element[+].code = #Medicine.activeIngredient"}]
[null,null,null,null,null,null,null,null,null,null,null,null,null,null,null,8,1,2,{"$f":"INDEX('Medicine-ConceptMap-2'!$I$15:$N$93,Q22+1,R22)","v":"* group[=].element[=].display = ##34#A.2.4.1.4 Active ingredient lists##34#"}]
[null,null,null,null,null,null,null,null,null,null,null,null,null,null,null,9,1,3,{"$f":"INDEX('Medicine-ConceptMap-2'!$I$15:$N$93,Q23+1,R23)","v":"* group[=].element[=].target.code = #Medication.ingredient.itemCodeableConcept"}]
[null,null,null,null,null,null,null,null,null,null,null,null,null,null,null,10,1,4,{"$f":"INDEX('Medicine-ConceptMap-2'!$I$15:$N$93,Q24+1,R24)","v":"* group[=].element[=].target.display = ##34###34#"}]
[null,null,null,null,null,null,null,null,null,null,null,null,null,null,null,11,1,5,{"$f":"INDEX('Medicine-ConceptMap-2'!$I$15:$N$93,Q25+1,R25)","v":"* group[=].element[=].target.equivalence = #equivalent"}]
[null,null,null,null,null,null,null,null,null,null,null,null,null,null,null,12,1,6,{"$f":"INDEX('Medicine-ConceptMap-2'!$I$15:$N$93,Q26+1,R26)","v":"* group[=].element[=].target.comment = ##34#where ingredient.isActive = true##34#"}]
[null,null,null,null,null,null,null,null,null,null,null,null,null,null,null,13,2,1,{"$f":"INDEX('Medicine-ConceptMap-2'!$I$15:$N$93,Q27+1,R27)","v":"* group[=].element[+].code = #Medicine.strength"}]
[null,null,null,null,null,null,null,null,null,null,null,null,null,null,null,14,2,2,{"$f":"INDEX('Medicine-ConceptMap-2'!$I$15:$N$93,Q28+1,R28)","v":"* group[=].element[=].display = ##34#A.2.4.1.5 Strength##34#"}]
[null,null,null,null,null,null,null,null,null,null,null,null,null,null,null,15,2,3,{"$f":"INDEX('Medicine-ConceptMap-2'!$I$15:$N$93,Q29+1,R29)","v":"* group[=].element[=].target.code = #Medication.ingredient.strength"}]
[null,null,null,null,null,null,null,null,null,null,null,null,null,null,null,16,2,4,{"$f":"INDEX('Medicine-ConceptMap-2'!$I$15:$N$93,Q30+1,R30)","v":"* group[=].element[=].target.display = ##34###34#"}]
[null,null,null,null,null,null,null,null,null,null,null,null,null,null,null,17,2,5,{"$f":"INDEX('Medicine-ConceptMap-2'!$I$15:$N$93,Q31+1,R31)","v":"* group[=].element[=].target.equivalence = #equivalent"}]
[null,null,null,null,null,null,null,null,null,null,null,null,null,null,null,18,2,6,{"$f":"INDEX('Medicine-ConceptMap-2'!$I$15:$N$93,Q32+1,R32)","v":"* group[=].element[=].target.comment = ##34#where ingredient.isActive = true##34#"}]
[null,null,null,null,null,null,null,null,null,null,null,null,null,null,null,19,3,1,{"$f":"INDEX('Medicine-ConceptMap-2'!$I$15:$N$93,Q33+1,R33)","v":"* group[=].element[+].code = #Medicine.doseForm"}]
[null,null,null,null,null,null,null,null,null,null,null,null,null,null,null,20,3,2,{"$f":"INDEX('Medicine-ConceptMap-2'!$I$15:$N$93,Q34+1,R34)","v":"* group[=].element[=].display = ##34#A.2.4.1.6 Pharmaceutical dose form##34#"}]
[null,null,null,null,null,null,null,null,null,null,null,null,null,null,null,21,3,3,{"$f":"INDEX('Medicine-ConceptMap-2'!$I$15:$N$93,Q35+1,R35)","v":"* group[=].element[=].target.code = #Medication.form"}]
[null,null,null,null,null,null,null,null,null,null,null,null,null,null,null,22,3,4,{"$f":"INDEX('Medicine-ConceptMap-2'!$I$15:$N$93,Q36+1,R36)","v":"* group[=].element[=].target.display = ##34###34#"}]
[null,null,null,null,null,null,null,null,null,null,null,null,null,null,null,23,3,5,{"$f":"INDEX('Medicine-ConceptMap-2'!$I$15:$N$93,Q37+1,R37)","v":"* group[=].element[=].target.equivalence = #equivalent"}]
[null,null,null,null,null,null,null,null,null,null,null,null,null,null,null,24,3,6,{"$f":"INDEX('Medicine-ConceptMap-2'!$I$15:$N$93,Q38+1,R38)","v":""}]
[null,null,null,null,null,null,null,null,null,null,null,null,null,null,null,25,4,1,{"$f":"INDEX('Medicine-ConceptMap-2'!$I$15:$N$93,Q39+1,R39)","v":0}]
[null,null,null,null,null,null,null,null,null,null,null,null,null,null,null,26,4,2,{"$f":"INDEX('Medicine-ConceptMap-2'!$I$15:$N$93,Q40+1,R40)","v":0}]
[null,null,null,null,null,null,null,null,null,null,null,null,null,null,null,27,4,3,{"$f":"INDEX('Medicine-ConceptMap-2'!$I$15:$N$93,Q41+1,R41)","v":0}]
[null,null,null,null,null,null,null,null,null,null,null,null,null,null,null,28,4,4,{"$f":"INDEX('Medicine-ConceptMap-2'!$I$15:$N$93,Q42+1,R42)","v":0}]
[null,null,null,null,null,null,null,null,null,null,null,null,null,null,null,29,4,5,{"$f":"INDEX('Medicine-ConceptMap-2'!$I$15:$N$93,Q43+1,R43)","v":0}]
[null,null,null,null,null,null,null,null,null,null,null,null,null,null,null,30,4,6,{"$f":"INDEX('Medicine-ConceptMap-2'!$I$15:$N$93,Q44+1,R44)","v":0}]
[null,null,null,null,null,null,null,null,null,null,null,null,null,null,null,31,5,1,{"$f":"INDEX('Medicine-ConceptMap-2'!$I$15:$N$93,Q45+1,R45)","v":0}]
[null,null,null,null,null,null,null,null,null,null,null,null,null,null,null,32,5,2,{"$f":"INDEX('Medicine-ConceptMap-2'!$I$15:$N$93,Q46+1,R46)","v":0}]
[null,null,null,null,null,null,null,null,null,null,null,null,null,null,null,33,5,3,{"$f":"INDEX('Medicine-ConceptMap-2'!$I$15:$N$93,Q47+1,R47)","v":0}]
[null,null,null,null,null,null,null,null,null,null,null,null,null,null,null,34,5,4,{"$f":"INDEX('Medicine-ConceptMap-2'!$I$15:$N$93,Q48+1,R48)","v":0}]
[null,null,null,null,null,null,null,null,null,null,null,null,null,null,null,35,5,5,{"$f":"INDEX('Medicine-ConceptMap-2'!$I$15:$N$93,Q49+1,R49)","v":0}]
[null,null,null,null,null,null,null,null,null,null,null,null,null,null,null,36,5,6,{"$f":"INDEX('Medicine-ConceptMap-2'!$I$15:$N$93,Q50+1,R50)","v":0}]
[null,null,null,null,null,null,null,null,null,null,null,null,null,null,null,37,6,1,{"$f":"INDEX('Medicine-ConceptMap-2'!$I$15:$N$93,Q51+1,R51)","v":0}]
[null,null,null,null,null,null,null,null,null,null,null,null,null,null,null,38,6,2,{"$f":"INDEX('Medicine-ConceptMap-2'!$I$15:$N$93,Q52+1,R52)","v":0}]
[null,null,null,null,null,null,null,null,null,null,null,null,null,null,null,39,6,3,{"$f":"INDEX('Medicine-ConceptMap-2'!$I$15:$N$93,Q53+1,R53)","v":0}]
[null,null,null,null,null,null,null,null,null,null,null,null,null,null,null,40,6,4,{"$f":"INDEX('Medicine-ConceptMap-2'!$I$15:$N$93,Q54+1,R54)","v":0}]
[null,null,null,null,null,null,null,null,null,null,null,null,null,null,null,41,6,5,{"$f":"INDEX('Medicine-ConceptMap-2'!$I$15:$N$93,Q55+1,R55)","v":0}]
[null,null,null,null,null,null,null,null,null,null,null,null,null,null,null,42,6,6,{"$f":"INDEX('Medicine-ConceptMap-2'!$I$15:$N$93,Q56+1,R56)","v":0}]
[null,null,null,null,null,null,null,null,null,null,null,null,null,null,null,43,7,1,{"$f":"INDEX('Medicine-ConceptMap-2'!$I$15:$N$93,Q57+1,R57)","v":0}]
[null,null,null,null,null,null,null,null,null,null,null,null,null,null,null,44,7,2,{"$f":"INDEX('Medicine-ConceptMap-2'!$I$15:$N$93,Q58+1,R58)","v":0}]
[null,null,null,null,null,null,null,null,null,null,null,null,null,null,null,45,7,3,{"$f":"INDEX('Medicine-ConceptMap-2'!$I$15:$N$93,Q59+1,R59)","v":0}]
[null,null,null,null,null,null,null,null,null,null,null,null,null,null,null,46,7,4,{"$f":"INDEX('Medicine-ConceptMap-2'!$I$15:$N$93,Q60+1,R60)","v":0}]
[null,null,null,null,null,null,null,null,null,null,null,null,null,null,null,47,7,5,{"$f":"INDEX('Medicine-ConceptMap-2'!$I$15:$N$93,Q61+1,R61)","v":0}]
[null,null,null,null,null,null,null,null,null,null,null,null,null,null,null,48,7,6,{"$f":"INDEX('Medicine-ConceptMap-2'!$I$15:$N$93,Q62+1,R62)","v":0}]
[null,null,null,null,null,null,null,null,null,null,null,null,null,null,null,49,8,1,{"$f":"INDEX('Medicine-ConceptMap-2'!$I$15:$N$93,Q63+1,R63)","v":0}]
[null,null,null,null,null,null,null,null,null,null,null,null,null,null,null,50,8,2,{"$f":"INDEX('Medicine-ConceptMap-2'!$I$15:$N$93,Q64+1,R64)","v":0}]
[null,null,null,null,null,null,null,null,null,null,null,null,null,null,null,51,8,3,{"$f":"INDEX('Medicine-ConceptMap-2'!$I$15:$N$93,Q65+1,R65)","v":0}]
[null,null,null,null,null,null,null,null,null,null,null,null,null,null,null,52,8,4,{"$f":"INDEX('Medicine-ConceptMap-2'!$I$15:$N$93,Q66+1,R66)","v":0}]
[null,null,null,null,null,null,null,null,null,null,null,null,null,null,null,53,8,5,{"$f":"INDEX('Medicine-ConceptMap-2'!$I$15:$N$93,Q67+1,R67)","v":0}]

{"sheet":"Medicine-CM-fsh","index":41,"n_rows":115,"n_cols":7,"rows_kept":115,"cut":false,"hidden":false,"merged":[]}
[null,"// -------------------------------------------------------------------------------"]
[null,"//  Concept Model. File: ",null,null,null,null,"medicine-to-fhir-map.fsh"]
[null,"// -------------------------------------------------------------------------------"]
[null,{"$f":"\"Instance: \"&'Medicine-ConceptMap-1'!C4","v":"Instance: medicine2FHIR-eu-ps"}]
[null,"InstanceOf: ConceptMap"]
[null,"Usage: #definition"]
[null,"// * url = ##34#http://terminology.hl7.it/ConceptMap/ConceptMap-subject2osiris##34#"]
[null,{"$f":"\"* name = ##34#\"&'Medicine-ConceptMap-1'!C3&\"##34#\"","v":"* name = ##34#Medicine2Fhir##34#"}]
[null,{"$f":"\"* title = ##34#\"&'Medicine-ConceptMap-1'!C5&\"##34#\"","v":"* title = ##34#eHN Medicine to this guide Map##34#"}]
[null,"* status = #draft"]
[null,"* experimental = true"]
[null,{"$f":"\"* description = ##34#\"&'Medicine-ConceptMap-1'!C8&\"##34#\"","v":"* description = ##34#eHN Medicine Model to this guide Map##34#"}]
[null,{"$f":"\"* purpose = ##34#\"&'Medicine-ConceptMap-1'!C9&\"##34#\"","v":"* purpose = ##34#It shows how the Medicine  data set defined by the EU eHN guidelines is mapped into this guide##34#"}]
[null,{"$f":"\"* sourceUri = ##34#\"&'Medicine-ConceptMap-1'!E3&\"##34#\"","v":"* sourceUri = ##34#http://hl7.eu/fhir/ig/xpandh/ps/StructureDefinition/Medicine##34#"}]
[null,{"$f":"\"* targetUri = ##34#\"&'Medicine-ConceptMap-1'!E4&\"##34#\"","v":"* targetUri = ##34#http://hl7.eu/fhir/ig/xpandh/ps/StructureDefinition/MedicationStatement-ps-xpandh##34#"}]
[]
[null,{"$f":"\"* group[+].source = ##34#\"&'Medicine-ConceptMap-1'!E6&\"##34#\"","v":"* group[+].source = ##34#http://hl7.eu/fhir/ig/xpandh/ps/StructureDefinition/Medicine##34#"}]
[null,{"$f":"\"* group[=].target = ##34#\"&'Medicine-ConceptMap-1'!E7&\"##34#\"","v":"* group[=].target = ##34#http://hl7.eu/fhir/ig/xpandh/ps/StructureDefinition/MedicationStatement-ps-xpandh##34#"}]
[]
[null,{"$f":"IF('Medicine-ConceptMap-1'!S15=0,\"//---END\",'Medicine-ConceptMap-1'!S15)","v":"* group[=].element[+].code = #Medicine.reason"}]
[null,{"$f":"IF('Medicine-ConceptMap-1'!S16=0,\"//---END\",'Medicine-ConceptMap-1'!S16)","v":"* group[=].element[=].display = ##34#A.2.4.1.1 Medication reason##34#"}]
[null,{"$f":"IF('Medicine-ConceptMap-1'!S17=0,\"//---END\",'Medicine-ConceptMap-1'!S17)","v":"* group[=].element[=].target.code = #MedicationStatement.reasonCode"}]
[null,{"$f":"IF('Medicine-ConceptMap-1'!S18=0,\"//---END\",'Medicine-ConceptMap-1'!S18)","v":"* group[=].element[=].target.display = ##34###34#"}]
[null,{"$f":"IF('Medicine-ConceptMap-1'!S19=0,\"//---END\",'Medicine-ConceptMap-1'!S19)","v":"* group[=].element[=].target.equivalence = #equivalent"}]
[null,{"$f":"IF('Medicine-ConceptMap-1'!S20=0,\"//---END\",'Medicine-ConceptMap-1'!S20)","v":"* group[=].element[=].target.comment = ##34#if only a code is provided##34#"}]
[null,{"$f":"IF('Medicine-ConceptMap-1'!S21=0,\"//---END\",'Medicine-ConceptMap-1'!S21)","v":"* group[=].element[+].code = #Medicine.reason"}]
[null,{"$f":"IF('Medicine-ConceptMap-1'!S22=0,\"//---END\",'Medicine-ConceptMap-1'!S22)","v":"* group[=].element[=].display = ##34#A.2.4.1.1 Medication reason##34#"}]
[null,{"$f":"IF('Medicine-ConceptMap-1'!S23=0,\"//---END\",'Medicine-ConceptMap-1'!S23)","v":"* group[=].element[=].target.code = #MedicationStatement.reasonReference"}]
[null,{"$f":"IF('Medicine-ConceptMap-1'!S24=0,\"//---END\",'Medicine-ConceptMap-1'!S24)","v":"* group[=].element[=].target.display = ##34###34#"}]
[null,{"$f":"IF('Medicine-ConceptMap-1'!S25=0,\"//---END\",'Medicine-ConceptMap-1'!S25)","v":"* group[=].element[=].target.equivalence = #equivalent"}]
[null,{"$f":"IF('Medicine-ConceptMap-1'!S26=0,\"//---END\",'Medicine-ConceptMap-1'!S26)","v":"* group[=].element[=].target.comment = ##34#if provided as a reference to a Condition##34#"}]
[null,{"$f":"IF('Medicine-ConceptMap-1'!S27=0,\"//---END\",'Medicine-ConceptMap-1'!S27)","v":"* group[=].element[+].code = #Medicine.intendedUse"}]
[null,{"$f":"IF('Medicine-ConceptMap-1'!S28=0,\"//---END\",'Medicine-ConceptMap-1'!S28)","v":"* group[=].element[=].display = ##34#A.2.4.1.2 Intended use##34#"}]
[null,{"$f":"IF('Medicine-ConceptMap-1'!S29=0,\"//---END\",'Medicine-ConceptMap-1'!S29)","v":"* group[=].element[=].target.code = #MedicationStatement.category"}]
[null,{"$f":"IF('Medicine-ConceptMap-1'!S30=0,\"//---END\",'Medicine-ConceptMap-1'!S30)","v":"* group[=].element[=].target.display = ##34###34#"}]
[null,{"$f":"IF('Medicine-ConceptMap-1'!S31=0,\"//---END\",'Medicine-ConceptMap-1'!S31)","v":"* group[=].element[=].target.equivalence = #relatedto"}]
[null,{"$f":"IF('Medicine-ConceptMap-1'!S32=0,\"//---END\",'Medicine-ConceptMap-1'!S32)","v":"* group[=].element[=].target.comment = ##34#this map adopts  the definition given in R5##34#"}]
[null,{"$f":"IF('Medicine-ConceptMap-1'!S33=0,\"//---END\",'Medicine-ConceptMap-1'!S33)","v":"* group[=].element[+].code = #Medicine.productName"}]
[null,{"$f":"IF('Medicine-ConceptMap-1'!S34=0,\"//---END\",'Medicine-ConceptMap-1'!S34)","v":"* group[=].element[=].display = ##34#A.2.4.1.3 Brand name##34#"}]
[null,{"$f":"IF('Medicine-ConceptMap-1'!S35=0,\"//---END\",'Medicine-ConceptMap-1'!S35)","v":"* group[=].element[=].target.code = #MedicationStatement.medication[x]"}]
[null,{"$f":"IF('Medicine-ConceptMap-1'!S36=0,\"//---END\",'Medicine-ConceptMap-1'!S36)","v":"* group[=].element[=].target.display = ##34###34#"}]
[null,{"$f":"IF('Medicine-ConceptMap-1'!S37=0,\"//---END\",'Medicine-ConceptMap-1'!S37)","v":"* group[=].element[=].target.equivalence = #equivalent"}]
[null,{"$f":"IF('Medicine-ConceptMap-1'!S38=0,\"//---END\",'Medicine-ConceptMap-1'!S38)","v":"* group[=].element[=].target.comment = ##34#see group 2##34#"}]
[null,{"$f":"IF('Medicine-ConceptMap-1'!S39=0,\"//---END\",'Medicine-ConceptMap-1'!S39)","v":"* group[=].element[+].code = #Medicine.activeIngredient"}]
[null,{"$f":"IF('Medicine-ConceptMap-1'!S40=0,\"//---END\",'Medicine-ConceptMap-1'!S40)","v":"* group[=].element[=].display = ##34#A.2.4.1.4 Active ingredient lists##34#"}]
[null,{"$f":"IF('Medicine-ConceptMap-1'!S41=0,\"//---END\",'Medicine-ConceptMap-1'!S41)","v":"* group[=].element[=].target.code = #MedicationStatement.medication[x]"}]
[null,{"$f":"IF('Medicine-ConceptMap-1'!S42=0,\"//---END\",'Medicine-ConceptMap-1'!S42)","v":"* group[=].element[=].target.display = ##34###34#"}]
[null,{"$f":"IF('Medicine-ConceptMap-1'!S43=0,\"//---END\",'Medicine-ConceptMap-1'!S43)","v":"* group[=].element[=].target.equivalence = #equivalent"}]
[null,{"$f":"IF('Medicine-ConceptMap-1'!S44=0,\"//---END\",'Medicine-ConceptMap-1'!S44)","v":"* group[=].element[=].target.comment = ##34#see group 2##34#"}]
[null,{"$f":"IF('Medicine-ConceptMap-1'!S45=0,\"//---END\",'Medicine-ConceptMap-1'!S45)","v":"* group[=].element[+].code = #Medicine.strength"}]
[null,{"$f":"IF('Medicine-ConceptMap-1'!S46=0,\"//---END\",'Medicine-ConceptMap-1'!S46)","v":"* group[=].element[=].display = ##34#A.2.4.1.5 Strength##34#"}]
[null,{"$f":"IF('Medicine-ConceptMap-1'!S47=0,\"//---END\",'Medicine-ConceptMap-1'!S47)","v":"* group[=].element[=].target.code = #MedicationStatement.medication[x]"}]
[null,{"$f":"IF('Medicine-ConceptMap-1'!S48=0,\"//---END\",'Medicine-ConceptMap-1'!S48)","v":"* group[=].element[=].target.display = ##34###34#"}]
[null,{"$f":"IF('Medicine-ConceptMap-1'!S49=0,\"//---END\",'Medicine-ConceptMap-1'!S49)","v":"* group[=].element[=].target.equivalence = #equivalent"}]
[null,{"$f":"IF('Medicine-ConceptMap-1'!S50=0,\"//---END\",'Medicine-ConceptMap-1'!S50)","v":"* group[=].element[=].target.comment = ##34#see group 2##34#"}]
[null,{"$f":"IF('Medicine-ConceptMap-1'!S51=0,\"//---END\",'Medicine-ConceptMap-1'!S51)","v":"* group[=].element[+].code = #Medicine.doseForm"}]
[null,{"$f":"IF('Medicine-ConceptMap-1'!S52=0,\"//---END\",'Medicine-ConceptMap-1'!S52)","v":"* group[=].element[=].display = ##34#A.2.4.1.6 Pharmaceutical dose form##34#"}]
[null,{"$f":"IF('Medicine-ConceptMap-1'!S53=0,\"//---END\",'Medicine-ConceptMap-1'!S53)","v":"* group[=].element[=].target.code = #MedicationStatement.medication[x]"}]
[null,{"$f":"IF('Medicine-ConceptMap-1'!S54=0,\"//---END\",'Medicine-ConceptMap-1'!S54)","v":"* group[=].element[=].target.display = ##34###34#"}]
[null,{"$f":"IF('Medicine-ConceptMap-1'!S55=0,\"//---END\",'Medicine-ConceptMap-1'!S55)","v":"* group[=].element[=].target.equivalence = #equivalent"}]
[null,{"$f":"IF('Medicine-ConceptMap-1'!S56=0,\"//---END\",'Medicine-ConceptMap-1'!S56)","v":"* group[=].element[=].target.comment = ##34#see group 2##34#"}]
[null,{"$f":"IF('Medicine-ConceptMap-1'!S57=0,\"//---END\",'Medicine-ConceptMap-1'!S57)","v":"* group[=].element[+].code = #Medicine.dosageRegimen"}]
[null,{"$f":"IF('Medicine-ConceptMap-1'!S58=0,\"//---END\",'Medicine-ConceptMap-1'!S58)","v":"* group[=].element[=].display = ##34#A.2.4.1.7 Dosage Regimen##34#"}]
[null,{"$f":"IF('Medicine-ConceptMap-1'!S59=0,\"//---END\",'Medicine-ConceptMap-1'!S59)","v":"* group[=].element[=].target.code = #MedicationStatement.dosage"}]
[null,{"$f":"IF('Medicine-ConceptMap-1'!S60=0,\"//---END\",'Medicine-ConceptMap-1'!S60)","v":"* group[=].element[=].target.display = ##34###34#"}]
[null,{"$f":"IF('Medicine-ConceptMap-1'!S61=0,\"//---END\",'Medicine-ConceptMap-1'!S61)","v":"* group[=].element[=].target.equivalence = #relatedto"}]
[null,{"$f":"IF('Medicine-ConceptMap-1'!S62=0,\"//---END\",'Medicine-ConceptMap-1'!S62)","v":""}]
[null,{"$f":"IF('Medicine-ConceptMap-1'!S63=0,\"//---END\",'Medicine-ConceptMap-1'!S63)","v":"* group[=].element[+].code = #Medicine.route"}]
[null,{"$f":"IF('Medicine-ConceptMap-1'!S64=0,\"//---END\",'Medicine-ConceptMap-1'!S64)","v":"* group[=].element[=].display = ##34#A.2.4.1.8 Route of administration##34#"}]
[null,{"$f":"IF('Medicine-ConceptMap-1'!S65=0,\"//---END\",'Medicine-ConceptMap-1'!S65)","v":"* group[=].element[=].target.code = #MedicationStatement.dosage.route"}]
[null,{"$f":"IF('Medicine-ConceptMap-1'!S66=0,\"//---END\",'Medicine-ConceptMap-1'!S66)","v":"* group[=].element[=].target.display = ##34###34#"}]
[null,{"$f":"IF('Medicine-ConceptMap-1'!S67=0,\"//---END\",'Medicine-ConceptMap-1'!S67)","v":"* group[=].element[=].target.equivalence = #relatedto"}]
[null,{"$f":"IF('Medicine-ConceptMap-1'!S68=0,\"//---END\",'Medicine-ConceptMap-1'!S68)","v":""}]
[null,{"$f":"IF('Medicine-ConceptMap-1'!S69=0,\"//---END\",'Medicine-ConceptMap-1'!S69)","v":"* group[=].element[+].code = #Medicine.onsetDate"}]
[null,{"$f":"IF('Medicine-ConceptMap-1'!S70=0,\"//---END\",'Medicine-ConceptMap-1'!S70)","v":"* group[=].element[=].display = ##34#A.2.4.1.9 Date of onset of treatment##34#"}]
[null,{"$f":"IF('Medicine-ConceptMap-1'!S71=0,\"//---END\",'Medicine-ConceptMap-1'!S71)","v":"* group[=].element[=].target.code = #MedicationStatement.effectivePeriod.start"}]
[null,{"$f":"IF('Medicine-ConceptMap-1'!S72=0,\"//---END\",'Medicine-ConceptMap-1'!S72)","v":"* group[=].element[=].target.display = ##34###34#"}]
[null,{"$f":"IF('Medicine-ConceptMap-1'!S73=0,\"//---END\",'Medicine-ConceptMap-1'!S73)","v":"* group[=].element[=].target.equivalence = #equivalent"}]
[null,{"$f":"IF('Medicine-ConceptMap-1'!S74=0,\"//---END\",'Medicine-ConceptMap-1'!S74)","v":""}]
[null,{"$f":"IF('Medicine-ConceptMap-1'!S75=0,\"//---END\",'Medicine-ConceptMap-1'!S75)","v":"//---END"}]
[null,{"$f":"IF('Medicine-ConceptMap-1'!S76=0,\"//---END\",'Medicine-ConceptMap-1'!S76)","v":"//---END"}]
[null,{"$f":"IF('Medicine-ConceptMap-1'!S77=0,\"//---END\",'Medicine-ConceptMap-1'!S77)","v":"//---END"}]
[null,{"$f":"IF('Medicine-ConceptMap-1'!S78=0,\"//---END\",'Medicine-ConceptMap-1'!S78)","v":"//---END"}]
[]
[]
[null,{"$f":"\"* group[+].source = ##34#\"&'Medicine-ConceptMap-2'!E6&\"##34#\"","v":"* group[+].source = ##34#http://hl7.eu/fhir/ig/xpandh/ps/StructureDefinition/Medicine##34#"}]
[null,{"$f":"\"* group[=].target = ##34#\"&'Medicine-ConceptMap-2'!E7&\"##34#\"","v":"* group[=].target = ##34#http://hl7.eu/fhir/ig/xpandh/ps/StructureDefinition/Medication-ps-xpandh##34#"}]
[]
[null,{"$f":"IF('Medicine-ConceptMap-2'!S15=0,\"//---END\",'Medicine-ConceptMap-2'!S15)","v":"* group[=].element[+].code = #Medicine.productName"}]
[null,{"$f":"IF('Medicine-ConceptMap-2'!S16=0,\"//---END\",'Medicine-ConceptMap-2'!S16)","v":"* group[=].element[=].display = ##34#A.2.4.1.3 Brand name##34#"}]
[null,{"$f":"IF('Medicine-ConceptMap-2'!S17=0,\"//---END\",'Medicine-ConceptMap-2'!S17)","v":"* group[=].element[=].target.code = #Medication.code.text"}]
[null,{"$f":"IF('Medicine-ConceptMap-2'!S18=0,\"//---END\",'Medicine-ConceptMap-2'!S18)","v":"* group[=].element[=].target.display = ##34###34#"}]
[null,{"$f":"IF('Medicine-ConceptMap-2'!S19=0,\"//---END\",'Medicine-ConceptMap-2'!S19)","v":"* group[=].element[=].target.equivalence = #relatedto"}]
[null,{"$f":"IF('Medicine-ConceptMap-2'!S20=0,\"//---END\",'Medicine-ConceptMap-2'!S20)","v":""}]
[null,{"$f":"IF('Medicine-ConceptMap-2'!S21=0,\"//---END\",'Medicine-ConceptMap-2'!S21)","v":"* group[=].element[+].code = #Medicine.activeIngredient"}]
[null,{"$f":"IF('Medicine-ConceptMap-2'!S22=0,\"//---END\",'Medicine-ConceptMap-2'!S22)","v":"* group[=].element[=].display = ##34#A.2.4.1.4 Active ingredient lists##34#"}]
[null,{"$f":"IF('Medicine-ConceptMap-2'!S23=0,\"//---END\",'Medicine-ConceptMap-2'!S23)","v":"* group[=].element[=].target.code = #Medication.ingredient.itemCodeableConcept"}]
[null,{"$f":"IF('Medicine-ConceptMap-2'!S24=0,\"//---END\",'Medicine-ConceptMap-2'!S24)","v":"* group[=].element[=].target.display = ##34###34#"}]
[null,{"$f":"IF('Medicine-ConceptMap-2'!S25=0,\"//---END\",'Medicine-ConceptMap-2'!S25)","v":"* group[=].element[=].target.equivalence = #equivalent"}]
[null,{"$f":"IF('Medicine-ConceptMap-2'!S26=0,\"//---END\",'Medicine-ConceptMap-2'!S26)","v":"* group[=].element[=].target.comment = ##34#where ingredient.isActive = true##34#"}]
[null,{"$f":"IF('Medicine-ConceptMap-2'!S27=0,\"//---END\",'Medicine-ConceptMap-2'!S27)","v":"* group[=].element[+].code = #Medicine.strength"}]
[null,{"$f":"IF('Medicine-ConceptMap-2'!S28=0,\"//---END\",'Medicine-ConceptMap-2'!S28)","v":"* group[=].element[=].display = ##34#A.2.4.1.5 Strength##34#"}]
[null,{"$f":"IF('Medicine-ConceptMap-2'!S29=0,\"//---END\",'Medicine-ConceptMap-2'!S29)","v":"* group[=].element[=].target.code = #Medication.ingredient.strength"}]
[null,{"$f":"IF('Medicine-ConceptMap-2'!S30=0,\"//---END\",'Medicine-ConceptMap-2'!S30)","v":"* group[=].element[=].target.display = ##34###34#"}]
[null,{"$f":"IF('Medicine-ConceptMap-2'!S31=0,\"//---END\",'Medicine-ConceptMap-2'!S31)","v":"* group[=].element[=].target.equivalence = #equivalent"}]
[null,{"$f":"IF('Medicine-ConceptMap-2'!S32=0,\"//---END\",'Medicine-ConceptMap-2'!S32)","v":"* group[=].element[=].target.comment = ##34#where ingredient.isActive = true##34#"}]
[null,{"$f":"IF('Medicine-ConceptMap-2'!S33=0,\"//---END\",'Medicine-ConceptMap-2'!S33)","v":"* group[=].element[+].code = #Medicine.doseForm"}]
[null,{"$f":"IF('Medicine-ConceptMap-2'!S34=0,\"//---END\",'Medicine-ConceptMap-2'!S34)","v":"* group[=].element[=].display = ##34#A.2.4.1.6 Pharmaceutical dose form##34#"}]
[null,{"$f":"IF('Medicine-ConceptMap-2'!S35=0,\"//---END\",'Medicine-ConceptMap-2'!S35)","v":"* group[=].element[=].target.code = #Medication.form"}]
[null,{"$f":"IF('Medicine-ConceptMap-2'!S36=0,\"//---END\",'Medicine-ConceptMap-2'!S36)","v":"* group[=].element[=].target.display = ##34###34#"}]
[null,{"$f":"IF('Medicine-ConceptMap-2'!S37=0,\"//---END\",'Medicine-ConceptMap-2'!S37)","v":"* group[=].element[=].target.equivalence = #equivalent"}]
[null,{"$f":"IF('Medicine-ConceptMap-2'!S38=0,\"//---END\",'Medicine-ConceptMap-2'!S38)","v":""}]
[null,{"$f":"IF('Medicine-ConceptMap-2'!S39=0,\"//---END\",'Medicine-ConceptMap-2'!S39)","v":"//---END"}]
[null,{"$f":"IF('Medicine-ConceptMap-2'!S40=0,\"//---END\",'Medicine-ConceptMap-2'!S40)","v":"//---END"}]
[null,{"$f":"IF('Medicine-ConceptMap-2'!S41=0,\"//---END\",'Medicine-ConceptMap-2'!S41)","v":"//---END"}]

{"sheet":"A.2.2.1 Vaccination","index":42,"n_rows":41,"n_cols":9,"rows_kept":41,"cut":false,"hidden":false,"merged":[[28,2,28,5]]}
[null,null,null,null,null,null,null,null,"// -------------------------------------------------------------------------------"]
[null,null,null,null,null,null,null,null,"//  Logical Model"]
[null,null,null,null,null,null,null,null,{"$f":"I1","v":"// -------------------------------------------------------------------------------"}]
["Name","VaccinationPsEhn",null,null,null,null,null,null,{"$f":"CONCATENATE(\"Logical: \",B4)","v":"Logical: VaccinationPsEhn"}]
["Id","Vaccination",null,null,null,null,null,null,{"$f":"CONCATENATE(\"Id: \",B5)","v":"Id: Vaccination"}]
["Title","A.2.2.1 - Vaccination/ prophylaxis information",null,null,null,null,null,null,{"$f":"CONCATENATE(\"Title: ##34#\",B6,\"##34#\")","v":"Title: ##34#A.2.2.1 - Vaccination/ prophylaxis information##34#"}]
["Description"," Vaccination/ prophylaxis information. Sections A2.2.2.1 of the eHN guideline.",null,null,null,"max","dataType",null,{"$f":"CONCATENATE(\"Description: \",\" ##334#\",B7,\"##334#\",)","v":"Description:  ##334# Vaccination/ prophylaxis information. Sections A2.2.2.1 of the eHN guideline.##334#"}]
[1,"targetDisease","A.2.2.1.1 Disease or agent targeted","Disease or agent that the vaccination provides protection against - Preferred system(s):  ICD-10*, SNOMED CT GPS",0,"*","CodeableConcept",null,{"$f":"CONCATENATE(\"* \",B8, \" \",E8,\"..\",F8,\" \",G8,\" ##34#\",C8,\"##34# ##334#\",D8,\"##334#\")","v":"* targetDisease 0..* CodeableConcept ##34#A.2.2.1.1 Disease or agent targeted##34# ##334#Disease or agent that the vaccination provides protection against - Preferred system(s):  ICD-10*, SNOMED CT GPS##334#"}]
[2,"vaccine","A.2.2.1.2 Vaccine/prophylaxis","Generic description of the vaccine/prophylaxis or its component(s) - Preferred system(s): SNOMED CT GPS ATC* (IDMP, when available)",0,"*","CodeableConcept",null,{"$f":"CONCATENATE(\"* \",B9, \" \",E9,\"..\",F9,\" \",G9,\" ##34#\",C9,\"##34# ##334#\",D9,\"##334#\")","v":"* vaccine 0..* CodeableConcept ##34#A.2.2.1.2 Vaccine/prophylaxis##34# ##334#Generic description of the vaccine/prophylaxis or its component(s) - Preferred system(s): SNOMED CT GPS ATC* (IDMP, when available)##334#"}]
[3,"productName","A.2.2.1.3 Vaccine medicinal product name","Brand name of the vaccine medicinal product.z",0,"*","string",null,"* productName 0..* string ##34#A.2.2.1.3 Vaccine medicinal product name##34# ##334#Brand name of the vaccine medicinal product.z##334#"]
[4,"productId","A.2.2.1.3.1 Identifier of the vaccine medicinal product","Identifier for the vaccine medicinal product. It could be MPID according to ISO 11615, EMA PMS ID and/or a national identifier. EMA PMS",0,"*","CodeableConcept",null,"* productId 0..* CodeableConcept ##34#A.2.2.1.3.1 Identifier of the vaccine medicinal product##34# ##334#Identifier for the vaccine medicinal product. It could be MPID according to ISO 11615, EMA PMS ID and/or a national identifier. EMA PMS##334#"]
[5,"marketingAuthorisationHolder","A.2.2.1.4 Marketing Autorisation Holder","Marketing Authorisation Holder EMA's Organisations System data (SPOR)",0,"*","CodeableConcept",null,"* marketingAuthorisationHolder 0..* CodeableConcept ##34#A.2.2.1.4 Marketing Autorisation Holder##34# ##334#Marketing Authorisation Holder EMA's Organisations System data (SPOR)##334#"]
[6,"numberInSeries","A.2.2.1.5 Number in a series of vaccinations/doses","Vaccination in the vaccination course",0,"*","BackboneElement",null,"* numberInSeries 0..* BackboneElement ##34#A.2.2.1.5 Number in a series of vaccinations/doses##34# ##334#Vaccination in the vaccination course##334#"]
[7,"batchNumber","A.2.2.1.6 Batch/lot number","A distinctive combination of numbers and/or letters which specifically identifies a batch",0,"*","string",null,"* batchNumber 0..* string ##34#A.2.2.1.6 Batch/lot number##34# ##334#A distinctive combination of numbers and/or letters which specifically identifies a batch##334#"]
[8,"dateOfVaccination","A.2.2.1.7 Date of vaccination","The date when the vaccination was administered - Preferred system(s): ISO 8601",0,"*","dateTime",null,"* dateOfVaccination 0..* dateTime ##34#A.2.2.1.7 Date of vaccination##34# ##334#The date when the vaccination was administered - Preferred system(s): ISO 8601##334#"]
[9,"administeringCentre","A.2.2.1.8 Administering centre","Name/code of administering centre or a health authority responsible for the vaccination event",0,"*","Organization",null,"* administeringCentre 0..* Organization ##34#A.2.2.1.8 Administering centre##34# ##334#Name/code of administering centre or a health authority responsible for the vaccination event##334#"]
[10,"healthProfessionalId","A.2.2.1.9 Health Professional identification","Name or health professional code responsible for administering the vaccine or prophylaxis",0,"*","identifier",null,"* healthProfessionalId 0..* identifier ##34#A.2.2.1.9 Health Professional identification##34# ##334#Name or health professional code responsible for administering the vaccine or prophylaxis##334#"]
[11,"countryOfVaccination","A.2.2.1.10 Country of vaccination","The country in which the individual has been vaccinated - Preferred system(s): ISO 3166",0,"*","CodeableConcept",null,"* countryOfVaccination 0..* CodeableConcept ##34#A.2.2.1.10 Country of vaccination##34# ##334#The country in which the individual has been vaccinated - Preferred system(s): ISO 3166##334#"]
[12,"dateOfNextVaccination","A.2.2.1.11 Next vaccination date","The date when the vaccination is planned to be given/repeated (e.g. next dose) - Preferred system(s): ISO 8601",0,"*","dateTime",null,"* dateOfNextVaccination 0..* dateTime ##34#A.2.2.1.11 Next vaccination date##34# ##334#The date when the vaccination is planned to be given/repeated (e.g. next dose) - Preferred system(s): ISO 8601##334#"]
[null,null,null,null,null,null,null,null,"*  ..  ##34###34# ##334###334#"]
[null,null,null,null,null,null,null,null,"*  ..  ##34###34# ##334###334#"]
[null,null,null,null,null,null,null,null,"*  ..  ##34###34# ##334###334#"]
[null,null,null,null,null,null,null,null,"*  ..  ##34###34# ##334###334#"]
[null,null,null,null,null,null,null,null,"*  ..  ##34###34# ##334###334#"]
[]
[]
[]
[]
[]
[null,{"$f":"CONCATENATE(C30,\" \",D30)","v":"A.2.2.1.1 Disease or agent targeted"},"A.2.2.1.1","Disease or agent targeted","Disease or agent that the vaccination provides protection against ICD-10*","SNOMED CT GPS"]
[null,"A.2.2.1.2 Vaccine/prophylaxis","A.2.2.1.2","Vaccine/prophylaxis","Generic description of the vaccine/prophylaxis or its component(s)","SNOMED CT GPS ATC* (IDMP, when available)"]
[null,"A.2.2.1.3 Vaccine medicinal product name","A.2.2.1.3","Vaccine medicinal product name","Brand name of the vaccine medicinal product.z",null,null,null,{"$f":"CONCATENATE(E32,\" - Preferred system(s): \",F32)","v":"Brand name of the vaccine medicinal product.z - Preferred system(s): "}]
[null,"A.2.2.1.3.1 Identifier of the vaccine medicinal product","A.2.2.1.3.1","Identifier of the vaccine medicinal product","Identifier for the vaccine medicinal product. It could be MPID according to ISO 11615, EMA PMS ID and/or a national identifier. EMA PMS",null,null,null,"Identifier for the vaccine medicinal product. It could be MPID according to ISO 11615, EMA PMS ID and/or a national identifier. EMA PMS - Preferred system(s): "]
[null,"A.2.2.1.4 Marketing Autorisation Holder","A.2.2.1.4","Marketing Autorisation Holder","Marketing Authorisation Holder EMA's Organisations System data (SPOR)",null,null,null,"Marketing Authorisation Holder EMA's Organisations System data (SPOR) - Preferred system(s): "]
[null,"A.2.2.1.5 Number in a series of vaccinations/doses","A.2.2.1.5","Number in a series of vaccinations/doses","Vaccination in the vaccination course",null,null,null,"Vaccination in the vaccination course - Preferred system(s): "]
[null,"A.2.2.1.6 Batch/lot number","A.2.2.1.6","Batch/lot number","A distinctive combination of numbers and/or letters which specifically identifies a batch"]
[null,"A.2.2.1.7 Date of vaccination","A.2.2.1.7","Date of vaccination","The date when the vaccination was administered","ISO 8601",null,null,"The date when the vaccination was administered - Preferred system(s): ISO 8601"]
[null,"A.2.2.1.8 Administering centre","A.2.2.1.8","Administering centre","Name/code of administering centre or a health authority responsible for the vaccination event",null,null,null,"Name/code of administering centre or a health authority responsible for the vaccination event - Preferred system(s): "]
[null,"A.2.2.1.9 Health Professional identification","A.2.2.1.9","Health Professional identification","Name or health professional code responsible for administering the vaccine or prophylaxis",null,null,null,"Name or health professional code responsible for administering the vaccine or prophylaxis - Preferred system(s): "]
[null,"A.2.2.1.10 Country of vaccination","A.2.2.1.10","Country of vaccination","The country in which the individual has been vaccinated","ISO 3166",null,null,"The country in which the individual has been vaccinated - Preferred system(s): ISO 3166"]
[null,"A.2.2.1.11 Next vaccination date","A.2.2.1.11","Next vaccination date","The date when the vaccination is planned to be given/repeated (e.g. next dose)","ISO 8601",null,null,"The date when the vaccination is planned to be given/repeated (e.g. next dose) - Preferred system(s): ISO 8601"]

{"sheet":"Vaccination-fsh","index":43,"n_rows":24,"n_cols":7,"rows_kept":24,"cut":false,"hidden":false,"merged":[]}
[null,null,{"$f":"'A.2.2.1 Vaccination'!I1","v":"// -------------------------------------------------------------------------------"}]
[null,null,{"$f":"'A.2.2.1 Vaccination'!I2","v":"//  Logical Model"},null,null,null,"ps-vaccination.fsh"]
[null,null,{"$f":"'A.2.2.1 Vaccination'!I3","v":"// -------------------------------------------------------------------------------"}]
[null,null,{"$f":"'A.2.2.1 Vaccination'!I4","v":"Logical: VaccinationPsEhn"}]
[null,null,{"$f":"'A.2.2.1 Vaccination'!I5","v":"Id: Vaccination"}]
[null,null,{"$f":"'A.2.2.1 Vaccination'!I6","v":"Title: ##34#A.2.2.1 - Vaccination/ prophylaxis information##34#"}]
[null,null,{"$f":"'A.2.2.1 Vaccination'!I7","v":"Description:  ##334# Vaccination/ prophylaxis information. Sections A2.2.2.1 of the eHN guideline.##334#"}]
[null,null,{"$f":"IF('A.2.2.1 Vaccination'!I8=\"*  ..  ##34###34# ##334###334#\",\"//--- END\",'A.2.2.1 Vaccination'!I8)","v":"* targetDisease 0..* CodeableConcept ##34#A.2.2.1.1 Disease or agent targeted##34# ##334#Disease or agent that the vaccination provides protection against - Preferred system(s):  ICD-10*, SNOMED CT GPS##334#"}]
[null,null,{"$f":"IF('A.2.2.1 Vaccination'!I9=\"*  ..  ##34###34# ##334###334#\",\"//--- END\",'A.2.2.1 Vaccination'!I9)","v":"* vaccine 0..* CodeableConcept ##34#A.2.2.1.2 Vaccine/prophylaxis##34# ##334#Generic description of the vaccine/prophylaxis or its component(s) - Preferred system(s): SNOMED CT GPS ATC* (IDMP, when available)##334#"}]
[null,null,{"$f":"IF('A.2.2.1 Vaccination'!I10=\"*  ..  ##34###34# ##334###334#\",\"//--- END\",'A.2.2.1 Vaccination'!I10)","v":"* productName 0..* string ##34#A.2.2.1.3 Vaccine medicinal product name##34# ##334#Brand name of the vaccine medicinal product.z##334#"},null," "]
[null,null,{"$f":"IF('A.2.2.1 Vaccination'!I11=\"*  ..  ##34###34# ##334###334#\",\"//--- END\",'A.2.2.1 Vaccination'!I11)","v":"* productId 0..* CodeableConcept ##34#A.2.2.1.3.1 Identifier of the vaccine medicinal product##34# ##334#Identifier for the vaccine medicinal product. It could be MPID according to ISO 11615, EMA PMS ID and/or a national identifier. EMA PMS##334#"}]
[null,null,{"$f":"IF('A.2.2.1 Vaccination'!I12=\"*  ..  ##34###34# ##334###334#\",\"//--- END\",'A.2.2.1 Vaccination'!I12)","v":"* marketingAuthorisationHolder 0..* CodeableConcept ##34#A.2.2.1.4 Marketing Autorisation Holder##34# ##334#Marketing Authorisation Holder EMA's Organisations System data (SPOR)##334#"}]
[null,null,{"$f":"IF('A.2.2.1 Vaccination'!I13=\"*  ..  ##34###34# ##334###334#\",\"//--- END\",'A.2.2.1 Vaccination'!I13)","v":"* numberInSeries 0..* BackboneElement ##34#A.2.2.1.5 Number in a series of vaccinations/doses##34# ##334#Vaccination in the vaccination course##334#"}]
[null,null,{"$f":"IF('A.2.2.1 Vaccination'!I14=\"*  ..  ##34###34# ##334###334#\",\"//--- END\",'A.2.2.1 Vaccination'!I14)","v":"* batchNumber 0..* string ##34#A.2.2.1.6 Batch/lot number##34# ##334#A distinctive combination of numbers and/or letters which specifically identifies a batch##334#"}]
[null,null,{"$f":"IF('A.2.2.1 Vaccination'!I15=\"*  ..  ##34###34# ##334###334#\",\"//--- END\",'A.2.2.1 Vaccination'!I15)","v":"* dateOfVaccination 0..* dateTime ##34#A.2.2.1.7 Date of vaccination##34# ##334#The date when the vaccination was administered - Preferred system(s): ISO 8601##334#"}]
[null,null,{"$f":"IF('A.2.2.1 Vaccination'!I16=\"*  ..  ##34###34# ##334###334#\",\"//--- END\",'A.2.2.1 Vaccination'!I16)","v":"* administeringCentre 0..* Organization ##34#A.2.2.1.8 Administering centre##34# ##334#Name/code of administering centre or a health authority responsible for the vaccination event##334#"}]
[null,null,{"$f":"IF('A.2.2.1 Vaccination'!I17=\"*  ..  ##34###34# ##334###334#\",\"//--- END\",'A.2.2.1 Vaccination'!I17)","v":"* healthProfessionalId 0..* identifier ##34#A.2.2.1.9 Health Professional identification##34# ##334#Name or health professional code responsible for administering the vaccine or prophylaxis##334#"}]
[null,null,{"$f":"IF('A.2.2.1 Vaccination'!I18=\"*  ..  ##34###34# ##334###334#\",\"//--- END\",'A.2.2.1 Vaccination'!I18)","v":"* countryOfVaccination 0..* CodeableConcept ##34#A.2.2.1.10 Country of vaccination##34# ##334#The country in which the individual has been vaccinated - Preferred system(s): ISO 3166##334#"}]
[null,null,{"$f":"IF('A.2.2.1 Vaccination'!I19=\"*  ..  ##34###34# ##334###334#\",\"//--- END\",'A.2.2.1 Vaccination'!I19)","v":"* dateOfNextVaccination 0..* dateTime ##34#A.2.2.1.11 Next vaccination date##34# ##334#The date when the vaccination is planned to be given/repeated (e.g. next dose) - Preferred system(s): ISO 8601##334#"}]
[null,null,{"$f":"IF('A.2.2.1 Vaccination'!I20=\"*  ..  ##34###34# ##334###334#\",\"//--- END\",'A.2.2.1 Vaccination'!I20)","v":"//--- END"}]
[null,null,{"$f":"IF('A.2.2.1 Vaccination'!I21=\"*  ..  ##34###34# ##334###334#\",\"//--- END\",'A.2.2.1 Vaccination'!I21)","v":"//--- END"}]
[null,null,{"$f":"IF('A.2.2.1 Vaccination'!I22=\"*  ..  ##34###34# ##334###334#\",\"//--- END\",'A.2.2.1 Vaccination'!I22)","v":"//--- END"}]
[null,null,{"$f":"IF('A.2.2.1 Vaccination'!I23=\"*  ..  ##34###34# ##334###334#\",\"//--- END\",'A.2.2.1 Vaccination'!I23)","v":"//--- END"}]
[null,null,{"$f":"IF('A.2.2.1 Vaccination'!I24=\"*  ..  ##34###34# ##334###334#\",\"//--- END\",'A.2.2.1 Vaccination'!I24)","v":"//--- END"}]

{"sheet":"Vaccination-ConceptMap-1","index":44,"n_rows":102,"n_cols":19,"rows_kept":102,"cut":false,"hidden":false,"merged":[[5,4,5,6],[6,4,6,6],[3,4,3,6]]}
[]
[]
[null,"Mapping","Vaccination2Fhir","Source URI",{"$f":"\"http://hl7.eu/fhir/ig/xpandh/ps/StructureDefinition/\"&'A.2.2.1 Vaccination'!B5","v":"http://hl7.eu/fhir/ig/xpandh/ps/StructureDefinition/Vaccination"}]
[null,"Id","vaccination2FHIR-eu-ps","Target URI","http://hl7.eu/fhir/ig/xpandh/ps/StructureDefinition/Immunization-ps-eu-xpandh"]
[null,"Title","eHN Vaccination to this guide Map"]
[null,"Source","http://hl7.eu/fhir/ig/xpandh/ps/StructureDefinition/PatientSummary","Source Group",{"$f":"E3","v":"http://hl7.eu/fhir/ig/xpandh/ps/StructureDefinition/Vaccination"}]
[null,"Target","http://hl7.eu/fhir/ig/xpandh/ps","Target Group","http://hl7.eu/fhir/ig/xpandh/ps/StructureDefinition/Immunization-ps-eu-xpandh"]
[null,"description","eHN Vaccination infos to this guide Map",null,null,null,null,null,"* group[=].element[+].code = #Osiris.Patient.BirthDate","* group[=].element[=].display = \"Birth Date [C4]\"","* group[=].element[=].target.code = #Subject.dateOfBirth.date","* group[=].element[=].target.display = \"Date of birth\"","* group[=].element[=].target.equivalence = #equivalent",null,null,"Elements",6]
[null,"purpose","It shows how the Vaccination data set defined by the EU eHN guidelines is mapped into this guide"]
[]
[null,null,null,null,null,null,null,null,"source:code","source:display","code","display","target to source","Comment"]
[]
[null,null,null,null,null,"target to source","Comment"]
[null,{"$f":"'A.2.2.1 Vaccination'!B5","v":"Vaccination"},null,"Immunization"]
[null,{"$f":"'A.2.2.1 Vaccination'!B8","v":"targetDisease"},{"$f":"'A.2.2.1 Vaccination'!C8","v":"A.2.2.1.1 Disease or agent targeted"},"protocolApplied.targetDisease",null,"equivalent",null,null,{"$f":"\"* group[=].element[+].code = #\"&$B$14&\".\"&B15","v":"* group[=].element[+].code = #Vaccination.targetDisease"},{"$f":"\"* group[=].element[=].display = ##34#\"&C15&\"##34#\"","v":"* group[=].element[=].display = ##34#A.2.2.1.1 Disease or agent targeted##34#"},{"$f":"IF(F15=\"unmatched\",\"//-- unmatched\",IF(D15=\"\",\"* group[=].element[=].target.code = #\"&$D$14,\"* group[=].element[=].target.code = #\"&$D$14&\".\"&D15))","v":"* group[=].element[=].target.code = #Immunization.protocolApplied.targetDisease"},{"$f":"IF(F15=\"unmatched\",\"//-- unmatched\",\"* group[=].element[=].target.display = ##34#\"&E15&\"##34#\")","v":"* group[=].element[=].target.display = ##34###34#"},{"$f":"\"* group[=].element[=].target.equivalence = #\"&F15","v":"* group[=].element[=].target.equivalence = #equivalent"},{"$f":"IF(G15<>\"\",CONCATENATE(\"* group[=].element[=].target.comment = \",\"##34#\",G15,\"##34#\"),\"\")","v":""},null,1,{"$f":"IF(MOD(P15,$Q$8)=0,P15/$Q$8-1,INT(P15/$Q$8))","v":0},{"$f":"IF(MOD(P15,$Q$8)=0,$Q$8,MOD(P15,$Q$8))","v":1},{"$f":"INDEX('Vaccination-ConceptMap-1'!$I$15:$N$180,Q15+1,R15)","v":"* group[=].element[+].code = #Vaccination.targetDisease"}]
[null,{"$f":"'A.2.2.1 Vaccination'!B9","v":"vaccine"},{"$f":"'A.2.2.1 Vaccination'!C9","v":"A.2.2.1.2 Vaccine/prophylaxis"},"vaccineCode",null,"equivalent",null,null,{"$f":"\"* group[=].element[+].code = #\"&$B$14&\".\"&B16","v":"* group[=].element[+].code = #Vaccination.vaccine"},{"$f":"\"* group[=].element[=].display = ##34#\"&C16&\"##34#\"","v":"* group[=].element[=].display = ##34#A.2.2.1.2 Vaccine/prophylaxis##34#"},{"$f":"IF(F16=\"unmatched\",\"//-- unmatched\",IF(D16=\"\",\"* group[=].element[=].target.code = #\"&$D$14,\"* group[=].element[=].target.code = #\"&$D$14&\".\"&D16))","v":"* group[=].element[=].target.code = #Immunization.vaccineCode"},{"$f":"IF(F16=\"unmatched\",\"//-- unmatched\",\"* group[=].element[=].target.display = ##34#\"&E16&\"##34#\")","v":"* group[=].element[=].target.display = ##34###34#"},{"$f":"\"* group[=].element[=].target.equivalence = #\"&F16","v":"* group[=].element[=].target.equivalence = #equivalent"},{"$f":"IF(G16<>\"\",CONCATENATE(\"* group[=].element[=].target.comment = \",\"##34#\",G16,\"##34#\"),\"\")","v":""},null,2,{"$f":"IF(MOD(P16,$Q$8)=0,P16/$Q$8-1,INT(P16/$Q$8))","v":0},{"$f":"IF(MOD(P16,$Q$8)=0,$Q$8,MOD(P16,$Q$8))","v":2},{"$f":"INDEX('Vaccination-ConceptMap-1'!$I$15:$N$180,Q16+1,R16)","v":"* group[=].element[=].display = ##34#A.2.2.1.1 Disease or agent targeted##34#"}]
[null,{"$f":"'A.2.2.1 Vaccination'!B10","v":"productName"},{"$f":"'A.2.2.1 Vaccination'!C10","v":"A.2.2.1.3 Vaccine medicinal product name"},"extension:administeredProduct.extension[concept].valueCodeableConcept.text",null,"relatedto",null,null,{"$f":"\"* group[=].element[+].code = #\"&$B$14&\".\"&B17","v":"* group[=].element[+].code = #Vaccination.productName"},{"$f":"\"* group[=].element[=].display = ##34#\"&C17&\"##34#\"","v":"* group[=].element[=].display = ##34#A.2.2.1.3 Vaccine medicinal product name##34#"},{"$f":"IF(F17=\"unmatched\",\"//-- unmatched\",IF(D17=\"\",\"* group[=].element[=].target.code = #\"&$D$14,\"* group[=].element[=].target.code = #\"&$D$14&\".\"&D17))","v":"* group[=].element[=].target.code = #Immunization.extension:administeredProduct.extension[concept].valueCodeableConcept.text"},{"$f":"IF(F17=\"unmatched\",\"//-- unmatched\",\"* group[=].element[=].target.display = ##34#\"&E17&\"##34#\")","v":"* group[=].element[=].target.display = ##34###34#"},{"$f":"\"* group[=].element[=].target.equivalence = #\"&F17","v":"* group[=].element[=].target.equivalence = #relatedto"},{"$f":"IF(G17<>\"\",CONCATENATE(\"* group[=].element[=].target.comment = \",\"##34#\",G17,\"##34#\"),\"\")","v":""},null,3,0,3,{"$f":"INDEX('Vaccination-ConceptMap-1'!$I$15:$N$180,Q17+1,R17)","v":"* group[=].element[=].target.code = #Immunization.protocolApplied.targetDisease"}]
[null,{"$f":"'A.2.2.1 Vaccination'!B11","v":"productId"},{"$f":"'A.2.2.1 Vaccination'!C11","v":"A.2.2.1.3.1 Identifier of the vaccine medicinal product"},"extension:administeredProduct.extension[concept].valueCodeableConcept",null,"relatedto",null,null,"* group[=].element[+].code = #Vaccination.productId","* group[=].element[=].display = ##34#A.2.2.1.3.1 Identifier of the vaccine medicinal product##34#","* group[=].element[=].target.code = #Immunization.extension:administeredProduct.extension[concept].valueCodeableConcept","* group[=].element[=].target.display = ##34###34#","* group[=].element[=].target.equivalence = #relatedto","",null,4,0,4,{"$f":"INDEX('Vaccination-ConceptMap-1'!$I$15:$N$180,Q18+1,R18)","v":"* group[=].element[=].target.display = ##34###34#"}]
[null,{"$f":"'A.2.2.1 Vaccination'!B12","v":"marketingAuthorisationHolder"},{"$f":"'A.2.2.1 Vaccination'!C12","v":"A.2.2.1.4 Marketing Autorisation Holder"},"manufacturer",null,"relatedto",null,null,"* group[=].element[+].code = #Vaccination.marketingAuthorisationHolder","* group[=].element[=].display = ##34#A.2.2.1.4 Marketing Autorisation Holder##34#","* group[=].element[=].target.code = #Immunization.manufacturer","* group[=].element[=].target.display = ##34###34#","* group[=].element[=].target.equivalence = #relatedto","",null,5,0,5,{"$f":"INDEX('Vaccination-ConceptMap-1'!$I$15:$N$180,Q19+1,R19)","v":"* group[=].element[=].target.equivalence = #equivalent"}]
[null,{"$f":"'A.2.2.1 Vaccination'!B13","v":"numberInSeries"},{"$f":"'A.2.2.1 Vaccination'!C13","v":"A.2.2.1.5 Number in a series of vaccinations/doses"},"protocolApplied.doseNumber[x]",null,"relatedto","It is a combination of doseNumber and SeriesNumber",null,"* group[=].element[+].code = #Vaccination.numberInSeries","* group[=].element[=].display = ##34#A.2.2.1.5 Number in a series of vaccinations/doses##34#","* group[=].element[=].target.code = #Immunization.protocolApplied.doseNumber[x]","* group[=].element[=].target.display = ##34###34#","* group[=].element[=].target.equivalence = #relatedto","* group[=].element[=].target.comment = ##34#It is a combination of doseNumber and SeriesNumber##34#",null,6,0,6,{"$f":"INDEX('Vaccination-ConceptMap-1'!$I$15:$N$180,Q20+1,R20)","v":""}]
[null,{"$f":"'A.2.2.1 Vaccination'!B13","v":"numberInSeries"},{"$f":"'A.2.2.1 Vaccination'!C13","v":"A.2.2.1.5 Number in a series of vaccinations/doses"},"protocolApplied.seriesDoses[x]",null,"relatedto","It is a combination of doseNumber and SeriesNumber",null,"* group[=].element[+].code = #Vaccination.numberInSeries","* group[=].element[=].display = ##34#A.2.2.1.5 Number in a series of vaccinations/doses##34#","* group[=].element[=].target.code = #Immunization.protocolApplied.seriesDoses[x]","* group[=].element[=].target.display = ##34###34#","* group[=].element[=].target.equivalence = #relatedto","* group[=].element[=].target.comment = ##34#It is a combination of doseNumber and SeriesNumber##34#",null,7,1,1,{"$f":"INDEX('Vaccination-ConceptMap-1'!$I$15:$N$180,Q21+1,R21)","v":"* group[=].element[+].code = #Vaccination.vaccine"}]
[null,{"$f":"'A.2.2.1 Vaccination'!B14","v":"batchNumber"},{"$f":"'A.2.2.1 Vaccination'!C14","v":"A.2.2.1.6 Batch/lot number"},"lotNumber",null,"equivalent",null,null,"* group[=].element[+].code = #Vaccination.batchNumber","* group[=].element[=].display = ##34#A.2.2.1.6 Batch/lot number##34#","* group[=].element[=].target.code = #Immunization.lotNumber","* group[=].element[=].target.display = ##34###34#","* group[=].element[=].target.equivalence = #equivalent","",null,8,1,2,{"$f":"INDEX('Vaccination-ConceptMap-1'!$I$15:$N$180,Q22+1,R22)","v":"* group[=].element[=].display = ##34#A.2.2.1.2 Vaccine/prophylaxis##34#"}]
[null,{"$f":"'A.2.2.1 Vaccination'!B15","v":"dateOfVaccination"},{"$f":"'A.2.2.1 Vaccination'!C15","v":"A.2.2.1.7 Date of vaccination"},"occurrenceDateTime",null,"equivalent",null,null,"* group[=].element[+].code = #Vaccination.dateOfVaccination","* group[=].element[=].display = ##34#A.2.2.1.7 Date of vaccination##34#","* group[=].element[=].target.code = #Immunization.occurrenceDateTime","* group[=].element[=].target.display = ##34###34#","* group[=].element[=].target.equivalence = #equivalent","",null,9,1,3,{"$f":"INDEX('Vaccination-ConceptMap-1'!$I$15:$N$180,Q23+1,R23)","v":"* group[=].element[=].target.code = #Immunization.vaccineCode"}]
[null,{"$f":"'A.2.2.1 Vaccination'!B16","v":"administeringCentre"},{"$f":"'A.2.2.1 Vaccination'!C16","v":"A.2.2.1.8 Administering centre"},"performer.actor:administeringCentre",null,"relatedto","actor of type Organization. \nIf it is the organization performing the vaccination",null,"* group[=].element[+].code = #Vaccination.administeringCentre","* group[=].element[=].display = ##34#A.2.2.1.8 Administering centre##34#","* group[=].element[=].target.code = #Immunization.performer.actor:administeringCentre","* group[=].element[=].target.display = ##34###34#","* group[=].element[=].target.equivalence = #relatedto","* group[=].element[=].target.comment = ##34#actor of type Organization. \nIf it is the organization performing the vaccination##34#",null,10,1,4,{"$f":"INDEX('Vaccination-ConceptMap-1'!$I$15:$N$180,Q24+1,R24)","v":"* group[=].element[=].target.display = ##34###34#"}]
[null,{"$f":"'A.2.2.1 Vaccination'!B16","v":"administeringCentre"},{"$f":"'A.2.2.1 Vaccination'!C16","v":"A.2.2.1.8 Administering centre"},"location",null,"relatedto","If it refer to where the vaccianiton ttok place",null,"* group[=].element[+].code = #Vaccination.administeringCentre","* group[=].element[=].display = ##34#A.2.2.1.8 Administering centre##34#","* group[=].element[=].target.code = #Immunization.location","* group[=].element[=].target.display = ##34###34#","* group[=].element[=].target.equivalence = #relatedto","* group[=].element[=].target.comment = ##34#If it refer to where the vaccianiton ttok place##34#",null,11,1,5,{"$f":"INDEX('Vaccination-ConceptMap-1'!$I$15:$N$180,Q25+1,R25)","v":"* group[=].element[=].target.equivalence = #equivalent"}]
[null,{"$f":"'A.2.2.1 Vaccination'!B17","v":"healthProfessionalId"},{"$f":"'A.2.2.1 Vaccination'!C17","v":"A.2.2.1.9 Health Professional identification"},"performer.actor:administeringHp.identifier",null,"relatedto","actor of type PractitonerRole or Practitioner. ",null,"* group[=].element[+].code = #Vaccination.healthProfessionalId","* group[=].element[=].display = ##34#A.2.2.1.9 Health Professional identification##34#","* group[=].element[=].target.code = #Immunization.performer.actor:administeringHp.identifier","* group[=].element[=].target.display = ##34###34#","* group[=].element[=].target.equivalence = #relatedto","* group[=].element[=].target.comment = ##34#actor of type PractitonerRole or Practitioner. ##34#",null,12,1,6,{"$f":"INDEX('Vaccination-ConceptMap-1'!$I$15:$N$180,Q26+1,R26)","v":""}]
[null,{"$f":"'A.2.2.1 Vaccination'!B18","v":"countryOfVaccination"},{"$f":"'A.2.2.1 Vaccination'!C18","v":"A.2.2.1.10 Country of vaccination"},"location.address.country",null,"equivalent",null,null,"* group[=].element[+].code = #Vaccination.countryOfVaccination","* group[=].element[=].display = ##34#A.2.2.1.10 Country of vaccination##34#","* group[=].element[=].target.code = #Immunization.location.address.country","* group[=].element[=].target.display = ##34###34#","* group[=].element[=].target.equivalence = #equivalent","",null,13,2,1,{"$f":"INDEX('Vaccination-ConceptMap-1'!$I$15:$N$180,Q27+1,R27)","v":"* group[=].element[+].code = #Vaccination.productName"}]
[null,{"$f":"'A.2.2.1 Vaccination'!B19","v":"dateOfNextVaccination"},{"$f":"'A.2.2.1 Vaccination'!C19","v":"A.2.2.1.11 Next vaccination date"},"extension:basedOn.recommendation.dateCriterion:nextDose.value",null,"equivalent",null,null,"* group[=].element[+].code = #Vaccination.dateOfNextVaccination","* group[=].element[=].display = ##34#A.2.2.1.11 Next vaccination date##34#","* group[=].element[=].target.code = #Immunization.extension:basedOn.recommendation.dateCriterion:nextDose.value","* group[=].element[=].target.display = ##34###34#","* group[=].element[=].target.equivalence = #equivalent","",null,14,2,2,{"$f":"INDEX('Vaccination-ConceptMap-1'!$I$15:$N$180,Q28+1,R28)","v":"* group[=].element[=].display = ##34#A.2.2.1.3 Vaccine medicinal product name##34#"}]
[null,null,null,null,null,null,null,null,null,null,null,null,null,null,null,15,2,3,{"$f":"INDEX('Vaccination-ConceptMap-1'!$I$15:$N$180,Q29+1,R29)","v":"* group[=].element[=].target.code = #Immunization.extension:administeredProduct.extension[concept].valueCodeableConcept.text"}]
[null,null,null,null,null,null,null,null,null,null,null,null,null,null,null,16,2,4,{"$f":"INDEX('Vaccination-ConceptMap-1'!$I$15:$N$180,Q30+1,R30)","v":"* group[=].element[=].target.display = ##34###34#"}]
[null,null,null,null,null,null,null,null,null,null,null,null,null,null,null,17,2,5,{"$f":"INDEX('Vaccination-ConceptMap-1'!$I$15:$N$180,Q31+1,R31)","v":"* group[=].element[=].target.equivalence = #relatedto"}]
[null,null,null,null,null,null,null,null,null,null,null,null,null,null,null,18,2,6,{"$f":"INDEX('Vaccination-ConceptMap-1'!$I$15:$N$180,Q32+1,R32)","v":""}]
[null,null,null,null,null,null,null,null,null,null,null,null,null,null,null,19,3,1,{"$f":"INDEX('Vaccination-ConceptMap-1'!$I$15:$N$180,Q33+1,R33)","v":"* group[=].element[+].code = #Vaccination.productId"}]
[null,null,null,null,null,null,null,null,null,null,null,null,null,null,null,20,3,2,{"$f":"INDEX('Vaccination-ConceptMap-1'!$I$15:$N$180,Q34+1,R34)","v":"* group[=].element[=].display = ##34#A.2.2.1.3.1 Identifier of the vaccine medicinal product##34#"}]
[null,null,null,null,null,null,null,null,null,null,null,null,null,null,null,21,3,3,{"$f":"INDEX('Vaccination-ConceptMap-1'!$I$15:$N$180,Q35+1,R35)","v":"* group[=].element[=].target.code = #Immunization.extension:administeredProduct.extension[concept].valueCodeableConcept"}]
[null,null,null,null,null,null,null,null,null,null,null,null,null,null,null,22,3,4,{"$f":"INDEX('Vaccination-ConceptMap-1'!$I$15:$N$180,Q36+1,R36)","v":"* group[=].element[=].target.display = ##34###34#"}]
[null,null,null,null,null,null,null,null,null,null,null,null,null,null,null,23,3,5,{"$f":"INDEX('Vaccination-ConceptMap-1'!$I$15:$N$180,Q37+1,R37)","v":"* group[=].element[=].target.equivalence = #relatedto"}]
[null,null,null,null,null,null,null,null,null,null,null,null,null,null,null,24,3,6,{"$f":"INDEX('Vaccination-ConceptMap-1'!$I$15:$N$180,Q38+1,R38)","v":""}]
[null,null,null,null,null,null,null,null,null,null,null,null,null,null,null,25,4,1,{"$f":"INDEX('Vaccination-ConceptMap-1'!$I$15:$N$180,Q39+1,R39)","v":"* group[=].element[+].code = #Vaccination.marketingAuthorisationHolder"}]
[null,null,null,null,null,null,null,null,null,null,null,null,null,null,null,26,4,2,{"$f":"INDEX('Vaccination-ConceptMap-1'!$I$15:$N$180,Q40+1,R40)","v":"* group[=].element[=].display = ##34#A.2.2.1.4 Marketing Autorisation Holder##34#"}]
[null,null,null,null,null,null,null,null,null,null,null,null,null,null,null,27,4,3,{"$f":"INDEX('Vaccination-ConceptMap-1'!$I$15:$N$180,Q41+1,R41)","v":"* group[=].element[=].target.code = #Immunization.manufacturer"}]
[null,null,null,null,null,null,null,null,null,null,null,null,null,null,null,28,4,4,{"$f":"INDEX('Vaccination-ConceptMap-1'!$I$15:$N$180,Q42+1,R42)","v":"* group[=].element[=].target.display = ##34###34#"}]
[null,null,null,null,null,null,null,null,null,null,null,null,null,null,null,29,4,5,{"$f":"INDEX('Vaccination-ConceptMap-1'!$I$15:$N$180,Q43+1,R43)","v":"* group[=].element[=].target.equivalence = #relatedto"}]
[null,null,null,null,null,null,null,null,null,null,null,null,null,null,null,30,4,6,{"$f":"INDEX('Vaccination-ConceptMap-1'!$I$15:$N$180,Q44+1,R44)","v":""}]
[null,null,null,null,null,null,null,null,null,null,null,null,null,null,null,31,5,1,{"$f":"INDEX('Vaccination-ConceptMap-1'!$I$15:$N$180,Q45+1,R45)","v":"* group[=].element[+].code = #Vaccination.numberInSeries"}]
[null,null,null,null,null,null,null,null,null,null,null,null,null,null,null,32,5,2,{"$f":"INDEX('Vaccination-ConceptMap-1'!$I$15:$N$180,Q46+1,R46)","v":"* group[=].element[=].display = ##34#A.2.2.1.5 Number in a series of vaccinations/doses##34#"}]
[null,null,null,null,null,null,null,null,null,null,null,null,null,null,null,33,5,3,{"$f":"INDEX('Vaccination-ConceptMap-1'!$I$15:$N$180,Q47+1,R47)","v":"* group[=].element[=].target.code = #Immunization.protocolApplied.doseNumber[x]"}]
[null,null,null,null,null,null,null,null,null,null,null,null,null,null,null,34,5,4,{"$f":"INDEX('Vaccination-ConceptMap-1'!$I$15:$N$180,Q48+1,R48)","v":"* group[=].element[=].target.display = ##34###34#"}]
[null,null,null,null,null,null,null,null,null,null,null,null,null,null,null,35,5,5,{"$f":"INDEX('Vaccination-ConceptMap-1'!$I$15:$N$180,Q49+1,R49)","v":"* group[=].element[=].target.equivalence = #relatedto"}]
[null,null,null,null,null,null,null,null,null,null,null,null,null,null,null,36,5,6,{"$f":"INDEX('Vaccination-ConceptMap-1'!$I$15:$N$180,Q50+1,R50)","v":"* group[=].element[=].target.comment = ##34#It is a combination of doseNumber and SeriesNumber##34#"}]
[null,null,null,null,null,null,null,null,null,null,null,null,null,null,null,37,6,1,{"$f":"INDEX('Vaccination-ConceptMap-1'!$I$15:$N$180,Q51+1,R51)","v":"* group[=].element[+].code = #Vaccination.numberInSeries"}]
[null,null,null,null,null,null,null,null,null,null,null,null,null,null,null,38,6,2,{"$f":"INDEX('Vaccination-ConceptMap-1'!$I$15:$N$180,Q52+1,R52)","v":"* group[=].element[=].display = ##34#A.2.2.1.5 Number in a series of vaccinations/doses##34#"}]
[null,null,null,null,null,null,null,null,null,null,null,null,null,null,null,39,6,3,{"$f":"INDEX('Vaccination-ConceptMap-1'!$I$15:$N$180,Q53+1,R53)","v":"* group[=].element[=].target.code = #Immunization.protocolApplied.seriesDoses[x]"}]
[null,null,null,null,null,null,null,null,null,null,null,null,null,null,null,40,6,4,{"$f":"INDEX('Vaccination-ConceptMap-1'!$I$15:$N$180,Q54+1,R54)","v":"* group[=].element[=].target.display = ##34###34#"}]
[null,null,null,null,null,null,null,null,null,null,null,null,null,null,null,41,6,5,{"$f":"INDEX('Vaccination-ConceptMap-1'!$I$15:$N$180,Q55+1,R55)","v":"* group[=].element[=].target.equivalence = #relatedto"}]
[null,null,null,null,null,null,null,null,null,null,null,null,null,null,null,42,6,6,{"$f":"INDEX('Vaccination-ConceptMap-1'!$I$15:$N$180,Q56+1,R56)","v":"* group[=].element[=].target.comment = ##34#It is a combination of doseNumber and SeriesNumber##34#"}]
[null,null,null,null,null,null,null,null,null,null,null,null,null,null,null,43,7,1,{"$f":"INDEX('Vaccination-ConceptMap-1'!$I$15:$N$180,Q57+1,R57)","v":"* group[=].element[+].code = #Vaccination.batchNumber"}]
[null,null,null,null,null,null,null,null,null,null,null,null,null,null,null,44,7,2,{"$f":"INDEX('Vaccination-ConceptMap-1'!$I$15:$N$180,Q58+1,R58)","v":"* group[=].element[=].display = ##34#A.2.2.1.6 Batch/lot number##34#"}]
[null,null,null,null,null,null,null,null,null,null,null,null,null,null,null,45,7,3,{"$f":"INDEX('Vaccination-ConceptMap-1'!$I$15:$N$180,Q59+1,R59)","v":"* group[=].element[=].target.code = #Immunization.lotNumber"}]
[null,null,null,null,null,null,null,null,null,null,null,null,null,null,null,46,7,4,{"$f":"INDEX('Vaccination-ConceptMap-1'!$I$15:$N$180,Q60+1,R60)","v":"* group[=].element[=].target.display = ##34###34#"}]
[null,null,null,null,null,null,null,null,null,null,null,null,null,null,null,47,7,5,{"$f":"INDEX('Vaccination-ConceptMap-1'!$I$15:$N$180,Q61+1,R61)","v":"* group[=].element[=].target.equivalence = #equivalent"}]
[null,null,null,null,null,null,null,null,null,null,null,null,null,null,null,48,7,6,{"$f":"INDEX('Vaccination-ConceptMap-1'!$I$15:$N$180,Q62+1,R62)","v":""}]
[null,null,null,null,null,null,null,null,null,null,null,null,null,null,null,49,8,1,{"$f":"INDEX('Vaccination-ConceptMap-1'!$I$15:$N$180,Q63+1,R63)","v":"* group[=].element[+].code = #Vaccination.dateOfVaccination"}]
[null,null,null,null,null,null,null,null,null,null,null,null,null,null,null,50,8,2,{"$f":"INDEX('Vaccination-ConceptMap-1'!$I$15:$N$180,Q64+1,R64)","v":"* group[=].element[=].display = ##34#A.2.2.1.7 Date of vaccination##34#"}]
[null,null,null,null,null,null,null,null,null,null,null,null,null,null,null,51,8,3,{"$f":"INDEX('Vaccination-ConceptMap-1'!$I$15:$N$180,Q65+1,R65)","v":"* group[=].element[=].target.code = #Immunization.occurrenceDateTime"}]
[null,null,null,null,null,null,null,null,null,null,null,null,null,null,null,52,8,4,{"$f":"INDEX('Vaccination-ConceptMap-1'!$I$15:$N$180,Q66+1,R66)","v":"* group[=].element[=].target.display = ##34###34#"}]
[null,null,null,null,null,null,null,null,null,null,null,null,null,null,null,53,8,5,{"$f":"INDEX('Vaccination-ConceptMap-1'!$I$15:$N$180,Q67+1,R67)","v":"* group[=].element[=].target.equivalence = #equivalent"}]
[null,null,null,null,null,null,null,null,null,null,null,null,null,null,null,54,8,6,{"$f":"INDEX('Vaccination-ConceptMap-1'!$I$15:$N$180,Q68+1,R68)","v":""}]
[null,null,null,null,null,null,null,null,null,null,null,null,null,null,null,55,9,1,{"$f":"INDEX('Vaccination-ConceptMap-1'!$I$15:$N$180,Q69+1,R69)","v":"* group[=].element[+].code = #Vaccination.administeringCentre"}]
[null,null,null,null,null,null,null,null,null,null,null,null,null,null,null,56,9,2,{"$f":"INDEX('Vaccination-ConceptMap-1'!$I$15:$N$180,Q70+1,R70)","v":"* group[=].element[=].display = ##34#A.2.2.1.8 Administering centre##34#"}]
[null,null,null,null,null,null,null,null,null,null,null,null,null,null,null,57,9,3,{"$f":"INDEX('Vaccination-ConceptMap-1'!$I$15:$N$180,Q71+1,R71)","v":"* group[=].element[=].target.code = #Immunization.performer.actor:administeringCentre"}]
[null,null,null,null,null,null,null,null,null,null,null,null,null,null,null,58,9,4,{"$f":"INDEX('Vaccination-ConceptMap-1'!$I$15:$N$180,Q72+1,R72)","v":"* group[=].element[=].target.display = ##34###34#"}]
[null,null,null,null,null,null,null,null,null,null,null,null,null,null,null,59,9,5,{"$f":"INDEX('Vaccination-ConceptMap-1'!$I$15:$N$180,Q73+1,R73)","v":"* group[=].element[=].target.equivalence = #relatedto"}]
[null,null,null,null,null,null,null,null,null,null,null,null,null,null,null,60,9,6,{"$f":"INDEX('Vaccination-ConceptMap-1'!$I$15:$N$180,Q74+1,R74)","v":"* group[=].element[=].target.comment = ##34#actor of type Organization. \nIf it is the organization performing the vaccination##34#"}]
[null,null,null,null,null,null,null,null,null,null,null,null,null,null,null,61,10,1,{"$f":"INDEX('Vaccination-ConceptMap-1'!$I$15:$N$180,Q75+1,R75)","v":"* group[=].element[+].code = #Vaccination.administeringCentre"}]
[null,null,null,null,null,null,null,null,null,null,null,null,null,null,null,62,10,2,{"$f":"INDEX('Vaccination-ConceptMap-1'!$I$15:$N$180,Q76+1,R76)","v":"* group[=].element[=].display = ##34#A.2.2.1.8 Administering centre##34#"}]
[null,null,null,null,null,null,null,null,null,null,null,null,null,null,null,63,10,3,{"$f":"INDEX('Vaccination-ConceptMap-1'!$I$15:$N$180,Q77+1,R77)","v":"* group[=].element[=].target.code = #Immunization.location"}]
[null,null,null,null,null,null,null,null,null,null,null,null,null,null,null,64,10,4,{"$f":"INDEX('Vaccination-ConceptMap-1'!$I$15:$N$180,Q78+1,R78)","v":"* group[=].element[=].target.display = ##34###34#"}]
[null,null,null,null,null,null,null,null,null,null,null,null,null,null,null,65,10,5,{"$f":"INDEX('Vaccination-ConceptMap-1'!$I$15:$N$180,Q79+1,R79)","v":"* group[=].element[=].target.equivalence = #relatedto"}]
[null,null,null,null,null,null,null,null,null,null,null,null,null,null,null,66,{"$f":"IF(MOD(P80,$Q$8)=0,P80/$Q$8-1,INT(P80/$Q$8))","v":10},{"$f":"IF(MOD(P80,$Q$8)=0,$Q$8,MOD(P80,$Q$8))","v":6},{"$f":"INDEX('Vaccination-ConceptMap-1'!$I$15:$N$180,Q80+1,R80)","v":"* group[=].element[=].target.comment = ##34#If it refer to where the vaccianiton ttok place##34#"}]
[null,null,null,null,null,null,null,null,null,null,null,null,null,null,null,67,11,1,{"$f":"INDEX('Vaccination-ConceptMap-1'!$I$15:$N$180,Q81+1,R81)","v":"* group[=].element[+].code = #Vaccination.healthProfessionalId"}]
[null,null,null,null,null,null,null,null,null,null,null,null,null,null,null,68,11,2,{"$f":"INDEX('Vaccination-ConceptMap-1'!$I$15:$N$180,Q82+1,R82)","v":"* group[=].element[=].display = ##34#A.2.2.1.9 Health Professional identification##34#"}]
[null,null,null,null,null,null,null,null,null,null,null,null,null,null,null,69,11,3,{"$f":"INDEX('Vaccination-ConceptMap-1'!$I$15:$N$180,Q83+1,R83)","v":"* group[=].element[=].target.code = #Immunization.performer.actor:administeringHp.identifier"}]
[null,null,null,null,null,null,null,null,null,null,null,null,null,null,null,70,11,4,{"$f":"INDEX('Vaccination-ConceptMap-1'!$I$15:$N$180,Q84+1,R84)","v":"* group[=].element[=].target.display = ##34###34#"}]
[null,null,null,null,null,null,null,null,null,null,null,null,null,null,null,71,11,5,{"$f":"INDEX('Vaccination-ConceptMap-1'!$I$15:$N$180,Q85+1,R85)","v":"* group[=].element[=].target.equivalence = #relatedto"}]
[null,null,null,null,null,null,null,null,null,null,null,null,null,null,null,72,11,6,{"$f":"INDEX('Vaccination-ConceptMap-1'!$I$15:$N$180,Q86+1,R86)","v":"* group[=].element[=].target.comment = ##34#actor of type PractitonerRole or Practitioner. ##34#"}]
[null,null,null,null,null,null,null,null,null,null,null,null,null,null,null,73,12,1,{"$f":"INDEX('Vaccination-ConceptMap-1'!$I$15:$N$180,Q87+1,R87)","v":"* group[=].element[+].code = #Vaccination.countryOfVaccination"}]
[null,null,null,null,null,null,null,null,null,null,null,null,null,null,null,74,12,2,{"$f":"INDEX('Vaccination-ConceptMap-1'!$I$15:$N$180,Q88+1,R88)","v":"* group[=].element[=].display = ##34#A.2.2.1.10 Country of vaccination##34#"}]
[null,null,null,null,null,null,null,null,null,null,null,null,null,null,null,75,12,3,{"$f":"INDEX('Vaccination-ConceptMap-1'!$I$15:$N$180,Q89+1,R89)","v":"* group[=].element[=].target.code = #Immunization.location.address.country"}]
[null,null,null,null,null,null,null,null,null,null,null,null,null,null,null,76,12,4,{"$f":"INDEX('Vaccination-ConceptMap-1'!$I$15:$N$180,Q90+1,R90)","v":"* group[=].element[=].target.display = ##34###34#"}]
[null,null,null,null,null,null,null,null,null,null,null,null,null,null,null,77,12,5,{"$f":"INDEX('Vaccination-ConceptMap-1'!$I$15:$N$180,Q91+1,R91)","v":"* group[=].element[=].target.equivalence = #equivalent"}]
[null,null,null,null,null,null,null,null,null,null,null,null,null,null,null,78,12,6,{"$f":"INDEX('Vaccination-ConceptMap-1'!$I$15:$N$180,Q92+1,R92)","v":""}]
[null,null,null,null,null,null,null,null,null,null,null,null,null,null,null,79,13,1,{"$f":"INDEX('Vaccination-ConceptMap-1'!$I$15:$N$180,Q93+1,R93)","v":"* group[=].element[+].code = #Vaccination.dateOfNextVaccination"}]
[null,null,null,null,null,null,null,null,null,null,null,null,null,null,null,80,13,2,{"$f":"INDEX('Vaccination-ConceptMap-1'!$I$15:$N$180,Q94+1,R94)","v":"* group[=].element[=].display = ##34#A.2.2.1.11 Next vaccination date##34#"}]
[null,null,null,null,null,null,null,null,null,null,null,null,null,null,null,81,13,3,{"$f":"INDEX('Vaccination-ConceptMap-1'!$I$15:$N$180,Q95+1,R95)","v":"* group[=].element[=].target.code = #Immunization.extension:basedOn.recommendation.dateCriterion:nextDose.value"}]
[null,null,null,null,null,null,null,null,null,null,null,null,null,null,null,82,13,4,{"$f":"INDEX('Vaccination-ConceptMap-1'!$I$15:$N$180,Q96+1,R96)","v":"* group[=].element[=].target.display = ##34###34#"}]
[null,null,null,null,null,null,null,null,null,null,null,null,null,null,null,83,13,5,{"$f":"INDEX('Vaccination-ConceptMap-1'!$I$15:$N$180,Q97+1,R97)","v":"* group[=].element[=].target.equivalence = #equivalent"}]
[null,null,null,null,null,null,null,null,null,null,null,null,null,null,null,84,13,6,{"$f":"INDEX('Vaccination-ConceptMap-1'!$I$15:$N$180,Q98+1,R98)","v":""}]
[null,null,null,null,null,null,null,null,null,null,null,null,null,null,null,85,14,1,{"$f":"INDEX('Vaccination-ConceptMap-1'!$I$15:$N$180,Q99+1,R99)","v":0}]
[null,null,null,null,null,null,null,null,null,null,null,null,null,null,null,86,14,2,{"$f":"INDEX('Vaccination-ConceptMap-1'!$I$15:$N$180,Q100+1,R100)","v":0}]
[null,null,null,null,null,null,null,null,null,null,null,null,null,null,null,87,14,3,{"$f":"INDEX('Vaccination-ConceptMap-1'!$I$15:$N$180,Q101+1,R101)","v":0}]
[null,null,null,null,null,null,null,null,null,null,null,null,null,null,null,88,14,4,{"$f":"INDEX('Vaccination-ConceptMap-1'!$I$15:$N$180,Q102+1,R102)","v":0}]

{"sheet":"Vaccination-CM-fsh","index":45,"n_rows":110,"n_cols":7,"rows_kept":110,"cut":false,"hidden":false,"merged":[]}
[null,"// -------------------------------------------------------------------------------"]
[null,"//  Concept Model. File: ",null,null,null,null,"vaccination-to-fhir-map.fsh"]
[null,"// -------------------------------------------------------------------------------"]
[null,{"$f":"\"Instance: \"&'Vaccination-ConceptMap-1'!C4","v":"Instance: vaccination2FHIR-eu-ps"}]
[null,"InstanceOf: ConceptMap"]
[null,"Usage: #definition"]
[null,"// * url = ##34#http://terminology.hl7.it/ConceptMap/ConceptMap-subject2osiris##34#"]
[null,{"$f":"\"* name = ##34#\"&'Vaccination-ConceptMap-1'!C3&\"##34#\"","v":"* name = ##34#Vaccination2Fhir##34#"}]
[null,{"$f":"\"* title = ##34#\"&'Vaccination-ConceptMap-1'!C5&\"##34#\"","v":"* title = ##34#eHN Vaccination to this guide Map##34#"}]
[null,"* status = #draft"]
[null,"* experimental = true"]
[null,{"$f":"\"* description = ##34#\"&'Vaccination-ConceptMap-1'!C8&\"##34#\"","v":"* description = ##34#eHN Vaccination infos to this guide Map##34#"}]
[null,{"$f":"\"* purpose = ##34#\"&'Vaccination-ConceptMap-1'!C9&\"##34#\"","v":"* purpose = ##34#It shows how the Vaccination data set defined by the EU eHN guidelines is mapped into this guide##34#"}]
[null,{"$f":"\"* sourceUri = ##34#\"&'Vaccination-ConceptMap-1'!E3&\"##34#\"","v":"* sourceUri = ##34#http://hl7.eu/fhir/ig/xpandh/ps/StructureDefinition/Vaccination##34#"}]
[null,{"$f":"\"* targetUri = ##34#\"&'Vaccination-ConceptMap-1'!E4&\"##34#\"","v":"* targetUri = ##34#http://hl7.eu/fhir/ig/xpandh/ps/StructureDefinition/Immunization-ps-eu-xpandh##34#"}]
[]
[null,{"$f":"\"* group[+].source = ##34#\"&'Vaccination-ConceptMap-1'!E6&\"##34#\"","v":"* group[+].source = ##34#http://hl7.eu/fhir/ig/xpandh/ps/StructureDefinition/Vaccination##34#"}]
[null,{"$f":"\"* group[=].target = ##34#\"&'Vaccination-ConceptMap-1'!E7&\"##34#\"","v":"* group[=].target = ##34#http://hl7.eu/fhir/ig/xpandh/ps/StructureDefinition/Immunization-ps-eu-xpandh##34#"}]
[]
[null,{"$f":"IF('Vaccination-ConceptMap-1'!S15=0,\"//---END\",'Vaccination-ConceptMap-1'!S15)","v":"* group[=].element[+].code = #Vaccination.targetDisease"}]
[null,{"$f":"IF('Vaccination-ConceptMap-1'!S16=0,\"//---END\",'Vaccination-ConceptMap-1'!S16)","v":"* group[=].element[=].display = ##34#A.2.2.1.1 Disease or agent targeted##34#"}]
[null,{"$f":"IF('Vaccination-ConceptMap-1'!S17=0,\"//---END\",'Vaccination-ConceptMap-1'!S17)","v":"* group[=].element[=].target.code = #Immunization.protocolApplied.targetDisease"}]
[null,{"$f":"IF('Vaccination-ConceptMap-1'!S18=0,\"//---END\",'Vaccination-ConceptMap-1'!S18)","v":"* group[=].element[=].target.display = ##34###34#"}]
[null,{"$f":"IF('Vaccination-ConceptMap-1'!S19=0,\"//---END\",'Vaccination-ConceptMap-1'!S19)","v":"* group[=].element[=].target.equivalence = #equivalent"}]
[null,{"$f":"IF('Vaccination-ConceptMap-1'!S20=0,\"//---END\",'Vaccination-ConceptMap-1'!S20)","v":""}]
[null,{"$f":"IF('Vaccination-ConceptMap-1'!S21=0,\"//---END\",'Vaccination-ConceptMap-1'!S21)","v":"* group[=].element[+].code = #Vaccination.vaccine"}]
[null,{"$f":"IF('Vaccination-ConceptMap-1'!S22=0,\"//---END\",'Vaccination-ConceptMap-1'!S22)","v":"* group[=].element[=].display = ##34#A.2.2.1.2 Vaccine/prophylaxis##34#"}]
[null,{"$f":"IF('Vaccination-ConceptMap-1'!S23=0,\"//---END\",'Vaccination-ConceptMap-1'!S23)","v":"* group[=].element[=].target.code = #Immunization.vaccineCode"}]
[null,{"$f":"IF('Vaccination-ConceptMap-1'!S24=0,\"//---END\",'Vaccination-ConceptMap-1'!S24)","v":"* group[=].element[=].target.display = ##34###34#"}]
[null,{"$f":"IF('Vaccination-ConceptMap-1'!S25=0,\"//---END\",'Vaccination-ConceptMap-1'!S25)","v":"* group[=].element[=].target.equivalence = #equivalent"}]
[null,{"$f":"IF('Vaccination-ConceptMap-1'!S26=0,\"//---END\",'Vaccination-ConceptMap-1'!S26)","v":""}]
[null,{"$f":"IF('Vaccination-ConceptMap-1'!S27=0,\"//---END\",'Vaccination-ConceptMap-1'!S27)","v":"* group[=].element[+].code = #Vaccination.productName"}]
[null,{"$f":"IF('Vaccination-ConceptMap-1'!S28=0,\"//---END\",'Vaccination-ConceptMap-1'!S28)","v":"* group[=].element[=].display = ##34#A.2.2.1.3 Vaccine medicinal product name##34#"}]
[null,{"$f":"IF('Vaccination-ConceptMap-1'!S29=0,\"//---END\",'Vaccination-ConceptMap-1'!S29)","v":"* group[=].element[=].target.code = #Immunization.extension:administeredProduct.extension[concept].valueCodeableConcept.text"}]
[null,{"$f":"IF('Vaccination-ConceptMap-1'!S30=0,\"//---END\",'Vaccination-ConceptMap-1'!S30)","v":"* group[=].element[=].target.display = ##34###34#"}]
[null,{"$f":"IF('Vaccination-ConceptMap-1'!S31=0,\"//---END\",'Vaccination-ConceptMap-1'!S31)","v":"* group[=].element[=].target.equivalence = #relatedto"}]
[null,{"$f":"IF('Vaccination-ConceptMap-1'!S32=0,\"//---END\",'Vaccination-ConceptMap-1'!S32)","v":""}]
[null,{"$f":"IF('Vaccination-ConceptMap-1'!S33=0,\"//---END\",'Vaccination-ConceptMap-1'!S33)","v":"* group[=].element[+].code = #Vaccination.productId"}]
[null,{"$f":"IF('Vaccination-ConceptMap-1'!S34=0,\"//---END\",'Vaccination-ConceptMap-1'!S34)","v":"* group[=].element[=].display = ##34#A.2.2.1.3.1 Identifier of the vaccine medicinal product##34#"}]
[null,{"$f":"IF('Vaccination-ConceptMap-1'!S35=0,\"//---END\",'Vaccination-ConceptMap-1'!S35)","v":"* group[=].element[=].target.code = #Immunization.extension:administeredProduct.extension[concept].valueCodeableConcept"}]
[null,{"$f":"IF('Vaccination-ConceptMap-1'!S36=0,\"//---END\",'Vaccination-ConceptMap-1'!S36)","v":"* group[=].element[=].target.display = ##34###34#"}]
[null,{"$f":"IF('Vaccination-ConceptMap-1'!S37=0,\"//---END\",'Vaccination-ConceptMap-1'!S37)","v":"* group[=].element[=].target.equivalence = #relatedto"}]
[null,{"$f":"IF('Vaccination-ConceptMap-1'!S38=0,\"//---END\",'Vaccination-ConceptMap-1'!S38)","v":""}]
[null,{"$f":"IF('Vaccination-ConceptMap-1'!S39=0,\"//---END\",'Vaccination-ConceptMap-1'!S39)","v":"* group[=].element[+].code = #Vaccination.marketingAuthorisationHolder"}]
[null,{"$f":"IF('Vaccination-ConceptMap-1'!S40=0,\"//---END\",'Vaccination-ConceptMap-1'!S40)","v":"* group[=].element[=].display = ##34#A.2.2.1.4 Marketing Autorisation Holder##34#"}]
[null,{"$f":"IF('Vaccination-ConceptMap-1'!S41=0,\"//---END\",'Vaccination-ConceptMap-1'!S41)","v":"* group[=].element[=].target.code = #Immunization.manufacturer"}]
[null,{"$f":"IF('Vaccination-ConceptMap-1'!S42=0,\"//---END\",'Vaccination-ConceptMap-1'!S42)","v":"* group[=].element[=].target.display = ##34###34#"}]
[null,{"$f":"IF('Vaccination-ConceptMap-1'!S43=0,\"//---END\",'Vaccination-ConceptMap-1'!S43)","v":"* group[=].element[=].target.equivalence = #relatedto"}]
[null,{"$f":"IF('Vaccination-ConceptMap-1'!S44=0,\"//---END\",'Vaccination-ConceptMap-1'!S44)","v":""}]
[null,{"$f":"IF('Vaccination-ConceptMap-1'!S45=0,\"//---END\",'Vaccination-ConceptMap-1'!S45)","v":"* group[=].element[+].code = #Vaccination.numberInSeries"}]
[null,{"$f":"IF('Vaccination-ConceptMap-1'!S46=0,\"//---END\",'Vaccination-ConceptMap-1'!S46)","v":"* group[=].element[=].display = ##34#A.2.2.1.5 Number in a series of vaccinations/doses##34#"}]
[null,{"$f":"IF('Vaccination-ConceptMap-1'!S47=0,\"//---END\",'Vaccination-ConceptMap-1'!S47)","v":"* group[=].element[=].target.code = #Immunization.protocolApplied.doseNumber[x]"}]
[null,{"$f":"IF('Vaccination-ConceptMap-1'!S48=0,\"//---END\",'Vaccination-ConceptMap-1'!S48)","v":"* group[=].element[=].target.display = ##34###34#"}]
[null,{"$f":"IF('Vaccination-ConceptMap-1'!S49=0,\"//---END\",'Vaccination-ConceptMap-1'!S49)","v":"* group[=].element[=].target.equivalence = #relatedto"}]
[null,{"$f":"IF('Vaccination-ConceptMap-1'!S50=0,\"//---END\",'Vaccination-ConceptMap-1'!S50)","v":"* group[=].element[=].target.comment = ##34#It is a combination of doseNumber and SeriesNumber##34#"}]
[null,{"$f":"IF('Vaccination-ConceptMap-1'!S51=0,\"//---END\",'Vaccination-ConceptMap-1'!S51)","v":"* group[=].element[+].code = #Vaccination.numberInSeries"}]
[null,{"$f":"IF('Vaccination-ConceptMap-1'!S52=0,\"//---END\",'Vaccination-ConceptMap-1'!S52)","v":"* group[=].element[=].display = ##34#A.2.2.1.5 Number in a series of vaccinations/doses##34#"}]
[null,{"$f":"IF('Vaccination-ConceptMap-1'!S53=0,\"//---END\",'Vaccination-ConceptMap-1'!S53)","v":"* group[=].element[=].target.code = #Immunization.protocolApplied.seriesDoses[x]"}]
[null,{"$f":"IF('Vaccination-ConceptMap-1'!S54=0,\"//---END\",'Vaccination-ConceptMap-1'!S54)","v":"* group[=].element[=].target.display = ##34###34#"}]
[null,{"$f":"IF('Vaccination-ConceptMap-1'!S55=0,\"//---END\",'Vaccination-ConceptMap-1'!S55)","v":"* group[=].element[=].target.equivalence = #relatedto"}]
[null,{"$f":"IF('Vaccination-ConceptMap-1'!S56=0,\"//---END\",'Vaccination-ConceptMap-1'!S56)","v":"* group[=].element[=].target.comment = ##34#It is a combination of doseNumber and SeriesNumber##34#"}]
[null,{"$f":"IF('Vaccination-ConceptMap-1'!S57=0,\"//---END\",'Vaccination-ConceptMap-1'!S57)","v":"* group[=].element[+].code = #Vaccination.batchNumber"}]
[null,{"$f":"IF('Vaccination-ConceptMap-1'!S58=0,\"//---END\",'Vaccination-ConceptMap-1'!S58)","v":"* group[=].element[=].display = ##34#A.2.2.1.6 Batch/lot number##34#"}]
[null,{"$f":"IF('Vaccination-ConceptMap-1'!S59=0,\"//---END\",'Vaccination-ConceptMap-1'!S59)","v":"* group[=].element[=].target.code = #Immunization.lotNumber"}]
[null,{"$f":"IF('Vaccination-ConceptMap-1'!S60=0,\"//---END\",'Vaccination-ConceptMap-1'!S60)","v":"* group[=].element[=].target.display = ##34###34#"}]
[null,{"$f":"IF('Vaccination-ConceptMap-1'!S61=0,\"//---END\",'Vaccination-ConceptMap-1'!S61)","v":"* group[=].element[=].target.equivalence = #equivalent"}]
[null,{"$f":"IF('Vaccination-ConceptMap-1'!S62=0,\"//---END\",'Vaccination-ConceptMap-1'!S62)","v":""}]
[null,{"$f":"IF('Vaccination-ConceptMap-1'!S63=0,\"//---END\",'Vaccination-ConceptMap-1'!S63)","v":"* group[=].element[+].code = #Vaccination.dateOfVaccination"}]
[null,{"$f":"IF('Vaccination-ConceptMap-1'!S64=0,\"//---END\",'Vaccination-ConceptMap-1'!S64)","v":"* group[=].element[=].display = ##34#A.2.2.1.7 Date of vaccination##34#"}]
[null,{"$f":"IF('Vaccination-ConceptMap-1'!S65=0,\"//---END\",'Vaccination-ConceptMap-1'!S65)","v":"* group[=].element[=].target.code = #Immunization.occurrenceDateTime"}]
[null,{"$f":"IF('Vaccination-ConceptMap-1'!S66=0,\"//---END\",'Vaccination-ConceptMap-1'!S66)","v":"* group[=].element[=].target.display = ##34###34#"}]
[null,{"$f":"IF('Vaccination-ConceptMap-1'!S67=0,\"//---END\",'Vaccination-ConceptMap-1'!S67)","v":"* group[=].element[=].target.equivalence = #equivalent"}]
[null,{"$f":"IF('Vaccination-ConceptMap-1'!S68=0,\"//---END\",'Vaccination-ConceptMap-1'!S68)","v":""}]
[null,{"$f":"IF('Vaccination-ConceptMap-1'!S69=0,\"//---END\",'Vaccination-ConceptMap-1'!S69)","v":"* group[=].element[+].code = #Vaccination.administeringCentre"}]
[null,{"$f":"IF('Vaccination-ConceptMap-1'!S70=0,\"//---END\",'Vaccination-ConceptMap-1'!S70)","v":"* group[=].element[=].display = ##34#A.2.2.1.8 Administering centre##34#"}]
[null,{"$f":"IF('Vaccination-ConceptMap-1'!S71=0,\"//---END\",'Vaccination-ConceptMap-1'!S71)","v":"* group[=].element[=].target.code = #Immunization.performer.actor:administeringCentre"}]
[null,{"$f":"IF('Vaccination-ConceptMap-1'!S72=0,\"//---END\",'Vaccination-ConceptMap-1'!S72)","v":"* group[=].element[=].target.display = ##34###34#"}]
[null,{"$f":"IF('Vaccination-ConceptMap-1'!S73=0,\"//---END\",'Vaccination-ConceptMap-1'!S73)","v":"* group[=].element[=].target.equivalence = #relatedto"}]
[null,{"$f":"IF('Vaccination-ConceptMap-1'!S74=0,\"//---END\",'Vaccination-ConceptMap-1'!S74)","v":"* group[=].element[=].target.comment = ##34#actor of type Organization. \nIf it is the organization performing the vaccination##34#"}]
[null,{"$f":"IF('Vaccination-ConceptMap-1'!S75=0,\"//---END\",'Vaccination-ConceptMap-1'!S75)","v":"* group[=].element[+].code = #Vaccination.administeringCentre"}]
[null,{"$f":"IF('Vaccination-ConceptMap-1'!S76=0,\"//---END\",'Vaccination-ConceptMap-1'!S76)","v":"* group[=].element[=].display = ##34#A.2.2.1.8 Administering centre##34#"}]
[null,{"$f":"IF('Vaccination-ConceptMap-1'!S77=0,\"//---END\",'Vaccination-ConceptMap-1'!S77)","v":"* group[=].element[=].target.code = #Immunization.location"}]
[null,{"$f":"IF('Vaccination-ConceptMap-1'!S78=0,\"//---END\",'Vaccination-ConceptMap-1'!S78)","v":"* group[=].element[=].target.display = ##34###34#"}]
[null,{"$f":"IF('Vaccination-ConceptMap-1'!S79=0,\"//---END\",'Vaccination-ConceptMap-1'!S79)","v":"* group[=].element[=].target.equivalence = #relatedto"}]
[null,{"$f":"IF('Vaccination-ConceptMap-1'!S80=0,\"//---END\",'Vaccination-ConceptMap-1'!S80)","v":"* group[=].element[=].target.comment = ##34#If it refer to where the vaccianiton ttok place##34#"}]
[null,{"$f":"IF('Vaccination-ConceptMap-1'!S81=0,\"//---END\",'Vaccination-ConceptMap-1'!S81)","v":"* group[=].element[+].code = #Vaccination.healthProfessionalId"}]
[null,{"$f":"IF('Vaccination-ConceptMap-1'!S82=0,\"//---END\",'Vaccination-ConceptMap-1'!S82)","v":"* group[=].element[=].display = ##34#A.2.2.1.9 Health Professional identification##34#"}]
[null,{"$f":"IF('Vaccination-ConceptMap-1'!S83=0,\"//---END\",'Vaccination-ConceptMap-1'!S83)","v":"* group[=].element[=].target.code = #Immunization.performer.actor:administeringHp.identifier"}]
[null,{"$f":"IF('Vaccination-ConceptMap-1'!S84=0,\"//---END\",'Vaccination-ConceptMap-1'!S84)","v":"* group[=].element[=].target.display = ##34###34#"}]
[null,{"$f":"IF('Vaccination-ConceptMap-1'!S85=0,\"//---END\",'Vaccination-ConceptMap-1'!S85)","v":"* group[=].element[=].target.equivalence = #relatedto"}]
[null,{"$f":"IF('Vaccination-ConceptMap-1'!S86=0,\"//---END\",'Vaccination-ConceptMap-1'!S86)","v":"* group[=].element[=].target.comment = ##34#actor of type PractitonerRole or Practitioner. ##34#"}]
[null,{"$f":"IF('Vaccination-ConceptMap-1'!S87=0,\"//---END\",'Vaccination-ConceptMap-1'!S87)","v":"* group[=].element[+].code = #Vaccination.countryOfVaccination"}]
[null,{"$f":"IF('Vaccination-ConceptMap-1'!S88=0,\"//---END\",'Vaccination-ConceptMap-1'!S88)","v":"* group[=].element[=].display = ##34#A.2.2.1.10 Country of vaccination##34#"}]
[null,{"$f":"IF('Vaccination-ConceptMap-1'!S89=0,\"//---END\",'Vaccination-ConceptMap-1'!S89)","v":"* group[=].element[=].target.code = #Immunization.location.address.country"}]
[null,{"$f":"IF('Vaccination-ConceptMap-1'!S90=0,\"//---END\",'Vaccination-ConceptMap-1'!S90)","v":"* group[=].element[=].target.display = ##34###34#"}]
[null,{"$f":"IF('Vaccination-ConceptMap-1'!S91=0,\"//---END\",'Vaccination-ConceptMap-1'!S91)","v":"* group[=].element[=].target.equivalence = #equivalent"}]
[null,{"$f":"IF('Vaccination-ConceptMap-1'!S92=0,\"//---END\",'Vaccination-ConceptMap-1'!S92)","v":""}]
[null,{"$f":"IF('Vaccination-ConceptMap-1'!S93=0,\"//---END\",'Vaccination-ConceptMap-1'!S93)","v":"* group[=].element[+].code = #Vaccination.dateOfNextVaccination"}]
[null,{"$f":"IF('Vaccination-ConceptMap-1'!S94=0,\"//---END\",'Vaccination-ConceptMap-1'!S94)","v":"* group[=].element[=].display = ##34#A.2.2.1.11 Next vaccination date##34#"}]
[null,{"$f":"IF('Vaccination-ConceptMap-1'!S95=0,\"//---END\",'Vaccination-ConceptMap-1'!S95)","v":"* group[=].element[=].target.code = #Immunization.extension:basedOn.recommendation.dateCriterion:nextDose.value"}]
[null,{"$f":"IF('Vaccination-ConceptMap-1'!S96=0,\"//---END\",'Vaccination-ConceptMap-1'!S96)","v":"* group[=].element[=].target.display = ##34###34#"}]
[null,{"$f":"IF('Vaccination-ConceptMap-1'!S97=0,\"//---END\",'Vaccination-ConceptMap-1'!S97)","v":"* group[=].element[=].target.equivalence = #equivalent"}]
[null,{"$f":"IF('Vaccination-ConceptMap-1'!S98=0,\"//---END\",'Vaccination-ConceptMap-1'!S98)","v":""}]
[null,{"$f":"IF('Vaccination-ConceptMap-1'!S99=0,\"//---END\",'Vaccination-ConceptMap-1'!S99)","v":"//---END"}]
[null,{"$f":"IF('Vaccination-ConceptMap-1'!S100=0,\"//---END\",'Vaccination-ConceptMap-1'!S100)","v":"//---END"}]
[null,{"$f":"IF('Vaccination-ConceptMap-1'!S101=0,\"//---END\",'Vaccination-ConceptMap-1'!S101)","v":"//---END"}]
[null,{"$f":"IF('Vaccination-ConceptMap-1'!S102=0,\"//---END\",'Vaccination-ConceptMap-1'!S102)","v":"//---END"}]
[null,{"$f":"IF('Vaccination-ConceptMap-1'!S103=0,\"//---END\",'Vaccination-ConceptMap-1'!S103)","v":"//---END"}]
[null,{"$f":"IF('Vaccination-ConceptMap-1'!S104=0,\"//---END\",'Vaccination-ConceptMap-1'!S104)","v":"//---END"}]
[null,{"$f":"IF('Vaccination-ConceptMap-1'!S105=0,\"//---END\",'Vaccination-ConceptMap-1'!S105)","v":"//---END"}]

{"sheet":"Subj","index":46,"n_rows":61,"n_cols":9,"rows_kept":61,"cut":false,"hidden":false,"merged":[[51,2,51,5]]}
[null,null,null,null,null,null,null,null,"// -------------------------------------------------------------------------------"]
[null,null,null,null,null,null,null,null,"//  Logical Model"]
[null,null,null,null,null,null,null,null,{"$f":"I1","v":"// -------------------------------------------------------------------------------"}]
["Name","SubjectPsEhn",null,null,null,null,null,null,{"$f":"CONCATENATE(\"Logical: \",B4)","v":"Logical: SubjectPsEhn"}]
["Id","Subject",null,null,null,null,null,null,{"$f":"CONCATENATE(\"Id: \",B5)","v":"Id: Subject"}]
["Title","A1.1, A1.2 - Subject of care",null,null,null,null,null,null,{"$f":"CONCATENATE(\"Title: ##34#\",B6,\"##34#\")","v":"Title: ##34#A1.1, A1.2 - Subject of care##34#"}]
["Description","Patient or Subject of care. Sections A1.1 and A1.2 of the eHN guideline.","Data Element ","Data element description","min","max","dataType",null,{"$f":"CONCATENATE(\"Description: \",\" ##334#\",B7,\"##334#\",)","v":"Description:  ##334#Patient or Subject of care. Sections A1.1 and A1.2 of the eHN guideline.##334#"}]
[1,"identification","A.1.1 Identification of the patient/subject","A.1.1 Identification of the patient/subject",1,1,"BackboneElement",null,{"$f":"CONCATENATE(\"* \",B8, \" \",E8,\"..\",F8,\" \",G8,\" ##34#\",C9,\"##34# ##334#\",D9,\"##334#\")","v":"* identification 1..1 BackboneElement ##34#A.1.1.1 National healthcare patient ID##34# ##334#A.1.1.1 National healthcare patient ID - Country ID, unique to the patient in that country. Example: ID for Portuguese patient##334#"}]
[2,"identification.identifier","A.1.1.1 National healthcare patient ID","A.1.1.1 National healthcare patient ID - Country ID, unique to the patient in that country. Example: ID for Portuguese patient",0,"*","Identifier",null,{"$f":"CONCATENATE(\"* \",B9, \" \",E9,\"..\",F9,\" \",G9,\" ##34#\",C10,\"##34# ##334#\",D10,\"##334#\")","v":"* identification.identifier 0..* Identifier ##34#A.1.1.2 Family name/surname##34# ##334#A.1.1.2 Family name/surname - The family name/surname/last name of the patient. This field can contain more than one element or multiple fields could be present.##334#"}]
[3,"identification.familyName","A.1.1.2 Family name/surname","A.1.1.2 Family name/surname - The family name/surname/last name of the patient. This field can contain more than one element or multiple fields could be present.",0,"*","string",null,"* identification.familyName 0..* string ##34#A.1.1.3 Given name##34# ##334#A.1.1.3 Given name  - The given name/first name of the patient (also known as forename or first name). This field can contain more than one element.  ##334#"]
[4,"identification.givenName","A.1.1.3 Given name","A.1.1.3 Given name  - The given name/first name of the patient (also known as forename or first name). This field can contain more than one element.  ",0,"*","string",null,"* identification.givenName 0..* string ##34#A.1.1.4 Date of birth##34# ##334#A.1.1.4 Date of birth  - The date of birth of the patient [ISO TS 22220]. As age of the patient might be important for correct interpretation of the test result values, complete date of birth should be provided. - Preferred system(s): Complete date, without time, following the ISO 8601 ##334#"]
[5,"identification.dateOfBirth","A.1.1.4 Date of birth","A.1.1.4 Date of birth  - The date of birth of the patient [ISO TS 22220]. As age of the patient might be important for correct interpretation of the test result values, complete date of birth should be provided. - Preferred system(s): Complete date, without time, following the ISO 8601 ",0,1,"dateTime",null,"* identification.dateOfBirth 0..1 dateTime ##34#A.1.1.5 Gender##34# ##334#A.1.1.5 Gender - This field must contain a recognised valid value for \"administrative gender\".\nIf different, \"physiological gender\" should be communicated elsewhere. - Preferred system(s): HL7 Administrative Gender ##334#"]
[6,"identification.gender","A.1.1.5 Gender","A.1.1.5 Gender - This field must contain a recognised valid value for \"administrative gender\".\nIf different, \"physiological gender\" should be communicated elsewhere. - Preferred system(s): HL7 Administrative Gender ",0,1,"CodeableConcept",null,"* identification.gender 0..1 CodeableConcept ##34#A.1.1.5 Country of affiliation##34# ##334#A.1.1.5 Country of\naffiliation - Name of country of affiliation  - Preferred system(s): ISO 3166##334#"]
[7,"identification.countryOfAffiliation","A.1.1.5 Country of affiliation","A.1.1.5 Country of\naffiliation - Name of country of affiliation  - Preferred system(s): ISO 3166",0,1,"CodeableConcept",null,"* identification.countryOfAffiliation 0..1 CodeableConcept ##34#A.1.2.1 Patient address##34# ##334#A.1.2.1 Patient address - Patient address##334#"]
[8,"telcomContact","A.1.2.1 Patient address","A.1.2.1 Patient address - Patient address",0,"*","BackboneElement",null,"* telcomContact 0..* BackboneElement ##34#Address##34# ##334#Address##334#"]
[9,"telcomContact.address","Address","Address",0,"*","BackboneElement",null,"* telcomContact.address 0..* BackboneElement ##34#A.1.2.1.1 Street##34# ##334#A.1.2.1.1 Street - Example: Rua dos Campeões##334#"]
[10,"telcomContact.address.street","A.1.2.1.1 Street","A.1.2.1.1 Street - Example: Rua dos Campeões",0,1,"string",null,"* telcomContact.address.street 0..1 string ##34#A.1.2.1.2 House number##34# ##334#A.1.2.1.2 House number - Example: 246##334#"]
[11,"telcomContact.address.houseNumber","A.1.2.1.2 House number","A.1.2.1.2 House number - Example: 246",0,1,"string",null,"* telcomContact.address.houseNumber 0..1 string ##34#A.1.2.1.3 City##34# ##334#A.1.2.1.3 City - Example: Porto##334#"]
[12,"telcomContact.address.city","A.1.2.1.3 City","A.1.2.1.3 City - Example: Porto",0,1,"string",null,"* telcomContact.address.city 0..1 string ##34#A.1.2.1.4 Post code##34# ##334#A.1.2.1.4 Post code - Example: 4500##334#"]
[13,"telcomContact.address.postalCode","A.1.2.1.4 Post code","A.1.2.1.4 Post code - Example: 4500",0,1,"string",null,"* telcomContact.address.postalCode 0..1 string ##34#A.1.2.1.5 State or province##34# ##334#A.1.2.1.5 State or province - Example: Vila Nova de Gaia##334#"]
[14,"telcomContact.address.stateOrProvince","A.1.2.1.5 State or province","A.1.2.1.5 State or province - Example: Vila Nova de Gaia",0,1,"string",null,"* telcomContact.address.stateOrProvince 0..1 string ##34#A.1.2.1.6 Country##34# ##334#A.1.2.1.6 Country - Example: PT - Preferred system(s): ISO 3166##334#"]
[15,"telcomContact.address.country","A.1.2.1.6 Country","A.1.2.1.6 Country - Example: PT - Preferred system(s): ISO 3166",0,1,"CodeableConcept",null,"* telcomContact.address.country 0..1 CodeableConcept ##34#A.1.2.1.7 Telephone no.##34# ##334#A.1.2.1.7 Telephone no. - Example: +351 20 7025 6161##334#"]
[16,"telcomContact.telephone","A.1.2.1.7 Telephone no.","A.1.2.1.7 Telephone no. - Example: +351 20 7025 6161",0,"*","ContactPoint",null,"* telcomContact.telephone 0..* ContactPoint ##34#A.1.2.1.8 Email##34# ##334#A.1.2.1.8 Email - Example: jens@bigsmile.eu##334#"]
[17,"telcomContact.email","A.1.2.1.8 Email","A.1.2.1.8 Email - Example: jens@bigsmile.eu",0,"*","ContactPoint",null,"* telcomContact.email 0..* ContactPoint ##34#A.1.2.2 Preferred HP to contact##34# ##334#A.1.2.2 Preferred HP to contact - This section can be repeated and linked to any specific information in the Patient Summary, for example a link between a rare disease problem (A.2.3.1) and the rare disease specialist responsible for the care of the individual patient (this section).##334#"]
[18,"hpToContact","A.1.2.2 Preferred HP to contact","A.1.2.2 Preferred HP to contact - This section can be repeated and linked to any specific information in the Patient Summary, for example a link between a rare disease problem (A.2.3.1) and the rare disease specialist responsible for the care of the individual patient (this section).",0,"*","BackboneElement",null,{"$f":"CONCATENATE(\"* \",B25, \" \",E25,\"..\",F25,\" \",G25,\" ##34#\",C26,\"##34# ##334#\",D26,\"##334#\")","v":"* hpToContact 0..* BackboneElement ##34#A.1.2.2.1 Name of the HP##34# ##334#A.1.2.2.1 Name of the HP - Name of the Health Professional that has been treating or taking responsibility for the patient.##334#"}]
[19,"hpToContact.name","A.1.2.2.1 Name of the HP","A.1.2.2.1 Name of the HP - Name of the Health Professional that has been treating or taking responsibility for the patient.",0,"*","string",null,"* hpToContact.name 0..* string ##34#A.1.2.2.2 Role of the HP##34# ##334#A.1.2.2.2 Role of the HP - Health professional role##334#"]
[20,"hpToContact.role","A.1.2.2.2 Role of the HP","A.1.2.2.2 Role of the HP - Health professional role",0,"*","CodeableConcept",null,"* hpToContact.role 0..* CodeableConcept ##34#A.1.2.2.3 HP Organisation##34# ##334#A.1.2.2.3 HP Organisation - Health professional organisation##334#"]
[21,"hpToContact.organization","A.1.2.2.3 HP Organisation","A.1.2.2.3 HP Organisation - Health professional organisation",0,"*","BackboneElement",null,"* hpToContact.organization 0..* BackboneElement ##34#A.1.2.2.4 Telephone no.##34# ##334#A.1.2.2.4 Telephone no. - Example: +45 20 7025 6161##334#"]
[22,"hpToContact.telephone","A.1.2.2.4 Telephone no.","A.1.2.2.4 Telephone no. - Example: +45 20 7025 6161",0,"*","ContactPoint",null,"* hpToContact.telephone 0..* ContactPoint ##34#A.1.2.2.5 Email##34# ##334#A.1.2.2.5 Email - Email of the HP/legal organisation##334#"]
[23,"hpToContact.email","A.1.2.2.5 Email","A.1.2.2.5 Email - Email of the HP/legal organisation",0,"*","ContactPoint",null,"* hpToContact.email 0..* ContactPoint ##34#A.1.2.2.6 Network affiliation##34# ##334#A.1.2.2.6 Network affiliation - The HP organization is affiliated with a European network, for example an ERN.##334#"]
[24,"hpToContact.affiliatedNetwork","A.1.2.2.6 Network affiliation","A.1.2.2.6 Network affiliation - The HP organization is affiliated with a European network, for example an ERN.",0,"*","BackboneElement",null,"* hpToContact.affiliatedNetwork 0..* BackboneElement ##34#A.1.2.2.7 Related with##34# ##334#A.1.2.2.7 Related with - Identify the entry or entries of this Patient Summary for which the health professional is the preferred contact.##334#"]
[25,"hpToContact.relatedWith","A.1.2.2.7 Related with","A.1.2.2.7 Related with - Identify the entry or entries of this Patient Summary for which the health professional is the preferred contact.",0,"*","Reference",null,"* hpToContact.relatedWith 0..* Reference ##34#A.1.2.3 Contact person/ legal guardian ##34# ##334#A.1.2.3 Contact person/ legal guardian  - Role of the contact person: legal guardian, next of kin, other person to contact - Preferred system(s): HL7 RoleClass##334#"]
[26,"contactPerson","A.1.2.3 Contact person/ legal guardian ","A.1.2.3 Contact person/ legal guardian  - Role of the contact person: legal guardian, next of kin, other person to contact - Preferred system(s): HL7 RoleClass",0,"*","BackboneElement",null,"* contactPerson 0..* BackboneElement ##34#A.1.2.3.1 Role of that person##34# ##334#A.1.2.3.1 Role of that person - Relationship type with the patient (e.g. father, wife, daughter) HL7 RoleCode##334#"]
[27,"contactPerson.role","A.1.2.3.1 Role of that person","A.1.2.3.1 Role of that person - Relationship type with the patient (e.g. father, wife, daughter) HL7 RoleCode",0,"*","CodeableConcept",null,"* contactPerson.role 0..* CodeableConcept ##34#A.1.2.3.2 Relationship level##34# ##334#A.1.2.3.2 Relationship level - The first name of the contact person/guardian (Example: Peter). This field can contain more than one element.##334#"]
[28,"contactPerson.relationship","A.1.2.3.2 Relationship level","A.1.2.3.2 Relationship level - The first name of the contact person/guardian (Example: Peter). This field can contain more than one element.",0,"*","CodeableConcept",null,"* contactPerson.relationship 0..* CodeableConcept ##34#A.1.2.3.3 Given name##34# ##334#A.1.2.3.3 Given name - The first name of the contact person/guardian (Example: Peter). This field can contain more than one element.##334#"]
[29,"contactPerson.givenName","A.1.2.3.3 Given name","A.1.2.3.3 Given name - The first name of the contact person/guardian (Example: Peter). This field can contain more than one element.",0,"*","string",null,"* contactPerson.givenName 0..* string ##34#A.1.2.3.4 Family name/surname##34# ##334#A.1.2.3.4 Family name/surname - This field can contain more than one element.\nExample: Español Smith##334#"]
[30,"contactPerson.familyName","A.1.2.3.4 Family name/surname","A.1.2.3.4 Family name/surname - This field can contain more than one element.\nExample: Español Smith",0,"*","string",null,"* contactPerson.familyName 0..* string ##34#A.1.2.3.5 Telephone no.##34# ##334#A.1.2.3.5 Telephone no. - Example: +45 20 7025 6161##334#"]
[31,"contactPerson.telephone","A.1.2.3.5 Telephone no.","A.1.2.3.5 Telephone no. - Example: +45 20 7025 6161",0,"*","ContactPoint",null,"* contactPerson.telephone 0..* ContactPoint ##34#A.1.2.3.6 Email##34# ##334#A.1.2.3.6 Email - Email of the contact person/legal guardian##334#"]
[32,"contactPerson.email","A.1.2.3.6 Email","A.1.2.3.6 Email - Email of the contact person/legal guardian",0,"*","ContactPoint",null,"* contactPerson.email 0..* ContactPoint ##34###34# ##334###334#"]
[null,null,null,null,null,null,null,null,{"$f":"CONCATENATE(\"* \",B40, \" \",E40,\"..\",F40,\" \",G40,\" ##34#\",C41,\"##34# ##334#\",D41,\"##334#\")","v":"*  ..  ##34###34# ##334###334#"}]
[null,null,null,null,null,null,null,null,"*  ..  ##34###34# ##334###334#"]
[null,null,null,null,null,null,null,null,"*  ..  ##34###34# ##334###334#"]
[null,null,null,null,null,null,null,null,"*  ..  ##34###34# ##334###334#"]
[]
[]
[]
[]
[]
[]
[]
[null,{"$f":"CONCATENATE(C51,\" \",D51)","v":" "}]
[null,"A.1.2.3 Contact person/ legal guardian ","A.1.2.3 Contact person/ legal guardian"]
[null,"A.1.2.3.1 Role of that person","A.1.2.3.1","Role of that person","Role of the contact person: legal guardian, next of kin, other person to contact","HL7 RoleClass",null,null,{"$f":"CONCATENATE(E53,\" - Preferred system(s): \",F53)","v":"Role of the contact person: legal guardian, next of kin, other person to contact - Preferred system(s): HL7 RoleClass"}]
[null,"A.1.2.3.2 Relationship level","A.1.2.3.2","Relationship level","Relationship type with the patient (e.g. father, wife, daughter) HL7 RoleCode",null,null,null,"Relationship type with the patient (e.g. father, wife, daughter) HL7 RoleCode - Preferred system(s): "]
[null,"A.1.2.3.3 Given name","A.1.2.3.3","Given name","The first name of the contact person/guardian (Example: Peter). This field can contain more than one element.",null,null,null,"The first name of the contact person/guardian (Example: Peter). This field can contain more than one element. - Preferred system(s): "]
[null,"A.1.2.3.4 Family name/surname","A.1.2.3.4","Family name/surname","This field can contain more than one element.\nExample: Español Smith",null,null,null,"This field can contain more than one element.\nExample: Español Smith - Preferred system(s): "]
[null,"A.1.2.3.5 Telephone no.","A.1.2.3.5","Telephone no.","Example: +45 20 7025 6161",null,null,null,"Example: +45 20 7025 6161 - Preferred system(s): "]
[null,"A.1.2.3.6 Email","A.1.2.3.6","Email","Email of the contact person/legal guardian",null,null,null,"Email of the contact person/legal guardian - Preferred system(s): "]
[null,null,null,null,null,null,null,null," - Preferred system(s): "]
[null," ",null,null,null,null,null,null," - Preferred system(s): "]
[null," ",null,null,null,null,null,null," - Preferred system(s): "]

{"sheet":"Subj-fsh","index":47,"n_rows":43,"n_cols":7,"rows_kept":43,"cut":false,"hidden":false,"merged":[]}
[null,null,{"$f":"Subj!I1","v":"// -------------------------------------------------------------------------------"}]
[null,null,{"$f":"Subj!I2","v":"//  Logical Model"},null,null,null,"ps-subject.fsh"]
[null,null,{"$f":"Subj!I3","v":"// -------------------------------------------------------------------------------"}]
[null,null,{"$f":"Subj!I4","v":"Logical: SubjectPsEhn"}]
[null,null,{"$f":"Subj!I5","v":"Id: Subject"}]
[null,null,{"$f":"Subj!I6","v":"Title: ##34#A1.1, A1.2 - Subject of care##34#"}]
[null,null,{"$f":"Subj!I7","v":"Description:  ##334#Patient or Subject of care. Sections A1.1 and A1.2 of the eHN guideline.##334#"}]
[null,null,{"$f":"IF(Subj!I8=\"*  ..  ##34###34# ##334###334#\",\"//--- END\",Subj!I8)","v":"* identification 1..1 BackboneElement ##34#A.1.1.1 National healthcare patient ID##34# ##334#A.1.1.1 National healthcare patient ID - Country ID, unique to the patient in that country. Example: ID for Portuguese patient##334#"}]
[null,null,{"$f":"IF(Subj!I9=\"*  ..  ##34###34# ##334###334#\",\"//--- END\",Subj!I9)","v":"* identification.identifier 0..* Identifier ##34#A.1.1.2 Family name/surname##34# ##334#A.1.1.2 Family name/surname - The family name/surname/last name of the patient. This field can contain more than one element or multiple fields could be present.##334#"}]
[null,null,{"$f":"IF(Subj!I10=\"*  ..  ##34###34# ##334###334#\",\"//--- END\",Subj!I10)","v":"* identification.familyName 0..* string ##34#A.1.1.3 Given name##34# ##334#A.1.1.3 Given name  - The given name/first name of the patient (also known as forename or first name). This field can contain more than one element.  ##334#"},null," "]
[null,null,{"$f":"IF(Subj!I11=\"*  ..  ##34###34# ##334###334#\",\"//--- END\",Subj!I11)","v":"* identification.givenName 0..* string ##34#A.1.1.4 Date of birth##34# ##334#A.1.1.4 Date of birth  - The date of birth of the patient [ISO TS 22220]. As age of the patient might be important for correct interpretation of the test result values, complete date of birth should be provided. - Preferred system(s): Complete date, without time, following the ISO 8601 ##334#"}]
[null,null,{"$f":"IF(Subj!I12=\"*  ..  ##34###34# ##334###334#\",\"//--- END\",Subj!I12)","v":"* identification.dateOfBirth 0..1 dateTime ##34#A.1.1.5 Gender##34# ##334#A.1.1.5 Gender - This field must contain a recognised valid value for \"administrative gender\".\nIf different, \"physiological gender\" should be communicated elsewhere. - Preferred system(s): HL7 Administrative Gender ##334#"}]
[null,null,{"$f":"IF(Subj!I13=\"*  ..  ##34###34# ##334###334#\",\"//--- END\",Subj!I13)","v":"* identification.gender 0..1 CodeableConcept ##34#A.1.1.5 Country of affiliation##34# ##334#A.1.1.5 Country of\naffiliation - Name of country of affiliation  - Preferred system(s): ISO 3166##334#"}]
[null,null,{"$f":"IF(Subj!I14=\"*  ..  ##34###34# ##334###334#\",\"//--- END\",Subj!I14)","v":"* identification.countryOfAffiliation 0..1 CodeableConcept ##34#A.1.2.1 Patient address##34# ##334#A.1.2.1 Patient address - Patient address##334#"}]
[null,null,{"$f":"IF(Subj!I15=\"*  ..  ##34###34# ##334###334#\",\"//--- END\",Subj!I15)","v":"* telcomContact 0..* BackboneElement ##34#Address##34# ##334#Address##334#"}]
[null,null,{"$f":"IF(Subj!I16=\"*  ..  ##34###34# ##334###334#\",\"//--- END\",Subj!I16)","v":"* telcomContact.address 0..* BackboneElement ##34#A.1.2.1.1 Street##34# ##334#A.1.2.1.1 Street - Example: Rua dos Campeões##334#"}]
[null,null,{"$f":"IF(Subj!I17=\"*  ..  ##34###34# ##334###334#\",\"//--- END\",Subj!I17)","v":"* telcomContact.address.street 0..1 string ##34#A.1.2.1.2 House number##34# ##334#A.1.2.1.2 House number - Example: 246##334#"}]
[null,null,{"$f":"IF(Subj!I18=\"*  ..  ##34###34# ##334###334#\",\"//--- END\",Subj!I18)","v":"* telcomContact.address.houseNumber 0..1 string ##34#A.1.2.1.3 City##34# ##334#A.1.2.1.3 City - Example: Porto##334#"}]
[null,null,{"$f":"IF(Subj!I19=\"*  ..  ##34###34# ##334###334#\",\"//--- END\",Subj!I19)","v":"* telcomContact.address.city 0..1 string ##34#A.1.2.1.4 Post code##34# ##334#A.1.2.1.4 Post code - Example: 4500##334#"}]
[null,null,{"$f":"IF(Subj!I20=\"*  ..  ##34###34# ##334###334#\",\"//--- END\",Subj!I20)","v":"* telcomContact.address.postalCode 0..1 string ##34#A.1.2.1.5 State or province##34# ##334#A.1.2.1.5 State or province - Example: Vila Nova de Gaia##334#"}]
[null,null,{"$f":"IF(Subj!I21=\"*  ..  ##34###34# ##334###334#\",\"//--- END\",Subj!I21)","v":"* telcomContact.address.stateOrProvince 0..1 string ##34#A.1.2.1.6 Country##34# ##334#A.1.2.1.6 Country - Example: PT - Preferred system(s): ISO 3166##334#"}]
[null,null,{"$f":"IF(Subj!I22=\"*  ..  ##34###34# ##334###334#\",\"//--- END\",Subj!I22)","v":"* telcomContact.address.country 0..1 CodeableConcept ##34#A.1.2.1.7 Telephone no.##34# ##334#A.1.2.1.7 Telephone no. - Example: +351 20 7025 6161##334#"}]
[null,null,{"$f":"IF(Subj!I23=\"*  ..  ##34###34# ##334###334#\",\"//--- END\",Subj!I23)","v":"* telcomContact.telephone 0..* ContactPoint ##34#A.1.2.1.8 Email##34# ##334#A.1.2.1.8 Email - Example: jens@bigsmile.eu##334#"}]
[null,null,{"$f":"IF(Subj!I24=\"*  ..  ##34###34# ##334###334#\",\"//--- END\",Subj!I24)","v":"* telcomContact.email 0..* ContactPoint ##34#A.1.2.2 Preferred HP to contact##34# ##334#A.1.2.2 Preferred HP to contact - This section can be repeated and linked to any specific information in the Patient Summary, for example a link between a rare disease problem (A.2.3.1) and the rare disease specialist responsible for the care of the individual patient (this section).##334#"}]
[null,null,{"$f":"IF(Subj!I25=\"*  ..  ##34###34# ##334###334#\",\"//--- END\",Subj!I25)","v":"* hpToContact 0..* BackboneElement ##34#A.1.2.2.1 Name of the HP##34# ##334#A.1.2.2.1 Name of the HP - Name of the Health Professional that has been treating or taking responsibility for the patient.##334#"}]
[null,null,{"$f":"IF(Subj!I26=\"*  ..  ##34###34# ##334###334#\",\"//--- END\",Subj!I26)","v":"* hpToContact.name 0..* string ##34#A.1.2.2.2 Role of the HP##34# ##334#A.1.2.2.2 Role of the HP - Health professional role##334#"}]
[null,null,{"$f":"IF(Subj!I27=\"*  ..  ##34###34# ##334###334#\",\"//--- END\",Subj!I27)","v":"* hpToContact.role 0..* CodeableConcept ##34#A.1.2.2.3 HP Organisation##34# ##334#A.1.2.2.3 HP Organisation - Health professional organisation##334#"}]
[null,null,{"$f":"IF(Subj!I28=\"*  ..  ##34###34# ##334###334#\",\"//--- END\",Subj!I28)","v":"* hpToContact.organization 0..* BackboneElement ##34#A.1.2.2.4 Telephone no.##34# ##334#A.1.2.2.4 Telephone no. - Example: +45 20 7025 6161##334#"}]
[null,null,{"$f":"IF(Subj!I29=\"*  ..  ##34###34# ##334###334#\",\"//--- END\",Subj!I29)","v":"* hpToContact.telephone 0..* ContactPoint ##34#A.1.2.2.5 Email##34# ##334#A.1.2.2.5 Email - Email of the HP/legal organisation##334#"}]
[null,null,{"$f":"IF(Subj!I30=\"*  ..  ##34###34# ##334###334#\",\"//--- END\",Subj!I30)","v":"* hpToContact.email 0..* ContactPoint ##34#A.1.2.2.6 Network affiliation##34# ##334#A.1.2.2.6 Network affiliation - The HP organization is affiliated with a European network, for example an ERN.##334#"}]
[null,null,{"$f":"IF(Subj!I31=\"*  ..  ##34###34# ##334###334#\",\"//--- END\",Subj!I31)","v":"* hpToContact.affiliatedNetwork 0..* BackboneElement ##34#A.1.2.2.7 Related with##34# ##334#A.1.2.2.7 Related with - Identify the entry or entries of this Patient Summary for which the health professional is the preferred contact.##334#"}]
[null,null,{"$f":"IF(Subj!I32=\"*  ..  ##34###34# ##334###334#\",\"//--- END\",Subj!I32)","v":"* hpToContact.relatedWith 0..* Reference ##34#A.1.2.3 Contact person/ legal guardian ##34# ##334#A.1.2.3 Contact person/ legal guardian  - Role of the contact person: legal guardian, next of kin, other person to contact - Preferred system(s): HL7 RoleClass##334#"}]
[null,null,{"$f":"IF(Subj!I33=\"*  ..  ##34###34# ##334###334#\",\"//--- END\",Subj!I33)","v":"* contactPerson 0..* BackboneElement ##34#A.1.2.3.1 Role of that person##34# ##334#A.1.2.3.1 Role of that person - Relationship type with the patient (e.g. father, wife, daughter) HL7 RoleCode##334#"}]
[null,null,{"$f":"IF(Subj!I34=\"*  ..  ##34###34# ##334###334#\",\"//--- END\",Subj!I34)","v":"* contactPerson.role 0..* CodeableConcept ##34#A.1.2.3.2 Relationship level##34# ##334#A.1.2.3.2 Relationship level - The first name of the contact person/guardian (Example: Peter). This field can contain more than one element.##334#"}]
[null,null,{"$f":"IF(Subj!I35=\"*  ..  ##34###34# ##334###334#\",\"//--- END\",Subj!I35)","v":"* contactPerson.relationship 0..* CodeableConcept ##34#A.1.2.3.3 Given name##34# ##334#A.1.2.3.3 Given name - The first name of the contact person/guardian (Example: Peter). This field can contain more than one element.##334#"}]
[null,null,{"$f":"IF(Subj!I36=\"*  ..  ##34###34# ##334###334#\",\"//--- END\",Subj!I36)","v":"* contactPerson.givenName 0..* string ##34#A.1.2.3.4 Family name/surname##34# ##334#A.1.2.3.4 Family name/surname - This field can contain more than one element.\nExample: Español Smith##334#"}]
[null,null,{"$f":"IF(Subj!I37=\"*  ..  ##34###34# ##334###334#\",\"//--- END\",Subj!I37)","v":"* contactPerson.familyName 0..* string ##34#A.1.2.3.5 Telephone no.##34# ##334#A.1.2.3.5 Telephone no. - Example: +45 20 7025 6161##334#"}]
[null,null,{"$f":"IF(Subj!I38=\"*  ..  ##34###34# ##334###334#\",\"//--- END\",Subj!I38)","v":"* contactPerson.telephone 0..* ContactPoint ##34#A.1.2.3.6 Email##34# ##334#A.1.2.3.6 Email - Email of the contact person/legal guardian##334#"}]
[null,null,{"$f":"IF(Subj!I39=\"*  ..  ##34###34# ##334###334#\",\"//--- END\",Subj!I39)","v":"* contactPerson.email 0..* ContactPoint ##34###34# ##334###334#"}]
[null,null,{"$f":"IF(Subj!I40=\"*  ..  ##34###34# ##334###334#\",\"//--- END\",Subj!I40)","v":"//--- END"}]
[null,null,{"$f":"IF(Subj!I41=\"*  ..  ##34###34# ##334###334#\",\"//--- END\",Subj!I41)","v":"//--- END"}]
[null,null,{"$f":"IF(Subj!I42=\"*  ..  ##34###34# ##334###334#\",\"//--- END\",Subj!I42)","v":"//--- END"}]
[null,null,{"$f":"IF(Subj!I43=\"*  ..  ##34###34# ##334###334#\",\"//--- END\",Subj!I43)","v":"//--- END"}]

{"sheet":"Subj-ConceptMap-1","index":48,"n_rows":242,"n_cols":19,"rows_kept":242,"cut":false,"hidden":false,"merged":[[2,4,2,6],[3,4,3,6],[5,4,5,6],[6,4,6,6]]}
[]
[]
[null,"Mapping","PatientSummarySubject2Fhir","Source URI","http://hl7.eu/fhir/ig/xpandh/ps/StructureDefinition/Subject"]
[null,"Id","subject2FHIR-eu-ps","Target URI","http://hl7.eu/fhir/ig/xpandh/ps/StructureDefinition/Bundle-ps-xpandh"]
[null,"Title","eHN Subject to this guide Map"]
[null,"Source","http://hl7.eu/fhir/ig/xpandh/ps/StructureDefinition/Subject","Source Group","http://hl7.eu/fhir/ig/xpandh/ps/StructureDefinition/Subject"]
[null,"Target","http://hl7.eu/fhir/ig/xpandh/ps/StructureDefinition/Patient-ps-xpandh","Target Group","http://hl7.eu/fhir/ig/xpandh/ps/StructureDefinition/Patient-ps-xpandh"]
[null,"description","eHN Subject Model to this guide Map",null,null,null,null,null,"* group[=].element[+].code = #Osiris.Patient.BirthDate","* group[=].element[=].display = \"Birth Date [C4]\"","* group[=].element[=].target.code = #Subject.dateOfBirth.date","* group[=].element[=].target.display = \"Date of birth\"","* group[=].element[=].target.equivalence = #equivalent",null,null,"Elements",6]
[null,"purpose","It shows how the Patient Summary Subject data set defined by the EU eHN guidelines is mapped into this guide"]
[]
[null,null,null,null,null,null,null,null,"source:code","source:display","code","display","target to source","Comment"]
[]
[null,null,null,null,null,"target to source","Comment"]
[null,{"$f":"Subj!B5","v":"Subject"},null,"Patient"]
[null,{"$f":"Subj!B8","v":"identification"},{"$f":"Subj!C8","v":"A.1.1 Identification of the patient/subject"},null,null,"relatedto",null,null,{"$f":"\"* group[=].element[+].code = #\"&$B$14&\".\"&B15","v":"* group[=].element[+].code = #Subject.identification"},{"$f":"\"* group[=].element[=].display = ##34#\"&C15&\"##34#\"","v":"* group[=].element[=].display = ##34#A.1.1 Identification of the patient/subject##34#"},{"$f":"IF(F15=\"unmatched\",\"//-- unmatched\",IF(D15=\"\",\"* group[=].element[=].target.code = #\"&$D$14,\"* group[=].element[=].target.code = #\"&$D$14&\".\"&D15))","v":"* group[=].element[=].target.code = #Patient"},{"$f":"IF(F15=\"unmatched\",\"//-- unmatched\",\"* group[=].element[=].target.display = ##34#\"&E15&\"##34#\")","v":"* group[=].element[=].target.display = ##34###34#"},{"$f":"\"* group[=].element[=].target.equivalence = #\"&F15","v":"* group[=].element[=].target.equivalence = #relatedto"},{"$f":"IF(G15<>\"\",CONCATENATE(\"* group[=].element[=].target.comment = \",\"##34#\",G15,\"##34#\"),\"\")","v":""},null,1,{"$f":"IF(MOD(P15,$Q$8)=0,P15/$Q$8-1,INT(P15/$Q$8))","v":0},{"$f":"IF(MOD(P15,$Q$8)=0,$Q$8,MOD(P15,$Q$8))","v":1},{"$f":"INDEX('Subj-ConceptMap-1'!$I$15:$N$205,Q15+1,R15)","v":"* group[=].element[+].code = #Subject.identification"}]
[null,{"$f":"Subj!B9","v":"identification.identifier"},{"$f":"Subj!C9","v":"A.1.1.1 National healthcare patient ID"},"identifier",null,"equivalent",null,null,{"$f":"\"* group[=].element[+].code = #\"&$B$14&\".\"&B16","v":"* group[=].element[+].code = #Subject.identification.identifier"},{"$f":"\"* group[=].element[=].display = ##34#\"&C16&\"##34#\"","v":"* group[=].element[=].display = ##34#A.1.1.1 National healthcare patient ID##34#"},{"$f":"IF(F16=\"unmatched\",\"//-- unmatched\",IF(D16=\"\",\"* group[=].element[=].target.code = #\"&$D$14,\"* group[=].element[=].target.code = #\"&$D$14&\".\"&D16))","v":"* group[=].element[=].target.code = #Patient.identifier"},{"$f":"IF(F16=\"unmatched\",\"//-- unmatched\",\"* group[=].element[=].target.display = ##34#\"&E16&\"##34#\")","v":"* group[=].element[=].target.display = ##34###34#"},{"$f":"\"* group[=].element[=].target.equivalence = #\"&F16","v":"* group[=].element[=].target.equivalence = #equivalent"},"",null,2,{"$f":"IF(MOD(P16,$Q$8)=0,P16/$Q$8-1,INT(P16/$Q$8))","v":0},{"$f":"IF(MOD(P16,$Q$8)=0,$Q$8,MOD(P16,$Q$8))","v":2},{"$f":"INDEX('Subj-ConceptMap-1'!$I$15:$N$205,Q16+1,R16)","v":"* group[=].element[=].display = ##34#A.1.1 Identification of the patient/subject##34#"}]
[null,{"$f":"Subj!B10","v":"identification.familyName"},{"$f":"Subj!C10","v":"A.1.1.2 Family name/surname"},"name.family",null,"equivalent",null,null,{"$f":"\"* group[=].element[+].code = #\"&$B$14&\".\"&B17","v":"* group[=].element[+].code = #Subject.identification.familyName"},{"$f":"\"* group[=].element[=].display = ##34#\"&C17&\"##34#\"","v":"* group[=].element[=].display = ##34#A.1.1.2 Family name/surname##34#"},{"$f":"IF(F17=\"unmatched\",\"//-- unmatched\",IF(D17=\"\",\"* group[=].element[=].target.code = #\"&$D$14,\"* group[=].element[=].target.code = #\"&$D$14&\".\"&D17))","v":"* group[=].element[=].target.code = #Patient.name.family"},{"$f":"IF(F17=\"unmatched\",\"//-- unmatched\",\"* group[=].element[=].target.display = ##34#\"&E17&\"##34#\")","v":"* group[=].element[=].target.display = ##34###34#"},{"$f":"\"* group[=].element[=].target.equivalence = #\"&F17","v":"* group[=].element[=].target.equivalence = #equivalent"},{"$f":"IF(G17<>\"\",CONCATENATE(\"* group[=].element[=].target.comment = \",\"##34#\",G17,\"##34#\"),\"\")","v":""},null,3,0,3,{"$f":"INDEX('Subj-ConceptMap-1'!$I$15:$N$205,Q17+1,R17)","v":"* group[=].element[=].target.code = #Patient"}]
[null,{"$f":"Subj!B11","v":"identification.givenName"},{"$f":"Subj!C11","v":"A.1.1.3 Given name"},"name.given",null,"equivalent",null,null,"* group[=].element[+].code = #Subject.identification.givenName","* group[=].element[=].display = ##34#A.1.1.3 Given name##34#","* group[=].element[=].target.code = #Patient.name.given","* group[=].element[=].target.display = ##34###34#","* group[=].element[=].target.equivalence = #equivalent","",null,4,0,4,{"$f":"INDEX('Subj-ConceptMap-1'!$I$15:$N$205,Q18+1,R18)","v":"* group[=].element[=].target.display = ##34###34#"}]
[null,{"$f":"Subj!B12","v":"identification.dateOfBirth"},{"$f":"Subj!C12","v":"A.1.1.4 Date of birth"},"birthDate",null,"equivalent",null,null,"* group[=].element[+].code = #Subject.identification.dateOfBirth","* group[=].element[=].display = ##34#A.1.1.4 Date of birth##34#","* group[=].element[=].target.code = #Patient.birthDate","* group[=].element[=].target.display = ##34###34#","* group[=].element[=].target.equivalence = #equivalent","",null,5,0,5,{"$f":"INDEX('Subj-ConceptMap-1'!$I$15:$N$205,Q19+1,R19)","v":"* group[=].element[=].target.equivalence = #relatedto"}]
[null,{"$f":"Subj!B13","v":"identification.gender"},{"$f":"Subj!C13","v":"A.1.1.5 Gender"},"gender",null,"equivalent",null,null,"* group[=].element[+].code = #Subject.identification.gender","* group[=].element[=].display = ##34#A.1.1.5 Gender##34#","* group[=].element[=].target.code = #Patient.gender","* group[=].element[=].target.display = ##34###34#","* group[=].element[=].target.equivalence = #equivalent","",null,6,0,6,{"$f":"INDEX('Subj-ConceptMap-1'!$I$15:$N$205,Q20+1,R20)","v":""}]
[null,{"$f":"Subj!B14","v":"identification.countryOfAffiliation"},{"$f":"Subj!C14","v":"A.1.1.5 Country of affiliation"},"address.country",null,"relatedto","Assuming that the address is the 'offcial' address. This is how it is currently mapped in the eHDSI CDA Igs",null,"* group[=].element[+].code = #Subject.identification.countryOfAffiliation","* group[=].element[=].display = ##34#A.1.1.5 Country of affiliation##34#","* group[=].element[=].target.code = #Patient.address.country","* group[=].element[=].target.display = ##34###34#","* group[=].element[=].target.equivalence = #relatedto","* group[=].element[=].target.comment = ##34#Assuming that the address is the 'offcial' address. This is how it is currently mapped in the eHDSI CDA Igs##34#",null,7,1,1,{"$f":"INDEX('Subj-ConceptMap-1'!$I$15:$N$205,Q21+1,R21)","v":"* group[=].element[+].code = #Subject.identification.identifier"}]
[null,{"$f":"Subj!B15","v":"telcomContact"},{"$f":"Subj!C15","v":"A.1.2.1 Patient address"},null,null,"relatedto",null,null,"* group[=].element[+].code = #Subject.telcomContact","* group[=].element[=].display = ##34#A.1.2.1 Patient address##34#","* group[=].element[=].target.code = #Patient","* group[=].element[=].target.display = ##34###34#","* group[=].element[=].target.equivalence = #relatedto","",null,8,1,2,{"$f":"INDEX('Subj-ConceptMap-1'!$I$15:$N$205,Q22+1,R22)","v":"* group[=].element[=].display = ##34#A.1.1.1 National healthcare patient ID##34#"}]
[null,{"$f":"Subj!B16","v":"telcomContact.address"},{"$f":"Subj!C16","v":"Address"},"address",null,"equivalent",null,null,"* group[=].element[+].code = #Subject.telcomContact.address","* group[=].element[=].display = ##34#Address##34#","* group[=].element[=].target.code = #Patient.address","* group[=].element[=].target.display = ##34###34#","* group[=].element[=].target.equivalence = #equivalent","",null,9,1,3,{"$f":"INDEX('Subj-ConceptMap-1'!$I$15:$N$205,Q23+1,R23)","v":"* group[=].element[=].target.code = #Patient.identifier"}]
[null,{"$f":"Subj!B17","v":"telcomContact.address.street"},{"$f":"Subj!C17","v":"A.1.2.1.1 Street"},"address.line",null,"relatedto",null,null,"* group[=].element[+].code = #Subject.telcomContact.address.street","* group[=].element[=].display = ##34#A.1.2.1.1 Street##34#","* group[=].element[=].target.code = #Patient.address.line","* group[=].element[=].target.display = ##34###34#","* group[=].element[=].target.equivalence = #relatedto","",null,10,1,4,{"$f":"INDEX('Subj-ConceptMap-1'!$I$15:$N$205,Q24+1,R24)","v":"* group[=].element[=].target.display = ##34###34#"}]
[null,{"$f":"Subj!B17","v":"telcomContact.address.street"},{"$f":"Subj!C17","v":"A.1.2.1.1 Street"},"address.line.extensioon:streetName",null,"equivalent","http://hl7.org/fhir/StructureDefinition/iso21090-ADXP-streetName",null,"* group[=].element[+].code = #Subject.telcomContact.address.street","* group[=].element[=].display = ##34#A.1.2.1.1 Street##34#","* group[=].element[=].target.code = #Patient.address.line.extensioon:streetName","* group[=].element[=].target.display = ##34###34#","* group[=].element[=].target.equivalence = #equivalent","* group[=].element[=].target.comment = ##34#http://hl7.org/fhir/StructureDefinition/iso21090-ADXP-streetName##34#",null,11,1,5,{"$f":"INDEX('Subj-ConceptMap-1'!$I$15:$N$205,Q25+1,R25)","v":"* group[=].element[=].target.equivalence = #equivalent"}]
[null,{"$f":"Subj!B18","v":"telcomContact.address.houseNumber"},{"$f":"Subj!C18","v":"A.1.2.1.2 House number"},"address.line.extensioon:houseNumber",null,"equivalent","http://hl7.org/fhir/StructureDefinition/iso21090-ADXP-houseNumber",null,"* group[=].element[+].code = #Subject.telcomContact.address.houseNumber","* group[=].element[=].display = ##34#A.1.2.1.2 House number##34#","* group[=].element[=].target.code = #Patient.address.line.extensioon:houseNumber","* group[=].element[=].target.display = ##34###34#","* group[=].element[=].target.equivalence = #equivalent","* group[=].element[=].target.comment = ##34#http://hl7.org/fhir/StructureDefinition/iso21090-ADXP-houseNumber##34#",null,12,1,6,{"$f":"INDEX('Subj-ConceptMap-1'!$I$15:$N$205,Q26+1,R26)","v":""}]
[null,{"$f":"Subj!B19","v":"telcomContact.address.city"},{"$f":"Subj!C19","v":"A.1.2.1.3 City"},"address.city",null,"equivalent",null,null,"* group[=].element[+].code = #Subject.telcomContact.address.city","* group[=].element[=].display = ##34#A.1.2.1.3 City##34#","* group[=].element[=].target.code = #Patient.address.city","* group[=].element[=].target.display = ##34###34#","* group[=].element[=].target.equivalence = #equivalent","",null,13,2,1,{"$f":"INDEX('Subj-ConceptMap-1'!$I$15:$N$205,Q27+1,R27)","v":"* group[=].element[+].code = #Subject.identification.familyName"}]
[null,{"$f":"Subj!B20","v":"telcomContact.address.postalCode"},{"$f":"Subj!C20","v":"A.1.2.1.4 Post code"},"address.postalCode",null,"equivalent",null,null,"* group[=].element[+].code = #Subject.telcomContact.address.postalCode","* group[=].element[=].display = ##34#A.1.2.1.4 Post code##34#","* group[=].element[=].target.code = #Patient.address.postalCode","* group[=].element[=].target.display = ##34###34#","* group[=].element[=].target.equivalence = #equivalent","",null,14,2,2,{"$f":"INDEX('Subj-ConceptMap-1'!$I$15:$N$205,Q28+1,R28)","v":"* group[=].element[=].display = ##34#A.1.1.2 Family name/surname##34#"}]
[null,{"$f":"Subj!B21","v":"telcomContact.address.stateOrProvince"},{"$f":"Subj!C21","v":"A.1.2.1.5 State or province"},"address.state",null,"equivalent",null,null,"* group[=].element[+].code = #Subject.telcomContact.address.stateOrProvince","* group[=].element[=].display = ##34#A.1.2.1.5 State or province##34#","* group[=].element[=].target.code = #Patient.address.state","* group[=].element[=].target.display = ##34###34#","* group[=].element[=].target.equivalence = #equivalent","",null,15,2,3,{"$f":"INDEX('Subj-ConceptMap-1'!$I$15:$N$205,Q29+1,R29)","v":"* group[=].element[=].target.code = #Patient.name.family"}]
[null,{"$f":"Subj!B22","v":"telcomContact.address.country"},{"$f":"Subj!C22","v":"A.1.2.1.6 Country"},"address.country",null,"equivalent","country name",null,"* group[=].element[+].code = #Subject.telcomContact.address.country","* group[=].element[=].display = ##34#A.1.2.1.6 Country##34#","* group[=].element[=].target.code = #Patient.address.country","* group[=].element[=].target.display = ##34###34#","* group[=].element[=].target.equivalence = #equivalent","* group[=].element[=].target.comment = ##34#country name##34#",null,16,2,4,{"$f":"INDEX('Subj-ConceptMap-1'!$I$15:$N$205,Q30+1,R30)","v":"* group[=].element[=].target.display = ##34###34#"}]
[null,{"$f":"Subj!B22","v":"telcomContact.address.country"},{"$f":"Subj!C22","v":"A.1.2.1.6 Country"},"address.country.extension:countryCode",null,"equivalent","country code.\nhttp://hl7.org/fhir/StructureDefinition/iso21090-SC-coding",null,"* group[=].element[+].code = #Subject.telcomContact.address.country","* group[=].element[=].display = ##34#A.1.2.1.6 Country##34#","* group[=].element[=].target.code = #Patient.address.country.extension:countryCode","* group[=].element[=].target.display = ##34###34#","* group[=].element[=].target.equivalence = #equivalent","* group[=].element[=].target.comment = ##34#country code.\nhttp://hl7.org/fhir/StructureDefinition/iso21090-SC-coding##34#",null,17,2,5,{"$f":"INDEX('Subj-ConceptMap-1'!$I$15:$N$205,Q31+1,R31)","v":"* group[=].element[=].target.equivalence = #equivalent"}]
[null,{"$f":"Subj!B23","v":"telcomContact.telephone"},{"$f":"Subj!C23","v":"A.1.2.1.7 Telephone no."},"telecom",null,"equivalent","where system = 'phone '",null,"* group[=].element[+].code = #Subject.telcomContact.telephone","* group[=].element[=].display = ##34#A.1.2.1.7 Telephone no.##34#","* group[=].element[=].target.code = #Patient.telecom","* group[=].element[=].target.display = ##34###34#","* group[=].element[=].target.equivalence = #equivalent","* group[=].element[=].target.comment = ##34#where system = 'phone '##34#",null,18,2,6,{"$f":"INDEX('Subj-ConceptMap-1'!$I$15:$N$205,Q32+1,R32)","v":""}]
[null,{"$f":"Subj!B24","v":"telcomContact.email"},{"$f":"Subj!C24","v":"A.1.2.1.8 Email"},"telecom",null,"equivalent","where system = 'email'",null,"* group[=].element[+].code = #Subject.telcomContact.email","* group[=].element[=].display = ##34#A.1.2.1.8 Email##34#","* group[=].element[=].target.code = #Patient.telecom","* group[=].element[=].target.display = ##34###34#","* group[=].element[=].target.equivalence = #equivalent","* group[=].element[=].target.comment = ##34#where system = 'email'##34#",null,19,3,1,{"$f":"INDEX('Subj-ConceptMap-1'!$I$15:$N$205,Q33+1,R33)","v":"* group[=].element[+].code = #Subject.identification.givenName"}]
[null,{"$f":"Subj!B25","v":"hpToContact"},{"$f":"Subj!C25","v":"A.1.2.2 Preferred HP to contact"},null,null,"unmatched","To be mapped in differetn places",null,"* group[=].element[+].code = #Subject.hpToContact","* group[=].element[=].display = ##34#A.1.2.2 Preferred HP to contact##34#","//-- unmatched","//-- unmatched","* group[=].element[=].target.equivalence = #unmatched","* group[=].element[=].target.comment = ##34#To be mapped in differetn places##34#",null,20,3,2,{"$f":"INDEX('Subj-ConceptMap-1'!$I$15:$N$205,Q34+1,R34)","v":"* group[=].element[=].display = ##34#A.1.1.3 Given name##34#"}]
[null,{"$f":"Subj!B33","v":"contactPerson"},{"$f":"Subj!C33","v":"A.1.2.3 Contact person/ legal guardian "},"contact",null,"equivalent",null,null,"* group[=].element[+].code = #Subject.contactPerson","* group[=].element[=].display = ##34#A.1.2.3 Contact person/ legal guardian ##34#","* group[=].element[=].target.code = #Patient.contact","* group[=].element[=].target.display = ##34###34#","* group[=].element[=].target.equivalence = #equivalent","",null,21,3,3,{"$f":"INDEX('Subj-ConceptMap-1'!$I$15:$N$205,Q35+1,R35)","v":"* group[=].element[=].target.code = #Patient.name.given"}]
[null,{"$f":"Subj!B34","v":"contactPerson.role"},{"$f":"Subj!C34","v":"A.1.2.3.1 Role of that person"},"contact.relationship",null,"relatedto","To be checked",null,"* group[=].element[+].code = #Subject.contactPerson.role","* group[=].element[=].display = ##34#A.1.2.3.1 Role of that person##34#","* group[=].element[=].target.code = #Patient.contact.relationship","* group[=].element[=].target.display = ##34###34#","* group[=].element[=].target.equivalence = #relatedto","* group[=].element[=].target.comment = ##34#To be checked##34#",null,22,3,4,{"$f":"INDEX('Subj-ConceptMap-1'!$I$15:$N$205,Q36+1,R36)","v":"* group[=].element[=].target.display = ##34###34#"}]
[null,{"$f":"Subj!B35","v":"contactPerson.relationship"},{"$f":"Subj!C35","v":"A.1.2.3.2 Relationship level"},"contact.relationship",null,"equivalent",null,null,"* group[=].element[+].code = #Subject.contactPerson.relationship","* group[=].element[=].display = ##34#A.1.2.3.2 Relationship level##34#","* group[=].element[=].target.code = #Patient.contact.relationship","* group[=].element[=].target.display = ##34###34#","* group[=].element[=].target.equivalence = #equivalent","",null,23,3,5,{"$f":"INDEX('Subj-ConceptMap-1'!$I$15:$N$205,Q37+1,R37)","v":"* group[=].element[=].target.equivalence = #equivalent"}]
[null,{"$f":"Subj!B36","v":"contactPerson.givenName"},{"$f":"Subj!C36","v":"A.1.2.3.3 Given name"},"contact.name.given",null,"equivalent",null,null,"* group[=].element[+].code = #Subject.contactPerson.givenName","* group[=].element[=].display = ##34#A.1.2.3.3 Given name##34#","* group[=].element[=].target.code = #Patient.contact.name.given","* group[=].element[=].target.display = ##34###34#","* group[=].element[=].target.equivalence = #equivalent","",null,24,3,6,{"$f":"INDEX('Subj-ConceptMap-1'!$I$15:$N$205,Q38+1,R38)","v":""}]
[null,{"$f":"Subj!B37","v":"contactPerson.familyName"},{"$f":"Subj!C37","v":"A.1.2.3.4 Family name/surname"},"contact.name.family",null,"equivalent",null,null,"* group[=].element[+].code = #Subject.contactPerson.familyName","* group[=].element[=].display = ##34#A.1.2.3.4 Family name/surname##34#","* group[=].element[=].target.code = #Patient.contact.name.family","* group[=].element[=].target.display = ##34###34#","* group[=].element[=].target.equivalence = #equivalent","",null,25,4,1,{"$f":"INDEX('Subj-ConceptMap-1'!$I$15:$N$205,Q39+1,R39)","v":"* group[=].element[+].code = #Subject.identification.dateOfBirth"}]
[null,{"$f":"Subj!B38","v":"contactPerson.telephone"},{"$f":"Subj!C38","v":"A.1.2.3.5 Telephone no."},"contact.telecom",null,"equivalent",null,null,"* group[=].element[+].code = #Subject.contactPerson.telephone","* group[=].element[=].display = ##34#A.1.2.3.5 Telephone no.##34#","* group[=].element[=].target.code = #Patient.contact.telecom","* group[=].element[=].target.display = ##34###34#","* group[=].element[=].target.equivalence = #equivalent","",null,26,4,2,{"$f":"INDEX('Subj-ConceptMap-1'!$I$15:$N$205,Q40+1,R40)","v":"* group[=].element[=].display = ##34#A.1.1.4 Date of birth##34#"}]
[null,{"$f":"Subj!B39","v":"contactPerson.email"},{"$f":"Subj!C39","v":"A.1.2.3.6 Email"},"contact.telecom",null,"equivalent",null,null,"* group[=].element[+].code = #Subject.contactPerson.email","* group[=].element[=].display = ##34#A.1.2.3.6 Email##34#","* group[=].element[=].target.code = #Patient.contact.telecom","* group[=].element[=].target.display = ##34###34#","* group[=].element[=].target.equivalence = #equivalent","",null,27,4,3,{"$f":"INDEX('Subj-ConceptMap-1'!$I$15:$N$205,Q41+1,R41)","v":"* group[=].element[=].target.code = #Patient.birthDate"}]
[null,{"$f":"Subj!B40","v":0},{"$f":"Subj!C40","v":0},null,null,null,null,null,null,null,null,null,null,null,null,28,4,4,{"$f":"INDEX('Subj-ConceptMap-1'!$I$15:$N$205,Q42+1,R42)","v":"* group[=].element[=].target.display = ##34###34#"}]
[null,{"$f":"Subj!B41","v":0},{"$f":"Subj!C41","v":0},null,null,null,null,null,null,null,null,null,null,null,null,29,4,5,{"$f":"INDEX('Subj-ConceptMap-1'!$I$15:$N$205,Q43+1,R43)","v":"* group[=].element[=].target.equivalence = #equivalent"}]
[null,{"$f":"Subj!B42","v":0},{"$f":"Subj!C42","v":0},null,null,null,null,null,null,null,null,null,null,null,null,30,4,6,{"$f":"INDEX('Subj-ConceptMap-1'!$I$15:$N$205,Q44+1,R44)","v":""}]
[null,{"$f":"Subj!B43","v":0},{"$f":"Subj!C43","v":0},null,null,null,null,null,null,null,null,null,null,null,null,31,5,1,{"$f":"INDEX('Subj-ConceptMap-1'!$I$15:$N$205,Q45+1,R45)","v":"* group[=].element[+].code = #Subject.identification.gender"}]
[null,{"$f":"Subj!B44","v":0},{"$f":"Subj!C44","v":0},null,null,null,null,null,null,null,null,null,null,null,null,32,5,2,{"$f":"INDEX('Subj-ConceptMap-1'!$I$15:$N$205,Q46+1,R46)","v":"* group[=].element[=].display = ##34#A.1.1.5 Gender##34#"}]
[null,{"$f":"Subj!B45","v":0},{"$f":"Subj!C45","v":0},null,null,null,null,null,null,null,null,null,null,null,null,33,5,3,{"$f":"INDEX('Subj-ConceptMap-1'!$I$15:$N$205,Q47+1,R47)","v":"* group[=].element[=].target.code = #Patient.gender"}]
[null,null,null,null,null,null,null,null,null,null,null,null,null,null,null,34,5,4,{"$f":"INDEX('Subj-ConceptMap-1'!$I$15:$N$205,Q48+1,R48)","v":"* group[=].element[=].target.display = ##34###34#"}]
[null,null,null,null,null,null,null,null,null,null,null,null,null,null,null,35,5,5,{"$f":"INDEX('Subj-ConceptMap-1'!$I$15:$N$205,Q49+1,R49)","v":"* group[=].element[=].target.equivalence = #equivalent"}]
[null,null,null,null,null,null,null,null,null,null,null,null,null,null,null,36,5,6,{"$f":"INDEX('Subj-ConceptMap-1'!$I$15:$N$205,Q50+1,R50)","v":""}]
[null,null,null,null,null,null,null,null,null,null,null,null,null,null,null,37,6,1,{"$f":"INDEX('Subj-ConceptMap-1'!$I$15:$N$205,Q51+1,R51)","v":"* group[=].element[+].code = #Subject.identification.countryOfAffiliation"}]
[null,null,null,null,null,null,null,null,null,null,null,null,null,null,null,38,6,2,{"$f":"INDEX('Subj-ConceptMap-1'!$I$15:$N$205,Q52+1,R52)","v":"* group[=].element[=].display = ##34#A.1.1.5 Country of affiliation##34#"}]
[null,null,null,null,null,null,null,null,null,null,null,null,null,null,null,39,6,3,{"$f":"INDEX('Subj-ConceptMap-1'!$I$15:$N$205,Q53+1,R53)","v":"* group[=].element[=].target.code = #Patient.address.country"}]
[null,null,null,null,null,null,null,null,null,null,null,null,null,null,null,40,6,4,{"$f":"INDEX('Subj-ConceptMap-1'!$I$15:$N$205,Q54+1,R54)","v":"* group[=].element[=].target.display = ##34###34#"}]
[null,null,null,null,null,null,null,null,null,null,null,null,null,null,null,41,6,5,{"$f":"INDEX('Subj-ConceptMap-1'!$I$15:$N$205,Q55+1,R55)","v":"* group[=].element[=].target.equivalence = #relatedto"}]
[null,null,null,null,null,null,null,null,null,null,null,null,null,null,null,42,6,6,{"$f":"INDEX('Subj-ConceptMap-1'!$I$15:$N$205,Q56+1,R56)","v":"* group[=].element[=].target.comment = ##34#Assuming that the address is the 'offcial' address. This is how it is currently mapped in the eHDSI CDA Igs##34#"}]
[null,null,null,null,null,null,null,null,null,null,null,null,null,null,null,43,7,1,{"$f":"INDEX('Subj-ConceptMap-1'!$I$15:$N$205,Q57+1,R57)","v":"* group[=].element[+].code = #Subject.telcomContact"}]
[null,null,null,null,null,null,null,null,null,null,null,null,null,null,null,44,7,2,{"$f":"INDEX('Subj-ConceptMap-1'!$I$15:$N$205,Q58+1,R58)","v":"* group[=].element[=].display = ##34#A.1.2.1 Patient address##34#"}]
[null,null,null,null,null,null,null,null,null,null,null,null,null,null,null,45,7,3,{"$f":"INDEX('Subj-ConceptMap-1'!$I$15:$N$205,Q59+1,R59)","v":"* group[=].element[=].target.code = #Patient"}]
[null,null,null,null,null,null,null,null,null,null,null,null,null,null,null,46,7,4,{"$f":"INDEX('Subj-ConceptMap-1'!$I$15:$N$205,Q60+1,R60)","v":"* group[=].element[=].target.display = ##34###34#"}]
[null,null,null,null,null,null,null,null,null,null,null,null,null,null,null,47,7,5,{"$f":"INDEX('Subj-ConceptMap-1'!$I$15:$N$205,Q61+1,R61)","v":"* group[=].element[=].target.equivalence = #relatedto"}]
[null,null,null,null,null,null,null,null,null,null,null,null,null,null,null,48,7,6,{"$f":"INDEX('Subj-ConceptMap-1'!$I$15:$N$205,Q62+1,R62)","v":""}]
[null,null,null,null,null,null,null,null,null,null,null,null,null,null,null,49,8,1,{"$f":"INDEX('Subj-ConceptMap-1'!$I$15:$N$205,Q63+1,R63)","v":"* group[=].element[+].code = #Subject.telcomContact.address"}]
[null,null,null,null,null,null,null,null,null,null,null,null,null,null,null,50,8,2,{"$f":"INDEX('Subj-ConceptMap-1'!$I$15:$N$205,Q64+1,R64)","v":"* group[=].element[=].display = ##34#Address##34#"}]
[null,null,null,null,null,null,null,null,null,null,null,null,null,null,null,51,8,3,{"$f":"INDEX('Subj-ConceptMap-1'!$I$15:$N$205,Q65+1,R65)","v":"* group[=].element[=].target.code = #Patient.address"}]
[null,null,null,null,null,null,null,null,null,null,null,null,null,null,null,52,8,4,{"$f":"INDEX('Subj-ConceptMap-1'!$I$15:$N$205,Q66+1,R66)","v":"* group[=].element[=].target.display = ##34###34#"}]
[null,null,null,null,null,null,null,null,null,null,null,null,null,null,null,53,8,5,{"$f":"INDEX('Subj-ConceptMap-1'!$I$15:$N$205,Q67+1,R67)","v":"* group[=].element[=].target.equivalence = #equivalent"}]
[null,null,null,null,null,null,null,null,null,null,null,null,null,null,null,54,8,6,{"$f":"INDEX('Subj-ConceptMap-1'!$I$15:$N$205,Q68+1,R68)","v":""}]
[null,null,null,null,null,null,null,null,null,null,null,null,null,null,null,55,9,1,{"$f":"INDEX('Subj-ConceptMap-1'!$I$15:$N$205,Q69+1,R69)","v":"* group[=].element[+].code = #Subject.telcomContact.address.street"}]
[null,null,null,null,null,null,null,null,null,null,null,null,null,null,null,56,9,2,{"$f":"INDEX('Subj-ConceptMap-1'!$I$15:$N$205,Q70+1,R70)","v":"* group[=].element[=].display = ##34#A.1.2.1.1 Street##34#"}]
[null,null,null,null,null,null,null,null,null,null,null,null,null,null,null,57,9,3,{"$f":"INDEX('Subj-ConceptMap-1'!$I$15:$N$205,Q71+1,R71)","v":"* group[=].element[=].target.code = #Patient.address.line"}]
[null,null,null,null,null,null,null,null,null,null,null,null,null,null,null,58,9,4,{"$f":"INDEX('Subj-ConceptMap-1'!$I$15:$N$205,Q72+1,R72)","v":"* group[=].element[=].target.display = ##34###34#"}]
[null,null,null,null,null,null,null,null,null,null,null,null,null,null,null,59,9,5,{"$f":"INDEX('Subj-ConceptMap-1'!$I$15:$N$205,Q73+1,R73)","v":"* group[=].element[=].target.equivalence = #relatedto"}]
[null,null,null,null,null,null,null,null,null,null,null,null,null,null,null,60,9,6,{"$f":"INDEX('Subj-ConceptMap-1'!$I$15:$N$205,Q74+1,R74)","v":""}]
[null,null,null,null,null,null,null,null,null,null,null,null,null,null,null,61,10,1,{"$f":"INDEX('Subj-ConceptMap-1'!$I$15:$N$205,Q75+1,R75)","v":"* group[=].element[+].code = #Subject.telcomContact.address.street"}]
[null,null,null,null,null,null,null,null,null,null,null,null,null,null,null,62,10,2,{"$f":"INDEX('Subj-ConceptMap-1'!$I$15:$N$205,Q76+1,R76)","v":"* group[=].element[=].display = ##34#A.1.2.1.1 Street##34#"}]
[null,null,null,null,null,null,null,null,null,null,null,null,null,null,null,63,10,3,{"$f":"INDEX('Subj-ConceptMap-1'!$I$15:$N$205,Q77+1,R77)","v":"* group[=].element[=].target.code = #Patient.address.line.extensioon:streetName"}]
[null,null,null,null,null,null,null,null,null,null,null,null,null,null,null,64,10,4,{"$f":"INDEX('Subj-ConceptMap-1'!$I$15:$N$205,Q78+1,R78)","v":"* group[=].element[=].target.display = ##34###34#"}]
[null,null,null,null,null,null,null,null,null,null,null,null,null,null,null,65,10,5,{"$f":"INDEX('Subj-ConceptMap-1'!$I$15:$N$205,Q79+1,R79)","v":"* group[=].element[=].target.equivalence = #equivalent"}]
[null,null,null,null,null,null,null,null,null,null,null,null,null,null,null,66,{"$f":"IF(MOD(P80,$Q$8)=0,P80/$Q$8-1,INT(P80/$Q$8))","v":10},{"$f":"IF(MOD(P80,$Q$8)=0,$Q$8,MOD(P80,$Q$8))","v":6},{"$f":"INDEX('Subj-ConceptMap-1'!$I$15:$N$205,Q80+1,R80)","v":"* group[=].element[=].target.comment = ##34#http://hl7.org/fhir/StructureDefinition/iso21090-ADXP-streetName##34#"}]
[null,null,null,null,null,null,null,null,null,null,null,null,null,null,null,67,11,1,{"$f":"INDEX('Subj-ConceptMap-1'!$I$15:$N$205,Q81+1,R81)","v":"* group[=].element[+].code = #Subject.telcomContact.address.houseNumber"}]
[null,null,null,null,null,null,null,null,null,null,null,null,null,null,null,68,11,2,{"$f":"INDEX('Subj-ConceptMap-1'!$I$15:$N$205,Q82+1,R82)","v":"* group[=].element[=].display = ##34#A.1.2.1.2 House number##34#"}]
[null,null,null,null,null,null,null,null,null,null,null,null,null,null,null,69,11,3,{"$f":"INDEX('Subj-ConceptMap-1'!$I$15:$N$205,Q83+1,R83)","v":"* group[=].element[=].target.code = #Patient.address.line.extensioon:houseNumber"}]
[null,null,null,null,null,null,null,null,null,null,null,null,null,null,null,70,11,4,{"$f":"INDEX('Subj-ConceptMap-1'!$I$15:$N$205,Q84+1,R84)","v":"* group[=].element[=].target.display = ##34###34#"}]
[null,null,null,null,null,null,null,null,null,null,null,null,null,null,null,71,11,5,{"$f":"INDEX('Subj-ConceptMap-1'!$I$15:$N$205,Q85+1,R85)","v":"* group[=].element[=].target.equivalence = #equivalent"}]
[null,null,null,null,null,null,null,null,null,null,null,null,null,null,null,72,11,6,{"$f":"INDEX('Subj-ConceptMap-1'!$I$15:$N$205,Q86+1,R86)","v":"* group[=].element[=].target.comment = ##34#http://hl7.org/fhir/StructureDefinition/iso21090-ADXP-houseNumber##34#"}]
[null,null,null,null,null,null,null,null,null,null,null,null,null,null,null,73,12,1,{"$f":"INDEX('Subj-ConceptMap-1'!$I$15:$N$205,Q87+1,R87)","v":"* group[=].element[+].code = #Subject.telcomContact.address.city"}]
[null,null,null,null,null,null,null,null,null,null,null,null,null,null,null,74,12,2,{"$f":"INDEX('Subj-ConceptMap-1'!$I$15:$N$205,Q88+1,R88)","v":"* group[=].element[=].display = ##34#A.1.2.1.3 City##34#"}]
[null,null,null,null,null,null,null,null,null,null,null,null,null,null,null,75,12,3,{"$f":"INDEX('Subj-ConceptMap-1'!$I$15:$N$205,Q89+1,R89)","v":"* group[=].element[=].target.code = #Patient.address.city"}]
[null,null,null,null,null,null,null,null,null,null,null,null,null,null,null,76,12,4,{"$f":"INDEX('Subj-ConceptMap-1'!$I$15:$N$205,Q90+1,R90)","v":"* group[=].element[=].target.display = ##34###34#"}]
[null,null,null,null,null,null,null,null,null,null,null,null,null,null,null,77,12,5,{"$f":"INDEX('Subj-ConceptMap-1'!$I$15:$N$205,Q91+1,R91)","v":"* group[=].element[=].target.equivalence = #equivalent"}]
[null,null,null,null,null,null,null,null,null,null,null,null,null,null,null,78,12,6,{"$f":"INDEX('Subj-ConceptMap-1'!$I$15:$N$205,Q92+1,R92)","v":""}]
[null,null,null,null,null,null,null,null,null,null,null,null,null,null,null,79,13,1,{"$f":"INDEX('Subj-ConceptMap-1'!$I$15:$N$205,Q93+1,R93)","v":"* group[=].element[+].code = #Subject.telcomContact.address.postalCode"}]
[null,null,null,null,null,null,null,null,null,null,null,null,null,null,null,80,13,2,{"$f":"INDEX('Subj-ConceptMap-1'!$I$15:$N$205,Q94+1,R94)","v":"* group[=].element[=].display = ##34#A.1.2.1.4 Post code##34#"}]
[null,null,null,null,null,null,null,null,null,null,null,null,null,null,null,81,13,3,{"$f":"INDEX('Subj-ConceptMap-1'!$I$15:$N$205,Q95+1,R95)","v":"* group[=].element[=].target.code = #Patient.address.postalCode"}]
[null,null,null,null,null,null,null,null,null,null,null,null,null,null,null,82,13,4,{"$f":"INDEX('Subj-ConceptMap-1'!$I$15:$N$205,Q96+1,R96)","v":"* group[=].element[=].target.display = ##34###34#"}]
[null,null,null,null,null,null,null,null,null,null,null,null,null,null,null,83,13,5,{"$f":"INDEX('Subj-ConceptMap-1'!$I$15:$N$205,Q97+1,R97)","v":"* group[=].element[=].target.equivalence = #equivalent"}]
[null,null,null,null,null,null,null,null,null,null,null,null,null,null,null,84,13,6,{"$f":"INDEX('Subj-ConceptMap-1'!$I$15:$N$205,Q98+1,R98)","v":""}]
[null,null,null,null,null,null,null,null,null,null,null,null,null,null,null,85,14,1,{"$f":"INDEX('Subj-ConceptMap-1'!$I$15:$N$205,Q99+1,R99)","v":"* group[=].element[+].code = #Subject.telcomContact.address.stateOrProvince"}]
[null,null,null,null,null,null,null,null,null,null,null,null,null,null,null,86,14,2,{"$f":"INDEX('Subj-ConceptMap-1'!$I$15:$N$205,Q100+1,R100)","v":"* group[=].element[=].display = ##34#A.1.2.1.5 State or province##34#"}]
[null,null,null,null,null,null,null,null,null,null,null,null,null,null,null,87,14,3,{"$f":"INDEX('Subj-ConceptMap-1'!$I$15:$N$205,Q101+1,R101)","v":"* group[=].element[=].target.code = #Patient.address.state"}]
[null,null,null,null,null,null,null,null,null,null,null,null,null,null,null,88,14,4,{"$f":"INDEX('Subj-ConceptMap-1'!$I$15:$N$205,Q102+1,R102)","v":"* group[=].element[=].target.display = ##34###34#"}]
[null,null,null,null,null,null,null,null,null,null,null,null,null,null,null,89,14,5,{"$f":"INDEX('Subj-ConceptMap-1'!$I$15:$N$205,Q103+1,R103)","v":"* group[=].element[=].target.equivalence = #equivalent"}]
[null,null,null,null,null,null,null,null,null,null,null,null,null,null,null,90,14,6,{"$f":"INDEX('Subj-ConceptMap-1'!$I$15:$N$205,Q104+1,R104)","v":""}]
[null,null,null,null,null,null,null,null,null,null,null,null,null,null,null,91,15,1,{"$f":"INDEX('Subj-ConceptMap-1'!$I$15:$N$205,Q105+1,R105)","v":"* group[=].element[+].code = #Subject.telcomContact.address.country"}]
[null,null,null,null,null,null,null,null,null,null,null,null,null,null,null,92,15,2,{"$f":"INDEX('Subj-ConceptMap-1'!$I$15:$N$205,Q106+1,R106)","v":"* group[=].element[=].display = ##34#A.1.2.1.6 Country##34#"}]
[null,null,null,null,null,null,null,null,null,null,null,null,null,null,null,93,15,3,{"$f":"INDEX('Subj-ConceptMap-1'!$I$15:$N$205,Q107+1,R107)","v":"* group[=].element[=].target.code = #Patient.address.country"}]
[null,null,null,null,null,null,null,null,null,null,null,null,null,null,null,94,15,4,{"$f":"INDEX('Subj-ConceptMap-1'!$I$15:$N$205,Q108+1,R108)","v":"* group[=].element[=].target.display = ##34###34#"}]
[null,null,null,null,null,null,null,null,null,null,null,null,null,null,null,95,15,5,{"$f":"INDEX('Subj-ConceptMap-1'!$I$15:$N$205,Q109+1,R109)","v":"* group[=].element[=].target.equivalence = #equivalent"}]
[null,null,null,null,null,null,null,null,null,null,null,null,null,null,null,96,15,6,{"$f":"INDEX('Subj-ConceptMap-1'!$I$15:$N$205,Q110+1,R110)","v":"* group[=].element[=].target.comment = ##34#country name##34#"}]
[null,null,null,null,null,null,null,null,null,null,null,null,null,null,null,97,16,1,{"$f":"INDEX('Subj-ConceptMap-1'!$I$15:$N$205,Q111+1,R111)","v":"* group[=].element[+].code = #Subject.telcomContact.address.country"}]
[null,null,null,null,null,null,null,null,null,null,null,null,null,null,null,98,16,2,{"$f":"INDEX('Subj-ConceptMap-1'!$I$15:$N$205,Q112+1,R112)","v":"* group[=].element[=].display = ##34#A.1.2.1.6 Country##34#"}]
[null,null,null,null,null,null,null,null,null,null,null,null,null,null,null,99,16,3,{"$f":"INDEX('Subj-ConceptMap-1'!$I$15:$N$205,Q113+1,R113)","v":"* group[=].element[=].target.code = #Patient.address.country.extension:countryCode"}]
[null,null,null,null,null,null,null,null,null,null,null,null,null,null,null,100,16,4,{"$f":"INDEX('Subj-ConceptMap-1'!$I$15:$N$205,Q114+1,R114)","v":"* group[=].element[=].target.display = ##34###34#"}]
[null,null,null,null,null,null,null,null,null,null,null,null,null,null,null,101,16,5,{"$f":"INDEX('Subj-ConceptMap-1'!$I$15:$N$205,Q115+1,R115)","v":"* group[=].element[=].target.equivalence = #equivalent"}]
[null,null,null,null,null,null,null,null,null,null,null,null,null,null,null,102,16,6,{"$f":"INDEX('Subj-ConceptMap-1'!$I$15:$N$205,Q116+1,R116)","v":"* group[=].element[=].target.comment = ##34#country code.\nhttp://hl7.org/fhir/StructureDefinition/iso21090-SC-coding##34#"}]
[null,null,null,null,null,null,null,null,null,null,null,null,null,null,null,103,17,1,{"$f":"INDEX('Subj-ConceptMap-1'!$I$15:$N$205,Q117+1,R117)","v":"* group[=].element[+].code = #Subject.telcomContact.telephone"}]
[null,null,null,null,null,null,null,null,null,null,null,null,null,null,null,104,17,2,{"$f":"INDEX('Subj-ConceptMap-1'!$I$15:$N$205,Q118+1,R118)","v":"* group[=].element[=].display = ##34#A.1.2.1.7 Telephone no.##34#"}]
[null,null,null,null,null,null,null,null,null,null,null,null,null,null,null,105,17,3,{"$f":"INDEX('Subj-ConceptMap-1'!$I$15:$N$205,Q119+1,R119)","v":"* group[=].element[=].target.code = #Patient.telecom"}]
[null,null,null,null,null,null,null,null,null,null,null,null,null,null,null,106,17,4,{"$f":"INDEX('Subj-ConceptMap-1'!$I$15:$N$205,Q120+1,R120)","v":"* group[=].element[=].target.display = ##34###34#"}]
[null,null,null,null,null,null,null,null,null,null,null,null,null,null,null,107,17,5,{"$f":"INDEX('Subj-ConceptMap-1'!$I$15:$N$205,Q121+1,R121)","v":"* group[=].element[=].target.equivalence = #equivalent"}]
[null,null,null,null,null,null,null,null,null,null,null,null,null,null,null,108,17,6,{"$f":"INDEX('Subj-ConceptMap-1'!$I$15:$N$205,Q122+1,R122)","v":"* group[=].element[=].target.comment = ##34#where system = 'phone '##34#"}]
[null,null,null,null,null,null,null,null,null,null,null,null,null,null,null,109,18,1,{"$f":"INDEX('Subj-ConceptMap-1'!$I$15:$N$205,Q123+1,R123)","v":"* group[=].element[+].code = #Subject.telcomContact.email"}]
[null,null,null,null,null,null,null,null,null,null,null,null,null,null,null,110,18,2,{"$f":"INDEX('Subj-ConceptMap-1'!$I$15:$N$205,Q124+1,R124)","v":"* group[=].element[=].display = ##34#A.1.2.1.8 Email##34#"}]
[null,null,null,null,null,null,null,null,null,null,null,null,null,null,null,111,18,3,{"$f":"INDEX('Subj-ConceptMap-1'!$I$15:$N$205,Q125+1,R125)","v":"* group[=].element[=].target.code = #Patient.telecom"}]
[null,null,null,null,null,null,null,null,null,null,null,null,null,null,null,112,18,4,{"$f":"INDEX('Subj-ConceptMap-1'!$I$15:$N$205,Q126+1,R126)","v":"* group[=].element[=].target.display = ##34###34#"}]
[null,null,null,null,null,null,null,null,null,null,null,null,null,null,null,113,18,5,{"$f":"INDEX('Subj-ConceptMap-1'!$I$15:$N$205,Q127+1,R127)","v":"* group[=].element[=].target.equivalence = #equivalent"}]
[null,null,null,null,null,null,null,null,null,null,null,null,null,null,null,114,18,6,{"$f":"INDEX('Subj-ConceptMap-1'!$I$15:$N$205,Q128+1,R128)","v":"* group[=].element[=].target.comment = ##34#where system = 'email'##34#"}]
[null,null,null,null,null,null,null,null,null,null,null,null,null,null,null,115,19,1,{"$f":"INDEX('Subj-ConceptMap-1'!$I$15:$N$205,Q129+1,R129)","v":"* group[=].element[+].code = #Subject.hpToContact"}]
[null,null,null,null,null,null,null,null,null,null,null,null,null,null,null,116,19,2,{"$f":"INDEX('Subj-ConceptMap-1'!$I$15:$N$205,Q130+1,R130)","v":"* group[=].element[=].display = ##34#A.1.2.2 Preferred HP to contact##34#"}]
[null,null,null,null,null,null,null,null,null,null,null,null,null,null,null,117,19,3,{"$f":"INDEX('Subj-ConceptMap-1'!$I$15:$N$205,Q131+1,R131)","v":"//-- unmatched"}]
[null,null,null,null,null,null,null,null,null,null,null,null,null,null,null,118,19,4,{"$f":"INDEX('Subj-ConceptMap-1'!$I$15:$N$205,Q132+1,R132)","v":"//-- unmatched"}]
[null,null,null,null,null,null,null,null,null,null,null,null,null,null,null,119,19,5,{"$f":"INDEX('Subj-ConceptMap-1'!$I$15:$N$205,Q133+1,R133)","v":"* group[=].element[=].target.equivalence = #unmatched"}]
[null,null,null,null,null,null,null,null,null,null,null,null,null,null,null,120,19,6,{"$f":"INDEX('Subj-ConceptMap-1'!$I$15:$N$205,Q134+1,R134)","v":"* group[=].element[=].target.comment = ##34#To be mapped in differetn places##34#"}]
[null,null,null,null,null,null,null,null,null,null,null,null,null,null,null,121,20,1,{"$f":"INDEX('Subj-ConceptMap-1'!$I$15:$N$205,Q135+1,R135)","v":"* group[=].element[+].code = #Subject.contactPerson"}]
[null,null,null,null,null,null,null,null,null,null,null,null,null,null,null,122,20,2,{"$f":"INDEX('Subj-ConceptMap-1'!$I$15:$N$205,Q136+1,R136)","v":"* group[=].element[=].display = ##34#A.1.2.3 Contact person/ legal guardian ##34#"}]
[null,null,null,null,null,null,null,null,null,null,null,null,null,null,null,123,20,3,{"$f":"INDEX('Subj-ConceptMap-1'!$I$15:$N$205,Q137+1,R137)","v":"* group[=].element[=].target.code = #Patient.contact"}]
[null,null,null,null,null,null,null,null,null,null,null,null,null,null,null,124,20,4,{"$f":"INDEX('Subj-ConceptMap-1'!$I$15:$N$205,Q138+1,R138)","v":"* group[=].element[=].target.display = ##34###34#"}]
[null,null,null,null,null,null,null,null,null,null,null,null,null,null,null,125,20,5,{"$f":"INDEX('Subj-ConceptMap-1'!$I$15:$N$205,Q139+1,R139)","v":"* group[=].element[=].target.equivalence = #equivalent"}]
[null,null,null,null,null,null,null,null,null,null,null,null,null,null,null,126,20,6,{"$f":"INDEX('Subj-ConceptMap-1'!$I$15:$N$205,Q140+1,R140)","v":""}]
[null,null,null,null,null,null,null,null,null,null,null,null,null,null,null,127,21,1,{"$f":"INDEX('Subj-ConceptMap-1'!$I$15:$N$205,Q141+1,R141)","v":"* group[=].element[+].code = #Subject.contactPerson.role"}]
[null,null,null,null,null,null,null,null,null,null,null,null,null,null,null,128,21,2,{"$f":"INDEX('Subj-ConceptMap-1'!$I$15:$N$205,Q142+1,R142)","v":"* group[=].element[=].display = ##34#A.1.2.3.1 Role of that person##34#"}]
[null,null,null,null,null,null,null,null,null,null,null,null,null,null,null,129,21,3,{"$f":"INDEX('Subj-ConceptMap-1'!$I$15:$N$205,Q143+1,R143)","v":"* group[=].element[=].target.code = #Patient.contact.relationship"}]
[null,null,null,null,null,null,null,null,null,null,null,null,null,null,null,130,{"$f":"IF(MOD(P144,$Q$8)=0,P144/$Q$8-1,INT(P144/$Q$8))","v":21},{"$f":"IF(MOD(P144,$Q$8)=0,$Q$8,MOD(P144,$Q$8))","v":4},{"$f":"INDEX('Subj-ConceptMap-1'!$I$15:$N$205,Q144+1,R144)","v":"* group[=].element[=].target.display = ##34###34#"}]
[null,null,null,null,null,null,null,null,null,null,null,null,null,null,null,131,21,5,{"$f":"INDEX('Subj-ConceptMap-1'!$I$15:$N$205,Q145+1,R145)","v":"* group[=].element[=].target.equivalence = #relatedto"}]
[null,null,null,null,null,null,null,null,null,null,null,null,null,null,null,132,21,6,{"$f":"INDEX('Subj-ConceptMap-1'!$I$15:$N$205,Q146+1,R146)","v":"* group[=].element[=].target.comment = ##34#To be checked##34#"}]
[null,null,null,null,null,null,null,null,null,null,null,null,null,null,null,133,22,1,{"$f":"INDEX('Subj-ConceptMap-1'!$I$15:$N$205,Q147+1,R147)","v":"* group[=].element[+].code = #Subject.contactPerson.relationship"}]
[null,null,null,null,null,null,null,null,null,null,null,null,null,null,null,134,22,2,{"$f":"INDEX('Subj-ConceptMap-1'!$I$15:$N$205,Q148+1,R148)","v":"* group[=].element[=].display = ##34#A.1.2.3.2 Relationship level##34#"}]
[null,null,null,null,null,null,null,null,null,null,null,null,null,null,null,135,22,3,{"$f":"INDEX('Subj-ConceptMap-1'!$I$15:$N$205,Q149+1,R149)","v":"* group[=].element[=].target.code = #Patient.contact.relationship"}]
[null,null,null,null,null,null,null,null,null,null,null,null,null,null,null,136,22,4,{"$f":"INDEX('Subj-ConceptMap-1'!$I$15:$N$205,Q150+1,R150)","v":"* group[=].element[=].target.display = ##34###34#"}]
[null,null,null,null,null,null,null,null,null,null,null,null,null,null,null,137,22,5,{"$f":"INDEX('Subj-ConceptMap-1'!$I$15:$N$205,Q151+1,R151)","v":"* group[=].element[=].target.equivalence = #equivalent"}]
[null,null,null,null,null,null,null,null,null,null,null,null,null,null,null,138,22,6,{"$f":"INDEX('Subj-ConceptMap-1'!$I$15:$N$205,Q152+1,R152)","v":""}]
[null,null,null,null,null,null,null,null,null,null,null,null,null,null,null,139,23,1,{"$f":"INDEX('Subj-ConceptMap-1'!$I$15:$N$205,Q153+1,R153)","v":"* group[=].element[+].code = #Subject.contactPerson.givenName"}]
[null,null,null,null,null,null,null,null,null,null,null,null,null,null,null,140,23,2,{"$f":"INDEX('Subj-ConceptMap-1'!$I$15:$N$205,Q154+1,R154)","v":"* group[=].element[=].display = ##34#A.1.2.3.3 Given name##34#"}]
[null,null,null,null,null,null,null,null,null,null,null,null,null,null,null,141,23,3,{"$f":"INDEX('Subj-ConceptMap-1'!$I$15:$N$205,Q155+1,R155)","v":"* group[=].element[=].target.code = #Patient.contact.name.given"}]
[null,null,null,null,null,null,null,null,null,null,null,null,null,null,null,142,23,4,{"$f":"INDEX('Subj-ConceptMap-1'!$I$15:$N$205,Q156+1,R156)","v":"* group[=].element[=].target.display = ##34###34#"}]
[null,null,null,null,null,null,null,null,null,null,null,null,null,null,null,143,23,5,{"$f":"INDEX('Subj-ConceptMap-1'!$I$15:$N$205,Q157+1,R157)","v":"* group[=].element[=].target.equivalence = #equivalent"}]
[null,null,null,null,null,null,null,null,null,null,null,null,null,null,null,144,23,6,{"$f":"INDEX('Subj-ConceptMap-1'!$I$15:$N$205,Q158+1,R158)","v":""}]
[null,null,null,null,null,null,null,null,null,null,null,null,null,null,null,145,24,1,{"$f":"INDEX('Subj-ConceptMap-1'!$I$15:$N$205,Q159+1,R159)","v":"* group[=].element[+].code = #Subject.contactPerson.familyName"}]
[null,null,null,null,null,null,null,null,null,null,null,null,null,null,null,146,24,2,{"$f":"INDEX('Subj-ConceptMap-1'!$I$15:$N$205,Q160+1,R160)","v":"* group[=].element[=].display = ##34#A.1.2.3.4 Family name/surname##34#"}]
[null,null,null,null,null,null,null,null,null,null,null,null,null,null,null,147,24,3,{"$f":"INDEX('Subj-ConceptMap-1'!$I$15:$N$205,Q161+1,R161)","v":"* group[=].element[=].target.code = #Patient.contact.name.family"}]
[null,null,null,null,null,null,null,null,null,null,null,null,null,null,null,148,24,4,{"$f":"INDEX('Subj-ConceptMap-1'!$I$15:$N$205,Q162+1,R162)","v":"* group[=].element[=].target.display = ##34###34#"}]
[null,null,null,null,null,null,null,null,null,null,null,null,null,null,null,149,24,5,{"$f":"INDEX('Subj-ConceptMap-1'!$I$15:$N$205,Q163+1,R163)","v":"* group[=].element[=].target.equivalence = #equivalent"}]
[null,null,null,null,null,null,null,null,null,null,null,null,null,null,null,150,24,6,{"$f":"INDEX('Subj-ConceptMap-1'!$I$15:$N$205,Q164+1,R164)","v":""}]
[null,null,null,null,null,null,null,null,null,null,null,null,null,null,null,151,25,1,{"$f":"INDEX('Subj-ConceptMap-1'!$I$15:$N$205,Q165+1,R165)","v":"* group[=].element[+].code = #Subject.contactPerson.telephone"}]
[null,null,null,null,null,null,null,null,null,null,null,null,null,null,null,152,25,2,{"$f":"INDEX('Subj-ConceptMap-1'!$I$15:$N$205,Q166+1,R166)","v":"* group[=].element[=].display = ##34#A.1.2.3.5 Telephone no.##34#"}]
[null,null,null,null,null,null,null,null,null,null,null,null,null,null,null,153,25,3,{"$f":"INDEX('Subj-ConceptMap-1'!$I$15:$N$205,Q167+1,R167)","v":"* group[=].element[=].target.code = #Patient.contact.telecom"}]
[null,null,null,null,null,null,null,null,null,null,null,null,null,null,null,154,25,4,{"$f":"INDEX('Subj-ConceptMap-1'!$I$15:$N$205,Q168+1,R168)","v":"* group[=].element[=].target.display = ##34###34#"}]
[null,null,null,null,null,null,null,null,null,null,null,null,null,null,null,155,25,5,{"$f":"INDEX('Subj-ConceptMap-1'!$I$15:$N$205,Q169+1,R169)","v":"* group[=].element[=].target.equivalence = #equivalent"}]
[null,null,null,null,null,null,null,null,null,null,null,null,null,null,null,156,25,6,{"$f":"INDEX('Subj-ConceptMap-1'!$I$15:$N$205,Q170+1,R170)","v":""}]
[null,null,null,null,null,null,null,null,null,null,null,null,null,null,null,157,26,1,{"$f":"INDEX('Subj-ConceptMap-1'!$I$15:$N$205,Q171+1,R171)","v":"* group[=].element[+].code = #Subject.contactPerson.email"}]
[null,null,null,null,null,null,null,null,null,null,null,null,null,null,null,158,26,2,{"$f":"INDEX('Subj-ConceptMap-1'!$I$15:$N$205,Q172+1,R172)","v":"* group[=].element[=].display = ##34#A.1.2.3.6 Email##34#"}]
[null,null,null,null,null,null,null,null,null,null,null,null,null,null,null,159,26,3,{"$f":"INDEX('Subj-ConceptMap-1'!$I$15:$N$205,Q173+1,R173)","v":"* group[=].element[=].target.code = #Patient.contact.telecom"}]
[null,null,null,null,null,null,null,null,null,null,null,null,null,null,null,160,26,4,{"$f":"INDEX('Subj-ConceptMap-1'!$I$15:$N$205,Q174+1,R174)","v":"* group[=].element[=].target.display = ##34###34#"}]
[null,null,null,null,null,null,null,null,null,null,null,null,null,null,null,161,26,5,{"$f":"INDEX('Subj-ConceptMap-1'!$I$15:$N$205,Q175+1,R175)","v":"* group[=].element[=].target.equivalence = #equivalent"}]
[null,null,null,null,null,null,null,null,null,null,null,null,null,null,null,162,26,6,{"$f":"INDEX('Subj-ConceptMap-1'!$I$15:$N$205,Q176+1,R176)","v":""}]
[null,null,null,null,null,null,null,null,null,null,null,null,null,null,null,163,27,1,{"$f":"INDEX('Subj-ConceptMap-1'!$I$15:$N$205,Q177+1,R177)","v":0}]
[null,null,null,null,null,null,null,null,null,null,null,null,null,null,null,164,27,2,{"$f":"INDEX('Subj-ConceptMap-1'!$I$15:$N$205,Q178+1,R178)","v":0}]
[null,null,null,null,null,null,null,null,null,null,null,null,null,null,null,165,27,3,{"$f":"INDEX('Subj-ConceptMap-1'!$I$15:$N$205,Q179+1,R179)","v":0}]
[null,null,null,null,null,null,null,null,null,null,null,null,null,null,null,166,27,4,{"$f":"INDEX('Subj-ConceptMap-1'!$I$15:$N$205,Q180+1,R180)","v":0}]
[null,null,null,null,null,null,null,null,null,null,null,null,null,null,null,167,27,5,{"$f":"INDEX('Subj-ConceptMap-1'!$I$15:$N$205,Q181+1,R181)","v":0}]
[null,null,null,null,null,null,null,null,null,null,null,null,null,null,null,168,27,6,{"$f":"INDEX('Subj-ConceptMap-1'!$I$15:$N$205,Q182+1,R182)","v":0}]
[null,null,null,null,null,null,null,null,null,null,null,null,null,null,null,169,28,1,{"$f":"INDEX('Subj-ConceptMap-1'!$I$15:$N$205,Q183+1,R183)","v":0}]
[null,null,null,null,null,null,null,null,null,null,null,null,null,null,null,170,28,2,{"$f":"INDEX('Subj-ConceptMap-1'!$I$15:$N$205,Q184+1,R184)","v":0}]
[null,null,null,null,null,null,null,null,null,null,null,null,null,null,null,171,28,3,{"$f":"INDEX('Subj-ConceptMap-1'!$I$15:$N$205,Q185+1,R185)","v":0}]
[null,null,null,null,null,null,null,null,null,null,null,null,null,null,null,172,28,4,{"$f":"INDEX('Subj-ConceptMap-1'!$I$15:$N$205,Q186+1,R186)","v":0}]
[null,null,null,null,null,null,null,null,null,null,null,null,null,null,null,173,28,5,{"$f":"INDEX('Subj-ConceptMap-1'!$I$15:$N$205,Q187+1,R187)","v":0}]
[null,null,null,null,null,null,null,null,null,null,null,null,null,null,null,174,28,6,{"$f":"INDEX('Subj-ConceptMap-1'!$I$15:$N$205,Q188+1,R188)","v":0}]
[null,null,null,null,null,null,null,null,null,null,null,null,null,null,null,175,29,1,{"$f":"INDEX('Subj-ConceptMap-1'!$I$15:$N$205,Q189+1,R189)","v":0}]
[null,null,null,null,null,null,null,null,null,null,null,null,null,null,null,176,29,2,{"$f":"INDEX('Subj-ConceptMap-1'!$I$15:$N$205,Q190+1,R190)","v":0}]
[null,null,null,null,null,null,null,null,null,null,null,null,null,null,null,177,29,3,{"$f":"INDEX('Subj-ConceptMap-1'!$I$15:$N$205,Q191+1,R191)","v":0}]
[null,null,null,null,null,null,null,null,null,null,null,null,null,null,null,178,29,4,{"$f":"INDEX('Subj-ConceptMap-1'!$I$15:$N$205,Q192+1,R192)","v":0}]
[null,null,null,null,null,null,null,null,null,null,null,null,null,null,null,179,29,5,{"$f":"INDEX('Subj-ConceptMap-1'!$I$15:$N$205,Q193+1,R193)","v":0}]
[null,null,null,null,null,null,null,null,null,null,null,null,null,null,null,180,29,6,{"$f":"INDEX('Subj-ConceptMap-1'!$I$15:$N$205,Q194+1,R194)","v":0}]
[null,null,null,null,null,null,null,null,null,null,null,null,null,null,null,181,30,1,{"$f":"INDEX('Subj-ConceptMap-1'!$I$15:$N$205,Q195+1,R195)","v":0}]
[null,null,null,null,null,null,null,null,null,null,null,null,null,null,null,182,30,2,{"$f":"INDEX('Subj-ConceptMap-1'!$I$15:$N$205,Q196+1,R196)","v":0}]
[null,null,null,null,null,null,null,null,null,null,null,null,null,null,null,183,30,3,{"$f":"INDEX('Subj-ConceptMap-1'!$I$15:$N$205,Q197+1,R197)","v":0}]
[null,null,null,null,null,null,null,null,null,null,null,null,null,null,null,184,30,4,{"$f":"INDEX('Subj-ConceptMap-1'!$I$15:$N$205,Q198+1,R198)","v":0}]
[null,null,null,null,null,null,null,null,null,null,null,null,null,null,null,185,30,5,{"$f":"INDEX('Subj-ConceptMap-1'!$I$15:$N$205,Q199+1,R199)","v":0}]
[null,null,null,null,null,null,null,null,null,null,null,null,null,null,null,186,30,6,{"$f":"INDEX('Subj-ConceptMap-1'!$I$15:$N$205,Q200+1,R200)","v":0}]
[null,null,null,null,null,null,null,null,null,null,null,null,null,null,null,187,31,1,{"$f":"INDEX('Subj-ConceptMap-1'!$I$15:$N$205,Q201+1,R201)","v":0}]
[null,null,null,null,null,null,null,null,null,null,null,null,null,null,null,188,31,2,{"$f":"INDEX('Subj-ConceptMap-1'!$I$15:$N$205,Q202+1,R202)","v":0}]
[null,null,null,null,null,null,null,null,null,null,null,null,null,null,null,189,31,3,{"$f":"INDEX('Subj-ConceptMap-1'!$I$15:$N$205,Q203+1,R203)","v":0}]
[null,null,null,null,null,null,null,null,null,null,null,null,null,null,null,190,31,4,{"$f":"INDEX('Subj-ConceptMap-1'!$I$15:$N$205,Q204+1,R204)","v":0}]
[null,null,null,null,null,null,null,null,null,null,null,null,null,null,null,191,31,5,{"$f":"INDEX('Subj-ConceptMap-1'!$I$15:$N$205,Q205+1,R205)","v":0}]
[null,null,null,null,null,null,null,null,null,null,null,null,null,null,null,192,31,6,{"$f":"INDEX('Subj-ConceptMap-1'!$I$15:$N$205,Q206+1,R206)","v":0}]
[null,null,null,null,null,null,null,null,null,null,null,null,null,null,null,193,32,1,{"$f":"INDEX('Subj-ConceptMap-1'!$I$15:$N$205,Q207+1,R207)","v":0}]
[null,null,null,null,null,null,null,null,null,null,null,null,null,null,null,194,{"$f":"IF(MOD(P208,$Q$8)=0,P208/$Q$8-1,INT(P208/$Q$8))","v":32},{"$f":"IF(MOD(P208,$Q$8)=0,$Q$8,MOD(P208,$Q$8))","v":2},{"$f":"INDEX('Subj-ConceptMap-1'!$I$15:$N$205,Q208+1,R208)","v":0}]
[null,null,null,null,null,null,null,null,null,null,null,null,null,null,null,195,32,3,{"$f":"INDEX('Subj-ConceptMap-1'!$I$15:$N$205,Q209+1,R209)","v":0}]
[null,null,null,null,null,null,null,null,null,null,null,null,null,null,null,196,32,4,{"$f":"INDEX('Subj-ConceptMap-1'!$I$15:$N$205,Q210+1,R210)","v":0}]
[null,null,null,null,null,null,null,null,null,null,null,null,null,null,null,197,32,5,{"$f":"INDEX('Subj-ConceptMap-1'!$I$15:$N$205,Q211+1,R211)","v":0}]
[null,null,null,null,null,null,null,null,null,null,null,null,null,null,null,198,32,6,{"$f":"INDEX('Subj-ConceptMap-1'!$I$15:$N$205,Q212+1,R212)","v":0}]
[null,null,null,null,null,null,null,null,null,null,null,null,null,null,null,199,33,1,{"$f":"INDEX('Subj-ConceptMap-1'!$I$15:$N$205,Q213+1,R213)","v":0}]
[null,null,null,null,null,null,null,null,null,null,null,null,null,null,null,200,33,2,{"$f":"INDEX('Subj-ConceptMap-1'!$I$15:$N$205,Q214+1,R214)","v":0}]
[null,null,null,null,null,null,null,null,null,null,null,null,null,null,null,201,33,3,{"$f":"INDEX('Subj-ConceptMap-1'!$I$15:$N$205,Q215+1,R215)","v":0}]
[null,null,null,null,null,null,null,null,null,null,null,null,null,null,null,202,33,4,{"$f":"INDEX('Subj-ConceptMap-1'!$I$15:$N$205,Q216+1,R216)","v":0}]
[null,null,null,null,null,null,null,null,null,null,null,null,null,null,null,203,33,5,{"$f":"INDEX('Subj-ConceptMap-1'!$I$15:$N$205,Q217+1,R217)","v":0}]
[null,null,null,null,null,null,null,null,null,null,null,null,null,null,null,204,33,6,{"$f":"INDEX('Subj-ConceptMap-1'!$I$15:$N$205,Q218+1,R218)","v":0}]
[null,null,null,null,null,null,null,null,null,null,null,null,null,null,null,205,34,1,{"$f":"INDEX('Subj-ConceptMap-1'!$I$15:$N$205,Q219+1,R219)","v":0}]
[null,null,null,null,null,null,null,null,null,null,null,null,null,null,null,206,34,2,{"$f":"INDEX('Subj-ConceptMap-1'!$I$15:$N$205,Q220+1,R220)","v":0}]
[null,null,null,null,null,null,null,null,null,null,null,null,null,null,null,207,34,3,{"$f":"INDEX('Subj-ConceptMap-1'!$I$15:$N$205,Q221+1,R221)","v":0}]
[null,null,null,null,null,null,null,null,null,null,null,null,null,null,null,208,34,4,{"$f":"INDEX('Subj-ConceptMap-1'!$I$15:$N$205,Q222+1,R222)","v":0}]
[null,null,null,null,null,null,null,null,null,null,null,null,null,null,null,209,34,5,{"$f":"INDEX('Subj-ConceptMap-1'!$I$15:$N$205,Q223+1,R223)","v":0}]
[null,null,null,null,null,null,null,null,null,null,null,null,null,null,null,210,34,6,{"$f":"INDEX('Subj-ConceptMap-1'!$I$15:$N$205,Q224+1,R224)","v":0}]
[null,null,null,null,null,null,null,null,null,null,null,null,null,null,null,211,35,1,{"$f":"INDEX('Subj-ConceptMap-1'!$I$15:$N$205,Q225+1,R225)","v":0}]
[null,null,null,null,null,null,null,null,null,null,null,null,null,null,null,212,35,2,{"$f":"INDEX('Subj-ConceptMap-1'!$I$15:$N$205,Q226+1,R226)","v":0}]
[null,null,null,null,null,null,null,null,null,null,null,null,null,null,null,213,35,3,{"$f":"INDEX('Subj-ConceptMap-1'!$I$15:$N$205,Q227+1,R227)","v":0}]
[null,null,null,null,null,null,null,null,null,null,null,null,null,null,null,214,35,4,{"$f":"INDEX('Subj-ConceptMap-1'!$I$15:$N$205,Q228+1,R228)","v":0}]
[null,null,null,null,null,null,null,null,null,null,null,null,null,null,null,215,35,5,{"$f":"INDEX('Subj-ConceptMap-1'!$I$15:$N$205,Q229+1,R229)","v":0}]
[null,null,null,null,null,null,null,null,null,null,null,null,null,null,null,216,35,6,{"$f":"INDEX('Subj-ConceptMap-1'!$I$15:$N$205,Q230+1,R230)","v":0}]
[null,null,null,null,null,null,null,null,null,null,null,null,null,null,null,217,36,1,{"$f":"INDEX('Subj-ConceptMap-1'!$I$15:$N$205,Q231+1,R231)","v":0}]
[null,null,null,null,null,null,null,null,null,null,null,null,null,null,null,218,36,2,{"$f":"INDEX('Subj-ConceptMap-1'!$I$15:$N$205,Q232+1,R232)","v":0}]
[null,null,null,null,null,null,null,null,null,null,null,null,null,null,null,219,36,3,{"$f":"INDEX('Subj-ConceptMap-1'!$I$15:$N$205,Q233+1,R233)","v":0}]
[null,null,null,null,null,null,null,null,null,null,null,null,null,null,null,220,36,4,{"$f":"INDEX('Subj-ConceptMap-1'!$I$15:$N$205,Q234+1,R234)","v":0}]
[null,null,null,null,null,null,null,null,null,null,null,null,null,null,null,221,36,5,{"$f":"INDEX('Subj-ConceptMap-1'!$I$15:$N$205,Q235+1,R235)","v":0}]
[null,null,null,null,null,null,null,null,null,null,null,null,null,null,null,222,36,6,{"$f":"INDEX('Subj-ConceptMap-1'!$I$15:$N$205,Q236+1,R236)","v":0}]
[null,null,null,null,null,null,null,null,null,null,null,null,null,null,null,223,37,1,{"$f":"INDEX('Subj-ConceptMap-1'!$I$15:$N$205,Q237+1,R237)","v":0}]
[null,null,null,null,null,null,null,null,null,null,null,null,null,null,null,224,37,2,{"$f":"INDEX('Subj-ConceptMap-1'!$I$15:$N$205,Q238+1,R238)","v":0}]
[null,null,null,null,null,null,null,null,null,null,null,null,null,null,null,225,37,3,{"$f":"INDEX('Subj-ConceptMap-1'!$I$15:$N$205,Q239+1,R239)","v":0}]
[null,null,null,null,null,null,null,null,null,null,null,null,null,null,null,226,37,4,{"$f":"INDEX('Subj-ConceptMap-1'!$I$15:$N$205,Q240+1,R240)","v":0}]
[null,null,null,null,null,null,null,null,null,null,null,null,null,null,null,227,37,5,{"$f":"INDEX('Subj-ConceptMap-1'!$I$15:$N$205,Q241+1,R241)","v":0}]
[null,null,null,null,null,null,null,null,null,null,null,null,null,null,null,228,37,6,{"$f":"INDEX('Subj-ConceptMap-1'!$I$15:$N$205,Q242+1,R242)","v":0}]

{"sheet":"Subj-ConceptMap-2","index":49,"n_rows":80,"n_cols":19,"rows_kept":80,"cut":false,"hidden":false,"merged":[[2,4,2,6],[3,4,3,6],[5,4,5,6],[6,4,6,6]]}
[]
[]
[null,"Mapping","PatientSummarySubject2Fhir","Source URI","http://hl7.eu/fhir/ig/xpandh/ps/StructureDefinition/Subject"]
[null,"Id","subject2FHIR-eu-ps","Target URI","http://hl7.eu/fhir/ig/xpandh/ps/StructureDefinition/Bundle-ps-xpandh"]
[null,"Title","eHN Subject to this guide Map"]
[null,"Source","http://hl7.eu/fhir/ig/xpandh/ps/StructureDefinition/Subject","Source Group","http://hl7.eu/fhir/ig/xpandh/ps/StructureDefinition/Subject"]
[null,"Target","http://hl7.eu/fhir/ig/xpandh/ps/StructureDefinition/Patient-ps-xpandh","Target Group","http://hl7.eu/fhir/ig/xpandh/ps/StructureDefinition/Condition-ps-xpandh"]
[null,"description","eHN Subject Model to this guide Map",null,null,null,null,null,"* group[=].element[+].code = #Osiris.Patient.BirthDate","* group[=].element[=].display = \"Birth Date [C4]\"","* group[=].element[=].target.code = #Subject.dateOfBirth.date","* group[=].element[=].target.display = \"Date of birth\"","* group[=].element[=].target.equivalence = #equivalent",null,null,"Elements",6]
[null,"purpose","It shows how the Patient Summary Subject data set defined by the EU eHN guidelines is mapped into this guide"]
[]
[null,null,null,null,null,null,null,null,"source:code","source:display","code","display","target to source","Comment"]
[]
[null,null,null,null,null,"target to source","Comment"]
[null,{"$f":"Subj!B5","v":"Subject"},null,"Condition"]
[null,{"$f":"Subj!B8","v":"identification"},{"$f":"Subj!C8","v":"A.1.1 Identification of the patient/subject"},"subject",null,"relatedto",null,null,{"$f":"\"* group[=].element[+].code = #\"&$B$14&\".\"&B15","v":"* group[=].element[+].code = #Subject.identification"},{"$f":"\"* group[=].element[=].display = ##34#\"&C15&\"##34#\"","v":"* group[=].element[=].display = ##34#A.1.1 Identification of the patient/subject##34#"},{"$f":"IF(F15=\"unmatched\",\"//-- unmatched\",IF(D15=\"\",\"* group[=].element[=].target.code = #\"&$D$14,\"* group[=].element[=].target.code = #\"&$D$14&\".\"&D15))","v":"* group[=].element[=].target.code = #Condition.subject"},{"$f":"IF(F15=\"unmatched\",\"//-- unmatched\",\"* group[=].element[=].target.display = ##34#\"&E15&\"##34#\")","v":"* group[=].element[=].target.display = ##34###34#"},{"$f":"\"* group[=].element[=].target.equivalence = #\"&F15","v":"* group[=].element[=].target.equivalence = #relatedto"},{"$f":"IF(G15<>\"\",CONCATENATE(\"* group[=].element[=].target.comment = \",\"##34#\",G15,\"##34#\"),\"\")","v":""},null,1,{"$f":"IF(MOD(P15,$Q$8)=0,P15/$Q$8-1,INT(P15/$Q$8))","v":0},{"$f":"IF(MOD(P15,$Q$8)=0,$Q$8,MOD(P15,$Q$8))","v":1},{"$f":"INDEX('Subj-ConceptMap-2'!$I$15:$N$187,Q15+1,R15)","v":"* group[=].element[+].code = #Subject.identification"}]
[null,{"$f":"Subj!B25","v":"hpToContact"},{"$f":"Subj!C25","v":"A.1.2.2 Preferred HP to contact"},"extension:participantR5.actor",null,"relatedto","where extension:participantR5.function = http://terminology.hl7.org/CodeSystem/v2-0131#CP Contact Person AND extension:participantR5.actor of type PracticionerRole",null,{"$f":"\"* group[=].element[+].code = #\"&$B$14&\".\"&B16","v":"* group[=].element[+].code = #Subject.hpToContact"},"* group[=].element[=].display = ##34#A.1.2.2 Preferred HP to contact##34#",{"$f":"IF(F16=\"unmatched\",\"//-- unmatched\",IF(D16=\"\",\"* group[=].element[=].target.code = #\"&$D$14,\"* group[=].element[=].target.code = #\"&$D$14&\".\"&D16))","v":"* group[=].element[=].target.code = #Condition.extension:participantR5.actor"},"* group[=].element[=].target.display = ##34###34#","* group[=].element[=].target.equivalence = #relatedto","* group[=].element[=].target.comment = ##34#where extension:participantR5.function = http://terminology.hl7.org/CodeSystem/v2-0131#CP Contact Person AND extension:participantR5.actor of type PracticionerRole##34#",null,2,{"$f":"IF(MOD(P16,$Q$8)=0,P16/$Q$8-1,INT(P16/$Q$8))","v":0},{"$f":"IF(MOD(P16,$Q$8)=0,$Q$8,MOD(P16,$Q$8))","v":2},{"$f":"INDEX('Subj-ConceptMap-2'!$I$15:$N$187,Q16+1,R16)","v":"* group[=].element[=].display = ##34#A.1.1 Identification of the patient/subject##34#"}]
[null,{"$f":"Subj!B26","v":"hpToContact.name"},{"$f":"Subj!C26","v":"A.1.2.2.1 Name of the HP"},"extension:participantR5.actor.practitioner.name",null,"relatedto","where extension:participantR5.function = http://terminology.hl7.org/CodeSystem/v2-0131#CP Contact Person AND extension:participantR5.actor of type PracticionerRole",null,{"$f":"\"* group[=].element[+].code = #\"&$B$14&\".\"&B17","v":"* group[=].element[+].code = #Subject.hpToContact.name"},{"$f":"\"* group[=].element[=].display = ##34#\"&C17&\"##34#\"","v":"* group[=].element[=].display = ##34#A.1.2.2.1 Name of the HP##34#"},{"$f":"IF(F17=\"unmatched\",\"//-- unmatched\",IF(D17=\"\",\"* group[=].element[=].target.code = #\"&$D$14,\"* group[=].element[=].target.code = #\"&$D$14&\".\"&D17))","v":"* group[=].element[=].target.code = #Condition.extension:participantR5.actor.practitioner.name"},{"$f":"IF(F17=\"unmatched\",\"//-- unmatched\",\"* group[=].element[=].target.display = ##34#\"&E17&\"##34#\")","v":"* group[=].element[=].target.display = ##34###34#"},{"$f":"\"* group[=].element[=].target.equivalence = #\"&F17","v":"* group[=].element[=].target.equivalence = #relatedto"},{"$f":"IF(G17<>\"\",CONCATENATE(\"* group[=].element[=].target.comment = \",\"##34#\",G17,\"##34#\"),\"\")","v":"* group[=].element[=].target.comment = ##34#where extension:participantR5.function = http://terminology.hl7.org/CodeSystem/v2-0131#CP Contact Person AND extension:participantR5.actor of type PracticionerRole##34#"},null,3,0,3,{"$f":"INDEX('Subj-ConceptMap-2'!$I$15:$N$187,Q17+1,R17)","v":"* group[=].element[=].target.code = #Condition.subject"}]
[null,{"$f":"Subj!B27","v":"hpToContact.role"},{"$f":"Subj!C27","v":"A.1.2.2.2 Role of the HP"},"extension:participantR5.actor.code",null,"relatedto","where extension:participantR5.function = http://terminology.hl7.org/CodeSystem/v2-0131#CP Contact Person AND extension:participantR5.actor of type PracticionerRole",null,"* group[=].element[+].code = #Subject.hpToContact.role","* group[=].element[=].display = ##34#A.1.2.2.2 Role of the HP##34#","* group[=].element[=].target.code = #Condition.extension:participantR5.actor.code","* group[=].element[=].target.display = ##34###34#","* group[=].element[=].target.equivalence = #relatedto","* group[=].element[=].target.comment = ##34#where extension:participantR5.function = http://terminology.hl7.org/CodeSystem/v2-0131#CP Contact Person AND extension:participantR5.actor of type PracticionerRole##34#",null,4,0,4,{"$f":"INDEX('Subj-ConceptMap-2'!$I$15:$N$187,Q18+1,R18)","v":"* group[=].element[=].target.display = ##34###34#"}]
[null,{"$f":"Subj!B28","v":"hpToContact.organization"},{"$f":"Subj!C28","v":"A.1.2.2.3 HP Organisation"},"extension:participantR5.actor.organization",null,"relatedto","where extension:participantR5.function = http://terminology.hl7.org/CodeSystem/v2-0131#CP Contact Person AND extension:participantR5.actor of type PracticionerRole",null,"* group[=].element[+].code = #Subject.hpToContact.organization","* group[=].element[=].display = ##34#A.1.2.2.3 HP Organisation##34#","* group[=].element[=].target.code = #Condition.extension:participantR5.actor.organization","* group[=].element[=].target.display = ##34###34#","* group[=].element[=].target.equivalence = #relatedto","* group[=].element[=].target.comment = ##34#where extension:participantR5.function = http://terminology.hl7.org/CodeSystem/v2-0131#CP Contact Person AND extension:participantR5.actor of type PracticionerRole##34#",null,5,0,5,{"$f":"INDEX('Subj-ConceptMap-2'!$I$15:$N$187,Q19+1,R19)","v":"* group[=].element[=].target.equivalence = #relatedto"}]
[null,{"$f":"Subj!B29","v":"hpToContact.telephone"},{"$f":"Subj!C29","v":"A.1.2.2.4 Telephone no."},"extension:participantR5.actor.telecom",null,"relatedto","where extension:participantR5.function = http://terminology.hl7.org/CodeSystem/v2-0131#CP Contact Person AND extension:participantR5.actor of type PracticionerRole",null,"* group[=].element[+].code = #Subject.hpToContact.telephone","* group[=].element[=].display = ##34#A.1.2.2.4 Telephone no.##34#","* group[=].element[=].target.code = #Condition.extension:participantR5.actor.telecom","* group[=].element[=].target.display = ##34###34#","* group[=].element[=].target.equivalence = #relatedto","* group[=].element[=].target.comment = ##34#where extension:participantR5.function = http://terminology.hl7.org/CodeSystem/v2-0131#CP Contact Person AND extension:participantR5.actor of type PracticionerRole##34#",null,6,0,6,{"$f":"INDEX('Subj-ConceptMap-2'!$I$15:$N$187,Q20+1,R20)","v":""}]
[null,{"$f":"Subj!B30","v":"hpToContact.email"},{"$f":"Subj!C30","v":"A.1.2.2.5 Email"},"extension:participantR5.actor.telecom",null,"relatedto","where extension:participantR5.function = http://terminology.hl7.org/CodeSystem/v2-0131#CP Contact Person AND extension:participantR5.actor of type PracticionerRole",null,"* group[=].element[+].code = #Subject.hpToContact.email","* group[=].element[=].display = ##34#A.1.2.2.5 Email##34#","* group[=].element[=].target.code = #Condition.extension:participantR5.actor.telecom","* group[=].element[=].target.display = ##34###34#","* group[=].element[=].target.equivalence = #relatedto","* group[=].element[=].target.comment = ##34#where extension:participantR5.function = http://terminology.hl7.org/CodeSystem/v2-0131#CP Contact Person AND extension:participantR5.actor of type PracticionerRole##34#",null,7,1,1,{"$f":"INDEX('Subj-ConceptMap-2'!$I$15:$N$187,Q21+1,R21)","v":"* group[=].element[+].code = #Subject.hpToContact"}]
[null,{"$f":"Subj!B31","v":"hpToContact.affiliatedNetwork"},{"$f":"Subj!C31","v":"A.1.2.2.6 Network affiliation"},"extension:participantR5.actor",null,"relatedto","This might be described by using a CareTeam having this organization and/or this practitioner as extension:participantR5.member",null,"* group[=].element[+].code = #Subject.hpToContact.affiliatedNetwork","* group[=].element[=].display = ##34#A.1.2.2.6 Network affiliation##34#","* group[=].element[=].target.code = #Condition.extension:participantR5.actor","* group[=].element[=].target.display = ##34###34#","* group[=].element[=].target.equivalence = #relatedto","* group[=].element[=].target.comment = ##34#This might be described by using a CareTeam having this organization and/or this practitioner as extension:participantR5.member##34#",null,8,1,2,{"$f":"INDEX('Subj-ConceptMap-2'!$I$15:$N$187,Q22+1,R22)","v":"* group[=].element[=].display = ##34#A.1.2.2 Preferred HP to contact##34#"}]
[null,{"$f":"Subj!B32","v":"hpToContact.relatedWith"},{"$f":"Subj!C32","v":"A.1.2.2.7 Related with"},null,null,"relatedto","The contact is intrinsically connected with the Condition",null,"* group[=].element[+].code = #Subject.hpToContact.relatedWith","* group[=].element[=].display = ##34#A.1.2.2.7 Related with##34#","* group[=].element[=].target.code = #Condition","* group[=].element[=].target.display = ##34###34#","* group[=].element[=].target.equivalence = #relatedto","* group[=].element[=].target.comment = ##34#The contact is intrinsically connected with the Condition##34#",null,9,1,3,{"$f":"INDEX('Subj-ConceptMap-2'!$I$15:$N$187,Q23+1,R23)","v":"* group[=].element[=].target.code = #Condition.extension:participantR5.actor"}]
[null,{"$f":"Subj!B40","v":0},null,null,null,null,null,null,null,null,null,null,null,null,null,10,1,4,{"$f":"INDEX('Subj-ConceptMap-2'!$I$15:$N$187,Q24+1,R24)","v":"* group[=].element[=].target.display = ##34###34#"}]
[null,{"$f":"Subj!B41","v":0},null,null,null,null,null,null,null,null,null,null,null,null,null,11,1,5,{"$f":"INDEX('Subj-ConceptMap-2'!$I$15:$N$187,Q25+1,R25)","v":"* group[=].element[=].target.equivalence = #relatedto"}]
[null,{"$f":"Subj!B42","v":0},null,null,null,null,null,null,null,null,null,null,null,null,null,12,1,6,{"$f":"INDEX('Subj-ConceptMap-2'!$I$15:$N$187,Q26+1,R26)","v":"* group[=].element[=].target.comment = ##34#where extension:participantR5.function = http://terminology.hl7.org/CodeSystem/v2-0131#CP Contact Person AND extension:participantR5.actor of type PracticionerRole##34#"}]
[null,{"$f":"Subj!B43","v":0},null,null,null,null,null,null,null,null,null,null,null,null,null,13,2,1,{"$f":"INDEX('Subj-ConceptMap-2'!$I$15:$N$187,Q27+1,R27)","v":"* group[=].element[+].code = #Subject.hpToContact.name"}]
[null,{"$f":"Subj!B44","v":0},null,null,null,null,null,null,null,null,null,null,null,null,null,14,2,2,{"$f":"INDEX('Subj-ConceptMap-2'!$I$15:$N$187,Q28+1,R28)","v":"* group[=].element[=].display = ##34#A.1.2.2.1 Name of the HP##34#"}]
[null,{"$f":"Subj!B45","v":0},null,null,null,null,null,null,null,null,null,null,null,null,null,15,2,3,{"$f":"INDEX('Subj-ConceptMap-2'!$I$15:$N$187,Q29+1,R29)","v":"* group[=].element[=].target.code = #Condition.extension:participantR5.actor.practitioner.name"}]
[null,null,null,null,null,null,null,null,null,null,null,null,null,null,null,16,2,4,{"$f":"INDEX('Subj-ConceptMap-2'!$I$15:$N$187,Q30+1,R30)","v":"* group[=].element[=].target.display = ##34###34#"}]
[null,null,null,null,null,null,null,null,null,null,null,null,null,null,null,17,2,5,{"$f":"INDEX('Subj-ConceptMap-2'!$I$15:$N$187,Q31+1,R31)","v":"* group[=].element[=].target.equivalence = #relatedto"}]
[null,null,null,null,null,null,null,null,null,null,null,null,null,null,null,18,2,6,{"$f":"INDEX('Subj-ConceptMap-2'!$I$15:$N$187,Q32+1,R32)","v":"* group[=].element[=].target.comment = ##34#where extension:participantR5.function = http://terminology.hl7.org/CodeSystem/v2-0131#CP Contact Person AND extension:participantR5.actor of type PracticionerRole##34#"}]
[null,null,null,null,null,null,null,null,null,null,null,null,null,null,null,19,3,1,{"$f":"INDEX('Subj-ConceptMap-2'!$I$15:$N$187,Q33+1,R33)","v":"* group[=].element[+].code = #Subject.hpToContact.role"}]
[null,null,null,null,null,null,null,null,null,null,null,null,null,null,null,20,3,2,{"$f":"INDEX('Subj-ConceptMap-2'!$I$15:$N$187,Q34+1,R34)","v":"* group[=].element[=].display = ##34#A.1.2.2.2 Role of the HP##34#"}]
[null,null,null,null,null,null,null,null,null,null,null,null,null,null,null,21,3,3,{"$f":"INDEX('Subj-ConceptMap-2'!$I$15:$N$187,Q35+1,R35)","v":"* group[=].element[=].target.code = #Condition.extension:participantR5.actor.code"}]
[null,null,null,null,null,null,null,null,null,null,null,null,null,null,null,22,3,4,{"$f":"INDEX('Subj-ConceptMap-2'!$I$15:$N$187,Q36+1,R36)","v":"* group[=].element[=].target.display = ##34###34#"}]
[null,null,null,null,null,null,null,null,null,null,null,null,null,null,null,23,3,5,{"$f":"INDEX('Subj-ConceptMap-2'!$I$15:$N$187,Q37+1,R37)","v":"* group[=].element[=].target.equivalence = #relatedto"}]
[null,null,null,null,null,null,null,null,null,null,null,null,null,null,null,24,3,6,{"$f":"INDEX('Subj-ConceptMap-2'!$I$15:$N$187,Q38+1,R38)","v":"* group[=].element[=].target.comment = ##34#where extension:participantR5.function = http://terminology.hl7.org/CodeSystem/v2-0131#CP Contact Person AND extension:participantR5.actor of type PracticionerRole##34#"}]
[null,null,null,null,null,null,null,null,null,null,null,null,null,null,null,25,4,1,{"$f":"INDEX('Subj-ConceptMap-2'!$I$15:$N$187,Q39+1,R39)","v":"* group[=].element[+].code = #Subject.hpToContact.organization"}]
[null,null,null,null,null,null,null,null,null,null,null,null,null,null,null,26,4,2,{"$f":"INDEX('Subj-ConceptMap-2'!$I$15:$N$187,Q40+1,R40)","v":"* group[=].element[=].display = ##34#A.1.2.2.3 HP Organisation##34#"}]
[null,null,null,null,null,null,null,null,null,null,null,null,null,null,null,27,4,3,{"$f":"INDEX('Subj-ConceptMap-2'!$I$15:$N$187,Q41+1,R41)","v":"* group[=].element[=].target.code = #Condition.extension:participantR5.actor.organization"}]
[null,null,null,null,null,null,null,null,null,null,null,null,null,null,null,28,4,4,{"$f":"INDEX('Subj-ConceptMap-2'!$I$15:$N$187,Q42+1,R42)","v":"* group[=].element[=].target.display = ##34###34#"}]
[null,null,null,null,null,null,null,null,null,null,null,null,null,null,null,29,4,5,{"$f":"INDEX('Subj-ConceptMap-2'!$I$15:$N$187,Q43+1,R43)","v":"* group[=].element[=].target.equivalence = #relatedto"}]
[null,null,null,null,null,null,null,null,null,null,null,null,null,null,null,30,4,6,{"$f":"INDEX('Subj-ConceptMap-2'!$I$15:$N$187,Q44+1,R44)","v":"* group[=].element[=].target.comment = ##34#where extension:participantR5.function = http://terminology.hl7.org/CodeSystem/v2-0131#CP Contact Person AND extension:participantR5.actor of type PracticionerRole##34#"}]
[null,null,null,null,null,null,null,null,null,null,null,null,null,null,null,31,5,1,{"$f":"INDEX('Subj-ConceptMap-2'!$I$15:$N$187,Q45+1,R45)","v":"* group[=].element[+].code = #Subject.hpToContact.telephone"}]
[null,null,null,null,null,null,null,null,null,null,null,null,null,null,null,32,5,2,{"$f":"INDEX('Subj-ConceptMap-2'!$I$15:$N$187,Q46+1,R46)","v":"* group[=].element[=].display = ##34#A.1.2.2.4 Telephone no.##34#"}]
[null,null,null,null,null,null,null,null,null,null,null,null,null,null,null,33,5,3,{"$f":"INDEX('Subj-ConceptMap-2'!$I$15:$N$187,Q47+1,R47)","v":"* group[=].element[=].target.code = #Condition.extension:participantR5.actor.telecom"}]
[null,null,null,null,null,null,null,null,null,null,null,null,null,null,null,34,5,4,{"$f":"INDEX('Subj-ConceptMap-2'!$I$15:$N$187,Q48+1,R48)","v":"* group[=].element[=].target.display = ##34###34#"}]
[null,null,null,null,null,null,null,null,null,null,null,null,null,null,null,35,5,5,{"$f":"INDEX('Subj-ConceptMap-2'!$I$15:$N$187,Q49+1,R49)","v":"* group[=].element[=].target.equivalence = #relatedto"}]
[null,null,null,null,null,null,null,null,null,null,null,null,null,null,null,36,5,6,{"$f":"INDEX('Subj-ConceptMap-2'!$I$15:$N$187,Q50+1,R50)","v":"* group[=].element[=].target.comment = ##34#where extension:participantR5.function = http://terminology.hl7.org/CodeSystem/v2-0131#CP Contact Person AND extension:participantR5.actor of type PracticionerRole##34#"}]
[null,null,null,null,null,null,null,null,null,null,null,null,null,null,null,37,6,1,{"$f":"INDEX('Subj-ConceptMap-2'!$I$15:$N$187,Q51+1,R51)","v":"* group[=].element[+].code = #Subject.hpToContact.email"}]
[null,null,null,null,null,null,null,null,null,null,null,null,null,null,null,38,6,2,{"$f":"INDEX('Subj-ConceptMap-2'!$I$15:$N$187,Q52+1,R52)","v":"* group[=].element[=].display = ##34#A.1.2.2.5 Email##34#"}]
[null,null,null,null,null,null,null,null,null,null,null,null,null,null,null,39,6,3,{"$f":"INDEX('Subj-ConceptMap-2'!$I$15:$N$187,Q53+1,R53)","v":"* group[=].element[=].target.code = #Condition.extension:participantR5.actor.telecom"}]
[null,null,null,null,null,null,null,null,null,null,null,null,null,null,null,40,6,4,{"$f":"INDEX('Subj-ConceptMap-2'!$I$15:$N$187,Q54+1,R54)","v":"* group[=].element[=].target.display = ##34###34#"}]
[null,null,null,null,null,null,null,null,null,null,null,null,null,null,null,41,6,{"$f":"IF(MOD(P55,$Q$8)=0,$Q$8,MOD(P55,$Q$8))","v":5},{"$f":"INDEX('Subj-ConceptMap-2'!$I$15:$N$187,Q55+1,R55)","v":"* group[=].element[=].target.equivalence = #relatedto"}]
[null,null,null,null,null,null,null,null,null,null,null,null,null,null,null,42,6,6,{"$f":"INDEX('Subj-ConceptMap-2'!$I$15:$N$187,Q56+1,R56)","v":"* group[=].element[=].target.comment = ##34#where extension:participantR5.function = http://terminology.hl7.org/CodeSystem/v2-0131#CP Contact Person AND extension:participantR5.actor of type PracticionerRole##34#"}]
[null,null,null,null,null,null,null,null,null,null,null,null,null,null,null,43,7,1,{"$f":"INDEX('Subj-ConceptMap-2'!$I$15:$N$187,Q57+1,R57)","v":"* group[=].element[+].code = #Subject.hpToContact.affiliatedNetwork"}]
[null,null,null,null,null,null,null,null,null,null,null,null,null,null,null,44,7,2,{"$f":"INDEX('Subj-ConceptMap-2'!$I$15:$N$187,Q58+1,R58)","v":"* group[=].element[=].display = ##34#A.1.2.2.6 Network affiliation##34#"}]
[null,null,null,null,null,null,null,null,null,null,null,null,null,null,null,45,7,3,{"$f":"INDEX('Subj-ConceptMap-2'!$I$15:$N$187,Q59+1,R59)","v":"* group[=].element[=].target.code = #Condition.extension:participantR5.actor"}]
[null,null,null,null,null,null,null,null,null,null,null,null,null,null,null,46,7,4,{"$f":"INDEX('Subj-ConceptMap-2'!$I$15:$N$187,Q60+1,R60)","v":"* group[=].element[=].target.display = ##34###34#"}]
[null,null,null,null,null,null,null,null,null,null,null,null,null,null,null,47,7,5,{"$f":"INDEX('Subj-ConceptMap-2'!$I$15:$N$187,Q61+1,R61)","v":"* group[=].element[=].target.equivalence = #relatedto"}]
[null,null,null,null,null,null,null,null,null,null,null,null,null,null,null,48,7,6,{"$f":"INDEX('Subj-ConceptMap-2'!$I$15:$N$187,Q62+1,R62)","v":"* group[=].element[=].target.comment = ##34#This might be described by using a CareTeam having this organization and/or this practitioner as extension:participantR5.member##34#"}]
[null,null,null,null,null,null,null,null,null,null,null,null,null,null,null,49,8,1,{"$f":"INDEX('Subj-ConceptMap-2'!$I$15:$N$187,Q63+1,R63)","v":"* group[=].element[+].code = #Subject.hpToContact.relatedWith"}]
[null,null,null,null,null,null,null,null,null,null,null,null,null,null,null,50,8,2,{"$f":"INDEX('Subj-ConceptMap-2'!$I$15:$N$187,Q64+1,R64)","v":"* group[=].element[=].display = ##34#A.1.2.2.7 Related with##34#"}]
[null,null,null,null,null,null,null,null,null,null,null,null,null,null,null,51,8,3,{"$f":"INDEX('Subj-ConceptMap-2'!$I$15:$N$187,Q65+1,R65)","v":"* group[=].element[=].target.code = #Condition"}]
[null,null,null,null,null,null,null,null,null,null,null,null,null,null,null,52,8,4,{"$f":"INDEX('Subj-ConceptMap-2'!$I$15:$N$187,Q66+1,R66)","v":"* group[=].element[=].target.display = ##34###34#"}]
[null,null,null,null,null,null,null,null,null,null,null,null,null,null,null,53,8,5,{"$f":"INDEX('Subj-ConceptMap-2'!$I$15:$N$187,Q67+1,R67)","v":"* group[=].element[=].target.equivalence = #relatedto"}]
[null,null,null,null,null,null,null,null,null,null,null,null,null,null,null,54,8,6,{"$f":"INDEX('Subj-ConceptMap-2'!$I$15:$N$187,Q68+1,R68)","v":"* group[=].element[=].target.comment = ##34#The contact is intrinsically connected with the Condition##34#"}]
[null,null,null,null,null,null,null,null,null,null,null,null,null,null,null,55,9,1,{"$f":"INDEX('Subj-ConceptMap-2'!$I$15:$N$187,Q69+1,R69)","v":0}]
[null,null,null,null,null,null,null,null,null,null,null,null,null,null,null,56,9,2,{"$f":"INDEX('Subj-ConceptMap-2'!$I$15:$N$187,Q70+1,R70)","v":0}]
[null,null,null,null,null,null,null,null,null,null,null,null,null,null,null,57,9,3,{"$f":"INDEX('Subj-ConceptMap-2'!$I$15:$N$187,Q71+1,R71)","v":0}]
[null,null,null,null,null,null,null,null,null,null,null,null,null,null,null,58,9,4,{"$f":"INDEX('Subj-ConceptMap-2'!$I$15:$N$187,Q72+1,R72)","v":0}]
[null,null,null,null,null,null,null,null,null,null,null,null,null,null,null,59,9,5,{"$f":"INDEX('Subj-ConceptMap-2'!$I$15:$N$187,Q73+1,R73)","v":0}]
[null,null,null,null,null,null,null,null,null,null,null,null,null,null,null,60,9,{"$f":"IF(MOD(P74,$Q$8)=0,$Q$8,MOD(P74,$Q$8))","v":6},{"$f":"INDEX('Subj-ConceptMap-2'!$I$15:$N$187,Q74+1,R74)","v":0}]
[null,null,null,null,null,null,null,null,null,null,null,null,null,null,null,61,10,1,{"$f":"INDEX('Subj-ConceptMap-2'!$I$15:$N$187,Q75+1,R75)","v":0}]
[null,null,null,null,null,null,null,null,null,null,null,null,null,null,null,62,10,2,{"$f":"INDEX('Subj-ConceptMap-2'!$I$15:$N$187,Q76+1,R76)","v":0}]
[null,null,null,null,null,null,null,null,null,null,null,null,null,null,null,63,10,3,{"$f":"INDEX('Subj-ConceptMap-2'!$I$15:$N$187,Q77+1,R77)","v":0}]
[null,null,null,null,null,null,null,null,null,null,null,null,null,null,null,64,10,4,{"$f":"INDEX('Subj-ConceptMap-2'!$I$15:$N$187,Q78+1,R78)","v":0}]
[null,null,null,null,null,null,null,null,null,null,null,null,null,null,null,65,10,5,{"$f":"INDEX('Subj-ConceptMap-2'!$I$15:$N$187,Q79+1,R79)","v":0}]
[null,null,null,null,null,null,null,null,null,null,null,null,null,null,null,66,10,6,{"$f":"INDEX('Subj-ConceptMap-2'!$I$15:$N$187,Q80+1,R80)","v":0}]

{"sheet":"Subj-CM-fsh","index":50,"n_rows":252,"n_cols":7,"rows_kept":252,"cut":false,"hidden":false,"merged":[]}
[null,"// -------------------------------------------------------------------------------"]
[null,"//  Concept Model. File: ",null,null,null,null,"subject-to-fhir-map.fsh"]
[null,"// -------------------------------------------------------------------------------"]
[null,{"$f":"\"Instance: \"&'Subj-ConceptMap-1'!C4","v":"Instance: subject2FHIR-eu-ps"}]
[null,"InstanceOf: ConceptMap"]
[null,"Usage: #definition"]
[null,"// * url = ##34#http://terminology.hl7.it/ConceptMap/ConceptMap-subject2osiris##34#"]
[null,{"$f":"\"* name = ##34#\"&'Subj-ConceptMap-1'!C3&\"##34#\"","v":"* name = ##34#PatientSummarySubject2Fhir##34#"}]
[null,{"$f":"\"* title = ##34#\"&'Subj-ConceptMap-1'!C5&\"##34#\"","v":"* title = ##34#eHN Subject to this guide Map##34#"}]
[null,"* status = #draft"]
[null,"* experimental = true"]
[null,{"$f":"\"* description = ##34#\"&'Subj-ConceptMap-1'!C8&\"##34#\"","v":"* description = ##34#eHN Subject Model to this guide Map##34#"}]
[null,{"$f":"\"* purpose = ##34#\"&'Subj-ConceptMap-1'!C9&\"##34#\"","v":"* purpose = ##34#It shows how the Patient Summary Subject data set defined by the EU eHN guidelines is mapped into this guide##34#"}]
[null,{"$f":"\"* sourceUri = ##34#\"&'Subj-ConceptMap-1'!E3&\"##34#\"","v":"* sourceUri = ##34#http://hl7.eu/fhir/ig/xpandh/ps/StructureDefinition/Subject##34#"}]
[null,{"$f":"\"* targetUri = ##34#\"&'Subj-ConceptMap-1'!E4&\"##34#\"","v":"* targetUri = ##34#http://hl7.eu/fhir/ig/xpandh/ps/StructureDefinition/Bundle-ps-xpandh##34#"}]
[]
[null,{"$f":"\"* group[+].source = ##34#\"&'Subj-ConceptMap-1'!E6&\"##34#\"","v":"* group[+].source = ##34#http://hl7.eu/fhir/ig/xpandh/ps/StructureDefinition/Subject##34#"}]
[null,{"$f":"\"* group[=].target = ##34#\"&'Subj-ConceptMap-1'!E7&\"##34#\"","v":"* group[=].target = ##34#http://hl7.eu/fhir/ig/xpandh/ps/StructureDefinition/Patient-ps-xpandh##34#"}]
[]
[null,{"$f":"IF('Subj-ConceptMap-1'!S15=0,\"//---END\",'Subj-ConceptMap-1'!S15)","v":"* group[=].element[+].code = #Subject.identification"}]
[null,{"$f":"IF('Subj-ConceptMap-1'!S16=0,\"//---END\",'Subj-ConceptMap-1'!S16)","v":"* group[=].element[=].display = ##34#A.1.1 Identification of the patient/subject##34#"}]
[null,{"$f":"IF('Subj-ConceptMap-1'!S17=0,\"//---END\",'Subj-ConceptMap-1'!S17)","v":"* group[=].element[=].target.code = #Patient"}]
[null,{"$f":"IF('Subj-ConceptMap-1'!S18=0,\"//---END\",'Subj-ConceptMap-1'!S18)","v":"* group[=].element[=].target.display = ##34###34#"}]
[null,{"$f":"IF('Subj-ConceptMap-1'!S19=0,\"//---END\",'Subj-ConceptMap-1'!S19)","v":"* group[=].element[=].target.equivalence = #relatedto"}]
[null,{"$f":"IF('Subj-ConceptMap-1'!S20=0,\"//---END\",'Subj-ConceptMap-1'!S20)","v":""}]
[null,{"$f":"IF('Subj-ConceptMap-1'!S21=0,\"//---END\",'Subj-ConceptMap-1'!S21)","v":"* group[=].element[+].code = #Subject.identification.identifier"}]
[null,{"$f":"IF('Subj-ConceptMap-1'!S22=0,\"//---END\",'Subj-ConceptMap-1'!S22)","v":"* group[=].element[=].display = ##34#A.1.1.1 National healthcare patient ID##34#"}]
[null,{"$f":"IF('Subj-ConceptMap-1'!S23=0,\"//---END\",'Subj-ConceptMap-1'!S23)","v":"* group[=].element[=].target.code = #Patient.identifier"}]
[null,{"$f":"IF('Subj-ConceptMap-1'!S24=0,\"//---END\",'Subj-ConceptMap-1'!S24)","v":"* group[=].element[=].target.display = ##34###34#"}]
[null,{"$f":"IF('Subj-ConceptMap-1'!S25=0,\"//---END\",'Subj-ConceptMap-1'!S25)","v":"* group[=].element[=].target.equivalence = #equivalent"}]
[null,{"$f":"IF('Subj-ConceptMap-1'!S26=0,\"//---END\",'Subj-ConceptMap-1'!S26)","v":""}]
[null,{"$f":"IF('Subj-ConceptMap-1'!S27=0,\"//---END\",'Subj-ConceptMap-1'!S27)","v":"* group[=].element[+].code = #Subject.identification.familyName"}]
[null,{"$f":"IF('Subj-ConceptMap-1'!S28=0,\"//---END\",'Subj-ConceptMap-1'!S28)","v":"* group[=].element[=].display = ##34#A.1.1.2 Family name/surname##34#"}]
[null,{"$f":"IF('Subj-ConceptMap-1'!S29=0,\"//---END\",'Subj-ConceptMap-1'!S29)","v":"* group[=].element[=].target.code = #Patient.name.family"}]
[null,{"$f":"IF('Subj-ConceptMap-1'!S30=0,\"//---END\",'Subj-ConceptMap-1'!S30)","v":"* group[=].element[=].target.display = ##34###34#"}]
[null,{"$f":"IF('Subj-ConceptMap-1'!S31=0,\"//---END\",'Subj-ConceptMap-1'!S31)","v":"* group[=].element[=].target.equivalence = #equivalent"}]
[null,{"$f":"IF('Subj-ConceptMap-1'!S32=0,\"//---END\",'Subj-ConceptMap-1'!S32)","v":""}]
[null,{"$f":"IF('Subj-ConceptMap-1'!S33=0,\"//---END\",'Subj-ConceptMap-1'!S33)","v":"* group[=].element[+].code = #Subject.identification.givenName"}]
[null,{"$f":"IF('Subj-ConceptMap-1'!S34=0,\"//---END\",'Subj-ConceptMap-1'!S34)","v":"* group[=].element[=].display = ##34#A.1.1.3 Given name##34#"}]
[null,{"$f":"IF('Subj-ConceptMap-1'!S35=0,\"//---END\",'Subj-ConceptMap-1'!S35)","v":"* group[=].element[=].target.code = #Patient.name.given"}]
[null,{"$f":"IF('Subj-ConceptMap-1'!S36=0,\"//---END\",'Subj-ConceptMap-1'!S36)","v":"* group[=].element[=].target.display = ##34###34#"}]
[null,{"$f":"IF('Subj-ConceptMap-1'!S37=0,\"//---END\",'Subj-ConceptMap-1'!S37)","v":"* group[=].element[=].target.equivalence = #equivalent"}]
[null,{"$f":"IF('Subj-ConceptMap-1'!S38=0,\"//---END\",'Subj-ConceptMap-1'!S38)","v":""}]
[null,{"$f":"IF('Subj-ConceptMap-1'!S39=0,\"//---END\",'Subj-ConceptMap-1'!S39)","v":"* group[=].element[+].code = #Subject.identification.dateOfBirth"}]
[null,{"$f":"IF('Subj-ConceptMap-1'!S40=0,\"//---END\",'Subj-ConceptMap-1'!S40)","v":"* group[=].element[=].display = ##34#A.1.1.4 Date of birth##34#"}]
[null,{"$f":"IF('Subj-ConceptMap-1'!S41=0,\"//---END\",'Subj-ConceptMap-1'!S41)","v":"* group[=].element[=].target.code = #Patient.birthDate"}]
[null,{"$f":"IF('Subj-ConceptMap-1'!S42=0,\"//---END\",'Subj-ConceptMap-1'!S42)","v":"* group[=].element[=].target.display = ##34###34#"}]
[null,{"$f":"IF('Subj-ConceptMap-1'!S43=0,\"//---END\",'Subj-ConceptMap-1'!S43)","v":"* group[=].element[=].target.equivalence = #equivalent"}]
[null,{"$f":"IF('Subj-ConceptMap-1'!S44=0,\"//---END\",'Subj-ConceptMap-1'!S44)","v":""}]
[null,{"$f":"IF('Subj-ConceptMap-1'!S45=0,\"//---END\",'Subj-ConceptMap-1'!S45)","v":"* group[=].element[+].code = #Subject.identification.gender"}]
[null,{"$f":"IF('Subj-ConceptMap-1'!S46=0,\"//---END\",'Subj-ConceptMap-1'!S46)","v":"* group[=].element[=].display = ##34#A.1.1.5 Gender##34#"}]
[null,{"$f":"IF('Subj-ConceptMap-1'!S47=0,\"//---END\",'Subj-ConceptMap-1'!S47)","v":"* group[=].element[=].target.code = #Patient.gender"}]
[null,{"$f":"IF('Subj-ConceptMap-1'!S48=0,\"//---END\",'Subj-ConceptMap-1'!S48)","v":"* group[=].element[=].target.display = ##34###34#"}]
[null,{"$f":"IF('Subj-ConceptMap-1'!S49=0,\"//---END\",'Subj-ConceptMap-1'!S49)","v":"* group[=].element[=].target.equivalence = #equivalent"}]
[null,{"$f":"IF('Subj-ConceptMap-1'!S50=0,\"//---END\",'Subj-ConceptMap-1'!S50)","v":""}]
[null,{"$f":"IF('Subj-ConceptMap-1'!S51=0,\"//---END\",'Subj-ConceptMap-1'!S51)","v":"* group[=].element[+].code = #Subject.identification.countryOfAffiliation"}]
[null,{"$f":"IF('Subj-ConceptMap-1'!S52=0,\"//---END\",'Subj-ConceptMap-1'!S52)","v":"* group[=].element[=].display = ##34#A.1.1.5 Country of affiliation##34#"}]
[null,{"$f":"IF('Subj-ConceptMap-1'!S53=0,\"//---END\",'Subj-ConceptMap-1'!S53)","v":"* group[=].element[=].target.code = #Patient.address.country"}]
[null,{"$f":"IF('Subj-ConceptMap-1'!S54=0,\"//---END\",'Subj-ConceptMap-1'!S54)","v":"* group[=].element[=].target.display = ##34###34#"}]
[null,{"$f":"IF('Subj-ConceptMap-1'!S55=0,\"//---END\",'Subj-ConceptMap-1'!S55)","v":"* group[=].element[=].target.equivalence = #relatedto"}]
[null,{"$f":"IF('Subj-ConceptMap-1'!S56=0,\"//---END\",'Subj-ConceptMap-1'!S56)","v":"* group[=].element[=].target.comment = ##34#Assuming that the address is the 'offcial' address. This is how it is currently mapped in the eHDSI CDA Igs##34#"}]
[null,{"$f":"IF('Subj-ConceptMap-1'!S57=0,\"//---END\",'Subj-ConceptMap-1'!S57)","v":"* group[=].element[+].code = #Subject.telcomContact"}]
[null,{"$f":"IF('Subj-ConceptMap-1'!S58=0,\"//---END\",'Subj-ConceptMap-1'!S58)","v":"* group[=].element[=].display = ##34#A.1.2.1 Patient address##34#"}]
[null,{"$f":"IF('Subj-ConceptMap-1'!S59=0,\"//---END\",'Subj-ConceptMap-1'!S59)","v":"* group[=].element[=].target.code = #Patient"}]
[null,{"$f":"IF('Subj-ConceptMap-1'!S60=0,\"//---END\",'Subj-ConceptMap-1'!S60)","v":"* group[=].element[=].target.display = ##34###34#"}]
[null,{"$f":"IF('Subj-ConceptMap-1'!S61=0,\"//---END\",'Subj-ConceptMap-1'!S61)","v":"* group[=].element[=].target.equivalence = #relatedto"}]
[null,{"$f":"IF('Subj-ConceptMap-1'!S62=0,\"//---END\",'Subj-ConceptMap-1'!S62)","v":""}]
[null,{"$f":"IF('Subj-ConceptMap-1'!S63=0,\"//---END\",'Subj-ConceptMap-1'!S63)","v":"* group[=].element[+].code = #Subject.telcomContact.address"}]
[null,{"$f":"IF('Subj-ConceptMap-1'!S64=0,\"//---END\",'Subj-ConceptMap-1'!S64)","v":"* group[=].element[=].display = ##34#Address##34#"}]
[null,{"$f":"IF('Subj-ConceptMap-1'!S65=0,\"//---END\",'Subj-ConceptMap-1'!S65)","v":"* group[=].element[=].target.code = #Patient.address"}]
[null,{"$f":"IF('Subj-ConceptMap-1'!S66=0,\"//---END\",'Subj-ConceptMap-1'!S66)","v":"* group[=].element[=].target.display = ##34###34#"}]
[null,{"$f":"IF('Subj-ConceptMap-1'!S67=0,\"//---END\",'Subj-ConceptMap-1'!S67)","v":"* group[=].element[=].target.equivalence = #equivalent"}]
[null,{"$f":"IF('Subj-ConceptMap-1'!S68=0,\"//---END\",'Subj-ConceptMap-1'!S68)","v":""}]
[null,{"$f":"IF('Subj-ConceptMap-1'!S69=0,\"//---END\",'Subj-ConceptMap-1'!S69)","v":"* group[=].element[+].code = #Subject.telcomContact.address.street"}]
[null,{"$f":"IF('Subj-ConceptMap-1'!S70=0,\"//---END\",'Subj-ConceptMap-1'!S70)","v":"* group[=].element[=].display = ##34#A.1.2.1.1 Street##34#"}]
[null,{"$f":"IF('Subj-ConceptMap-1'!S71=0,\"//---END\",'Subj-ConceptMap-1'!S71)","v":"* group[=].element[=].target.code = #Patient.address.line"}]
[null,{"$f":"IF('Subj-ConceptMap-1'!S72=0,\"//---END\",'Subj-ConceptMap-1'!S72)","v":"* group[=].element[=].target.display = ##34###34#"}]
[null,{"$f":"IF('Subj-ConceptMap-1'!S73=0,\"//---END\",'Subj-ConceptMap-1'!S73)","v":"* group[=].element[=].target.equivalence = #relatedto"}]
[null,{"$f":"IF('Subj-ConceptMap-1'!S74=0,\"//---END\",'Subj-ConceptMap-1'!S74)","v":""}]
[null,{"$f":"IF('Subj-ConceptMap-1'!S75=0,\"//---END\",'Subj-ConceptMap-1'!S75)","v":"* group[=].element[+].code = #Subject.telcomContact.address.street"}]
[null,{"$f":"IF('Subj-ConceptMap-1'!S76=0,\"//---END\",'Subj-ConceptMap-1'!S76)","v":"* group[=].element[=].display = ##34#A.1.2.1.1 Street##34#"}]
[null,{"$f":"IF('Subj-ConceptMap-1'!S77=0,\"//---END\",'Subj-ConceptMap-1'!S77)","v":"* group[=].element[=].target.code = #Patient.address.line.extensioon:streetName"}]
[null,{"$f":"IF('Subj-ConceptMap-1'!S78=0,\"//---END\",'Subj-ConceptMap-1'!S78)","v":"* group[=].element[=].target.display = ##34###34#"}]
[null,{"$f":"IF('Subj-ConceptMap-1'!S79=0,\"//---END\",'Subj-ConceptMap-1'!S79)","v":"* group[=].element[=].target.equivalence = #equivalent"}]
[null,{"$f":"IF('Subj-ConceptMap-1'!S80=0,\"//---END\",'Subj-ConceptMap-1'!S80)","v":"* group[=].element[=].target.comment = ##34#http://hl7.org/fhir/StructureDefinition/iso21090-ADXP-streetName##34#"}]
[null,{"$f":"IF('Subj-ConceptMap-1'!S81=0,\"//---END\",'Subj-ConceptMap-1'!S81)","v":"* group[=].element[+].code = #Subject.telcomContact.address.houseNumber"}]
[null,{"$f":"IF('Subj-ConceptMap-1'!S82=0,\"//---END\",'Subj-ConceptMap-1'!S82)","v":"* group[=].element[=].display = ##34#A.1.2.1.2 House number##34#"}]
[null,{"$f":"IF('Subj-ConceptMap-1'!S83=0,\"//---END\",'Subj-ConceptMap-1'!S83)","v":"* group[=].element[=].target.code = #Patient.address.line.extensioon:houseNumber"}]
[null,{"$f":"IF('Subj-ConceptMap-1'!S84=0,\"//---END\",'Subj-ConceptMap-1'!S84)","v":"* group[=].element[=].target.display = ##34###34#"}]
[null,{"$f":"IF('Subj-ConceptMap-1'!S85=0,\"//---END\",'Subj-ConceptMap-1'!S85)","v":"* group[=].element[=].target.equivalence = #equivalent"}]
[null,{"$f":"IF('Subj-ConceptMap-1'!S86=0,\"//---END\",'Subj-ConceptMap-1'!S86)","v":"* group[=].element[=].target.comment = ##34#http://hl7.org/fhir/StructureDefinition/iso21090-ADXP-houseNumber##34#"}]
[null,{"$f":"IF('Subj-ConceptMap-1'!S87=0,\"//---END\",'Subj-ConceptMap-1'!S87)","v":"* group[=].element[+].code = #Subject.telcomContact.address.city"}]
[null,{"$f":"IF('Subj-ConceptMap-1'!S88=0,\"//---END\",'Subj-ConceptMap-1'!S88)","v":"* group[=].element[=].display = ##34#A.1.2.1.3 City##34#"}]
[null,{"$f":"IF('Subj-ConceptMap-1'!S89=0,\"//---END\",'Subj-ConceptMap-1'!S89)","v":"* group[=].element[=].target.code = #Patient.address.city"}]
[null,{"$f":"IF('Subj-ConceptMap-1'!S90=0,\"//---END\",'Subj-ConceptMap-1'!S90)","v":"* group[=].element[=].target.display = ##34###34#"}]
[null,{"$f":"IF('Subj-ConceptMap-1'!S91=0,\"//---END\",'Subj-ConceptMap-1'!S91)","v":"* group[=].element[=].target.equivalence = #equivalent"}]
[null,{"$f":"IF('Subj-ConceptMap-1'!S92=0,\"//---END\",'Subj-ConceptMap-1'!S92)","v":""}]
[null,{"$f":"IF('Subj-ConceptMap-1'!S93=0,\"//---END\",'Subj-ConceptMap-1'!S93)","v":"* group[=].element[+].code = #Subject.telcomContact.address.postalCode"}]
[null,{"$f":"IF('Subj-ConceptMap-1'!S94=0,\"//---END\",'Subj-ConceptMap-1'!S94)","v":"* group[=].element[=].display = ##34#A.1.2.1.4 Post code##34#"}]
[null,{"$f":"IF('Subj-ConceptMap-1'!S95=0,\"//---END\",'Subj-ConceptMap-1'!S95)","v":"* group[=].element[=].target.code = #Patient.address.postalCode"}]
[null,{"$f":"IF('Subj-ConceptMap-1'!S96=0,\"//---END\",'Subj-ConceptMap-1'!S96)","v":"* group[=].element[=].target.display = ##34###34#"}]
[null,{"$f":"IF('Subj-ConceptMap-1'!S97=0,\"//---END\",'Subj-ConceptMap-1'!S97)","v":"* group[=].element[=].target.equivalence = #equivalent"}]
[null,{"$f":"IF('Subj-ConceptMap-1'!S98=0,\"//---END\",'Subj-ConceptMap-1'!S98)","v":""}]
[null,{"$f":"IF('Subj-ConceptMap-1'!S99=0,\"//---END\",'Subj-ConceptMap-1'!S99)","v":"* group[=].element[+].code = #Subject.telcomContact.address.stateOrProvince"}]
[null,{"$f":"IF('Subj-ConceptMap-1'!S100=0,\"//---END\",'Subj-ConceptMap-1'!S100)","v":"* group[=].element[=].display = ##34#A.1.2.1.5 State or province##34#"}]
[null,{"$f":"IF('Subj-ConceptMap-1'!S101=0,\"//---END\",'Subj-ConceptMap-1'!S101)","v":"* group[=].element[=].target.code = #Patient.address.state"}]
[null,{"$f":"IF('Subj-ConceptMap-1'!S102=0,\"//---END\",'Subj-ConceptMap-1'!S102)","v":"* group[=].element[=].target.display = ##34###34#"}]
[null,{"$f":"IF('Subj-ConceptMap-1'!S103=0,\"//---END\",'Subj-ConceptMap-1'!S103)","v":"* group[=].element[=].target.equivalence = #equivalent"}]
[null,{"$f":"IF('Subj-ConceptMap-1'!S104=0,\"//---END\",'Subj-ConceptMap-1'!S104)","v":""}]
[null,{"$f":"IF('Subj-ConceptMap-1'!S105=0,\"//---END\",'Subj-ConceptMap-1'!S105)","v":"* group[=].element[+].code = #Subject.telcomContact.address.country"}]
[null,{"$f":"IF('Subj-ConceptMap-1'!S106=0,\"//---END\",'Subj-ConceptMap-1'!S106)","v":"* group[=].element[=].display = ##34#A.1.2.1.6 Country##34#"}]
[null,{"$f":"IF('Subj-ConceptMap-1'!S107=0,\"//---END\",'Subj-ConceptMap-1'!S107)","v":"* group[=].element[=].target.code = #Patient.address.country"}]
[null,{"$f":"IF('Subj-ConceptMap-1'!S108=0,\"//---END\",'Subj-ConceptMap-1'!S108)","v":"* group[=].element[=].target.display = ##34###34#"}]
[null,{"$f":"IF('Subj-ConceptMap-1'!S109=0,\"//---END\",'Subj-ConceptMap-1'!S109)","v":"* group[=].element[=].target.equivalence = #equivalent"}]
[null,{"$f":"IF('Subj-ConceptMap-1'!S110=0,\"//---END\",'Subj-ConceptMap-1'!S110)","v":"* group[=].element[=].target.comment = ##34#country name##34#"}]
[null,{"$f":"IF('Subj-ConceptMap-1'!S111=0,\"//---END\",'Subj-ConceptMap-1'!S111)","v":"* group[=].element[+].code = #Subject.telcomContact.address.country"}]
[null,{"$f":"IF('Subj-ConceptMap-1'!S112=0,\"//---END\",'Subj-ConceptMap-1'!S112)","v":"* group[=].element[=].display = ##34#A.1.2.1.6 Country##34#"}]
[null,{"$f":"IF('Subj-ConceptMap-1'!S113=0,\"//---END\",'Subj-ConceptMap-1'!S113)","v":"* group[=].element[=].target.code = #Patient.address.country.extension:countryCode"}]
[null,{"$f":"IF('Subj-ConceptMap-1'!S114=0,\"//---END\",'Subj-ConceptMap-1'!S114)","v":"* group[=].element[=].target.display = ##34###34#"}]
[null,{"$f":"IF('Subj-ConceptMap-1'!S115=0,\"//---END\",'Subj-ConceptMap-1'!S115)","v":"* group[=].element[=].target.equivalence = #equivalent"}]
[null,{"$f":"IF('Subj-ConceptMap-1'!S116=0,\"//---END\",'Subj-ConceptMap-1'!S116)","v":"* group[=].element[=].target.comment = ##34#country code.\nhttp://hl7.org/fhir/StructureDefinition/iso21090-SC-coding##34#"}]
[null,{"$f":"IF('Subj-ConceptMap-1'!S117=0,\"//---END\",'Subj-ConceptMap-1'!S117)","v":"* group[=].element[+].code = #Subject.telcomContact.telephone"}]
[null,{"$f":"IF('Subj-ConceptMap-1'!S118=0,\"//---END\",'Subj-ConceptMap-1'!S118)","v":"* group[=].element[=].display = ##34#A.1.2.1.7 Telephone no.##34#"}]
[null,{"$f":"IF('Subj-ConceptMap-1'!S119=0,\"//---END\",'Subj-ConceptMap-1'!S119)","v":"* group[=].element[=].target.code = #Patient.telecom"}]
[null,{"$f":"IF('Subj-ConceptMap-1'!S120=0,\"//---END\",'Subj-ConceptMap-1'!S120)","v":"* group[=].element[=].target.display = ##34###34#"}]
[null,{"$f":"IF('Subj-ConceptMap-1'!S121=0,\"//---END\",'Subj-ConceptMap-1'!S121)","v":"* group[=].element[=].target.equivalence = #equivalent"}]
[null,{"$f":"IF('Subj-ConceptMap-1'!S122=0,\"//---END\",'Subj-ConceptMap-1'!S122)","v":"* group[=].element[=].target.comment = ##34#where system = 'phone '##34#"}]
[null,{"$f":"IF('Subj-ConceptMap-1'!S123=0,\"//---END\",'Subj-ConceptMap-1'!S123)","v":"* group[=].element[+].code = #Subject.telcomContact.email"}]
[null,{"$f":"IF('Subj-ConceptMap-1'!S124=0,\"//---END\",'Subj-ConceptMap-1'!S124)","v":"* group[=].element[=].display = ##34#A.1.2.1.8 Email##34#"}]
[null,{"$f":"IF('Subj-ConceptMap-1'!S125=0,\"//---END\",'Subj-ConceptMap-1'!S125)","v":"* group[=].element[=].target.code = #Patient.telecom"}]
[null,{"$f":"IF('Subj-ConceptMap-1'!S126=0,\"//---END\",'Subj-ConceptMap-1'!S126)","v":"* group[=].element[=].target.display = ##34###34#"}]
[null,{"$f":"IF('Subj-ConceptMap-1'!S127=0,\"//---END\",'Subj-ConceptMap-1'!S127)","v":"* group[=].element[=].target.equivalence = #equivalent"}]
[null,{"$f":"IF('Subj-ConceptMap-1'!S128=0,\"//---END\",'Subj-ConceptMap-1'!S128)","v":"* group[=].element[=].target.comment = ##34#where system = 'email'##34#"}]
[null,{"$f":"IF('Subj-ConceptMap-1'!S129=0,\"//---END\",'Subj-ConceptMap-1'!S129)","v":"* group[=].element[+].code = #Subject.hpToContact"}]
[null,{"$f":"IF('Subj-ConceptMap-1'!S130=0,\"//---END\",'Subj-ConceptMap-1'!S130)","v":"* group[=].element[=].display = ##34#A.1.2.2 Preferred HP to contact##34#"}]
[null,{"$f":"IF('Subj-ConceptMap-1'!S131=0,\"//---END\",'Subj-ConceptMap-1'!S131)","v":"//-- unmatched"}]
[null,{"$f":"IF('Subj-ConceptMap-1'!S132=0,\"//---END\",'Subj-ConceptMap-1'!S132)","v":"//-- unmatched"}]
[null,{"$f":"IF('Subj-ConceptMap-1'!S133=0,\"//---END\",'Subj-ConceptMap-1'!S133)","v":"* group[=].element[=].target.equivalence = #unmatched"}]
[null,{"$f":"IF('Subj-ConceptMap-1'!S134=0,\"//---END\",'Subj-ConceptMap-1'!S134)","v":"* group[=].element[=].target.comment = ##34#To be mapped in differetn places##34#"}]
[null,{"$f":"IF('Subj-ConceptMap-1'!S135=0,\"//---END\",'Subj-ConceptMap-1'!S135)","v":"* group[=].element[+].code = #Subject.contactPerson"}]
[null,{"$f":"IF('Subj-ConceptMap-1'!S136=0,\"//---END\",'Subj-ConceptMap-1'!S136)","v":"* group[=].element[=].display = ##34#A.1.2.3 Contact person/ legal guardian ##34#"}]
[null,{"$f":"IF('Subj-ConceptMap-1'!S137=0,\"//---END\",'Subj-ConceptMap-1'!S137)","v":"* group[=].element[=].target.code = #Patient.contact"}]
[null,{"$f":"IF('Subj-ConceptMap-1'!S138=0,\"//---END\",'Subj-ConceptMap-1'!S138)","v":"* group[=].element[=].target.display = ##34###34#"}]
[null,{"$f":"IF('Subj-ConceptMap-1'!S139=0,\"//---END\",'Subj-ConceptMap-1'!S139)","v":"* group[=].element[=].target.equivalence = #equivalent"}]
[null,{"$f":"IF('Subj-ConceptMap-1'!S140=0,\"//---END\",'Subj-ConceptMap-1'!S140)","v":""}]
[null,{"$f":"IF('Subj-ConceptMap-1'!S141=0,\"//---END\",'Subj-ConceptMap-1'!S141)","v":"* group[=].element[+].code = #Subject.contactPerson.role"}]
[null,{"$f":"IF('Subj-ConceptMap-1'!S142=0,\"//---END\",'Subj-ConceptMap-1'!S142)","v":"* group[=].element[=].display = ##34#A.1.2.3.1 Role of that person##34#"}]
[null,{"$f":"IF('Subj-ConceptMap-1'!S143=0,\"//---END\",'Subj-ConceptMap-1'!S143)","v":"* group[=].element[=].target.code = #Patient.contact.relationship"}]
[null,{"$f":"IF('Subj-ConceptMap-1'!S144=0,\"//---END\",'Subj-ConceptMap-1'!S144)","v":"* group[=].element[=].target.display = ##34###34#"}]
[null,{"$f":"IF('Subj-ConceptMap-1'!S145=0,\"//---END\",'Subj-ConceptMap-1'!S145)","v":"* group[=].element[=].target.equivalence = #relatedto"}]
[null,{"$f":"IF('Subj-ConceptMap-1'!S146=0,\"//---END\",'Subj-ConceptMap-1'!S146)","v":"* group[=].element[=].target.comment = ##34#To be checked##34#"}]
[null,{"$f":"IF('Subj-ConceptMap-1'!S147=0,\"//---END\",'Subj-ConceptMap-1'!S147)","v":"* group[=].element[+].code = #Subject.contactPerson.relationship"}]
[null,{"$f":"IF('Subj-ConceptMap-1'!S148=0,\"//---END\",'Subj-ConceptMap-1'!S148)","v":"* group[=].element[=].display = ##34#A.1.2.3.2 Relationship level##34#"}]
[null,{"$f":"IF('Subj-ConceptMap-1'!S149=0,\"//---END\",'Subj-ConceptMap-1'!S149)","v":"* group[=].element[=].target.code = #Patient.contact.relationship"}]
[null,{"$f":"IF('Subj-ConceptMap-1'!S150=0,\"//---END\",'Subj-ConceptMap-1'!S150)","v":"* group[=].element[=].target.display = ##34###34#"}]
[null,{"$f":"IF('Subj-ConceptMap-1'!S151=0,\"//---END\",'Subj-ConceptMap-1'!S151)","v":"* group[=].element[=].target.equivalence = #equivalent"}]
[null,{"$f":"IF('Subj-ConceptMap-1'!S152=0,\"//---END\",'Subj-ConceptMap-1'!S152)","v":""}]
[null,{"$f":"IF('Subj-ConceptMap-1'!S153=0,\"//---END\",'Subj-ConceptMap-1'!S153)","v":"* group[=].element[+].code = #Subject.contactPerson.givenName"}]
[null,{"$f":"IF('Subj-ConceptMap-1'!S154=0,\"//---END\",'Subj-ConceptMap-1'!S154)","v":"* group[=].element[=].display = ##34#A.1.2.3.3 Given name##34#"}]
[null,{"$f":"IF('Subj-ConceptMap-1'!S155=0,\"//---END\",'Subj-ConceptMap-1'!S155)","v":"* group[=].element[=].target.code = #Patient.contact.name.given"}]
[null,{"$f":"IF('Subj-ConceptMap-1'!S156=0,\"//---END\",'Subj-ConceptMap-1'!S156)","v":"* group[=].element[=].target.display = ##34###34#"}]
[null,{"$f":"IF('Subj-ConceptMap-1'!S157=0,\"//---END\",'Subj-ConceptMap-1'!S157)","v":"* group[=].element[=].target.equivalence = #equivalent"}]
[null,{"$f":"IF('Subj-ConceptMap-1'!S158=0,\"//---END\",'Subj-ConceptMap-1'!S158)","v":""}]
[null,{"$f":"IF('Subj-ConceptMap-1'!S159=0,\"//---END\",'Subj-ConceptMap-1'!S159)","v":"* group[=].element[+].code = #Subject.contactPerson.familyName"}]
[null,{"$f":"IF('Subj-ConceptMap-1'!S160=0,\"//---END\",'Subj-ConceptMap-1'!S160)","v":"* group[=].element[=].display = ##34#A.1.2.3.4 Family name/surname##34#"}]
[null,{"$f":"IF('Subj-ConceptMap-1'!S161=0,\"//---END\",'Subj-ConceptMap-1'!S161)","v":"* group[=].element[=].target.code = #Patient.contact.name.family"}]
[null,{"$f":"IF('Subj-ConceptMap-1'!S162=0,\"//---END\",'Subj-ConceptMap-1'!S162)","v":"* group[=].element[=].target.display = ##34###34#"}]
[null,{"$f":"IF('Subj-ConceptMap-1'!S163=0,\"//---END\",'Subj-ConceptMap-1'!S163)","v":"* group[=].element[=].target.equivalence = #equivalent"}]
[null,{"$f":"IF('Subj-ConceptMap-1'!S164=0,\"//---END\",'Subj-ConceptMap-1'!S164)","v":""}]
[null,{"$f":"IF('Subj-ConceptMap-1'!S165=0,\"//---END\",'Subj-ConceptMap-1'!S165)","v":"* group[=].element[+].code = #Subject.contactPerson.telephone"}]
[null,{"$f":"IF('Subj-ConceptMap-1'!S166=0,\"//---END\",'Subj-ConceptMap-1'!S166)","v":"* group[=].element[=].display = ##34#A.1.2.3.5 Telephone no.##34#"}]
[null,{"$f":"IF('Subj-ConceptMap-1'!S167=0,\"//---END\",'Subj-ConceptMap-1'!S167)","v":"* group[=].element[=].target.code = #Patient.contact.telecom"}]
[null,{"$f":"IF('Subj-ConceptMap-1'!S168=0,\"//---END\",'Subj-ConceptMap-1'!S168)","v":"* group[=].element[=].target.display = ##34###34#"}]
[null,{"$f":"IF('Subj-ConceptMap-1'!S169=0,\"//---END\",'Subj-ConceptMap-1'!S169)","v":"* group[=].element[=].target.equivalence = #equivalent"}]
[null,{"$f":"IF('Subj-ConceptMap-1'!S170=0,\"//---END\",'Subj-ConceptMap-1'!S170)","v":""}]
[null,{"$f":"IF('Subj-ConceptMap-1'!S171=0,\"//---END\",'Subj-ConceptMap-1'!S171)","v":"* group[=].element[+].code = #Subject.contactPerson.email"}]
[null,{"$f":"IF('Subj-ConceptMap-1'!S172=0,\"//---END\",'Subj-ConceptMap-1'!S172)","v":"* group[=].element[=].display = ##34#A.1.2.3.6 Email##34#"}]
[null,{"$f":"IF('Subj-ConceptMap-1'!S173=0,\"//---END\",'Subj-ConceptMap-1'!S173)","v":"* group[=].element[=].target.code = #Patient.contact.telecom"}]
[null,{"$f":"IF('Subj-ConceptMap-1'!S174=0,\"//---END\",'Subj-ConceptMap-1'!S174)","v":"* group[=].element[=].target.display = ##34###34#"}]
[null,{"$f":"IF('Subj-ConceptMap-1'!S175=0,\"//---END\",'Subj-ConceptMap-1'!S175)","v":"* group[=].element[=].target.equivalence = #equivalent"}]
[null,{"$f":"IF('Subj-ConceptMap-1'!S176=0,\"//---END\",'Subj-ConceptMap-1'!S176)","v":""}]
[null,{"$f":"IF('Subj-ConceptMap-1'!S177=0,\"//---END\",'Subj-ConceptMap-1'!S177)","v":"//---END"}]
[null,{"$f":"IF('Subj-ConceptMap-1'!S178=0,\"//---END\",'Subj-ConceptMap-1'!S178)","v":"//---END"}]
[null,{"$f":"IF('Subj-ConceptMap-1'!S179=0,\"//---END\",'Subj-ConceptMap-1'!S179)","v":"//---END"}]
[null,{"$f":"IF('Subj-ConceptMap-1'!S180=0,\"//---END\",'Subj-ConceptMap-1'!S180)","v":"//---END"}]
[null,{"$f":"IF('Subj-ConceptMap-1'!S181=0,\"//---END\",'Subj-ConceptMap-1'!S181)","v":"//---END"}]
[null,{"$f":"IF('Subj-ConceptMap-1'!S182=0,\"//---END\",'Subj-ConceptMap-1'!S182)","v":"//---END"}]
[null,{"$f":"IF('Subj-ConceptMap-1'!S183=0,\"//---END\",'Subj-ConceptMap-1'!S183)","v":"//---END"}]
[]
[]
[null,{"$f":"\"* group[+].source = ##34#\"&'Subj-ConceptMap-2'!E6&\"##34#\"","v":"* group[+].source = ##34#http://hl7.eu/fhir/ig/xpandh/ps/StructureDefinition/Subject##34#"}]
[null,{"$f":"\"* group[=].target = ##34#\"&'Subj-ConceptMap-2'!E7&\"##34#\"","v":"* group[=].target = ##34#http://hl7.eu/fhir/ig/xpandh/ps/StructureDefinition/Condition-ps-xpandh##34#"}]
[]
[null,{"$f":"IF('Subj-ConceptMap-2'!S15=0,\"//---END\",'Subj-ConceptMap-2'!S15)","v":"* group[=].element[+].code = #Subject.identification"}]
[null,{"$f":"IF('Subj-ConceptMap-2'!S16=0,\"//---END\",'Subj-ConceptMap-2'!S16)","v":"* group[=].element[=].display = ##34#A.1.1 Identification of the patient/subject##34#"}]
[null,{"$f":"IF('Subj-ConceptMap-2'!S17=0,\"//---END\",'Subj-ConceptMap-2'!S17)","v":"* group[=].element[=].target.code = #Condition.subject"}]
[null,{"$f":"IF('Subj-ConceptMap-2'!S18=0,\"//---END\",'Subj-ConceptMap-2'!S18)","v":"* group[=].element[=].target.display = ##34###34#"}]
[null,{"$f":"IF('Subj-ConceptMap-2'!S19=0,\"//---END\",'Subj-ConceptMap-2'!S19)","v":"* group[=].element[=].target.equivalence = #relatedto"}]
[null,{"$f":"IF('Subj-ConceptMap-2'!S20=0,\"//---END\",'Subj-ConceptMap-2'!S20)","v":""}]
[null,{"$f":"IF('Subj-ConceptMap-2'!S21=0,\"//---END\",'Subj-ConceptMap-2'!S21)","v":"* group[=].element[+].code = #Subject.hpToContact"}]
[null,{"$f":"IF('Subj-ConceptMap-2'!S22=0,\"//---END\",'Subj-ConceptMap-2'!S22)","v":"* group[=].element[=].display = ##34#A.1.2.2 Preferred HP to contact##34#"}]
[null,{"$f":"IF('Subj-ConceptMap-2'!S23=0,\"//---END\",'Subj-ConceptMap-2'!S23)","v":"* group[=].element[=].target.code = #Condition.extension:participantR5.actor"}]
[null,{"$f":"IF('Subj-ConceptMap-2'!S24=0,\"//---END\",'Subj-ConceptMap-2'!S24)","v":"* group[=].element[=].target.display = ##34###34#"}]
[null,{"$f":"IF('Subj-ConceptMap-2'!S25=0,\"//---END\",'Subj-ConceptMap-2'!S25)","v":"* group[=].element[=].target.equivalence = #relatedto"}]
[null,{"$f":"IF('Subj-ConceptMap-2'!S26=0,\"//---END\",'Subj-ConceptMap-2'!S26)","v":"* group[=].element[=].target.comment = ##34#where extension:participantR5.function = http://terminology.hl7.org/CodeSystem/v2-0131#CP Contact Person AND extension:participantR5.actor of type PracticionerRole##34#"}]
[null,{"$f":"IF('Subj-ConceptMap-2'!S27=0,\"//---END\",'Subj-ConceptMap-2'!S27)","v":"* group[=].element[+].code = #Subject.hpToContact.name"}]
[null,{"$f":"IF('Subj-ConceptMap-2'!S28=0,\"//---END\",'Subj-ConceptMap-2'!S28)","v":"* group[=].element[=].display = ##34#A.1.2.2.1 Name of the HP##34#"}]
[null,{"$f":"IF('Subj-ConceptMap-2'!S29=0,\"//---END\",'Subj-ConceptMap-2'!S29)","v":"* group[=].element[=].target.code = #Condition.extension:participantR5.actor.practitioner.name"}]
[null,{"$f":"IF('Subj-ConceptMap-2'!S30=0,\"//---END\",'Subj-ConceptMap-2'!S30)","v":"* group[=].element[=].target.display = ##34###34#"}]
[null,{"$f":"IF('Subj-ConceptMap-2'!S31=0,\"//---END\",'Subj-ConceptMap-2'!S31)","v":"* group[=].element[=].target.equivalence = #relatedto"}]
[null,{"$f":"IF('Subj-ConceptMap-2'!S32=0,\"//---END\",'Subj-ConceptMap-2'!S32)","v":"* group[=].element[=].target.comment = ##34#where extension:participantR5.function = http://terminology.hl7.org/CodeSystem/v2-0131#CP Contact Person AND extension:participantR5.actor of type PracticionerRole##34#"}]
[null,{"$f":"IF('Subj-ConceptMap-2'!S33=0,\"//---END\",'Subj-ConceptMap-2'!S33)","v":"* group[=].element[+].code = #Subject.hpToContact.role"}]
[null,{"$f":"IF('Subj-ConceptMap-2'!S34=0,\"//---END\",'Subj-ConceptMap-2'!S34)","v":"* group[=].element[=].display = ##34#A.1.2.2.2 Role of the HP##34#"}]
[null,{"$f":"IF('Subj-ConceptMap-2'!S35=0,\"//---END\",'Subj-ConceptMap-2'!S35)","v":"* group[=].element[=].target.code = #Condition.extension:participantR5.actor.code"}]
[null,{"$f":"IF('Subj-ConceptMap-2'!S36=0,\"//---END\",'Subj-ConceptMap-2'!S36)","v":"* group[=].element[=].target.display = ##34###34#"}]
[null,{"$f":"IF('Subj-ConceptMap-2'!S37=0,\"//---END\",'Subj-ConceptMap-2'!S37)","v":"* group[=].element[=].target.equivalence = #relatedto"}]
[null,{"$f":"IF('Subj-ConceptMap-2'!S38=0,\"//---END\",'Subj-ConceptMap-2'!S38)","v":"* group[=].element[=].target.comment = ##34#where extension:participantR5.function = http://terminology.hl7.org/CodeSystem/v2-0131#CP Contact Person AND extension:participantR5.actor of type PracticionerRole##34#"}]
[null,{"$f":"IF('Subj-ConceptMap-2'!S39=0,\"//---END\",'Subj-ConceptMap-2'!S39)","v":"* group[=].element[+].code = #Subject.hpToContact.organization"}]
[null,{"$f":"IF('Subj-ConceptMap-2'!S40=0,\"//---END\",'Subj-ConceptMap-2'!S40)","v":"* group[=].element[=].display = ##34#A.1.2.2.3 HP Organisation##34#"}]
[null,{"$f":"IF('Subj-ConceptMap-2'!S41=0,\"//---END\",'Subj-ConceptMap-2'!S41)","v":"* group[=].element[=].target.code = #Condition.extension:participantR5.actor.organization"}]
[null,{"$f":"IF('Subj-ConceptMap-2'!S42=0,\"//---END\",'Subj-ConceptMap-2'!S42)","v":"* group[=].element[=].target.display = ##34###34#"}]
[null,{"$f":"IF('Subj-ConceptMap-2'!S43=0,\"//---END\",'Subj-ConceptMap-2'!S43)","v":"* group[=].element[=].target.equivalence = #relatedto"}]
[null,{"$f":"IF('Subj-ConceptMap-2'!S44=0,\"//---END\",'Subj-ConceptMap-2'!S44)","v":"* group[=].element[=].target.comment = ##34#where extension:participantR5.function = http://terminology.hl7.org/CodeSystem/v2-0131#CP Contact Person AND extension:participantR5.actor of type PracticionerRole##34#"}]
[null,{"$f":"IF('Subj-ConceptMap-2'!S45=0,\"//---END\",'Subj-ConceptMap-2'!S45)","v":"* group[=].element[+].code = #Subject.hpToContact.telephone"}]
[null,{"$f":"IF('Subj-ConceptMap-2'!S46=0,\"//---END\",'Subj-ConceptMap-2'!S46)","v":"* group[=].element[=].display = ##34#A.1.2.2.4 Telephone no.##34#"}]
[null,{"$f":"IF('Subj-ConceptMap-2'!S47=0,\"//---END\",'Subj-ConceptMap-2'!S47)","v":"* group[=].element[=].target.code = #Condition.extension:participantR5.actor.telecom"}]
[null,{"$f":"IF('Subj-ConceptMap-2'!S48=0,\"//---END\",'Subj-ConceptMap-2'!S48)","v":"* group[=].element[=].target.display = ##34###34#"}]
[null,{"$f":"IF('Subj-ConceptMap-2'!S49=0,\"//---END\",'Subj-ConceptMap-2'!S49)","v":"* group[=].element[=].target.equivalence = #relatedto"}]
[null,{"$f":"IF('Subj-ConceptMap-2'!S50=0,\"//---END\",'Subj-ConceptMap-2'!S50)","v":"* group[=].element[=].target.comment = ##34#where extension:participantR5.function = http://terminology.hl7.org/CodeSystem/v2-0131#CP Contact Person AND extension:participantR5.actor of type PracticionerRole##34#"}]
[null,{"$f":"IF('Subj-ConceptMap-2'!S51=0,\"//---END\",'Subj-ConceptMap-2'!S51)","v":"* group[=].element[+].code = #Subject.hpToContact.email"}]
[null,{"$f":"IF('Subj-ConceptMap-2'!S52=0,\"//---END\",'Subj-ConceptMap-2'!S52)","v":"* group[=].element[=].display = ##34#A.1.2.2.5 Email##34#"}]
[null,{"$f":"IF('Subj-ConceptMap-2'!S53=0,\"//---END\",'Subj-ConceptMap-2'!S53)","v":"* group[=].element[=].target.code = #Condition.extension:participantR5.actor.telecom"}]
[null,{"$f":"IF('Subj-ConceptMap-2'!S54=0,\"//---END\",'Subj-ConceptMap-2'!S54)","v":"* group[=].element[=].target.display = ##34###34#"}]
[null,{"$f":"IF('Subj-ConceptMap-2'!S55=0,\"//---END\",'Subj-ConceptMap-2'!S55)","v":"* group[=].element[=].target.equivalence = #relatedto"}]
[null,{"$f":"IF('Subj-ConceptMap-2'!S56=0,\"//---END\",'Subj-ConceptMap-2'!S56)","v":"* group[=].element[=].target.comment = ##34#where extension:participantR5.function = http://terminology.hl7.org/CodeSystem/v2-0131#CP Contact Person AND extension:participantR5.actor of type PracticionerRole##34#"}]
[null,{"$f":"IF('Subj-ConceptMap-2'!S57=0,\"//---END\",'Subj-ConceptMap-2'!S57)","v":"* group[=].element[+].code = #Subject.hpToContact.affiliatedNetwork"}]
[null,{"$f":"IF('Subj-ConceptMap-2'!S58=0,\"//---END\",'Subj-ConceptMap-2'!S58)","v":"* group[=].element[=].display = ##34#A.1.2.2.6 Network affiliation##34#"}]
[null,{"$f":"IF('Subj-ConceptMap-2'!S59=0,\"//---END\",'Subj-ConceptMap-2'!S59)","v":"* group[=].element[=].target.code = #Condition.extension:participantR5.actor"}]
[null,{"$f":"IF('Subj-ConceptMap-2'!S60=0,\"//---END\",'Subj-ConceptMap-2'!S60)","v":"* group[=].element[=].target.display = ##34###34#"}]
[null,{"$f":"IF('Subj-ConceptMap-2'!S61=0,\"//---END\",'Subj-ConceptMap-2'!S61)","v":"* group[=].element[=].target.equivalence = #relatedto"}]
[null,{"$f":"IF('Subj-ConceptMap-2'!S62=0,\"//---END\",'Subj-ConceptMap-2'!S62)","v":"* group[=].element[=].target.comment = ##34#This might be described by using a CareTeam having this organization and/or this practitioner as extension:participantR5.member##34#"}]
[null,{"$f":"IF('Subj-ConceptMap-2'!S63=0,\"//---END\",'Subj-ConceptMap-2'!S63)","v":"* group[=].element[+].code = #Subject.hpToContact.relatedWith"}]
[null,{"$f":"IF('Subj-ConceptMap-2'!S64=0,\"//---END\",'Subj-ConceptMap-2'!S64)","v":"* group[=].element[=].display = ##34#A.1.2.2.7 Related with##34#"}]
[null,{"$f":"IF('Subj-ConceptMap-2'!S65=0,\"//---END\",'Subj-ConceptMap-2'!S65)","v":"* group[=].element[=].target.code = #Condition"}]
[null,{"$f":"IF('Subj-ConceptMap-2'!S66=0,\"//---END\",'Subj-ConceptMap-2'!S66)","v":"* group[=].element[=].target.display = ##34###34#"}]
[null,{"$f":"IF('Subj-ConceptMap-2'!S67=0,\"//---END\",'Subj-ConceptMap-2'!S67)","v":"* group[=].element[=].target.equivalence = #relatedto"}]
[null,{"$f":"IF('Subj-ConceptMap-2'!S68=0,\"//---END\",'Subj-ConceptMap-2'!S68)","v":"* group[=].element[=].target.comment = ##34#The contact is intrinsically connected with the Condition##34#"}]
[null,{"$f":"IF('Subj-ConceptMap-2'!S69=0,\"//---END\",'Subj-ConceptMap-2'!S69)","v":"//---END"}]
[null,{"$f":"IF('Subj-ConceptMap-2'!S70=0,\"//---END\",'Subj-ConceptMap-2'!S70)","v":"//---END"}]
[null,{"$f":"IF('Subj-ConceptMap-2'!S71=0,\"//---END\",'Subj-ConceptMap-2'!S71)","v":"//---END"}]
[null,{"$f":"IF('Subj-ConceptMap-2'!S72=0,\"//---END\",'Subj-ConceptMap-2'!S72)","v":"//---END"}]
[null,{"$f":"IF('Subj-ConceptMap-2'!S73=0,\"//---END\",'Subj-ConceptMap-2'!S73)","v":"//---END"}]

{"sheet":"A1.3 Payer","index":51,"n_rows":27,"n_cols":9,"rows_kept":27,"cut":false,"hidden":false,"merged":[[22,2,22,5]]}
[null,null,null,null,null,null,null,null,"// -------------------------------------------------------------------------------"]
[null,null,null,null,null,null,null,null,"//  Logical Model"]
[null,null,null,null,null,null,null,null,{"$f":"I1","v":"// -------------------------------------------------------------------------------"}]
["Name","PayerPsEhn",null,null,null,null,null,null,{"$f":"CONCATENATE(\"Logical: \",B4)","v":"Logical: PayerPsEhn"}]
["Id","Payer",null,null,null,null,null,null,{"$f":"CONCATENATE(\"Id: \",B5)","v":"Id: Payer"}]
["Title","A.1.3 - Health insurance and payment information",null,null,null,null,null,null,{"$f":"CONCATENATE(\"Title: ##34#\",B6,\"##34#\")","v":"Title: ##34#A.1.3 - Health insurance and payment information##34#"}]
["Description","Health insurance and payment information.  Section A1.3 of the eHN guideline.","Data Element ","Data element description","min","max","dataType",null,{"$f":"CONCATENATE(\"Description: \",\" ##334#\",B7,\"##334#\",)","v":"Description:  ##334#Health insurance and payment information.  Section A1.3 of the eHN guideline.##334#"}]
[1,"insurance","A.1.3.1 Health insurance information","Health insurance information is not always required, however, in some jurisdictions, the insurance number is also used as the patient identifier. It is necessary not just for identification but also forms access to funding for care.",0,1,"BackboneElement",null,{"$f":"CONCATENATE(\"* \",B8, \" \",E8,\"..\",F8,\" \",G8,\" ##34#\",C8,\"##34# ##334#\",D8,\"##334#\")","v":"* insurance 0..1 BackboneElement ##34#A.1.3.1 Health insurance information##34# ##334#Health insurance information is not always required, however, in some jurisdictions, the insurance number is also used as the patient identifier. It is necessary not just for identification but also forms access to funding for care.##334#"}]
[2,"insurance.identifier","A.1.3.1.1 Health insurance code","Unique health insurance company identification code. ",0,"*","Identifier",null,{"$f":"CONCATENATE(\"* \",B9, \" \",E9,\"..\",F9,\" \",G9,\" ##34#\",C9,\"##34# ##334#\",D9,\"##334#\")","v":"* insurance.identifier 0..* Identifier ##34#A.1.3.1.1 Health insurance code##34# ##334#Unique health insurance company identification code. ##334#"}]
[3,"insurance.name","A.1.3.1.2 Health insurance name","Full, official name of the healthcare insurance provider. ",0,"*","string",null,"* insurance.name 0..* string ##34#A.1.3.1.2 Health insurance name##34# ##334#Full, official name of the healthcare insurance provider. ##334#"]
[4,"insurance.subjectIdentifier","A.1.3.1.3 Health insurance number","Number or code under which the insured person is registered at the insurance provider. ",0,"*","Identifier",null,"* insurance.subjectIdentifier 0..* Identifier ##34#A.1.3.1.3 Health insurance number##34# ##334#Number or code under which the insured person is registered at the insurance provider. ##334#"]
[5,null,null,null,null,null,null,null,"*  ..  ##34###34# ##334###334#"]
[6,null,null,null,null,null,null,null,"*  ..  ##34###34# ##334###334#"]
[7,null,null,null,null,null,null,null,"*  ..  ##34###34# ##334###334#"]
[8]
[9]
[]
[]
[]
[]
[null,{"$f":"CONCATENATE(C21,\" \",D21)","v":" "}]
[null," "]
[null,null,"A.1.3 Health insurance and payment information"]
[null,"A.1.3.1 Health insurance information","A.1.3.1","Health insurance information","Health insurance information is not always required, however, in some jurisdictions, the insurance number is also used as the patient identifier. It is necessary not just for identification but also forms access to funding for care. ",null,null,null,{"$f":"CONCATENATE(E24,\" - Preferred system(s): \",F24)","v":"Health insurance information is not always required, however, in some jurisdictions, the insurance number is also used as the patient identifier. It is necessary not just for identification but also forms access to funding for care.  - Preferred system(s): "}]
[null,"A.1.3.1.1 Health insurance code","A.1.3.1.1","Health insurance code","Unique health insurance company identification code.",null,null,null,"Unique health insurance company identification code. - Preferred system(s): "]
[null,"A.1.3.1.2 Health insurance name","A.1.3.1.2","Health insurance name","Full, official name of the healthcare insurance provider.",null,null,null,"Full, official name of the healthcare insurance provider. - Preferred system(s): "]
[null,"A.1.3.1.3 Health insurance number","A.1.3.1.3","Health insurance number","Number or code under which the insured person is registered at the insurance provider.",null,null,null,"Number or code under which the insured person is registered at the insurance provider. - Preferred system(s): "]

{"sheet":"Payer-Map-1","index":52,"n_rows":19,"n_cols":5,"rows_kept":19,"cut":false,"hidden":false,"merged":[]}
[null,null,null,null,"// -------------------------------------------------------------------------------"]
[null,null,null,null,"//  Map to FHIR R4"]
[null,null,null,null,{"$f":"E1","v":"// -------------------------------------------------------------------------------"}]
[null,"Mapping","eHNLabPayer2Fhir",null,{"$f":"CONCATENATE(\"Mapping: \",C4)","v":"Mapping: eHNLabPayer2Fhir"}]
[null,"Id","fhir",null,{"$f":"CONCATENATE(\"Id: \",C5)","v":"Id: fhir"}]
[null,"Title","eHN Lab Payer model to FHIR R4 Map",null,{"$f":"CONCATENATE(\"Title: ##34#\",C6,\"##34#\")","v":"Title: ##34#eHN Lab Payer model to FHIR R4 Map##34#"}]
[null,"Source",{"$f":"B9","v":"Payer"},null,{"$f":"CONCATENATE(\"Source: \",C7)","v":"Source: Payer"}]
[null,"Target","hl7.org/fhir/r4",null,{"$f":"CONCATENATE(\"Target: ##34#\",C8,\"##34#\")","v":"Target: ##34#hl7.org/fhir/r4##34#"}]
[null,{"$f":"'A1.3 Payer'!B5","v":"Payer"},"ServiceRequest.conformsTo('http://hl7.eu/fhir/ig/xeh/StructureDefinition/ServiceRequest-ps-xeh').insurance.resolve().ofType(Coverage)",null,{"$f":"CONCATENATE(\"* -> ##34#\",C9,\"##34#\")","v":"* -> ##34#ServiceRequest.conformsTo('http://hl7.eu/fhir/ig/xeh/StructureDefinition/ServiceRequest-ps-xeh').insurance.resolve().ofType(Coverage)##34#"}]
[null,{"$f":"'A1.3 Payer'!B8","v":"insurance"},"Coverage",null,{"$f":"IF(B10=0,\"*  -> ##34###34#\",CONCATENATE(\"* \",B10,\" -> ##34#\",C10,\"##34#\"))","v":"* insurance -> ##34#Coverage##34#"}]
[null,{"$f":"'A1.3 Payer'!B9","v":"insurance.identifier"},"Coverage.payor.ofType(Organization).resolve().identifier",null,"* insurance.identifier -> ##34#Coverage.payor.ofType(Organization).resolve().identifier##34#"]
[null,{"$f":"'A1.3 Payer'!B10","v":"insurance.name"},"Coverage.payor.ofType(Organization).resolve().name",null,"* insurance.name -> ##34#Coverage.payor.ofType(Organization).resolve().name##34#"]
[null,{"$f":"'A1.3 Payer'!B11","v":"insurance.subjectIdentifier"},"Coverage.policyHolder.resolve().identifier",null,"* insurance.subjectIdentifier -> ##34#Coverage.policyHolder.resolve().identifier##34#"]
[null,{"$f":"'A1.3 Payer'!$B$11","v":"insurance.subjectIdentifier"},"Coverage.beneficiary.resolve().identifier",null,"* insurance.subjectIdentifier -> ##34#Coverage.beneficiary.resolve().identifier##34#"]
[null,{"$f":"'A1.3 Payer'!$B$11","v":"insurance.subjectIdentifier"},"Coverage.subscriberId",null,"* insurance.subjectIdentifier -> ##34#Coverage.subscriberId##34#"]
[null,{"$f":"'A1.3 Payer'!$B$11","v":"insurance.subjectIdentifier"},"Coverage.subscriber.resolve().identifier",null,"* insurance.subjectIdentifier -> ##34#Coverage.subscriber.resolve().identifier##34#"]
[null,null,null,null,"*  -> ##34###34#"]
[null,null,null,null,"*  -> ##34###34#"]
[null,null,null,null,"*  -> ##34###34#"]

{"sheet":"Payer-fsh","index":53,"n_rows":32,"n_cols":7,"rows_kept":32,"cut":false,"hidden":false,"merged":[]}
[null,null,{"$f":"'A1.3 Payer'!I1","v":"// -------------------------------------------------------------------------------"}]
[null,null,{"$f":"'A1.3 Payer'!I2","v":"//  Logical Model"},null,null,null,"ps-payer.fsh"]
[null,null,{"$f":"'A1.3 Payer'!I3","v":"// -------------------------------------------------------------------------------"}]
[null,null,{"$f":"'A1.3 Payer'!I4","v":"Logical: PayerPsEhn"}]
[null,null,{"$f":"'A1.3 Payer'!I5","v":"Id: Payer"}]
[null,null,{"$f":"'A1.3 Payer'!I6","v":"Title: ##34#A.1.3 - Health insurance and payment information##34#"}]
[null,null,{"$f":"'A1.3 Payer'!I7","v":"Description:  ##334#Health insurance and payment information.  Section A1.3 of the eHN guideline.##334#"}]
[null,null,{"$f":"IF('A1.3 Payer'!I8=\"*  ..  ##34###34# ##334###334#\",\"//--- END\",'A1.3 Payer'!I8)","v":"* insurance 0..1 BackboneElement ##34#A.1.3.1 Health insurance information##34# ##334#Health insurance information is not always required, however, in some jurisdictions, the insurance number is also used as the patient identifier. It is necessary not just for identification but also forms access to funding for care.##334#"}]
[null,null,{"$f":"IF('A1.3 Payer'!I9=\"*  ..  ##34###34# ##334###334#\",\"//--- END\",'A1.3 Payer'!I9)","v":"* insurance.identifier 0..* Identifier ##34#A.1.3.1.1 Health insurance code##34# ##334#Unique health insurance company identification code. ##334#"}]
[null,null,{"$f":"IF('A1.3 Payer'!I10=\"*  ..  ##34###34# ##334###334#\",\"//--- END\",'A1.3 Payer'!I10)","v":"* insurance.name 0..* string ##34#A.1.3.1.2 Health insurance name##34# ##334#Full, official name of the healthcare insurance provider. ##334#"},null," "]
[null,null,{"$f":"IF('A1.3 Payer'!I11=\"*  ..  ##34###34# ##334###334#\",\"//--- END\",'A1.3 Payer'!I11)","v":"* insurance.subjectIdentifier 0..* Identifier ##34#A.1.3.1.3 Health insurance number##34# ##334#Number or code under which the insured person is registered at the insurance provider. ##334#"}]
[null,null,{"$f":"IF('A1.3 Payer'!I12=\"*  ..  ##34###34# ##334###334#\",\"//--- END\",'A1.3 Payer'!I12)","v":"//--- END"}]
[null,null,{"$f":"IF('A1.3 Payer'!I13=\"*  ..  ##34###34# ##334###334#\",\"//--- END\",'A1.3 Payer'!I13)","v":"//--- END"}]
[null,null,{"$f":"IF('A1.3 Payer'!I14=\"*  ..  ##34###34# ##334###334#\",\"//--- END\",'A1.3 Payer'!I14)","v":"//--- END"}]
[]
[]
[]
[]
[]
[]
[]
[]
[]
[]
[]
[]
[]
[]
[]
[null,null,{"$f":"'Payer-Map-1'!E1","v":"// -------------------------------------------------------------------------------"}]
[null,null,{"$f":"'Payer-Map-1'!E2","v":"//  Map to FHIR R4"}]
[null,null,{"$f":"'Payer-Map-1'!E3","v":"// -------------------------------------------------------------------------------"}]

{"sheet":"Payer-ConceptMap-1","index":54,"n_rows":187,"n_cols":19,"rows_kept":187,"cut":false,"hidden":false,"merged":[[2,4,2,6],[3,4,3,6],[5,4,5,6],[6,4,6,6]]}
[]
[]
[null,"Mapping","Payer2Fhir","Source URI","http://hl7.eu/fhir/ig/xpandh/ps/StructureDefinition/Payer"]
[null,"Id","payer2FHIR-eu-ps","Target URI","http://hl7.eu/fhir/ig/xpandh/ps/StructureDefinition/Bundle-eu-ps"]
[null,"Title","eHN Payer to this guide Map"]
[null,"Source","http://hl7.eu/fhir/ig/xpandh/ps/StructureDefinition/PatientSummary","Source Group","http://hl7.eu/fhir/ig/xpandh/ps/StructureDefinition/Payer"]
[null,"Target","http://hl7.eu/fhir/ig/xpandh/ps","Target Group","http://hl7.eu/fhir/ig/xpandh/ps/StructureDefinition/ServiceRequest-eu-ps"]
[null,"description","eHN Payer Model to this guide Map",null,null,null,null,null,"* group[=].element[+].code = #Osiris.Patient.BirthDate","* group[=].element[=].display = \"Birth Date [C4]\"","* group[=].element[=].target.code = #Subject.dateOfBirth.date","* group[=].element[=].target.display = \"Date of birth\"","* group[=].element[=].target.equivalence = #equivalent",null,null,"Elements",6]
[null,"purpose","It shows how the Patient Summary Payer data set defined by the EU eHN guidelines is mapped into this guide"]
[]
[null,null,null,null,null,null,null,null,"source:code","source:display","code","display","target to source","Comment"]
[]
[null,null,null,null,null,"target to source","Comment"]
[null,{"$f":"'A1.3 Payer'!B5","v":"Payer"},null,"ServiceRequest",null,null,"ofType Coverage"]
[null,{"$f":"'A1.3 Payer'!B8","v":"insurance"},{"$f":"'A1.3 Payer'!C8","v":"A.1.3.1 Health insurance information"},"insurance",null,"relatedto","insurance.ofType(Coverage)",null,{"$f":"\"* group[=].element[+].code = #\"&$B$14&\".\"&B15","v":"* group[=].element[+].code = #Payer.insurance"},{"$f":"\"* group[=].element[=].display = ##34#\"&C15&\"##34#\"","v":"* group[=].element[=].display = ##34#A.1.3.1 Health insurance information##34#"},{"$f":"IF(F15=\"unmatched\",\"//-- unmatched\",IF(D15=\"\",\"* group[=].element[=].target.code = #\"&$D$14,\"* group[=].element[=].target.code = #\"&$D$14&\".\"&D15))","v":"* group[=].element[=].target.code = #ServiceRequest.insurance"},{"$f":"IF(F15=\"unmatched\",\"//-- unmatched\",\"* group[=].element[=].target.display = ##34#\"&E15&\"##34#\")","v":"* group[=].element[=].target.display = ##34###34#"},{"$f":"\"* group[=].element[=].target.equivalence = #\"&F15","v":"* group[=].element[=].target.equivalence = #relatedto"},{"$f":"IF(G15<>\"\",CONCATENATE(\"* group[=].element[=].target.comment = \",\"##34#\",G15,\"##34#\"),\"\")","v":"* group[=].element[=].target.comment = ##34#insurance.ofType(Coverage)##34#"},null,1,{"$f":"IF(MOD(P15,$Q$8)=0,P15/$Q$8-1,INT(P15/$Q$8))","v":0},{"$f":"IF(MOD(P15,$Q$8)=0,$Q$8,MOD(P15,$Q$8))","v":1},{"$f":"INDEX('Payer-ConceptMap-1'!$I$15:$N$267,Q15+1,R15)","v":"* group[=].element[+].code = #Payer.insurance"}]
[null,{"$f":"'A1.3 Payer'!B9","v":"insurance.identifier"},{"$f":"'A1.3 Payer'!C9","v":"A.1.3.1.1 Health insurance code"},"insurance",null,"relatedto","details in Group 2",null,{"$f":"\"* group[=].element[+].code = #\"&$B$14&\".\"&B16","v":"* group[=].element[+].code = #Payer.insurance.identifier"},{"$f":"\"* group[=].element[=].display = ##34#\"&C16&\"##34#\"","v":"* group[=].element[=].display = ##34#A.1.3.1.1 Health insurance code##34#"},{"$f":"IF(F16=\"unmatched\",\"//-- unmatched\",IF(D16=\"\",\"* group[=].element[=].target.code = #\"&$D$14,\"* group[=].element[=].target.code = #\"&$D$14&\".\"&D16))","v":"* group[=].element[=].target.code = #ServiceRequest.insurance"},{"$f":"IF(F16=\"unmatched\",\"//-- unmatched\",\"* group[=].element[=].target.display = ##34#\"&E16&\"##34#\")","v":"* group[=].element[=].target.display = ##34###34#"},{"$f":"\"* group[=].element[=].target.equivalence = #\"&F16","v":"* group[=].element[=].target.equivalence = #relatedto"},"* group[=].element[=].target.comment = ##34#details in Group 2##34#",null,2,{"$f":"IF(MOD(P16,$Q$8)=0,P16/$Q$8-1,INT(P16/$Q$8))","v":0},{"$f":"IF(MOD(P16,$Q$8)=0,$Q$8,MOD(P16,$Q$8))","v":2},{"$f":"INDEX('Payer-ConceptMap-1'!$I$15:$N$267,Q16+1,R16)","v":"* group[=].element[=].display = ##34#A.1.3.1 Health insurance information##34#"}]
[null,{"$f":"'A1.3 Payer'!B10","v":"insurance.name"},{"$f":"'A1.3 Payer'!C10","v":"A.1.3.1.2 Health insurance name"},"insurance",null,"relatedto","details in Group 2",null,{"$f":"\"* group[=].element[+].code = #\"&$B$14&\".\"&B17","v":"* group[=].element[+].code = #Payer.insurance.name"},{"$f":"\"* group[=].element[=].display = ##34#\"&C17&\"##34#\"","v":"* group[=].element[=].display = ##34#A.1.3.1.2 Health insurance name##34#"},{"$f":"IF(F17=\"unmatched\",\"//-- unmatched\",IF(D17=\"\",\"* group[=].element[=].target.code = #\"&$D$14,\"* group[=].element[=].target.code = #\"&$D$14&\".\"&D17))","v":"* group[=].element[=].target.code = #ServiceRequest.insurance"},{"$f":"IF(F17=\"unmatched\",\"//-- unmatched\",\"* group[=].element[=].target.display = ##34#\"&E17&\"##34#\")","v":"* group[=].element[=].target.display = ##34###34#"},{"$f":"\"* group[=].element[=].target.equivalence = #\"&F17","v":"* group[=].element[=].target.equivalence = #relatedto"},{"$f":"IF(G17<>\"\",CONCATENATE(\"* group[=].element[=].target.comment = \",\"##34#\",G17,\"##34#\"),\"\")","v":"* group[=].element[=].target.comment = ##34#details in Group 2##34#"},null,3,0,3,{"$f":"INDEX('Payer-ConceptMap-1'!$I$15:$N$267,Q17+1,R17)","v":"* group[=].element[=].target.code = #ServiceRequest.insurance"}]
[null,{"$f":"'A1.3 Payer'!$B$11","v":"insurance.subjectIdentifier"},{"$f":"'A1.3 Payer'!$C$11","v":"A.1.3.1.3 Health insurance number"},"insurance",null,"relatedto","details in Group 2",null,"* group[=].element[+].code = #Payer.insurance.subjectIdentifier","* group[=].element[=].display = ##34#A.1.3.1.3 Health insurance number##34#","* group[=].element[=].target.code = #ServiceRequest.insurance","* group[=].element[=].target.display = ##34###34#","* group[=].element[=].target.equivalence = #relatedto","* group[=].element[=].target.comment = ##34#details in Group 2##34#",null,4,0,4,{"$f":"INDEX('Payer-ConceptMap-1'!$I$15:$N$267,Q18+1,R18)","v":"* group[=].element[=].target.display = ##34###34#"}]
[null,null,null,null,null,null,null,null,null,null,null,null,null,null,null,5,0,5,{"$f":"INDEX('Payer-ConceptMap-1'!$I$15:$N$267,Q19+1,R19)","v":"* group[=].element[=].target.equivalence = #relatedto"}]
[null,null,null,null,null,null,null,null,null,null,null,null,null,null,null,6,0,6,{"$f":"INDEX('Payer-ConceptMap-1'!$I$15:$N$267,Q20+1,R20)","v":"* group[=].element[=].target.comment = ##34#insurance.ofType(Coverage)##34#"}]
[null,null,null,null,null,null,null,null,null,null,null,null,null,null,null,7,1,1,{"$f":"INDEX('Payer-ConceptMap-1'!$I$15:$N$267,Q21+1,R21)","v":"* group[=].element[+].code = #Payer.insurance.identifier"}]
[null,null,null,null,null,null,null,null,null,null,null,null,null,null,null,8,1,2,{"$f":"INDEX('Payer-ConceptMap-1'!$I$15:$N$267,Q22+1,R22)","v":"* group[=].element[=].display = ##34#A.1.3.1.1 Health insurance code##34#"}]
[null,null,null,null,null,null,null,null,null,null,null,null,null,null,null,9,1,3,{"$f":"INDEX('Payer-ConceptMap-1'!$I$15:$N$267,Q23+1,R23)","v":"* group[=].element[=].target.code = #ServiceRequest.insurance"}]
[null,null,null,null,null,null,null,null,null,null,null,null,null,null,null,10,1,4,{"$f":"INDEX('Payer-ConceptMap-1'!$I$15:$N$267,Q24+1,R24)","v":"* group[=].element[=].target.display = ##34###34#"}]
[null,null,null,null,null,null,null,null,null,null,null,null,null,null,null,11,1,5,{"$f":"INDEX('Payer-ConceptMap-1'!$I$15:$N$267,Q25+1,R25)","v":"* group[=].element[=].target.equivalence = #relatedto"}]
[null,null,null,null,null,null,null,null,null,null,null,null,null,null,null,12,1,6,{"$f":"INDEX('Payer-ConceptMap-1'!$I$15:$N$267,Q26+1,R26)","v":"* group[=].element[=].target.comment = ##34#details in Group 2##34#"}]
[null,null,null,null,null,null,null,null,null,null,null,null,null,null,null,13,2,1,{"$f":"INDEX('Payer-ConceptMap-1'!$I$15:$N$267,Q27+1,R27)","v":"* group[=].element[+].code = #Payer.insurance.name"}]
[null,null,null,null,null,null,null,null,null,null,null,null,null,null,null,14,2,2,{"$f":"INDEX('Payer-ConceptMap-1'!$I$15:$N$267,Q28+1,R28)","v":"* group[=].element[=].display = ##34#A.1.3.1.2 Health insurance name##34#"}]
[null,null,null,null,null,null,null,null,null,null,null,null,null,null,null,15,2,3,{"$f":"INDEX('Payer-ConceptMap-1'!$I$15:$N$267,Q29+1,R29)","v":"* group[=].element[=].target.code = #ServiceRequest.insurance"}]
[null,null,null,null,null,null,null,null,null,null,null,null,null,null,null,16,2,4,{"$f":"INDEX('Payer-ConceptMap-1'!$I$15:$N$267,Q30+1,R30)","v":"* group[=].element[=].target.display = ##34###34#"}]
[null,null,null,null,null,null,null,null,null,null,null,null,null,null,null,17,2,5,{"$f":"INDEX('Payer-ConceptMap-1'!$I$15:$N$267,Q31+1,R31)","v":"* group[=].element[=].target.equivalence = #relatedto"}]
[null,null,null,null,null,null,null,null,null,null,null,null,null,null,null,18,2,6,{"$f":"INDEX('Payer-ConceptMap-1'!$I$15:$N$267,Q32+1,R32)","v":"* group[=].element[=].target.comment = ##34#details in Group 2##34#"}]
[null,null,null,null,null,null,null,null,null,null,null,null,null,null,null,19,3,1,{"$f":"INDEX('Payer-ConceptMap-1'!$I$15:$N$267,Q33+1,R33)","v":"* group[=].element[+].code = #Payer.insurance.subjectIdentifier"}]
[null,null,null,null,null,null,null,null,null,null,null,null,null,null,null,20,3,2,{"$f":"INDEX('Payer-ConceptMap-1'!$I$15:$N$267,Q34+1,R34)","v":"* group[=].element[=].display = ##34#A.1.3.1.3 Health insurance number##34#"}]
[null,null,null,null,null,null,null,null,null,null,null,null,null,null,null,21,3,3,{"$f":"INDEX('Payer-ConceptMap-1'!$I$15:$N$267,Q35+1,R35)","v":"* group[=].element[=].target.code = #ServiceRequest.insurance"}]
[null,null,null,null,null,null,null,null,null,null,null,null,null,null,null,22,3,4,{"$f":"INDEX('Payer-ConceptMap-1'!$I$15:$N$267,Q36+1,R36)","v":"* group[=].element[=].target.display = ##34###34#"}]
[null,null,null,null,null,null,null,null,null,null,null,null,null,null,null,23,3,5,{"$f":"INDEX('Payer-ConceptMap-1'!$I$15:$N$267,Q37+1,R37)","v":"* group[=].element[=].target.equivalence = #relatedto"}]
[null,null,null,null,null,null,null,null,null,null,null,null,null,null,null,24,3,6,{"$f":"INDEX('Payer-ConceptMap-1'!$I$15:$N$267,Q38+1,R38)","v":"* group[=].element[=].target.comment = ##34#details in Group 2##34#"}]
[null,null,null,null,null,null,null,null,null,null,null,null,null,null,null,25,4,1,{"$f":"INDEX('Payer-ConceptMap-1'!$I$15:$N$267,Q39+1,R39)","v":0}]
[null,null,null,null,null,null,null,null,null,null,null,null,null,null,null,26,4,2,{"$f":"INDEX('Payer-ConceptMap-1'!$I$15:$N$267,Q40+1,R40)","v":0}]
[null,null,null,null,null,null,null,null,null,null,null,null,null,null,null,27,4,3,{"$f":"INDEX('Payer-ConceptMap-1'!$I$15:$N$267,Q41+1,R41)","v":0}]
[null,null,null,null,null,null,null,null,null,null,null,null,null,null,null,28,4,4,{"$f":"INDEX('Payer-ConceptMap-1'!$I$15:$N$267,Q42+1,R42)","v":0}]
[null,null,null,null,null,null,null,null,null,null,null,null,null,null,null,29,4,5,{"$f":"INDEX('Payer-ConceptMap-1'!$I$15:$N$267,Q43+1,R43)","v":0}]
[null,null,null,null,null,null,null,null,null,null,null,null,null,null,null,30,4,6,{"$f":"INDEX('Payer-ConceptMap-1'!$I$15:$N$267,Q44+1,R44)","v":0}]
[null,null,null,null,null,null,null,null,null,null,null,null,null,null,null,31,5,1,{"$f":"INDEX('Payer-ConceptMap-1'!$I$15:$N$267,Q45+1,R45)","v":0}]
[null,null,null,null,null,null,null,null,null,null,null,null,null,null,null,32,5,2,{"$f":"INDEX('Payer-ConceptMap-1'!$I$15:$N$267,Q46+1,R46)","v":0}]
[null,null,null,null,null,null,null,null,null,null,null,null,null,null,null,33,5,3,{"$f":"INDEX('Payer-ConceptMap-1'!$I$15:$N$267,Q47+1,R47)","v":0}]
[null,null,null,null,null,null,null,null,null,null,null,null,null,null,null,34,5,4,{"$f":"INDEX('Payer-ConceptMap-1'!$I$15:$N$267,Q48+1,R48)","v":0}]
[null,null,null,null,null,null,null,null,null,null,null,null,null,null,null,35,5,5,{"$f":"INDEX('Payer-ConceptMap-1'!$I$15:$N$267,Q49+1,R49)","v":0}]
[null,null,null,null,null,null,null,null,null,null,null,null,null,null,null,36,5,6,{"$f":"INDEX('Payer-ConceptMap-1'!$I$15:$N$267,Q50+1,R50)","v":0}]
[null,null,null,null,null,null,null,null,null,null,null,null,null,null,null,37,6,1,{"$f":"INDEX('Payer-ConceptMap-1'!$I$15:$N$267,Q51+1,R51)","v":0}]
[null,null,null,null,null,null,null,null,null,null,null,null,null,null,null,38,6,2,{"$f":"INDEX('Payer-ConceptMap-1'!$I$15:$N$267,Q52+1,R52)","v":0}]
[null,null,null,null,null,null,null,null,null,null,null,null,null,null,null,39,6,3,{"$f":"INDEX('Payer-ConceptMap-1'!$I$15:$N$267,Q53+1,R53)","v":0}]
[null,null,null,null,null,null,null,null,null,null,null,null,null,null,null,40,6,4,{"$f":"INDEX('Payer-ConceptMap-1'!$I$15:$N$267,Q54+1,R54)","v":0}]
[null,null,null,null,null,null,null,null,null,null,null,null,null,null,null,41,6,5,{"$f":"INDEX('Payer-ConceptMap-1'!$I$15:$N$267,Q55+1,R55)","v":0}]
[null,null,null,null,null,null,null,null,null,null,null,null,null,null,null,42,6,6,{"$f":"INDEX('Payer-ConceptMap-1'!$I$15:$N$267,Q56+1,R56)","v":0}]
[null,null,null,null,null,null,null,null,null,null,null,null,null,null,null,43,7,1,{"$f":"INDEX('Payer-ConceptMap-1'!$I$15:$N$267,Q57+1,R57)","v":0}]
[null,null,null,null,null,null,null,null,null,null,null,null,null,null,null,44,7,2,{"$f":"INDEX('Payer-ConceptMap-1'!$I$15:$N$267,Q58+1,R58)","v":0}]
[null,null,null,null,null,null,null,null,null,null,null,null,null,null,null,45,7,3,{"$f":"INDEX('Payer-ConceptMap-1'!$I$15:$N$267,Q59+1,R59)","v":0}]
[null,null,null,null,null,null,null,null,null,null,null,null,null,null,null,46,7,4,{"$f":"INDEX('Payer-ConceptMap-1'!$I$15:$N$267,Q60+1,R60)","v":0}]
[null,null,null,null,null,null,null,null,null,null,null,null,null,null,null,47,7,5,{"$f":"INDEX('Payer-ConceptMap-1'!$I$15:$N$267,Q61+1,R61)","v":0}]
[null,null,null,null,null,null,null,null,null,null,null,null,null,null,null,48,7,6,{"$f":"INDEX('Payer-ConceptMap-1'!$I$15:$N$267,Q62+1,R62)","v":0}]
[null,null,null,null,null,null,null,null,null,null,null,null,null,null,null,49,8,1,{"$f":"INDEX('Payer-ConceptMap-1'!$I$15:$N$267,Q63+1,R63)","v":0}]
[null,null,null,null,null,null,null,null,null,null,null,null,null,null,null,50,8,2,{"$f":"INDEX('Payer-ConceptMap-1'!$I$15:$N$267,Q64+1,R64)","v":0}]
[null,null,null,null,null,null,null,null,null,null,null,null,null,null,null,51,8,3,{"$f":"INDEX('Payer-ConceptMap-1'!$I$15:$N$267,Q65+1,R65)","v":0}]
[null,null,null,null,null,null,null,null,null,null,null,null,null,null,null,52,8,4,{"$f":"INDEX('Payer-ConceptMap-1'!$I$15:$N$267,Q66+1,R66)","v":0}]
[null,null,null,null,null,null,null,null,null,null,null,null,null,null,null,53,8,5,{"$f":"INDEX('Payer-ConceptMap-1'!$I$15:$N$267,Q67+1,R67)","v":0}]
[null,null,null,null,null,null,null,null,null,null,null,null,null,null,null,54,8,6,{"$f":"INDEX('Payer-ConceptMap-1'!$I$15:$N$267,Q68+1,R68)","v":0}]
[null,null,null,null,null,null,null,null,null,null,null,null,null,null,null,55,9,1,{"$f":"INDEX('Payer-ConceptMap-1'!$I$15:$N$267,Q69+1,R69)","v":0}]
[null,null,null,null,null,null,null,null,null,null,null,null,null,null,null,56,9,2,{"$f":"INDEX('Payer-ConceptMap-1'!$I$15:$N$267,Q70+1,R70)","v":0}]
[null,null,null,null,null,null,null,null,null,null,null,null,null,null,null,57,9,3,{"$f":"INDEX('Payer-ConceptMap-1'!$I$15:$N$267,Q71+1,R71)","v":0}]
[null,null,null,null,null,null,null,null,null,null,null,null,null,null,null,58,9,4,{"$f":"INDEX('Payer-ConceptMap-1'!$I$15:$N$267,Q72+1,R72)","v":0}]
[null,null,null,null,null,null,null,null,null,null,null,null,null,null,null,59,9,5,{"$f":"INDEX('Payer-ConceptMap-1'!$I$15:$N$267,Q73+1,R73)","v":0}]
[null,null,null,null,null,null,null,null,null,null,null,null,null,null,null,60,9,6,{"$f":"INDEX('Payer-ConceptMap-1'!$I$15:$N$267,Q74+1,R74)","v":0}]
[null,null,null,null,null,null,null,null,null,null,null,null,null,null,null,61,10,1,{"$f":"INDEX('Payer-ConceptMap-1'!$I$15:$N$267,Q75+1,R75)","v":0}]
[null,null,null,null,null,null,null,null,null,null,null,null,null,null,null,62,10,2,{"$f":"INDEX('Payer-ConceptMap-1'!$I$15:$N$267,Q76+1,R76)","v":0}]
[null,null,null,null,null,null,null,null,null,null,null,null,null,null,null,63,10,3,{"$f":"INDEX('Payer-ConceptMap-1'!$I$15:$N$267,Q77+1,R77)","v":0}]
[]
[]
[]
[]
[]
[]
[]
[]
[]
[]
[]
[]
[]
[]
[]
[]
[]
[]
[]
[]
[]
[]
[]
[]
[]
[]
[]
[]
[]
[]
[]
[]
[]
[]
[]
[]
[]
[]
[]
[]
[null,null,null,null,null,null,null,null,null,null,null,null,null,null,null,107,{"$f":"IF(MOD(P118,$Q$8)=0,P118/$Q$8-1,INT(P118/$Q$8))","v":17},{"$f":"IF(MOD(P118,$Q$8)=0,$Q$8,MOD(P118,$Q$8))","v":5},{"$f":"INDEX('Payer-ConceptMap-1'!$I$15:$N$267,Q118+1,R118)","v":0}]
[null,null,null,null,null,null,null,null,null,null,null,null,null,null,null,108,17,6,{"$f":"INDEX('Payer-ConceptMap-1'!$I$15:$N$267,Q119+1,R119)","v":0}]
[null,null,null,null,null,null,null,null,null,null,null,null,null,null,null,109,18,1,{"$f":"INDEX('Payer-ConceptMap-1'!$I$15:$N$267,Q120+1,R120)","v":0}]
[null,null,null,null,null,null,null,null,null,null,null,null,null,null,null,110,18,2,{"$f":"INDEX('Payer-ConceptMap-1'!$I$15:$N$267,Q121+1,R121)","v":0}]
[null,null,null,null,null,null,null,null,null,null,null,null,null,null,null,111,18,3,{"$f":"INDEX('Payer-ConceptMap-1'!$I$15:$N$267,Q122+1,R122)","v":0}]
[null,null,null,null,null,null,null,null,null,null,null,null,null,null,null,112,18,4,{"$f":"INDEX('Payer-ConceptMap-1'!$I$15:$N$267,Q123+1,R123)","v":0}]
[null,null,null,null,null,null,null,null,null,null,null,null,null,null,null,113,18,5,{"$f":"INDEX('Payer-ConceptMap-1'!$I$15:$N$267,Q124+1,R124)","v":0}]
[null,null,null,null,null,null,null,null,null,null,null,null,null,null,null,114,18,6,{"$f":"INDEX('Payer-ConceptMap-1'!$I$15:$N$267,Q125+1,R125)","v":0}]
[null,null,null,null,null,null,null,null,null,null,null,null,null,null,null,115,19,1,{"$f":"INDEX('Payer-ConceptMap-1'!$I$15:$N$267,Q126+1,R126)","v":0}]
[null,null,null,null,null,null,null,null,null,null,null,null,null,null,null,116,19,2,{"$f":"INDEX('Payer-ConceptMap-1'!$I$15:$N$267,Q127+1,R127)","v":0}]
[null,null,null,null,null,null,null,null,null,null,null,null,null,null,null,117,19,3,{"$f":"INDEX('Payer-ConceptMap-1'!$I$15:$N$267,Q128+1,R128)","v":0}]
[null,null,null,null,null,null,null,null,null,null,null,null,null,null,null,118,19,4,{"$f":"INDEX('Payer-ConceptMap-1'!$I$15:$N$267,Q129+1,R129)","v":0}]
[null,null,null,null,null,null,null,null,null,null,null,null,null,null,null,119,19,5,{"$f":"INDEX('Payer-ConceptMap-1'!$I$15:$N$267,Q130+1,R130)","v":0}]
[null,null,null,null,null,null,null,null,null,null,null,null,null,null,null,120,19,6,{"$f":"INDEX('Payer-ConceptMap-1'!$I$15:$N$267,Q131+1,R131)","v":0}]
[null,null,null,null,null,null,null,null,null,null,null,null,null,null,null,121,20,1,{"$f":"INDEX('Payer-ConceptMap-1'!$I$15:$N$267,Q132+1,R132)","v":0}]
[null,null,null,null,null,null,null,null,null,null,null,null,null,null,null,122,20,2,{"$f":"INDEX('Payer-ConceptMap-1'!$I$15:$N$267,Q133+1,R133)","v":0}]
[null,null,null,null,null,null,null,null,null,null,null,null,null,null,null,123,20,3,{"$f":"INDEX('Payer-ConceptMap-1'!$I$15:$N$267,Q134+1,R134)","v":0}]
[null,null,null,null,null,null,null,null,null,null,null,null,null,null,null,124,20,4,{"$f":"INDEX('Payer-ConceptMap-1'!$I$15:$N$267,Q135+1,R135)","v":0}]
[null,null,null,null,null,null,null,null,null,null,null,null,null,null,null,125,20,5,{"$f":"INDEX('Payer-ConceptMap-1'!$I$15:$N$267,Q136+1,R136)","v":0}]
[null,null,null,null,null,null,null,null,null,null,null,null,null,null,null,126,20,6,{"$f":"INDEX('Payer-ConceptMap-1'!$I$15:$N$267,Q137+1,R137)","v":0}]
[null,null,null,null,null,null,null,null,null,null,null,null,null,null,null,127,21,1,{"$f":"INDEX('Payer-ConceptMap-1'!$I$15:$N$267,Q138+1,R138)","v":0}]
[null,null,null,null,null,null,null,null,null,null,null,null,null,null,null,128,21,2,{"$f":"INDEX('Payer-ConceptMap-1'!$I$15:$N$267,Q139+1,R139)","v":0}]
[null,null,null,null,null,null,null,null,null,null,null,null,null,null,null,129,21,3,{"$f":"INDEX('Payer-ConceptMap-1'!$I$15:$N$267,Q140+1,R140)","v":0}]
[null,null,null,null,null,null,null,null,null,null,null,null,null,null,null,130,21,4,{"$f":"INDEX('Payer-ConceptMap-1'!$I$15:$N$267,Q141+1,R141)","v":0}]
[null,null,null,null,null,null,null,null,null,null,null,null,null,null,null,131,21,5,{"$f":"INDEX('Payer-ConceptMap-1'!$I$15:$N$267,Q142+1,R142)","v":0}]
[null,null,null,null,null,null,null,null,null,null,null,null,null,null,null,132,21,6,{"$f":"INDEX('Payer-ConceptMap-1'!$I$15:$N$267,Q143+1,R143)","v":0}]
[null,null,null,null,null,null,null,null,null,null,null,null,null,null,null,133,22,1,{"$f":"INDEX('Payer-ConceptMap-1'!$I$15:$N$267,Q144+1,R144)","v":0}]
[null,null,null,null,null,null,null,null,null,null,null,null,null,null,null,134,22,2,{"$f":"INDEX('Payer-ConceptMap-1'!$I$15:$N$267,Q145+1,R145)","v":0}]
[null,null,null,null,null,null,null,null,null,null,null,null,null,null,null,135,22,3,{"$f":"INDEX('Payer-ConceptMap-1'!$I$15:$N$267,Q146+1,R146)","v":0}]
[null,null,null,null,null,null,null,null,null,null,null,null,null,null,null,136,22,4,{"$f":"INDEX('Payer-ConceptMap-1'!$I$15:$N$267,Q147+1,R147)","v":0}]
[null,null,null,null,null,null,null,null,null,null,null,null,null,null,null,137,22,5,{"$f":"INDEX('Payer-ConceptMap-1'!$I$15:$N$267,Q148+1,R148)","v":0}]
[null,null,null,null,null,null,null,null,null,null,null,null,null,null,null,138,22,6,{"$f":"INDEX('Payer-ConceptMap-1'!$I$15:$N$267,Q149+1,R149)","v":0}]
[null,null,null,null,null,null,null,null,null,null,null,null,null,null,null,139,23,1,{"$f":"INDEX('Payer-ConceptMap-1'!$I$15:$N$267,Q150+1,R150)","v":0}]
[null,null,null,null,null,null,null,null,null,null,null,null,null,null,null,140,23,2,{"$f":"INDEX('Payer-ConceptMap-1'!$I$15:$N$267,Q151+1,R151)","v":0}]
[null,null,null,null,null,null,null,null,null,null,null,null,null,null,null,141,23,3,{"$f":"INDEX('Payer-ConceptMap-1'!$I$15:$N$267,Q152+1,R152)","v":0}]
[null,null,null,null,null,null,null,null,null,null,null,null,null,null,null,142,23,4,{"$f":"INDEX('Payer-ConceptMap-1'!$I$15:$N$267,Q153+1,R153)","v":0}]
[null,null,null,null,null,null,null,null,null,null,null,null,null,null,null,143,23,5,{"$f":"INDEX('Payer-ConceptMap-1'!$I$15:$N$267,Q154+1,R154)","v":0}]
[null,null,null,null,null,null,null,null,null,null,null,null,null,null,null,144,23,6,{"$f":"INDEX('Payer-ConceptMap-1'!$I$15:$N$267,Q155+1,R155)","v":0}]
[null,null,null,null,null,null,null,null,null,null,null,null,null,null,null,145,24,1,{"$f":"INDEX('Payer-ConceptMap-1'!$I$15:$N$267,Q156+1,R156)","v":0}]
[null,null,null,null,null,null,null,null,null,null,null,null,null,null,null,146,24,2,{"$f":"INDEX('Payer-ConceptMap-1'!$I$15:$N$267,Q157+1,R157)","v":0}]
[null,null,null,null,null,null,null,null,null,null,null,null,null,null,null,147,24,3,{"$f":"INDEX('Payer-ConceptMap-1'!$I$15:$N$267,Q158+1,R158)","v":0}]
[null,null,null,null,null,null,null,null,null,null,null,null,null,null,null,148,24,4,{"$f":"INDEX('Payer-ConceptMap-1'!$I$15:$N$267,Q159+1,R159)","v":0}]
[null,null,null,null,null,null,null,null,null,null,null,null,null,null,null,149,24,5,{"$f":"INDEX('Payer-ConceptMap-1'!$I$15:$N$267,Q160+1,R160)","v":0}]
[null,null,null,null,null,null,null,null,null,null,null,null,null,null,null,150,24,6,{"$f":"INDEX('Payer-ConceptMap-1'!$I$15:$N$267,Q161+1,R161)","v":0}]
[null,null,null,null,null,null,null,null,null,null,null,null,null,null,null,151,25,1,{"$f":"INDEX('Payer-ConceptMap-1'!$I$15:$N$267,Q162+1,R162)","v":0}]
[null,null,null,null,null,null,null,null,null,null,null,null,null,null,null,152,25,2,{"$f":"INDEX('Payer-ConceptMap-1'!$I$15:$N$267,Q163+1,R163)","v":0}]
[null,null,null,null,null,null,null,null,null,null,null,null,null,null,null,153,25,3,{"$f":"INDEX('Payer-ConceptMap-1'!$I$15:$N$267,Q164+1,R164)","v":0}]
[null,null,null,null,null,null,null,null,null,null,null,null,null,null,null,154,25,4,{"$f":"INDEX('Payer-ConceptMap-1'!$I$15:$N$267,Q165+1,R165)","v":0}]
[null,null,null,null,null,null,null,null,null,null,null,null,null,null,null,155,25,5,{"$f":"INDEX('Payer-ConceptMap-1'!$I$15:$N$267,Q166+1,R166)","v":0}]
[null,null,null,null,null,null,null,null,null,null,null,null,null,null,null,156,25,6,{"$f":"INDEX('Payer-ConceptMap-1'!$I$15:$N$267,Q167+1,R167)","v":0}]
[null,null,null,null,null,null,null,null,null,null,null,null,null,null,null,157,26,1,{"$f":"INDEX('Payer-ConceptMap-1'!$I$15:$N$267,Q168+1,R168)","v":0}]
[null,null,null,null,null,null,null,null,null,null,null,null,null,null,null,158,26,2,{"$f":"INDEX('Payer-ConceptMap-1'!$I$15:$N$267,Q169+1,R169)","v":0}]
[null,null,null,null,null,null,null,null,null,null,null,null,null,null,null,159,26,3,{"$f":"INDEX('Payer-ConceptMap-1'!$I$15:$N$267,Q170+1,R170)","v":0}]
[null,null,null,null,null,null,null,null,null,null,null,null,null,null,null,160,26,4,{"$f":"INDEX('Payer-ConceptMap-1'!$I$15:$N$267,Q171+1,R171)","v":0}]
[null,null,null,null,null,null,null,null,null,null,null,null,null,null,null,161,26,5,{"$f":"INDEX('Payer-ConceptMap-1'!$I$15:$N$267,Q172+1,R172)","v":0}]
[null,null,null,null,null,null,null,null,null,null,null,null,null,null,null,162,26,6,{"$f":"INDEX('Payer-ConceptMap-1'!$I$15:$N$267,Q173+1,R173)","v":0}]
[null,null,null,null,null,null,null,null,null,null,null,null,null,null,null,163,27,1,{"$f":"INDEX('Payer-ConceptMap-1'!$I$15:$N$267,Q174+1,R174)","v":0}]
[null,null,null,null,null,null,null,null,null,null,null,null,null,null,null,164,27,2,{"$f":"INDEX('Payer-ConceptMap-1'!$I$15:$N$267,Q175+1,R175)","v":0}]
[null,null,null,null,null,null,null,null,null,null,null,null,null,null,null,165,27,3,{"$f":"INDEX('Payer-ConceptMap-1'!$I$15:$N$267,Q176+1,R176)","v":0}]
[null,null,null,null,null,null,null,null,null,null,null,null,null,null,null,166,27,4,{"$f":"INDEX('Payer-ConceptMap-1'!$I$15:$N$267,Q177+1,R177)","v":0}]
[null,null,null,null,null,null,null,null,null,null,null,null,null,null,null,167,27,5,{"$f":"INDEX('Payer-ConceptMap-1'!$I$15:$N$267,Q178+1,R178)","v":0}]
[null,null,null,null,null,null,null,null,null,null,null,null,null,null,null,168,27,6,{"$f":"INDEX('Payer-ConceptMap-1'!$I$15:$N$267,Q179+1,R179)","v":0}]
[null,null,null,null,null,null,null,null,null,null,null,null,null,null,null,169,28,1,{"$f":"INDEX('Payer-ConceptMap-1'!$I$15:$N$267,Q180+1,R180)","v":0}]
[null,null,null,null,null,null,null,null,null,null,null,null,null,null,null,170,28,2,{"$f":"INDEX('Payer-ConceptMap-1'!$I$15:$N$267,Q181+1,R181)","v":0}]
[null,null,null,null,null,null,null,null,null,null,null,null,null,null,null,171,{"$f":"IF(MOD(P182,$Q$8)=0,P182/$Q$8-1,INT(P182/$Q$8))","v":28},{"$f":"IF(MOD(P182,$Q$8)=0,$Q$8,MOD(P182,$Q$8))","v":3},{"$f":"INDEX('Payer-ConceptMap-1'!$I$15:$N$267,Q182+1,R182)","v":0}]
[null,null,null,null,null,null,null,null,null,null,null,null,null,null,null,172,28,4,{"$f":"INDEX('Payer-ConceptMap-1'!$I$15:$N$267,Q183+1,R183)","v":0}]
[null,null,null,null,null,null,null,null,null,null,null,null,null,null,null,173,28,5,{"$f":"INDEX('Payer-ConceptMap-1'!$I$15:$N$267,Q184+1,R184)","v":0}]
[null,null,null,null,null,null,null,null,null,null,null,null,null,null,null,174,28,6,{"$f":"INDEX('Payer-ConceptMap-1'!$I$15:$N$267,Q185+1,R185)","v":0}]
[null,null,null,null,null,null,null,null,null,null,null,null,null,null,null,175,29,1,{"$f":"INDEX('Payer-ConceptMap-1'!$I$15:$N$267,Q186+1,R186)","v":0}]
[null,null,null,null,null,null,null,null,null,null,null,null,null,null,null,176,29,2,{"$f":"INDEX('Payer-ConceptMap-1'!$I$15:$N$267,Q187+1,R187)","v":0}]

{"sheet":"Payer-ConceptMap-2","index":55,"n_rows":190,"n_cols":19,"rows_kept":190,"cut":false,"hidden":false,"merged":[[2,4,2,6],[3,4,3,6],[5,4,5,6],[6,4,6,6]]}
[]
[]
[null,"Mapping","Payer2Fhir","Source URI","http://hl7.eu/fhir/ig/xpandh/ps/StructureDefinition/Payer"]
[null,"Id","payer2FHIR-eu-ps","Target URI","http://hl7.eu/fhir/ig/xpandh/ps/StructureDefinition/Bundle-eu-ps"]
[null,"Title","eHN Payer to this guide Map"]
[null,"Source","http://hl7.eu/fhir/ig/xpandh/ps/StructureDefinition/PatientSummary","Source Group","http://hl7.eu/fhir/ig/xpandh/ps/StructureDefinition/Payer"]
[null,"Target","http://hl7.eu/fhir/ig/xpandh/ps","Target Group","http://hl7.org/fhir/StructureDefinition/Coverage"]
[null,"description","eHN Payer Model to this guide Map",null,null,null,null,null,"* group[=].element[+].code = #Osiris.Patient.BirthDate","* group[=].element[=].display = \"Birth Date [C4]\"","* group[=].element[=].target.code = #Subject.dateOfBirth.date","* group[=].element[=].target.display = \"Date of birth\"","* group[=].element[=].target.equivalence = #equivalent",null,null,"Elements",6]
[null,"purpose","It shows how the Patient Summary Payer data set defined by the EU eHN guidelines is mapped into this guide"]
[]
[null,null,null,null,null,null,null,null,"source:code","source:display","code","display","target to source","Comment"]
[]
[null,null,null,null,null,"target to source","Comment"]
[null,{"$f":"'A1.3 Payer'!B5","v":"Payer"},null,"Coverage",null,null,"ofType Coverage"]
[null,{"$f":"'A1.3 Payer'!B8","v":"insurance"},{"$f":"'A1.3 Payer'!C8","v":"A.1.3.1 Health insurance information"},null,null,"relatedto",null,null,{"$f":"\"* group[=].element[+].code = #\"&$B$14&\".\"&B15","v":"* group[=].element[+].code = #Payer.insurance"},{"$f":"\"* group[=].element[=].display = ##34#\"&C15&\"##34#\"","v":"* group[=].element[=].display = ##34#A.1.3.1 Health insurance information##34#"},{"$f":"IF(F15=\"unmatched\",\"//-- unmatched\",IF(D15=\"\",\"* group[=].element[=].target.code = #\"&$D$14,\"* group[=].element[=].target.code = #\"&$D$14&\".\"&D15))","v":"* group[=].element[=].target.code = #Coverage"},{"$f":"IF(F15=\"unmatched\",\"//-- unmatched\",\"* group[=].element[=].target.display = ##34#\"&E15&\"##34#\")","v":"* group[=].element[=].target.display = ##34###34#"},{"$f":"\"* group[=].element[=].target.equivalence = #\"&F15","v":"* group[=].element[=].target.equivalence = #relatedto"},{"$f":"IF(G15<>\"\",CONCATENATE(\"* group[=].element[=].target.comment = \",\"##34#\",G15,\"##34#\"),\"\")","v":""},null,1,{"$f":"IF(MOD(P15,$Q$8)=0,P15/$Q$8-1,INT(P15/$Q$8))","v":0},{"$f":"IF(MOD(P15,$Q$8)=0,$Q$8,MOD(P15,$Q$8))","v":1},{"$f":"INDEX('Payer-ConceptMap-2'!$I$15:$N$270,Q15+1,R15)","v":"* group[=].element[+].code = #Payer.insurance"}]
[null,{"$f":"'A1.3 Payer'!B9","v":"insurance.identifier"},{"$f":"'A1.3 Payer'!C9","v":"A.1.3.1.1 Health insurance code"},"payor.identifier",null,"equivalent","payor.ofType(Organization)",null,{"$f":"\"* group[=].element[+].code = #\"&$B$14&\".\"&B16","v":"* group[=].element[+].code = #Payer.insurance.identifier"},{"$f":"\"* group[=].element[=].display = ##34#\"&C16&\"##34#\"","v":"* group[=].element[=].display = ##34#A.1.3.1.1 Health insurance code##34#"},{"$f":"IF(F16=\"unmatched\",\"//-- unmatched\",IF(D16=\"\",\"* group[=].element[=].target.code = #\"&$D$14,\"* group[=].element[=].target.code = #\"&$D$14&\".\"&D16))","v":"* group[=].element[=].target.code = #Coverage.payor.identifier"},{"$f":"IF(F16=\"unmatched\",\"//-- unmatched\",\"* group[=].element[=].target.display = ##34#\"&E16&\"##34#\")","v":"* group[=].element[=].target.display = ##34###34#"},{"$f":"\"* group[=].element[=].target.equivalence = #\"&F16","v":"* group[=].element[=].target.equivalence = #equivalent"},"* group[=].element[=].target.comment = ##34#payor.ofType(Organization)##34#",null,2,{"$f":"IF(MOD(P16,$Q$8)=0,P16/$Q$8-1,INT(P16/$Q$8))","v":0},{"$f":"IF(MOD(P16,$Q$8)=0,$Q$8,MOD(P16,$Q$8))","v":2},{"$f":"INDEX('Payer-ConceptMap-2'!$I$15:$N$270,Q16+1,R16)","v":"* group[=].element[=].display = ##34#A.1.3.1 Health insurance information##34#"}]
[null,{"$f":"'A1.3 Payer'!B10","v":"insurance.name"},{"$f":"'A1.3 Payer'!C10","v":"A.1.3.1.2 Health insurance name"},"payor.name",null,"equivalent","payor.ofType(Organization)",null,{"$f":"\"* group[=].element[+].code = #\"&$B$14&\".\"&B17","v":"* group[=].element[+].code = #Payer.insurance.name"},{"$f":"\"* group[=].element[=].display = ##34#\"&C17&\"##34#\"","v":"* group[=].element[=].display = ##34#A.1.3.1.2 Health insurance name##34#"},{"$f":"IF(F17=\"unmatched\",\"//-- unmatched\",IF(D17=\"\",\"* group[=].element[=].target.code = #\"&$D$14,\"* group[=].element[=].target.code = #\"&$D$14&\".\"&D17))","v":"* group[=].element[=].target.code = #Coverage.payor.name"},{"$f":"IF(F17=\"unmatched\",\"//-- unmatched\",\"* group[=].element[=].target.display = ##34#\"&E17&\"##34#\")","v":"* group[=].element[=].target.display = ##34###34#"},{"$f":"\"* group[=].element[=].target.equivalence = #\"&F17","v":"* group[=].element[=].target.equivalence = #equivalent"},{"$f":"IF(G17<>\"\",CONCATENATE(\"* group[=].element[=].target.comment = \",\"##34#\",G17,\"##34#\"),\"\")","v":"* group[=].element[=].target.comment = ##34#payor.ofType(Organization)##34#"},null,3,0,3,{"$f":"INDEX('Payer-ConceptMap-2'!$I$15:$N$270,Q17+1,R17)","v":"* group[=].element[=].target.code = #Coverage"}]
[null,{"$f":"'A1.3 Payer'!$B$11","v":"insurance.subjectIdentifier"},{"$f":"'A1.3 Payer'!$C$11","v":"A.1.3.1.3 Health insurance number"},"policyHolder.identifier",null,"equivalent",null,null,"* group[=].element[+].code = #Payer.insurance.subjectIdentifier","* group[=].element[=].display = ##34#A.1.3.1.3 Health insurance number##34#","* group[=].element[=].target.code = #Coverage.policyHolder.identifier","* group[=].element[=].target.display = ##34###34#","* group[=].element[=].target.equivalence = #equivalent","",null,4,0,4,{"$f":"INDEX('Payer-ConceptMap-2'!$I$15:$N$270,Q18+1,R18)","v":"* group[=].element[=].target.display = ##34###34#"}]
[null,{"$f":"'A1.3 Payer'!$B$11","v":"insurance.subjectIdentifier"},{"$f":"'A1.3 Payer'!$C$11","v":"A.1.3.1.3 Health insurance number"},"beneficiary.identifier",null,"equivalent",null,null,"* group[=].element[+].code = #Payer.insurance.subjectIdentifier","* group[=].element[=].display = ##34#A.1.3.1.3 Health insurance number##34#","* group[=].element[=].target.code = #Coverage.beneficiary.identifier","* group[=].element[=].target.display = ##34###34#","* group[=].element[=].target.equivalence = #equivalent","",null,5,0,5,{"$f":"INDEX('Payer-ConceptMap-2'!$I$15:$N$270,Q19+1,R19)","v":"* group[=].element[=].target.equivalence = #relatedto"}]
[null,{"$f":"'A1.3 Payer'!$B$11","v":"insurance.subjectIdentifier"},{"$f":"'A1.3 Payer'!$C$11","v":"A.1.3.1.3 Health insurance number"},"subscriberId",null,"equivalent",null,null,"* group[=].element[+].code = #Payer.insurance.subjectIdentifier","* group[=].element[=].display = ##34#A.1.3.1.3 Health insurance number##34#","* group[=].element[=].target.code = #Coverage.subscriberId","* group[=].element[=].target.display = ##34###34#","* group[=].element[=].target.equivalence = #equivalent","",null,6,0,6,{"$f":"INDEX('Payer-ConceptMap-2'!$I$15:$N$270,Q20+1,R20)","v":""}]
[null,{"$f":"'A1.3 Payer'!$B$11","v":"insurance.subjectIdentifier"},{"$f":"'A1.3 Payer'!$C$11","v":"A.1.3.1.3 Health insurance number"},"subscriber.identifier",null,"equivalent",null,null,"* group[=].element[+].code = #Payer.insurance.subjectIdentifier","* group[=].element[=].display = ##34#A.1.3.1.3 Health insurance number##34#","* group[=].element[=].target.code = #Coverage.subscriber.identifier","* group[=].element[=].target.display = ##34###34#","* group[=].element[=].target.equivalence = #equivalent","",null,7,1,1,{"$f":"INDEX('Payer-ConceptMap-2'!$I$15:$N$270,Q21+1,R21)","v":"* group[=].element[+].code = #Payer.insurance.identifier"}]
[null,null,null,null,null,null,null,null,null,null,null,null,null,null,null,8,1,2,{"$f":"INDEX('Payer-ConceptMap-2'!$I$15:$N$270,Q22+1,R22)","v":"* group[=].element[=].display = ##34#A.1.3.1.1 Health insurance code##34#"}]
[null,null,null,null,null,null,null,null,null,null,null,null,null,null,null,9,1,3,{"$f":"INDEX('Payer-ConceptMap-2'!$I$15:$N$270,Q23+1,R23)","v":"* group[=].element[=].target.code = #Coverage.payor.identifier"}]
[null,null,null,null,null,null,null,null,null,null,null,null,null,null,null,10,1,4,{"$f":"INDEX('Payer-ConceptMap-2'!$I$15:$N$270,Q24+1,R24)","v":"* group[=].element[=].target.display = ##34###34#"}]
[null,null,null,null,null,null,null,null,null,null,null,null,null,null,null,11,1,5,{"$f":"INDEX('Payer-ConceptMap-2'!$I$15:$N$270,Q25+1,R25)","v":"* group[=].element[=].target.equivalence = #equivalent"}]
[null,null,null,null,null,null,null,null,null,null,null,null,null,null,null,12,1,6,{"$f":"INDEX('Payer-ConceptMap-2'!$I$15:$N$270,Q26+1,R26)","v":"* group[=].element[=].target.comment = ##34#payor.ofType(Organization)##34#"}]
[null,null,null,null,null,null,null,null,null,null,null,null,null,null,null,13,2,1,{"$f":"INDEX('Payer-ConceptMap-2'!$I$15:$N$270,Q27+1,R27)","v":"* group[=].element[+].code = #Payer.insurance.name"}]
[null,null,null,null,null,null,null,null,null,null,null,null,null,null,null,14,2,2,{"$f":"INDEX('Payer-ConceptMap-2'!$I$15:$N$270,Q28+1,R28)","v":"* group[=].element[=].display = ##34#A.1.3.1.2 Health insurance name##34#"}]
[null,null,null,null,null,null,null,null,null,null,null,null,null,null,null,15,2,3,{"$f":"INDEX('Payer-ConceptMap-2'!$I$15:$N$270,Q29+1,R29)","v":"* group[=].element[=].target.code = #Coverage.payor.name"}]
[null,null,null,null,null,null,null,null,null,null,null,null,null,null,null,16,2,4,{"$f":"INDEX('Payer-ConceptMap-2'!$I$15:$N$270,Q30+1,R30)","v":"* group[=].element[=].target.display = ##34###34#"}]
[null,null,null,null,null,null,null,null,null,null,null,null,null,null,null,17,2,5,{"$f":"INDEX('Payer-ConceptMap-2'!$I$15:$N$270,Q31+1,R31)","v":"* group[=].element[=].target.equivalence = #equivalent"}]
[null,null,null,null,null,null,null,null,null,null,null,null,null,null,null,18,2,6,{"$f":"INDEX('Payer-ConceptMap-2'!$I$15:$N$270,Q32+1,R32)","v":"* group[=].element[=].target.comment = ##34#payor.ofType(Organization)##34#"}]
[null,null,null,null,null,null,null,null,null,null,null,null,null,null,null,19,3,1,{"$f":"INDEX('Payer-ConceptMap-2'!$I$15:$N$270,Q33+1,R33)","v":"* group[=].element[+].code = #Payer.insurance.subjectIdentifier"}]
[null,null,null,null,null,null,null,null,null,null,null,null,null,null,null,20,3,2,{"$f":"INDEX('Payer-ConceptMap-2'!$I$15:$N$270,Q34+1,R34)","v":"* group[=].element[=].display = ##34#A.1.3.1.3 Health insurance number##34#"}]
[null,null,null,null,null,null,null,null,null,null,null,null,null,null,null,21,3,3,{"$f":"INDEX('Payer-ConceptMap-2'!$I$15:$N$270,Q35+1,R35)","v":"* group[=].element[=].target.code = #Coverage.policyHolder.identifier"}]
[null,null,null,null,null,null,null,null,null,null,null,null,null,null,null,22,3,4,{"$f":"INDEX('Payer-ConceptMap-2'!$I$15:$N$270,Q36+1,R36)","v":"* group[=].element[=].target.display = ##34###34#"}]
[null,null,null,null,null,null,null,null,null,null,null,null,null,null,null,23,3,5,{"$f":"INDEX('Payer-ConceptMap-2'!$I$15:$N$270,Q37+1,R37)","v":"* group[=].element[=].target.equivalence = #equivalent"}]
[null,null,null,null,null,null,null,null,null,null,null,null,null,null,null,24,3,6,{"$f":"INDEX('Payer-ConceptMap-2'!$I$15:$N$270,Q38+1,R38)","v":""}]
[null,null,null,null,null,null,null,null,null,null,null,null,null,null,null,25,4,1,{"$f":"INDEX('Payer-ConceptMap-2'!$I$15:$N$270,Q39+1,R39)","v":"* group[=].element[+].code = #Payer.insurance.subjectIdentifier"}]
[null,null,null,null,null,null,null,null,null,null,null,null,null,null,null,26,4,2,{"$f":"INDEX('Payer-ConceptMap-2'!$I$15:$N$270,Q40+1,R40)","v":"* group[=].element[=].display = ##34#A.1.3.1.3 Health insurance number##34#"}]
[null,null,null,null,null,null,null,null,null,null,null,null,null,null,null,27,4,3,{"$f":"INDEX('Payer-ConceptMap-2'!$I$15:$N$270,Q41+1,R41)","v":"* group[=].element[=].target.code = #Coverage.beneficiary.identifier"}]
[null,null,null,null,null,null,null,null,null,null,null,null,null,null,null,28,4,4,{"$f":"INDEX('Payer-ConceptMap-2'!$I$15:$N$270,Q42+1,R42)","v":"* group[=].element[=].target.display = ##34###34#"}]
[null,null,null,null,null,null,null,null,null,null,null,null,null,null,null,29,4,5,{"$f":"INDEX('Payer-ConceptMap-2'!$I$15:$N$270,Q43+1,R43)","v":"* group[=].element[=].target.equivalence = #equivalent"}]
[null,null,null,null,null,null,null,null,null,null,null,null,null,null,null,30,4,6,{"$f":"INDEX('Payer-ConceptMap-2'!$I$15:$N$270,Q44+1,R44)","v":""}]
[null,null,null,null,null,null,null,null,null,null,null,null,null,null,null,31,5,1,{"$f":"INDEX('Payer-ConceptMap-2'!$I$15:$N$270,Q45+1,R45)","v":"* group[=].element[+].code = #Payer.insurance.subjectIdentifier"}]
[null,null,null,null,null,null,null,null,null,null,null,null,null,null,null,32,5,2,{"$f":"INDEX('Payer-ConceptMap-2'!$I$15:$N$270,Q46+1,R46)","v":"* group[=].element[=].display = ##34#A.1.3.1.3 Health insurance number##34#"}]
[null,null,null,null,null,null,null,null,null,null,null,null,null,null,null,33,5,3,{"$f":"INDEX('Payer-ConceptMap-2'!$I$15:$N$270,Q47+1,R47)","v":"* group[=].element[=].target.code = #Coverage.subscriberId"}]
[null,null,null,null,null,null,null,null,null,null,null,null,null,null,null,34,5,4,{"$f":"INDEX('Payer-ConceptMap-2'!$I$15:$N$270,Q48+1,R48)","v":"* group[=].element[=].target.display = ##34###34#"}]
[null,null,null,null,null,null,null,null,null,null,null,null,null,null,null,35,5,5,{"$f":"INDEX('Payer-ConceptMap-2'!$I$15:$N$270,Q49+1,R49)","v":"* group[=].element[=].target.equivalence = #equivalent"}]
[null,null,null,null,null,null,null,null,null,null,null,null,null,null,null,36,5,6,{"$f":"INDEX('Payer-ConceptMap-2'!$I$15:$N$270,Q50+1,R50)","v":""}]
[null,null,null,null,null,null,null,null,null,null,null,null,null,null,null,37,6,1,{"$f":"INDEX('Payer-ConceptMap-2'!$I$15:$N$270,Q51+1,R51)","v":"* group[=].element[+].code = #Payer.insurance.subjectIdentifier"}]
[null,null,null,null,null,null,null,null,null,null,null,null,null,null,null,38,6,2,{"$f":"INDEX('Payer-ConceptMap-2'!$I$15:$N$270,Q52+1,R52)","v":"* group[=].element[=].display = ##34#A.1.3.1.3 Health insurance number##34#"}]
[null,null,null,null,null,null,null,null,null,null,null,null,null,null,null,39,6,3,{"$f":"INDEX('Payer-ConceptMap-2'!$I$15:$N$270,Q53+1,R53)","v":"* group[=].element[=].target.code = #Coverage.subscriber.identifier"}]
[null,null,null,null,null,null,null,null,null,null,null,null,null,null,null,40,6,4,{"$f":"INDEX('Payer-ConceptMap-2'!$I$15:$N$270,Q54+1,R54)","v":"* group[=].element[=].target.display = ##34###34#"}]
[null,null,null,null,null,null,null,null,null,null,null,null,null,null,null,41,6,5,{"$f":"INDEX('Payer-ConceptMap-2'!$I$15:$N$270,Q55+1,R55)","v":"* group[=].element[=].target.equivalence = #equivalent"}]
[null,null,null,null,null,null,null,null,null,null,null,null,null,null,null,42,6,6,{"$f":"INDEX('Payer-ConceptMap-2'!$I$15:$N$270,Q56+1,R56)","v":""}]
[null,null,null,null,null,null,null,null,null,null,null,null,null,null,null,43,7,1,{"$f":"INDEX('Payer-ConceptMap-2'!$I$15:$N$270,Q57+1,R57)","v":0}]
[null,null,null,null,null,null,null,null,null,null,null,null,null,null,null,44,7,2,{"$f":"INDEX('Payer-ConceptMap-2'!$I$15:$N$270,Q58+1,R58)","v":0}]
[null,null,null,null,null,null,null,null,null,null,null,null,null,null,null,45,7,3,{"$f":"INDEX('Payer-ConceptMap-2'!$I$15:$N$270,Q59+1,R59)","v":0}]
[null,null,null,null,null,null,null,null,null,null,null,null,null,null,null,46,7,4,{"$f":"INDEX('Payer-ConceptMap-2'!$I$15:$N$270,Q60+1,R60)","v":0}]
[null,null,null,null,null,null,null,null,null,null,null,null,null,null,null,47,7,5,{"$f":"INDEX('Payer-ConceptMap-2'!$I$15:$N$270,Q61+1,R61)","v":0}]
[null,null,null,null,null,null,null,null,null,null,null,null,null,null,null,48,7,6,{"$f":"INDEX('Payer-ConceptMap-2'!$I$15:$N$270,Q62+1,R62)","v":0}]
[null,null,null,null,null,null,null,null,null,null,null,null,null,null,null,49,8,1,{"$f":"INDEX('Payer-ConceptMap-2'!$I$15:$N$270,Q63+1,R63)","v":0}]
[null,null,null,null,null,null,null,null,null,null,null,null,null,null,null,50,8,2,{"$f":"INDEX('Payer-ConceptMap-2'!$I$15:$N$270,Q64+1,R64)","v":0}]
[null,null,null,null,null,null,null,null,null,null,null,null,null,null,null,51,8,3,{"$f":"INDEX('Payer-ConceptMap-2'!$I$15:$N$270,Q65+1,R65)","v":0}]
[null,null,null,null,null,null,null,null,null,null,null,null,null,null,null,52,8,4,{"$f":"INDEX('Payer-ConceptMap-2'!$I$15:$N$270,Q66+1,R66)","v":0}]
[null,null,null,null,null,null,null,null,null,null,null,null,null,null,null,53,8,5,{"$f":"INDEX('Payer-ConceptMap-2'!$I$15:$N$270,Q67+1,R67)","v":0}]
[null,null,null,null,null,null,null,null,null,null,null,null,null,null,null,54,8,6,{"$f":"INDEX('Payer-ConceptMap-2'!$I$15:$N$270,Q68+1,R68)","v":0}]
[null,null,null,null,null,null,null,null,null,null,null,null,null,null,null,55,9,1,{"$f":"INDEX('Payer-ConceptMap-2'!$I$15:$N$270,Q69+1,R69)","v":0}]
[null,null,null,null,null,null,null,null,null,null,null,null,null,null,null,56,9,2,{"$f":"INDEX('Payer-ConceptMap-2'!$I$15:$N$270,Q70+1,R70)","v":0}]
[null,null,null,null,null,null,null,null,null,null,null,null,null,null,null,57,9,3,{"$f":"INDEX('Payer-ConceptMap-2'!$I$15:$N$270,Q71+1,R71)","v":0}]
[null,null,null,null,null,null,null,null,null,null,null,null,null,null,null,58,9,4,{"$f":"INDEX('Payer-ConceptMap-2'!$I$15:$N$270,Q72+1,R72)","v":0}]
[null,null,null,null,null,null,null,null,null,null,null,null,null,null,null,59,9,5,{"$f":"INDEX('Payer-ConceptMap-2'!$I$15:$N$270,Q73+1,R73)","v":0}]
[null,null,null,null,null,null,null,null,null,null,null,null,null,null,null,60,9,6,{"$f":"INDEX('Payer-ConceptMap-2'!$I$15:$N$270,Q74+1,R74)","v":0}]
[null,null,null,null,null,null,null,null,null,null,null,null,null,null,null,61,10,1,{"$f":"INDEX('Payer-ConceptMap-2'!$I$15:$N$270,Q75+1,R75)","v":0}]
[null,null,null,null,null,null,null,null,null,null,null,null,null,null,null,62,10,2,{"$f":"INDEX('Payer-ConceptMap-2'!$I$15:$N$270,Q76+1,R76)","v":0}]
[null,null,null,null,null,null,null,null,null,null,null,null,null,null,null,63,10,3,{"$f":"INDEX('Payer-ConceptMap-2'!$I$15:$N$270,Q77+1,R77)","v":0}]
[null,null,null,null,null,null,null,null,null,null,null,null,null,null,null,64,10,4,{"$f":"INDEX('Payer-ConceptMap-2'!$I$15:$N$270,Q78+1,R78)","v":0}]
[null,null,null,null,null,null,null,null,null,null,null,null,null,null,null,65,10,5,{"$f":"INDEX('Payer-ConceptMap-2'!$I$15:$N$270,Q79+1,R79)","v":0}]
[null,null,null,null,null,null,null,null,null,null,null,null,null,null,null,66,{"$f":"IF(MOD(P80,$Q$8)=0,P80/$Q$8-1,INT(P80/$Q$8))","v":10},{"$f":"IF(MOD(P80,$Q$8)=0,$Q$8,MOD(P80,$Q$8))","v":6},{"$f":"INDEX('Payer-ConceptMap-2'!$I$15:$N$270,Q80+1,R80)","v":0}]
[]
[]
[]
[]
[]
[]
[]
[]
[]
[]
[]
[]
[]
[]
[]
[]
[]
[]
[]
[]
[]
[]
[]
[]
[]
[]
[]
[]
[]
[]
[]
[]
[]
[]
[]
[]
[]
[]
[]
[]
[null,null,null,null,null,null,null,null,null,null,null,null,null,null,null,107,{"$f":"IF(MOD(P121,$Q$8)=0,P121/$Q$8-1,INT(P121/$Q$8))","v":17},{"$f":"IF(MOD(P121,$Q$8)=0,$Q$8,MOD(P121,$Q$8))","v":5},{"$f":"INDEX('Payer-ConceptMap-2'!$I$15:$N$270,Q121+1,R121)","v":0}]
[null,null,null,null,null,null,null,null,null,null,null,null,null,null,null,108,17,6,{"$f":"INDEX('Payer-ConceptMap-2'!$I$15:$N$270,Q122+1,R122)","v":0}]
[null,null,null,null,null,null,null,null,null,null,null,null,null,null,null,109,18,1,{"$f":"INDEX('Payer-ConceptMap-2'!$I$15:$N$270,Q123+1,R123)","v":0}]
[null,null,null,null,null,null,null,null,null,null,null,null,null,null,null,110,18,2,{"$f":"INDEX('Payer-ConceptMap-2'!$I$15:$N$270,Q124+1,R124)","v":0}]
[null,null,null,null,null,null,null,null,null,null,null,null,null,null,null,111,18,3,{"$f":"INDEX('Payer-ConceptMap-2'!$I$15:$N$270,Q125+1,R125)","v":0}]
[null,null,null,null,null,null,null,null,null,null,null,null,null,null,null,112,18,4,{"$f":"INDEX('Payer-ConceptMap-2'!$I$15:$N$270,Q126+1,R126)","v":0}]
[null,null,null,null,null,null,null,null,null,null,null,null,null,null,null,113,18,5,{"$f":"INDEX('Payer-ConceptMap-2'!$I$15:$N$270,Q127+1,R127)","v":0}]
[null,null,null,null,null,null,null,null,null,null,null,null,null,null,null,114,18,6,{"$f":"INDEX('Payer-ConceptMap-2'!$I$15:$N$270,Q128+1,R128)","v":0}]
[null,null,null,null,null,null,null,null,null,null,null,null,null,null,null,115,19,1,{"$f":"INDEX('Payer-ConceptMap-2'!$I$15:$N$270,Q129+1,R129)","v":0}]
[null,null,null,null,null,null,null,null,null,null,null,null,null,null,null,116,19,2,{"$f":"INDEX('Payer-ConceptMap-2'!$I$15:$N$270,Q130+1,R130)","v":0}]
[null,null,null,null,null,null,null,null,null,null,null,null,null,null,null,117,19,3,{"$f":"INDEX('Payer-ConceptMap-2'!$I$15:$N$270,Q131+1,R131)","v":0}]
[null,null,null,null,null,null,null,null,null,null,null,null,null,null,null,118,19,4,{"$f":"INDEX('Payer-ConceptMap-2'!$I$15:$N$270,Q132+1,R132)","v":0}]
[null,null,null,null,null,null,null,null,null,null,null,null,null,null,null,119,19,5,{"$f":"INDEX('Payer-ConceptMap-2'!$I$15:$N$270,Q133+1,R133)","v":0}]
[null,null,null,null,null,null,null,null,null,null,null,null,null,null,null,120,19,6,{"$f":"INDEX('Payer-ConceptMap-2'!$I$15:$N$270,Q134+1,R134)","v":0}]
[null,null,null,null,null,null,null,null,null,null,null,null,null,null,null,121,20,1,{"$f":"INDEX('Payer-ConceptMap-2'!$I$15:$N$270,Q135+1,R135)","v":0}]
[null,null,null,null,null,null,null,null,null,null,null,null,null,null,null,122,20,2,{"$f":"INDEX('Payer-ConceptMap-2'!$I$15:$N$270,Q136+1,R136)","v":0}]
[null,null,null,null,null,null,null,null,null,null,null,null,null,null,null,123,20,3,{"$f":"INDEX('Payer-ConceptMap-2'!$I$15:$N$270,Q137+1,R137)","v":0}]
[null,null,null,null,null,null,null,null,null,null,null,null,null,null,null,124,20,4,{"$f":"INDEX('Payer-ConceptMap-2'!$I$15:$N$270,Q138+1,R138)","v":0}]
[null,null,null,null,null,null,null,null,null,null,null,null,null,null,null,125,20,5,{"$f":"INDEX('Payer-ConceptMap-2'!$I$15:$N$270,Q139+1,R139)","v":0}]
[null,null,null,null,null,null,null,null,null,null,null,null,null,null,null,126,20,6,{"$f":"INDEX('Payer-ConceptMap-2'!$I$15:$N$270,Q140+1,R140)","v":0}]
[null,null,null,null,null,null,null,null,null,null,null,null,null,null,null,127,21,1,{"$f":"INDEX('Payer-ConceptMap-2'!$I$15:$N$270,Q141+1,R141)","v":0}]
[null,null,null,null,null,null,null,null,null,null,null,null,null,null,null,128,21,2,{"$f":"INDEX('Payer-ConceptMap-2'!$I$15:$N$270,Q142+1,R142)","v":0}]
[null,null,null,null,null,null,null,null,null,null,null,null,null,null,null,129,21,3,{"$f":"INDEX('Payer-ConceptMap-2'!$I$15:$N$270,Q143+1,R143)","v":0}]
[null,null,null,null,null,null,null,null,null,null,null,null,null,null,null,130,21,4,{"$f":"INDEX('Payer-ConceptMap-2'!$I$15:$N$270,Q144+1,R144)","v":0}]
[null,null,null,null,null,null,null,null,null,null,null,null,null,null,null,131,21,5,{"$f":"INDEX('Payer-ConceptMap-2'!$I$15:$N$270,Q145+1,R145)","v":0}]
[null,null,null,null,null,null,null,null,null,null,null,null,null,null,null,132,21,6,{"$f":"INDEX('Payer-ConceptMap-2'!$I$15:$N$270,Q146+1,R146)","v":0}]
[null,null,null,null,null,null,null,null,null,null,null,null,null,null,null,133,22,1,{"$f":"INDEX('Payer-ConceptMap-2'!$I$15:$N$270,Q147+1,R147)","v":0}]
[null,null,null,null,null,null,null,null,null,null,null,null,null,null,null,134,22,2,{"$f":"INDEX('Payer-ConceptMap-2'!$I$15:$N$270,Q148+1,R148)","v":0}]
[null,null,null,null,null,null,null,null,null,null,null,null,null,null,null,135,22,3,{"$f":"INDEX('Payer-ConceptMap-2'!$I$15:$N$270,Q149+1,R149)","v":0}]
[null,null,null,null,null,null,null,null,null,null,null,null,null,null,null,136,22,4,{"$f":"INDEX('Payer-ConceptMap-2'!$I$15:$N$270,Q150+1,R150)","v":0}]
[null,null,null,null,null,null,null,null,null,null,null,null,null,null,null,137,22,5,{"$f":"INDEX('Payer-ConceptMap-2'!$I$15:$N$270,Q151+1,R151)","v":0}]
[null,null,null,null,null,null,null,null,null,null,null,null,null,null,null,138,22,6,{"$f":"INDEX('Payer-ConceptMap-2'!$I$15:$N$270,Q152+1,R152)","v":0}]
[null,null,null,null,null,null,null,null,null,null,null,null,null,null,null,139,23,1,{"$f":"INDEX('Payer-ConceptMap-2'!$I$15:$N$270,Q153+1,R153)","v":0}]
[null,null,null,null,null,null,null,null,null,null,null,null,null,null,null,140,23,2,{"$f":"INDEX('Payer-ConceptMap-2'!$I$15:$N$270,Q154+1,R154)","v":0}]
[null,null,null,null,null,null,null,null,null,null,null,null,null,null,null,141,23,3,{"$f":"INDEX('Payer-ConceptMap-2'!$I$15:$N$270,Q155+1,R155)","v":0}]
[null,null,null,null,null,null,null,null,null,null,null,null,null,null,null,142,23,4,{"$f":"INDEX('Payer-ConceptMap-2'!$I$15:$N$270,Q156+1,R156)","v":0}]
[null,null,null,null,null,null,null,null,null,null,null,null,null,null,null,143,23,5,{"$f":"INDEX('Payer-ConceptMap-2'!$I$15:$N$270,Q157+1,R157)","v":0}]
[null,null,null,null,null,null,null,null,null,null,null,null,null,null,null,144,23,6,{"$f":"INDEX('Payer-ConceptMap-2'!$I$15:$N$270,Q158+1,R158)","v":0}]
[null,null,null,null,null,null,null,null,null,null,null,null,null,null,null,145,24,1,{"$f":"INDEX('Payer-ConceptMap-2'!$I$15:$N$270,Q159+1,R159)","v":0}]
[null,null,null,null,null,null,null,null,null,null,null,null,null,null,null,146,24,2,{"$f":"INDEX('Payer-ConceptMap-2'!$I$15:$N$270,Q160+1,R160)","v":0}]
[null,null,null,null,null,null,null,null,null,null,null,null,null,null,null,147,24,3,{"$f":"INDEX('Payer-ConceptMap-2'!$I$15:$N$270,Q161+1,R161)","v":0}]
[null,null,null,null,null,null,null,null,null,null,null,null,null,null,null,148,24,4,{"$f":"INDEX('Payer-ConceptMap-2'!$I$15:$N$270,Q162+1,R162)","v":0}]
[null,null,null,null,null,null,null,null,null,null,null,null,null,null,null,149,24,5,{"$f":"INDEX('Payer-ConceptMap-2'!$I$15:$N$270,Q163+1,R163)","v":0}]
[null,null,null,null,null,null,null,null,null,null,null,null,null,null,null,150,24,6,{"$f":"INDEX('Payer-ConceptMap-2'!$I$15:$N$270,Q164+1,R164)","v":0}]
[null,null,null,null,null,null,null,null,null,null,null,null,null,null,null,151,25,1,{"$f":"INDEX('Payer-ConceptMap-2'!$I$15:$N$270,Q165+1,R165)","v":0}]
[null,null,null,null,null,null,null,null,null,null,null,null,null,null,null,152,25,2,{"$f":"INDEX('Payer-ConceptMap-2'!$I$15:$N$270,Q166+1,R166)","v":0}]
[null,null,null,null,null,null,null,null,null,null,null,null,null,null,null,153,25,3,{"$f":"INDEX('Payer-ConceptMap-2'!$I$15:$N$270,Q167+1,R167)","v":0}]
[null,null,null,null,null,null,null,null,null,null,null,null,null,null,null,154,25,4,{"$f":"INDEX('Payer-ConceptMap-2'!$I$15:$N$270,Q168+1,R168)","v":0}]
[null,null,null,null,null,null,null,null,null,null,null,null,null,null,null,155,25,5,{"$f":"INDEX('Payer-ConceptMap-2'!$I$15:$N$270,Q169+1,R169)","v":0}]
[null,null,null,null,null,null,null,null,null,null,null,null,null,null,null,156,25,6,{"$f":"INDEX('Payer-ConceptMap-2'!$I$15:$N$270,Q170+1,R170)","v":0}]
[null,null,null,null,null,null,null,null,null,null,null,null,null,null,null,157,26,1,{"$f":"INDEX('Payer-ConceptMap-2'!$I$15:$N$270,Q171+1,R171)","v":0}]
[null,null,null,null,null,null,null,null,null,null,null,null,null,null,null,158,26,2,{"$f":"INDEX('Payer-ConceptMap-2'!$I$15:$N$270,Q172+1,R172)","v":0}]
[null,null,null,null,null,null,null,null,null,null,null,null,null,null,null,159,26,3,{"$f":"INDEX('Payer-ConceptMap-2'!$I$15:$N$270,Q173+1,R173)","v":0}]
[null,null,null,null,null,null,null,null,null,null,null,null,null,null,null,160,26,4,{"$f":"INDEX('Payer-ConceptMap-2'!$I$15:$N$270,Q174+1,R174)","v":0}]
[null,null,null,null,null,null,null,null,null,null,null,null,null,null,null,161,26,5,{"$f":"INDEX('Payer-ConceptMap-2'!$I$15:$N$270,Q175+1,R175)","v":0}]
[null,null,null,null,null,null,null,null,null,null,null,null,null,null,null,162,26,6,{"$f":"INDEX('Payer-ConceptMap-2'!$I$15:$N$270,Q176+1,R176)","v":0}]
[null,null,null,null,null,null,null,null,null,null,null,null,null,null,null,163,27,1,{"$f":"INDEX('Payer-ConceptMap-2'!$I$15:$N$270,Q177+1,R177)","v":0}]
[null,null,null,null,null,null,null,null,null,null,null,null,null,null,null,164,27,2,{"$f":"INDEX('Payer-ConceptMap-2'!$I$15:$N$270,Q178+1,R178)","v":0}]
[null,null,null,null,null,null,null,null,null,null,null,null,null,null,null,165,27,3,{"$f":"INDEX('Payer-ConceptMap-2'!$I$15:$N$270,Q179+1,R179)","v":0}]
[null,null,null,null,null,null,null,null,null,null,null,null,null,null,null,166,27,4,{"$f":"INDEX('Payer-ConceptMap-2'!$I$15:$N$270,Q180+1,R180)","v":0}]
[null,null,null,null,null,null,null,null,null,null,null,null,null,null,null,167,27,5,{"$f":"INDEX('Payer-ConceptMap-2'!$I$15:$N$270,Q181+1,R181)","v":0}]
[null,null,null,null,null,null,null,null,null,null,null,null,null,null,null,168,27,6,{"$f":"INDEX('Payer-ConceptMap-2'!$I$15:$N$270,Q182+1,R182)","v":0}]
[null,null,null,null,null,null,null,null,null,null,null,null,null,null,null,169,28,1,{"$f":"INDEX('Payer-ConceptMap-2'!$I$15:$N$270,Q183+1,R183)","v":0}]
[null,null,null,null,null,null,null,null,null,null,null,null,null,null,null,170,28,2,{"$f":"INDEX('Payer-ConceptMap-2'!$I$15:$N$270,Q184+1,R184)","v":0}]
[null,null,null,null,null,null,null,null,null,null,null,null,null,null,null,171,{"$f":"IF(MOD(P185,$Q$8)=0,P185/$Q$8-1,INT(P185/$Q$8))","v":28},{"$f":"IF(MOD(P185,$Q$8)=0,$Q$8,MOD(P185,$Q$8))","v":3},{"$f":"INDEX('Payer-ConceptMap-2'!$I$15:$N$270,Q185+1,R185)","v":0}]
[null,null,null,null,null,null,null,null,null,null,null,null,null,null,null,172,28,4,{"$f":"INDEX('Payer-ConceptMap-2'!$I$15:$N$270,Q186+1,R186)","v":0}]
[null,null,null,null,null,null,null,null,null,null,null,null,null,null,null,173,28,5,{"$f":"INDEX('Payer-ConceptMap-2'!$I$15:$N$270,Q187+1,R187)","v":0}]
[null,null,null,null,null,null,null,null,null,null,null,null,null,null,null,174,28,6,{"$f":"INDEX('Payer-ConceptMap-2'!$I$15:$N$270,Q188+1,R188)","v":0}]
[null,null,null,null,null,null,null,null,null,null,null,null,null,null,null,175,29,1,{"$f":"INDEX('Payer-ConceptMap-2'!$I$15:$N$270,Q189+1,R189)","v":0}]
[null,null,null,null,null,null,null,null,null,null,null,null,null,null,null,176,29,2,{"$f":"INDEX('Payer-ConceptMap-2'!$I$15:$N$270,Q190+1,R190)","v":0}]

{"sheet":"Payer-ConceptMap-3","index":56,"n_rows":187,"n_cols":19,"rows_kept":187,"cut":false,"hidden":false,"merged":[[2,4,2,6],[3,4,3,6],[5,4,5,6],[6,4,6,6]]}
[]
[]
[null,"Mapping",{"$f":"'Payer-ConceptMap-1'!C3","v":"Payer2Fhir"},"Source URI",{"$f":"'Payer-ConceptMap-1'!E3","v":"http://hl7.eu/fhir/ig/xpandh/ps/StructureDefinition/Payer"}]
[null,"Id",{"$f":"'Payer-ConceptMap-1'!C4","v":"payer2FHIR-eu-ps"},"Target URI",{"$f":"'Payer-ConceptMap-1'!E4","v":"http://hl7.eu/fhir/ig/xpandh/ps/StructureDefinition/Bundle-eu-ps"}]
[null,"Title",{"$f":"'Payer-ConceptMap-1'!C5","v":"eHN Payer to this guide Map"}]
[null,"Source",{"$f":"'Payer-ConceptMap-1'!C6","v":"http://hl7.eu/fhir/ig/xpandh/ps/StructureDefinition/PatientSummary"},"Source Group",{"$f":"E3","v":"http://hl7.eu/fhir/ig/xpandh/ps/StructureDefinition/Payer"}]
[null,"Target",{"$f":"'Payer-ConceptMap-1'!C7","v":"http://hl7.eu/fhir/ig/xpandh/ps"},"Target Group","http://hl7.eu/fhir/ig/xpandh/ps/StructureDefinition/Patient-eu-ps"]
[null,"description",{"$f":"'Payer-ConceptMap-1'!C8","v":"eHN Payer Model to this guide Map"},null,null,null,null,null,"* group[=].element[+].code = #Osiris.Patient.BirthDate","* group[=].element[=].display = \"Birth Date [C4]\"","* group[=].element[=].target.code = #Subject.dateOfBirth.date","* group[=].element[=].target.display = \"Date of birth\"","* group[=].element[=].target.equivalence = #equivalent",null,null,"Elements",6]
[null,"purpose",{"$f":"'Payer-ConceptMap-1'!C9","v":"It shows how the Patient Summary Payer data set defined by the EU eHN guidelines is mapped into this guide"}]
[]
[null,null,null,null,null,null,null,null,"source:code","source:display","code","display","target to source","Comment"]
[]
[null,null,null,null,null,"target to source","Comment"]
[null,{"$f":"'A1.3 Payer'!B5","v":"Payer"},null,"Patient",null,"unmatched"]
[null,{"$f":"'A1.3 Payer'!B8","v":"insurance"},{"$f":"'A1.3 Payer'!C8","v":"A.1.3.1 Health insurance information"},null,null,"unmatched",null,null,{"$f":"\"* group[=].element[+].code = #\"&$B$14&\".\"&B15","v":"* group[=].element[+].code = #Payer.insurance"},{"$f":"\"* group[=].element[=].display = ##34#\"&C15&\"##34#\"","v":"* group[=].element[=].display = ##34#A.1.3.1 Health insurance information##34#"},{"$f":"IF(F15=\"unmatched\",\"//-- unmatched\",IF(D15=\"\",\"* group[=].element[=].target.code = #\"&$D$14,\"* group[=].element[=].target.code = #\"&$D$14&\".\"&D15))","v":"//-- unmatched"},{"$f":"IF(F15=\"unmatched\",\"//-- unmatched\",\"* group[=].element[=].target.display = ##34#\"&E15&\"##34#\")","v":"//-- unmatched"},{"$f":"\"* group[=].element[=].target.equivalence = #\"&F15","v":"* group[=].element[=].target.equivalence = #unmatched"},{"$f":"IF(G15<>\"\",CONCATENATE(\"* group[=].element[=].target.comment = \",\"##34#\",G15,\"##34#\"),\"\")","v":""},null,1,{"$f":"IF(MOD(P15,$Q$8)=0,P15/$Q$8-1,INT(P15/$Q$8))","v":0},{"$f":"IF(MOD(P15,$Q$8)=0,$Q$8,MOD(P15,$Q$8))","v":1},{"$f":"INDEX('Payer-ConceptMap-3'!$I$15:$N$267,Q15+1,R15)","v":"* group[=].element[+].code = #Payer.insurance"}]
[null,{"$f":"'A1.3 Payer'!B9","v":"insurance.identifier"},{"$f":"'A1.3 Payer'!C9","v":"A.1.3.1.1 Health insurance code"},null,null,"unmatched",null,null,{"$f":"\"* group[=].element[+].code = #\"&$B$14&\".\"&B16","v":"* group[=].element[+].code = #Payer.insurance.identifier"},"* group[=].element[=].display = ##34#A.1.3.1.1 Health insurance code##34#",{"$f":"IF(F16=\"unmatched\",\"//-- unmatched\",IF(D16=\"\",\"* group[=].element[=].target.code = #\"&$D$14,\"* group[=].element[=].target.code = #\"&$D$14&\".\"&D16))","v":"//-- unmatched"},"//-- unmatched","* group[=].element[=].target.equivalence = #unmatched","",null,2,{"$f":"IF(MOD(P16,$Q$8)=0,P16/$Q$8-1,INT(P16/$Q$8))","v":0},{"$f":"IF(MOD(P16,$Q$8)=0,$Q$8,MOD(P16,$Q$8))","v":2},{"$f":"INDEX('Payer-ConceptMap-3'!$I$15:$N$267,Q16+1,R16)","v":"* group[=].element[=].display = ##34#A.1.3.1 Health insurance information##34#"}]
[null,{"$f":"'A1.3 Payer'!B10","v":"insurance.name"},{"$f":"'A1.3 Payer'!C10","v":"A.1.3.1.2 Health insurance name"},null,null,"unmatched",null,null,{"$f":"\"* group[=].element[+].code = #\"&$B$14&\".\"&B17","v":"* group[=].element[+].code = #Payer.insurance.name"},{"$f":"\"* group[=].element[=].display = ##34#\"&C17&\"##34#\"","v":"* group[=].element[=].display = ##34#A.1.3.1.2 Health insurance name##34#"},{"$f":"IF(F17=\"unmatched\",\"//-- unmatched\",IF(D17=\"\",\"* group[=].element[=].target.code = #\"&$D$14,\"* group[=].element[=].target.code = #\"&$D$14&\".\"&D17))","v":"//-- unmatched"},{"$f":"IF(F17=\"unmatched\",\"//-- unmatched\",\"* group[=].element[=].target.display = ##34#\"&E17&\"##34#\")","v":"//-- unmatched"},{"$f":"\"* group[=].element[=].target.equivalence = #\"&F17","v":"* group[=].element[=].target.equivalence = #unmatched"},{"$f":"IF(G17<>\"\",CONCATENATE(\"* group[=].element[=].target.comment = \",\"##34#\",G17,\"##34#\"),\"\")","v":""},null,3,0,3,{"$f":"INDEX('Payer-ConceptMap-3'!$I$15:$N$267,Q17+1,R17)","v":"//-- unmatched"}]
[null,{"$f":"'A1.3 Payer'!$B$11","v":"insurance.subjectIdentifier"},{"$f":"'A1.3 Payer'!$C$11","v":"A.1.3.1.3 Health insurance number"},"identifier",null,"relatedto","Sometimes the identifier assigned by the payor (e.g. the SSN) is used as one of the Patient Identifiers",null,"* group[=].element[+].code = #Payer.insurance.subjectIdentifier","* group[=].element[=].display = ##34#A.1.3.1.3 Health insurance number##34#","* group[=].element[=].target.code = #Patient.identifier","* group[=].element[=].target.display = ##34###34#","* group[=].element[=].target.equivalence = #relatedto","* group[=].element[=].target.comment = ##34#Sometimes the identifier assigned by the payor (e.g. the SSN) is used as one of the Patient Identifiers##34#",null,4,0,4,{"$f":"INDEX('Payer-ConceptMap-3'!$I$15:$N$267,Q18+1,R18)","v":"//-- unmatched"}]
[null,null,null,null,null,null,null,null,null,null,null,null,null,null,null,5,0,5,{"$f":"INDEX('Payer-ConceptMap-3'!$I$15:$N$267,Q19+1,R19)","v":"* group[=].element[=].target.equivalence = #unmatched"}]
[null,null,null,null,null,null,null,null,null,null,null,null,null,null,null,6,0,6,{"$f":"INDEX('Payer-ConceptMap-3'!$I$15:$N$267,Q20+1,R20)","v":""}]
[null,null,null,null,null,null,null,null,null,null,null,null,null,null,null,7,1,1,{"$f":"INDEX('Payer-ConceptMap-3'!$I$15:$N$267,Q21+1,R21)","v":"* group[=].element[+].code = #Payer.insurance.identifier"}]
[null,null,null,null,null,null,null,null,null,null,null,null,null,null,null,8,1,2,{"$f":"INDEX('Payer-ConceptMap-3'!$I$15:$N$267,Q22+1,R22)","v":"* group[=].element[=].display = ##34#A.1.3.1.1 Health insurance code##34#"}]
[null,null,null,null,null,null,null,null,null,null,null,null,null,null,null,9,1,3,{"$f":"INDEX('Payer-ConceptMap-3'!$I$15:$N$267,Q23+1,R23)","v":"//-- unmatched"}]
[null,null,null,null,null,null,null,null,null,null,null,null,null,null,null,10,1,4,{"$f":"INDEX('Payer-ConceptMap-3'!$I$15:$N$267,Q24+1,R24)","v":"//-- unmatched"}]
[null,null,null,null,null,null,null,null,null,null,null,null,null,null,null,11,1,5,{"$f":"INDEX('Payer-ConceptMap-3'!$I$15:$N$267,Q25+1,R25)","v":"* group[=].element[=].target.equivalence = #unmatched"}]
[null,null,null,null,null,null,null,null,null,null,null,null,null,null,null,12,1,6,{"$f":"INDEX('Payer-ConceptMap-3'!$I$15:$N$267,Q26+1,R26)","v":""}]
[null,null,null,null,null,null,null,null,null,null,null,null,null,null,null,13,2,1,{"$f":"INDEX('Payer-ConceptMap-3'!$I$15:$N$267,Q27+1,R27)","v":"* group[=].element[+].code = #Payer.insurance.name"}]
[null,null,null,null,null,null,null,null,null,null,null,null,null,null,null,14,2,2,{"$f":"INDEX('Payer-ConceptMap-3'!$I$15:$N$267,Q28+1,R28)","v":"* group[=].element[=].display = ##34#A.1.3.1.2 Health insurance name##34#"}]
[null,null,null,null,null,null,null,null,null,null,null,null,null,null,null,15,2,3,{"$f":"INDEX('Payer-ConceptMap-3'!$I$15:$N$267,Q29+1,R29)","v":"//-- unmatched"}]
[null,null,null,null,null,null,null,null,null,null,null,null,null,null,null,16,2,4,{"$f":"INDEX('Payer-ConceptMap-3'!$I$15:$N$267,Q30+1,R30)","v":"//-- unmatched"}]
[null,null,null,null,null,null,null,null,null,null,null,null,null,null,null,17,2,5,{"$f":"INDEX('Payer-ConceptMap-3'!$I$15:$N$267,Q31+1,R31)","v":"* group[=].element[=].target.equivalence = #unmatched"}]
[null,null,null,null,null,null,null,null,null,null,null,null,null,null,null,18,2,6,{"$f":"INDEX('Payer-ConceptMap-3'!$I$15:$N$267,Q32+1,R32)","v":""}]
[null,null,null,null,null,null,null,null,null,null,null,null,null,null,null,19,3,1,{"$f":"INDEX('Payer-ConceptMap-3'!$I$15:$N$267,Q33+1,R33)","v":"* group[=].element[+].code = #Payer.insurance.subjectIdentifier"}]
[null,null,null,null,null,null,null,null,null,null,null,null,null,null,null,20,3,2,{"$f":"INDEX('Payer-ConceptMap-3'!$I$15:$N$267,Q34+1,R34)","v":"* group[=].element[=].display = ##34#A.1.3.1.3 Health insurance number##34#"}]
[null,null,null,null,null,null,null,null,null,null,null,null,null,null,null,21,3,3,{"$f":"INDEX('Payer-ConceptMap-3'!$I$15:$N$267,Q35+1,R35)","v":"* group[=].element[=].target.code = #Patient.identifier"}]
[null,null,null,null,null,null,null,null,null,null,null,null,null,null,null,22,3,4,{"$f":"INDEX('Payer-ConceptMap-3'!$I$15:$N$267,Q36+1,R36)","v":"* group[=].element[=].target.display = ##34###34#"}]
[null,null,null,null,null,null,null,null,null,null,null,null,null,null,null,23,3,5,{"$f":"INDEX('Payer-ConceptMap-3'!$I$15:$N$267,Q37+1,R37)","v":"* group[=].element[=].target.equivalence = #relatedto"}]
[null,null,null,null,null,null,null,null,null,null,null,null,null,null,null,24,3,6,{"$f":"INDEX('Payer-ConceptMap-3'!$I$15:$N$267,Q38+1,R38)","v":"* group[=].element[=].target.comment = ##34#Sometimes the identifier assigned by the payor (e.g. the SSN) is used as one of the Patient Identifiers##34#"}]
[null,null,null,null,null,null,null,null,null,null,null,null,null,null,null,25,4,1,{"$f":"INDEX('Payer-ConceptMap-3'!$I$15:$N$267,Q39+1,R39)","v":0}]
[null,null,null,null,null,null,null,null,null,null,null,null,null,null,null,26,4,2,{"$f":"INDEX('Payer-ConceptMap-3'!$I$15:$N$267,Q40+1,R40)","v":0}]
[null,null,null,null,null,null,null,null,null,null,null,null,null,null,null,27,4,3,{"$f":"INDEX('Payer-ConceptMap-3'!$I$15:$N$267,Q41+1,R41)","v":0}]
[null,null,null,null,null,null,null,null,null,null,null,null,null,null,null,28,4,4,{"$f":"INDEX('Payer-ConceptMap-3'!$I$15:$N$267,Q42+1,R42)","v":0}]
[null,null,null,null,null,null,null,null,null,null,null,null,null,null,null,29,4,5,{"$f":"INDEX('Payer-ConceptMap-3'!$I$15:$N$267,Q43+1,R43)","v":0}]
[null,null,null,null,null,null,null,null,null,null,null,null,null,null,null,30,4,6,{"$f":"INDEX('Payer-ConceptMap-3'!$I$15:$N$267,Q44+1,R44)","v":0}]
[null,null,null,null,null,null,null,null,null,null,null,null,null,null,null,31,5,1,{"$f":"INDEX('Payer-ConceptMap-3'!$I$15:$N$267,Q45+1,R45)","v":0}]
[null,null,null,null,null,null,null,null,null,null,null,null,null,null,null,32,5,2,{"$f":"INDEX('Payer-ConceptMap-3'!$I$15:$N$267,Q46+1,R46)","v":0}]
[null,null,null,null,null,null,null,null,null,null,null,null,null,null,null,33,5,3,{"$f":"INDEX('Payer-ConceptMap-3'!$I$15:$N$267,Q47+1,R47)","v":0}]
[null,null,null,null,null,null,null,null,null,null,null,null,null,null,null,34,5,4,{"$f":"INDEX('Payer-ConceptMap-3'!$I$15:$N$267,Q48+1,R48)","v":0}]
[null,null,null,null,null,null,null,null,null,null,null,null,null,null,null,35,5,5,{"$f":"INDEX('Payer-ConceptMap-3'!$I$15:$N$267,Q49+1,R49)","v":0}]
[null,null,null,null,null,null,null,null,null,null,null,null,null,null,null,36,5,6,{"$f":"INDEX('Payer-ConceptMap-3'!$I$15:$N$267,Q50+1,R50)","v":0}]
[null,null,null,null,null,null,null,null,null,null,null,null,null,null,null,37,6,1,{"$f":"INDEX('Payer-ConceptMap-3'!$I$15:$N$267,Q51+1,R51)","v":0}]
[null,null,null,null,null,null,null,null,null,null,null,null,null,null,null,38,6,2,{"$f":"INDEX('Payer-ConceptMap-3'!$I$15:$N$267,Q52+1,R52)","v":0}]
[null,null,null,null,null,null,null,null,null,null,null,null,null,null,null,39,6,3,{"$f":"INDEX('Payer-ConceptMap-3'!$I$15:$N$267,Q53+1,R53)","v":0}]
[null,null,null,null,null,null,null,null,null,null,null,null,null,null,null,40,6,4,{"$f":"INDEX('Payer-ConceptMap-3'!$I$15:$N$267,Q54+1,R54)","v":0}]
[null,null,null,null,null,null,null,null,null,null,null,null,null,null,null,41,6,5,{"$f":"INDEX('Payer-ConceptMap-3'!$I$15:$N$267,Q55+1,R55)","v":0}]
[null,null,null,null,null,null,null,null,null,null,null,null,null,null,null,42,6,6,{"$f":"INDEX('Payer-ConceptMap-3'!$I$15:$N$267,Q56+1,R56)","v":0}]
[null,null,null,null,null,null,null,null,null,null,null,null,null,null,null,43,7,1,{"$f":"INDEX('Payer-ConceptMap-3'!$I$15:$N$267,Q57+1,R57)","v":0}]
[null,null,null,null,null,null,null,null,null,null,null,null,null,null,null,44,7,2,{"$f":"INDEX('Payer-ConceptMap-3'!$I$15:$N$267,Q58+1,R58)","v":0}]
[null,null,null,null,null,null,null,null,null,null,null,null,null,null,null,45,7,3,{"$f":"INDEX('Payer-ConceptMap-3'!$I$15:$N$267,Q59+1,R59)","v":0}]
[null,null,null,null,null,null,null,null,null,null,null,null,null,null,null,46,7,4,{"$f":"INDEX('Payer-ConceptMap-3'!$I$15:$N$267,Q60+1,R60)","v":0}]
[null,null,null,null,null,null,null,null,null,null,null,null,null,null,null,47,7,5,{"$f":"INDEX('Payer-ConceptMap-3'!$I$15:$N$267,Q61+1,R61)","v":0}]
[null,null,null,null,null,null,null,null,null,null,null,null,null,null,null,48,7,6,{"$f":"INDEX('Payer-ConceptMap-3'!$I$15:$N$267,Q62+1,R62)","v":0}]
[null,null,null,null,null,null,null,null,null,null,null,null,null,null,null,49,8,1,{"$f":"INDEX('Payer-ConceptMap-3'!$I$15:$N$267,Q63+1,R63)","v":0}]
[null,null,null,null,null,null,null,null,null,null,null,null,null,null,null,50,8,2,{"$f":"INDEX('Payer-ConceptMap-3'!$I$15:$N$267,Q64+1,R64)","v":0}]
[null,null,null,null,null,null,null,null,null,null,null,null,null,null,null,51,8,3,{"$f":"INDEX('Payer-ConceptMap-3'!$I$15:$N$267,Q65+1,R65)","v":0}]
[null,null,null,null,null,null,null,null,null,null,null,null,null,null,null,52,8,4,{"$f":"INDEX('Payer-ConceptMap-3'!$I$15:$N$267,Q66+1,R66)","v":0}]
[null,null,null,null,null,null,null,null,null,null,null,null,null,null,null,53,8,5,{"$f":"INDEX('Payer-ConceptMap-3'!$I$15:$N$267,Q67+1,R67)","v":0}]
[null,null,null,null,null,null,null,null,null,null,null,null,null,null,null,54,8,6,{"$f":"INDEX('Payer-ConceptMap-3'!$I$15:$N$267,Q68+1,R68)","v":0}]
[null,null,null,null,null,null,null,null,null,null,null,null,null,null,null,55,9,1,{"$f":"INDEX('Payer-ConceptMap-3'!$I$15:$N$267,Q69+1,R69)","v":0}]
[null,null,null,null,null,null,null,null,null,null,null,null,null,null,null,56,9,2,{"$f":"INDEX('Payer-ConceptMap-3'!$I$15:$N$267,Q70+1,R70)","v":0}]
[null,null,null,null,null,null,null,null,null,null,null,null,null,null,null,57,9,3,{"$f":"INDEX('Payer-ConceptMap-3'!$I$15:$N$267,Q71+1,R71)","v":0}]
[null,null,null,null,null,null,null,null,null,null,null,null,null,null,null,58,9,4,{"$f":"INDEX('Payer-ConceptMap-3'!$I$15:$N$267,Q72+1,R72)","v":0}]
[null,null,null,null,null,null,null,null,null,null,null,null,null,null,null,59,9,5,{"$f":"INDEX('Payer-ConceptMap-3'!$I$15:$N$267,Q73+1,R73)","v":0}]
[null,null,null,null,null,null,null,null,null,null,null,null,null,null,null,60,9,6,{"$f":"INDEX('Payer-ConceptMap-3'!$I$15:$N$267,Q74+1,R74)","v":0}]
[null,null,null,null,null,null,null,null,null,null,null,null,null,null,null,61,10,1,{"$f":"INDEX('Payer-ConceptMap-3'!$I$15:$N$267,Q75+1,R75)","v":0}]
[null,null,null,null,null,null,null,null,null,null,null,null,null,null,null,62,10,2,{"$f":"INDEX('Payer-ConceptMap-3'!$I$15:$N$267,Q76+1,R76)","v":0}]
[null,null,null,null,null,null,null,null,null,null,null,null,null,null,null,63,10,3,{"$f":"INDEX('Payer-ConceptMap-3'!$I$15:$N$267,Q77+1,R77)","v":0}]
[]
[]
[]
[]
[]
[]
[]
[]
[]
[]
[]
[]
[]
[]
[]
[]
[]
[]
[]
[]
[]
[]
[]
[]
[]
[]
[]
[]
[]
[]
[]
[]
[]
[]
[]
[]
[]
[]
[]
[]
[null,null,null,null,null,null,null,null,null,null,null,null,null,null,null,107,{"$f":"IF(MOD(P118,$Q$8)=0,P118/$Q$8-1,INT(P118/$Q$8))","v":17},{"$f":"IF(MOD(P118,$Q$8)=0,$Q$8,MOD(P118,$Q$8))","v":5},{"$f":"INDEX('Payer-ConceptMap-3'!$I$15:$N$267,Q118+1,R118)","v":0}]
[null,null,null,null,null,null,null,null,null,null,null,null,null,null,null,108,17,6,{"$f":"INDEX('Payer-ConceptMap-3'!$I$15:$N$267,Q119+1,R119)","v":0}]
[null,null,null,null,null,null,null,null,null,null,null,null,null,null,null,109,18,1,{"$f":"INDEX('Payer-ConceptMap-3'!$I$15:$N$267,Q120+1,R120)","v":0}]
[null,null,null,null,null,null,null,null,null,null,null,null,null,null,null,110,18,2,{"$f":"INDEX('Payer-ConceptMap-3'!$I$15:$N$267,Q121+1,R121)","v":0}]
[null,null,null,null,null,null,null,null,null,null,null,null,null,null,null,111,18,3,{"$f":"INDEX('Payer-ConceptMap-3'!$I$15:$N$267,Q122+1,R122)","v":0}]
[null,null,null,null,null,null,null,null,null,null,null,null,null,null,null,112,18,4,{"$f":"INDEX('Payer-ConceptMap-3'!$I$15:$N$267,Q123+1,R123)","v":0}]
[null,null,null,null,null,null,null,null,null,null,null,null,null,null,null,113,18,5,{"$f":"INDEX('Payer-ConceptMap-3'!$I$15:$N$267,Q124+1,R124)","v":0}]
[null,null,null,null,null,null,null,null,null,null,null,null,null,null,null,114,18,6,{"$f":"INDEX('Payer-ConceptMap-3'!$I$15:$N$267,Q125+1,R125)","v":0}]
[null,null,null,null,null,null,null,null,null,null,null,null,null,null,null,115,19,1,{"$f":"INDEX('Payer-ConceptMap-3'!$I$15:$N$267,Q126+1,R126)","v":0}]
[null,null,null,null,null,null,null,null,null,null,null,null,null,null,null,116,19,2,{"$f":"INDEX('Payer-ConceptMap-3'!$I$15:$N$267,Q127+1,R127)","v":0}]
[null,null,null,null,null,null,null,null,null,null,null,null,null,null,null,117,19,3,{"$f":"INDEX('Payer-ConceptMap-3'!$I$15:$N$267,Q128+1,R128)","v":0}]
[null,null,null,null,null,null,null,null,null,null,null,null,null,null,null,118,19,4,{"$f":"INDEX('Payer-ConceptMap-3'!$I$15:$N$267,Q129+1,R129)","v":0}]
[null,null,null,null,null,null,null,null,null,null,null,null,null,null,null,119,19,5,{"$f":"INDEX('Payer-ConceptMap-3'!$I$15:$N$267,Q130+1,R130)","v":0}]
[null,null,null,null,null,null,null,null,null,null,null,null,null,null,null,120,19,6,{"$f":"INDEX('Payer-ConceptMap-3'!$I$15:$N$267,Q131+1,R131)","v":0}]
[null,null,null,null,null,null,null,null,null,null,null,null,null,null,null,121,20,1,{"$f":"INDEX('Payer-ConceptMap-3'!$I$15:$N$267,Q132+1,R132)","v":0}]
[null,null,null,null,null,null,null,null,null,null,null,null,null,null,null,122,20,2,{"$f":"INDEX('Payer-ConceptMap-3'!$I$15:$N$267,Q133+1,R133)","v":0}]
[null,null,null,null,null,null,null,null,null,null,null,null,null,null,null,123,20,3,{"$f":"INDEX('Payer-ConceptMap-3'!$I$15:$N$267,Q134+1,R134)","v":0}]
[null,null,null,null,null,null,null,null,null,null,null,null,null,null,null,124,20,4,{"$f":"INDEX('Payer-ConceptMap-3'!$I$15:$N$267,Q135+1,R135)","v":0}]
[null,null,null,null,null,null,null,null,null,null,null,null,null,null,null,125,20,5,{"$f":"INDEX('Payer-ConceptMap-3'!$I$15:$N$267,Q136+1,R136)","v":0}]
[null,null,null,null,null,null,null,null,null,null,null,null,null,null,null,126,20,6,{"$f":"INDEX('Payer-ConceptMap-3'!$I$15:$N$267,Q137+1,R137)","v":0}]
[null,null,null,null,null,null,null,null,null,null,null,null,null,null,null,127,21,1,{"$f":"INDEX('Payer-ConceptMap-3'!$I$15:$N$267,Q138+1,R138)","v":0}]
[null,null,null,null,null,null,null,null,null,null,null,null,null,null,null,128,21,2,{"$f":"INDEX('Payer-ConceptMap-3'!$I$15:$N$267,Q139+1,R139)","v":0}]
[null,null,null,null,null,null,null,null,null,null,null,null,null,null,null,129,21,3,{"$f":"INDEX('Payer-ConceptMap-3'!$I$15:$N$267,Q140+1,R140)","v":0}]
[null,null,null,null,null,null,null,null,null,null,null,null,null,null,null,130,21,4,{"$f":"INDEX('Payer-ConceptMap-3'!$I$15:$N$267,Q141+1,R141)","v":0}]
[null,null,null,null,null,null,null,null,null,null,null,null,null,null,null,131,21,5,{"$f":"INDEX('Payer-ConceptMap-3'!$I$15:$N$267,Q142+1,R142)","v":0}]
[null,null,null,null,null,null,null,null,null,null,null,null,null,null,null,132,21,6,{"$f":"INDEX('Payer-ConceptMap-3'!$I$15:$N$267,Q143+1,R143)","v":0}]
[null,null,null,null,null,null,null,null,null,null,null,null,null,null,null,133,22,1,{"$f":"INDEX('Payer-ConceptMap-3'!$I$15:$N$267,Q144+1,R144)","v":0}]
[null,null,null,null,null,null,null,null,null,null,null,null,null,null,null,134,22,2,{"$f":"INDEX('Payer-ConceptMap-3'!$I$15:$N$267,Q145+1,R145)","v":0}]
[null,null,null,null,null,null,null,null,null,null,null,null,null,null,null,135,22,3,{"$f":"INDEX('Payer-ConceptMap-3'!$I$15:$N$267,Q146+1,R146)","v":0}]
[null,null,null,null,null,null,null,null,null,null,null,null,null,null,null,136,22,4,{"$f":"INDEX('Payer-ConceptMap-3'!$I$15:$N$267,Q147+1,R147)","v":0}]
[null,null,null,null,null,null,null,null,null,null,null,null,null,null,null,137,22,5,{"$f":"INDEX('Payer-ConceptMap-3'!$I$15:$N$267,Q148+1,R148)","v":0}]
[null,null,null,null,null,null,null,null,null,null,null,null,null,null,null,138,22,6,{"$f":"INDEX('Payer-ConceptMap-3'!$I$15:$N$267,Q149+1,R149)","v":0}]
[null,null,null,null,null,null,null,null,null,null,null,null,null,null,null,139,23,1,{"$f":"INDEX('Payer-ConceptMap-3'!$I$15:$N$267,Q150+1,R150)","v":0}]
[null,null,null,null,null,null,null,null,null,null,null,null,null,null,null,140,23,2,{"$f":"INDEX('Payer-ConceptMap-3'!$I$15:$N$267,Q151+1,R151)","v":0}]
[null,null,null,null,null,null,null,null,null,null,null,null,null,null,null,141,23,3,{"$f":"INDEX('Payer-ConceptMap-3'!$I$15:$N$267,Q152+1,R152)","v":0}]
[null,null,null,null,null,null,null,null,null,null,null,null,null,null,null,142,23,4,{"$f":"INDEX('Payer-ConceptMap-3'!$I$15:$N$267,Q153+1,R153)","v":0}]
[null,null,null,null,null,null,null,null,null,null,null,null,null,null,null,143,23,5,{"$f":"INDEX('Payer-ConceptMap-3'!$I$15:$N$267,Q154+1,R154)","v":0}]
[null,null,null,null,null,null,null,null,null,null,null,null,null,null,null,144,23,6,{"$f":"INDEX('Payer-ConceptMap-3'!$I$15:$N$267,Q155+1,R155)","v":0}]
[null,null,null,null,null,null,null,null,null,null,null,null,null,null,null,145,24,1,{"$f":"INDEX('Payer-ConceptMap-3'!$I$15:$N$267,Q156+1,R156)","v":0}]
[null,null,null,null,null,null,null,null,null,null,null,null,null,null,null,146,24,2,{"$f":"INDEX('Payer-ConceptMap-3'!$I$15:$N$267,Q157+1,R157)","v":0}]
[null,null,null,null,null,null,null,null,null,null,null,null,null,null,null,147,24,3,{"$f":"INDEX('Payer-ConceptMap-3'!$I$15:$N$267,Q158+1,R158)","v":0}]
[null,null,null,null,null,null,null,null,null,null,null,null,null,null,null,148,24,4,{"$f":"INDEX('Payer-ConceptMap-3'!$I$15:$N$267,Q159+1,R159)","v":0}]
[null,null,null,null,null,null,null,null,null,null,null,null,null,null,null,149,24,5,{"$f":"INDEX('Payer-ConceptMap-3'!$I$15:$N$267,Q160+1,R160)","v":0}]
[null,null,null,null,null,null,null,null,null,null,null,null,null,null,null,150,24,6,{"$f":"INDEX('Payer-ConceptMap-3'!$I$15:$N$267,Q161+1,R161)","v":0}]
[null,null,null,null,null,null,null,null,null,null,null,null,null,null,null,151,25,1,{"$f":"INDEX('Payer-ConceptMap-3'!$I$15:$N$267,Q162+1,R162)","v":0}]
[null,null,null,null,null,null,null,null,null,null,null,null,null,null,null,152,25,2,{"$f":"INDEX('Payer-ConceptMap-3'!$I$15:$N$267,Q163+1,R163)","v":0}]
[null,null,null,null,null,null,null,null,null,null,null,null,null,null,null,153,25,3,{"$f":"INDEX('Payer-ConceptMap-3'!$I$15:$N$267,Q164+1,R164)","v":0}]
[null,null,null,null,null,null,null,null,null,null,null,null,null,null,null,154,25,4,{"$f":"INDEX('Payer-ConceptMap-3'!$I$15:$N$267,Q165+1,R165)","v":0}]
[null,null,null,null,null,null,null,null,null,null,null,null,null,null,null,155,25,5,{"$f":"INDEX('Payer-ConceptMap-3'!$I$15:$N$267,Q166+1,R166)","v":0}]
[null,null,null,null,null,null,null,null,null,null,null,null,null,null,null,156,25,6,{"$f":"INDEX('Payer-ConceptMap-3'!$I$15:$N$267,Q167+1,R167)","v":0}]
[null,null,null,null,null,null,null,null,null,null,null,null,null,null,null,157,26,1,{"$f":"INDEX('Payer-ConceptMap-3'!$I$15:$N$267,Q168+1,R168)","v":0}]
[null,null,null,null,null,null,null,null,null,null,null,null,null,null,null,158,26,2,{"$f":"INDEX('Payer-ConceptMap-3'!$I$15:$N$267,Q169+1,R169)","v":0}]
[null,null,null,null,null,null,null,null,null,null,null,null,null,null,null,159,26,3,{"$f":"INDEX('Payer-ConceptMap-3'!$I$15:$N$267,Q170+1,R170)","v":0}]
[null,null,null,null,null,null,null,null,null,null,null,null,null,null,null,160,26,4,{"$f":"INDEX('Payer-ConceptMap-3'!$I$15:$N$267,Q171+1,R171)","v":0}]
[null,null,null,null,null,null,null,null,null,null,null,null,null,null,null,161,26,5,{"$f":"INDEX('Payer-ConceptMap-3'!$I$15:$N$267,Q172+1,R172)","v":0}]
[null,null,null,null,null,null,null,null,null,null,null,null,null,null,null,162,26,6,{"$f":"INDEX('Payer-ConceptMap-3'!$I$15:$N$267,Q173+1,R173)","v":0}]
[null,null,null,null,null,null,null,null,null,null,null,null,null,null,null,163,27,1,{"$f":"INDEX('Payer-ConceptMap-3'!$I$15:$N$267,Q174+1,R174)","v":0}]
[null,null,null,null,null,null,null,null,null,null,null,null,null,null,null,164,27,2,{"$f":"INDEX('Payer-ConceptMap-3'!$I$15:$N$267,Q175+1,R175)","v":0}]
[null,null,null,null,null,null,null,null,null,null,null,null,null,null,null,165,27,3,{"$f":"INDEX('Payer-ConceptMap-3'!$I$15:$N$267,Q176+1,R176)","v":0}]
[null,null,null,null,null,null,null,null,null,null,null,null,null,null,null,166,27,4,{"$f":"INDEX('Payer-ConceptMap-3'!$I$15:$N$267,Q177+1,R177)","v":0}]
[null,null,null,null,null,null,null,null,null,null,null,null,null,null,null,167,27,5,{"$f":"INDEX('Payer-ConceptMap-3'!$I$15:$N$267,Q178+1,R178)","v":0}]
[null,null,null,null,null,null,null,null,null,null,null,null,null,null,null,168,27,6,{"$f":"INDEX('Payer-ConceptMap-3'!$I$15:$N$267,Q179+1,R179)","v":0}]
[null,null,null,null,null,null,null,null,null,null,null,null,null,null,null,169,28,1,{"$f":"INDEX('Payer-ConceptMap-3'!$I$15:$N$267,Q180+1,R180)","v":0}]
[null,null,null,null,null,null,null,null,null,null,null,null,null,null,null,170,28,2,{"$f":"INDEX('Payer-ConceptMap-3'!$I$15:$N$267,Q181+1,R181)","v":0}]
[null,null,null,null,null,null,null,null,null,null,null,null,null,null,null,171,{"$f":"IF(MOD(P182,$Q$8)=0,P182/$Q$8-1,INT(P182/$Q$8))","v":28},{"$f":"IF(MOD(P182,$Q$8)=0,$Q$8,MOD(P182,$Q$8))","v":3},{"$f":"INDEX('Payer-ConceptMap-3'!$I$15:$N$267,Q182+1,R182)","v":0}]
[null,null,null,null,null,null,null,null,null,null,null,null,null,null,null,172,28,4,{"$f":"INDEX('Payer-ConceptMap-3'!$I$15:$N$267,Q183+1,R183)","v":0}]
[null,null,null,null,null,null,null,null,null,null,null,null,null,null,null,173,28,5,{"$f":"INDEX('Payer-ConceptMap-3'!$I$15:$N$267,Q184+1,R184)","v":0}]
[null,null,null,null,null,null,null,null,null,null,null,null,null,null,null,174,28,6,{"$f":"INDEX('Payer-ConceptMap-3'!$I$15:$N$267,Q185+1,R185)","v":0}]
[null,null,null,null,null,null,null,null,null,null,null,null,null,null,null,175,29,1,{"$f":"INDEX('Payer-ConceptMap-3'!$I$15:$N$267,Q186+1,R186)","v":0}]
[null,null,null,null,null,null,null,null,null,null,null,null,null,null,null,176,29,2,{"$f":"INDEX('Payer-ConceptMap-3'!$I$15:$N$267,Q187+1,R187)","v":0}]

{"sheet":"Payer-CM-fsh","index":57,"n_rows":131,"n_cols":7,"rows_kept":131,"cut":false,"hidden":false,"merged":[]}
[null,"// -------------------------------------------------------------------------------"]
[null,"//  Concept Model. File: ",null,null,null,null,"payer-to-fhir-map.fsh"]
[null,"// -------------------------------------------------------------------------------"]
[null,{"$f":"\"Instance: \"&'Payer-ConceptMap-1'!C4","v":"Instance: payer2FHIR-eu-ps"}]
[null,"InstanceOf: ConceptMap"]
[null,"Usage: #definition"]
[null,"// * url = ##34#http://terminology.hl7.it/ConceptMap/ConceptMap-subject2osiris##34#"]
[null,{"$f":"\"* name = ##34#\"&'Payer-ConceptMap-1'!C3&\"##34#\"","v":"* name = ##34#Payer2Fhir##34#"}]
[null,{"$f":"\"* title = ##34#\"&'Payer-ConceptMap-1'!C5&\"##34#\"","v":"* title = ##34#eHN Payer to this guide Map##34#"}]
[null,"* status = #draft"]
[null,"* experimental = true"]
[null,{"$f":"\"* description = ##34#\"&'Payer-ConceptMap-1'!C8&\"##34#\"","v":"* description = ##34#eHN Payer Model to this guide Map##34#"}]
[null,{"$f":"\"* purpose = ##34#\"&'Payer-ConceptMap-1'!C9&\"##34#\"","v":"* purpose = ##34#It shows how the Patient Summary Payer data set defined by the EU eHN guidelines is mapped into this guide##34#"}]
[null,{"$f":"\"* sourceUri = ##34#\"&'Payer-ConceptMap-1'!E3&\"##34#\"","v":"* sourceUri = ##34#http://hl7.eu/fhir/ig/xpandh/ps/StructureDefinition/Payer##34#"}]
[null,{"$f":"\"* targetUri = ##34#\"&'Payer-ConceptMap-1'!E4&\"##34#\"","v":"* targetUri = ##34#http://hl7.eu/fhir/ig/xpandh/ps/StructureDefinition/Bundle-eu-ps##34#"}]
[]
[null,{"$f":"\"* group[+].source = ##34#\"&'Payer-ConceptMap-1'!E6&\"##34#\"","v":"* group[+].source = ##34#http://hl7.eu/fhir/ig/xpandh/ps/StructureDefinition/Payer##34#"}]
[null,{"$f":"\"* group[=].target = ##34#\"&'Payer-ConceptMap-1'!E7&\"##34#\"","v":"* group[=].target = ##34#http://hl7.eu/fhir/ig/xpandh/ps/StructureDefinition/ServiceRequest-eu-ps##34#"}]
[]
[null,{"$f":"IF('Payer-ConceptMap-1'!S15=0,\"//---END\",'Payer-ConceptMap-1'!S15)","v":"* group[=].element[+].code = #Payer.insurance"}]
[null,{"$f":"IF('Payer-ConceptMap-1'!S16=0,\"//---END\",'Payer-ConceptMap-1'!S16)","v":"* group[=].element[=].display = ##34#A.1.3.1 Health insurance information##34#"}]
[null,{"$f":"IF('Payer-ConceptMap-1'!S17=0,\"//---END\",'Payer-ConceptMap-1'!S17)","v":"* group[=].element[=].target.code = #ServiceRequest.insurance"}]
[null,{"$f":"IF('Payer-ConceptMap-1'!S18=0,\"//---END\",'Payer-ConceptMap-1'!S18)","v":"* group[=].element[=].target.display = ##34###34#"}]
[null,{"$f":"IF('Payer-ConceptMap-1'!S19=0,\"//---END\",'Payer-ConceptMap-1'!S19)","v":"* group[=].element[=].target.equivalence = #relatedto"}]
[null,{"$f":"IF('Payer-ConceptMap-1'!S20=0,\"//---END\",'Payer-ConceptMap-1'!S20)","v":"* group[=].element[=].target.comment = ##34#insurance.ofType(Coverage)##34#"}]
[null,{"$f":"IF('Payer-ConceptMap-1'!S21=0,\"//---END\",'Payer-ConceptMap-1'!S21)","v":"* group[=].element[+].code = #Payer.insurance.identifier"}]
[null,{"$f":"IF('Payer-ConceptMap-1'!S22=0,\"//---END\",'Payer-ConceptMap-1'!S22)","v":"* group[=].element[=].display = ##34#A.1.3.1.1 Health insurance code##34#"}]
[null,{"$f":"IF('Payer-ConceptMap-1'!S23=0,\"//---END\",'Payer-ConceptMap-1'!S23)","v":"* group[=].element[=].target.code = #ServiceRequest.insurance"}]
[null,{"$f":"IF('Payer-ConceptMap-1'!S24=0,\"//---END\",'Payer-ConceptMap-1'!S24)","v":"* group[=].element[=].target.display = ##34###34#"}]
[null,{"$f":"IF('Payer-ConceptMap-1'!S25=0,\"//---END\",'Payer-ConceptMap-1'!S25)","v":"* group[=].element[=].target.equivalence = #relatedto"}]
[null,{"$f":"IF('Payer-ConceptMap-1'!S26=0,\"//---END\",'Payer-ConceptMap-1'!S26)","v":"* group[=].element[=].target.comment = ##34#details in Group 2##34#"}]
[null,{"$f":"IF('Payer-ConceptMap-1'!S27=0,\"//---END\",'Payer-ConceptMap-1'!S27)","v":"* group[=].element[+].code = #Payer.insurance.name"}]
[null,{"$f":"IF('Payer-ConceptMap-1'!S28=0,\"//---END\",'Payer-ConceptMap-1'!S28)","v":"* group[=].element[=].display = ##34#A.1.3.1.2 Health insurance name##34#"}]
[null,{"$f":"IF('Payer-ConceptMap-1'!S29=0,\"//---END\",'Payer-ConceptMap-1'!S29)","v":"* group[=].element[=].target.code = #ServiceRequest.insurance"}]
[null,{"$f":"IF('Payer-ConceptMap-1'!S30=0,\"//---END\",'Payer-ConceptMap-1'!S30)","v":"* group[=].element[=].target.display = ##34###34#"}]
[null,{"$f":"IF('Payer-ConceptMap-1'!S31=0,\"//---END\",'Payer-ConceptMap-1'!S31)","v":"* group[=].element[=].target.equivalence = #relatedto"}]
[null,{"$f":"IF('Payer-ConceptMap-1'!S32=0,\"//---END\",'Payer-ConceptMap-1'!S32)","v":"* group[=].element[=].target.comment = ##34#details in Group 2##34#"}]
[null,{"$f":"IF('Payer-ConceptMap-1'!S33=0,\"//---END\",'Payer-ConceptMap-1'!S33)","v":"* group[=].element[+].code = #Payer.insurance.subjectIdentifier"}]
[null,{"$f":"IF('Payer-ConceptMap-1'!S34=0,\"//---END\",'Payer-ConceptMap-1'!S34)","v":"* group[=].element[=].display = ##34#A.1.3.1.3 Health insurance number##34#"}]
[null,{"$f":"IF('Payer-ConceptMap-1'!S35=0,\"//---END\",'Payer-ConceptMap-1'!S35)","v":"* group[=].element[=].target.code = #ServiceRequest.insurance"}]
[null,{"$f":"IF('Payer-ConceptMap-1'!S36=0,\"//---END\",'Payer-ConceptMap-1'!S36)","v":"* group[=].element[=].target.display = ##34###34#"}]
[null,{"$f":"IF('Payer-ConceptMap-1'!S37=0,\"//---END\",'Payer-ConceptMap-1'!S37)","v":"* group[=].element[=].target.equivalence = #relatedto"}]
[null,{"$f":"IF('Payer-ConceptMap-1'!S38=0,\"//---END\",'Payer-ConceptMap-1'!S38)","v":"* group[=].element[=].target.comment = ##34#details in Group 2##34#"}]
[null,{"$f":"IF('Payer-ConceptMap-1'!S39=0,\"//---END\",'Payer-ConceptMap-1'!S39)","v":"//---END"}]
[null,{"$f":"IF('Payer-ConceptMap-1'!S40=0,\"//---END\",'Payer-ConceptMap-1'!S40)","v":"//---END"}]
[null,{"$f":"IF('Payer-ConceptMap-1'!S41=0,\"//---END\",'Payer-ConceptMap-1'!S41)","v":"//---END"}]
[null,{"$f":"IF('Payer-ConceptMap-1'!S42=0,\"//---END\",'Payer-ConceptMap-1'!S42)","v":"//---END"}]
[]
[]
[null,{"$f":"\"* group[+].source = ##34#\"&'Payer-ConceptMap-2'!E6&\"##34#\"","v":"* group[+].source = ##34#http://hl7.eu/fhir/ig/xpandh/ps/StructureDefinition/Payer##34#"}]
[null,{"$f":"\"* group[=].target = ##34#\"&'Payer-ConceptMap-2'!E7&\"##34#\"","v":"* group[=].target = ##34#http://hl7.org/fhir/StructureDefinition/Coverage##34#"}]
[]
[null,{"$f":"IF('Payer-ConceptMap-2'!S15=0,\"//---END\",'Payer-ConceptMap-2'!S15)","v":"* group[=].element[+].code = #Payer.insurance"}]
[null,{"$f":"IF('Payer-ConceptMap-2'!S16=0,\"//---END\",'Payer-ConceptMap-2'!S16)","v":"* group[=].element[=].display = ##34#A.1.3.1 Health insurance information##34#"}]
[null,{"$f":"IF('Payer-ConceptMap-2'!S17=0,\"//---END\",'Payer-ConceptMap-2'!S17)","v":"* group[=].element[=].target.code = #Coverage"}]
[null,{"$f":"IF('Payer-ConceptMap-2'!S18=0,\"//---END\",'Payer-ConceptMap-2'!S18)","v":"* group[=].element[=].target.display = ##34###34#"}]
[null,{"$f":"IF('Payer-ConceptMap-2'!S19=0,\"//---END\",'Payer-ConceptMap-2'!S19)","v":"* group[=].element[=].target.equivalence = #relatedto"}]
[null,{"$f":"IF('Payer-ConceptMap-2'!S20=0,\"//---END\",'Payer-ConceptMap-2'!S20)","v":""}]
[null,{"$f":"IF('Payer-ConceptMap-2'!S21=0,\"//---END\",'Payer-ConceptMap-2'!S21)","v":"* group[=].element[+].code = #Payer.insurance.identifier"}]
[null,{"$f":"IF('Payer-ConceptMap-2'!S22=0,\"//---END\",'Payer-ConceptMap-2'!S22)","v":"* group[=].element[=].display = ##34#A.1.3.1.1 Health insurance code##34#"}]
[null,{"$f":"IF('Payer-ConceptMap-2'!S23=0,\"//---END\",'Payer-ConceptMap-2'!S23)","v":"* group[=].element[=].target.code = #Coverage.payor.identifier"}]
[null,{"$f":"IF('Payer-ConceptMap-2'!S24=0,\"//---END\",'Payer-ConceptMap-2'!S24)","v":"* group[=].element[=].target.display = ##34###34#"}]
[null,{"$f":"IF('Payer-ConceptMap-2'!S25=0,\"//---END\",'Payer-ConceptMap-2'!S25)","v":"* group[=].element[=].target.equivalence = #equivalent"}]
[null,{"$f":"IF('Payer-ConceptMap-2'!S26=0,\"//---END\",'Payer-ConceptMap-2'!S26)","v":"* group[=].element[=].target.comment = ##34#payor.ofType(Organization)##34#"}]
[null,{"$f":"IF('Payer-ConceptMap-2'!S27=0,\"//---END\",'Payer-ConceptMap-2'!S27)","v":"* group[=].element[+].code = #Payer.insurance.name"}]
[null,{"$f":"IF('Payer-ConceptMap-2'!S28=0,\"//---END\",'Payer-ConceptMap-2'!S28)","v":"* group[=].element[=].display = ##34#A.1.3.1.2 Health insurance name##34#"}]
[null,{"$f":"IF('Payer-ConceptMap-2'!S29=0,\"//---END\",'Payer-ConceptMap-2'!S29)","v":"* group[=].element[=].target.code = #Coverage.payor.name"}]
[null,{"$f":"IF('Payer-ConceptMap-2'!S30=0,\"//---END\",'Payer-ConceptMap-2'!S30)","v":"* group[=].element[=].target.display = ##34###34#"}]
[null,{"$f":"IF('Payer-ConceptMap-2'!S31=0,\"//---END\",'Payer-ConceptMap-2'!S31)","v":"* group[=].element[=].target.equivalence = #equivalent"}]
[null,{"$f":"IF('Payer-ConceptMap-2'!S32=0,\"//---END\",'Payer-ConceptMap-2'!S32)","v":"* group[=].element[=].target.comment = ##34#payor.ofType(Organization)##34#"}]
[null,{"$f":"IF('Payer-ConceptMap-2'!S33=0,\"//---END\",'Payer-ConceptMap-2'!S33)","v":"* group[=].element[+].code = #Payer.insurance.subjectIdentifier"}]
[null,{"$f":"IF('Payer-ConceptMap-2'!S34=0,\"//---END\",'Payer-ConceptMap-2'!S34)","v":"* group[=].element[=].display = ##34#A.1.3.1.3 Health insurance number##34#"}]
[null,{"$f":"IF('Payer-ConceptMap-2'!S35=0,\"//---END\",'Payer-ConceptMap-2'!S35)","v":"* group[=].element[=].target.code = #Coverage.policyHolder.identifier"}]
[null,{"$f":"IF('Payer-ConceptMap-2'!S36=0,\"//---END\",'Payer-ConceptMap-2'!S36)","v":"* group[=].element[=].target.display = ##34###34#"}]
[null,{"$f":"IF('Payer-ConceptMap-2'!S37=0,\"//---END\",'Payer-ConceptMap-2'!S37)","v":"* group[=].element[=].target.equivalence = #equivalent"}]
[null,{"$f":"IF('Payer-ConceptMap-2'!S38=0,\"//---END\",'Payer-ConceptMap-2'!S38)","v":""}]
[null,{"$f":"IF('Payer-ConceptMap-2'!S39=0,\"//---END\",'Payer-ConceptMap-2'!S39)","v":"* group[=].element[+].code = #Payer.insurance.subjectIdentifier"}]
[null,{"$f":"IF('Payer-ConceptMap-2'!S40=0,\"//---END\",'Payer-ConceptMap-2'!S40)","v":"* group[=].element[=].display = ##34#A.1.3.1.3 Health insurance number##34#"}]
[null,{"$f":"IF('Payer-ConceptMap-2'!S41=0,\"//---END\",'Payer-ConceptMap-2'!S41)","v":"* group[=].element[=].target.code = #Coverage.beneficiary.identifier"}]
[null,{"$f":"IF('Payer-ConceptMap-2'!S42=0,\"//---END\",'Payer-ConceptMap-2'!S42)","v":"* group[=].element[=].target.display = ##34###34#"}]
[null,{"$f":"IF('Payer-ConceptMap-2'!S43=0,\"//---END\",'Payer-ConceptMap-2'!S43)","v":"* group[=].element[=].target.equivalence = #equivalent"}]
[null,{"$f":"IF('Payer-ConceptMap-2'!S44=0,\"//---END\",'Payer-ConceptMap-2'!S44)","v":""}]
[null,{"$f":"IF('Payer-ConceptMap-2'!S45=0,\"//---END\",'Payer-ConceptMap-2'!S45)","v":"* group[=].element[+].code = #Payer.insurance.subjectIdentifier"}]
[null,{"$f":"IF('Payer-ConceptMap-2'!S46=0,\"//---END\",'Payer-ConceptMap-2'!S46)","v":"* group[=].element[=].display = ##34#A.1.3.1.3 Health insurance number##34#"}]
[null,{"$f":"IF('Payer-ConceptMap-2'!S47=0,\"//---END\",'Payer-ConceptMap-2'!S47)","v":"* group[=].element[=].target.code = #Coverage.subscriberId"}]
[null,{"$f":"IF('Payer-ConceptMap-2'!S48=0,\"//---END\",'Payer-ConceptMap-2'!S48)","v":"* group[=].element[=].target.display = ##34###34#"}]
[null,{"$f":"IF('Payer-ConceptMap-2'!S49=0,\"//---END\",'Payer-ConceptMap-2'!S49)","v":"* group[=].element[=].target.equivalence = #equivalent"}]
[null,{"$f":"IF('Payer-ConceptMap-2'!S50=0,\"//---END\",'Payer-ConceptMap-2'!S50)","v":""}]
[null,{"$f":"IF('Payer-ConceptMap-2'!S51=0,\"//---END\",'Payer-ConceptMap-2'!S51)","v":"* group[=].element[+].code = #Payer.insurance.subjectIdentifier"}]
[null,{"$f":"IF('Payer-ConceptMap-2'!S52=0,\"//---END\",'Payer-ConceptMap-2'!S52)","v":"* group[=].element[=].display = ##34#A.1.3.1.3 Health insurance number##34#"}]
[null,{"$f":"IF('Payer-ConceptMap-2'!S53=0,\"//---END\",'Payer-ConceptMap-2'!S53)","v":"* group[=].element[=].target.code = #Coverage.subscriber.identifier"}]
[null,{"$f":"IF('Payer-ConceptMap-2'!S54=0,\"//---END\",'Payer-ConceptMap-2'!S54)","v":"* group[=].element[=].target.display = ##34###34#"}]
[null,{"$f":"IF('Payer-ConceptMap-2'!S55=0,\"//---END\",'Payer-ConceptMap-2'!S55)","v":"* group[=].element[=].target.equivalence = #equivalent"}]
[null,{"$f":"IF('Payer-ConceptMap-2'!S56=0,\"//---END\",'Payer-ConceptMap-2'!S56)","v":""}]
[null,{"$f":"IF('Payer-ConceptMap-2'!S57=0,\"//---END\",'Payer-ConceptMap-2'!S57)","v":"//---END"}]
[null,{"$f":"IF('Payer-ConceptMap-2'!S58=0,\"//---END\",'Payer-ConceptMap-2'!S58)","v":"//---END"}]
[null,{"$f":"IF('Payer-ConceptMap-2'!S59=0,\"//---END\",'Payer-ConceptMap-2'!S59)","v":"//---END"}]
[null,{"$f":"IF('Payer-ConceptMap-2'!S60=0,\"//---END\",'Payer-ConceptMap-2'!S60)","v":"//---END"}]
[]
[]
[null,{"$f":"\"* group[+].source = ##34#\"&'Payer-ConceptMap-3'!E6&\"##34#\"","v":"* group[+].source = ##34#http://hl7.eu/fhir/ig/xpandh/ps/StructureDefinition/Payer##34#"}]
[null,{"$f":"\"* group[=].target = ##34#\"&'Payer-ConceptMap-3'!E7&\"##34#\"","v":"* group[=].target = ##34#http://hl7.eu/fhir/ig/xpandh/ps/StructureDefinition/Patient-eu-ps##34#"}]
[]
[null,{"$f":"IF('Payer-ConceptMap-3'!S15=0,\"//---END\",'Payer-ConceptMap-3'!S15)","v":"* group[=].element[+].code = #Payer.insurance"}]
[null,{"$f":"IF('Payer-ConceptMap-3'!S16=0,\"//---END\",'Payer-ConceptMap-3'!S16)","v":"* group[=].element[=].display = ##34#A.1.3.1 Health insurance information##34#"}]
[null,{"$f":"IF('Payer-ConceptMap-3'!S17=0,\"//---END\",'Payer-ConceptMap-3'!S17)","v":"//-- unmatched"}]
[null,{"$f":"IF('Payer-ConceptMap-3'!S18=0,\"//---END\",'Payer-ConceptMap-3'!S18)","v":"//-- unmatched"}]
[null,{"$f":"IF('Payer-ConceptMap-3'!S19=0,\"//---END\",'Payer-ConceptMap-3'!S19)","v":"* group[=].element[=].target.equivalence = #unmatched"}]
[null,{"$f":"IF('Payer-ConceptMap-3'!S20=0,\"//---END\",'Payer-ConceptMap-3'!S20)","v":""}]
[null,{"$f":"IF('Payer-ConceptMap-3'!S21=0,\"//---END\",'Payer-ConceptMap-3'!S21)","v":"* group[=].element[+].code = #Payer.insurance.identifier"}]
[null,{"$f":"IF('Payer-ConceptMap-3'!S22=0,\"//---END\",'Payer-ConceptMap-3'!S22)","v":"* group[=].element[=].display = ##34#A.1.3.1.1 Health insurance code##34#"}]
[null,{"$f":"IF('Payer-ConceptMap-3'!S23=0,\"//---END\",'Payer-ConceptMap-3'!S23)","v":"//-- unmatched"}]
[null,{"$f":"IF('Payer-ConceptMap-3'!S24=0,\"//---END\",'Payer-ConceptMap-3'!S24)","v":"//-- unmatched"}]
[null,{"$f":"IF('Payer-ConceptMap-3'!S25=0,\"//---END\",'Payer-ConceptMap-3'!S25)","v":"* group[=].element[=].target.equivalence = #unmatched"}]
[null,{"$f":"IF('Payer-ConceptMap-3'!S26=0,\"//---END\",'Payer-ConceptMap-3'!S26)","v":""}]
[null,{"$f":"IF('Payer-ConceptMap-3'!S27=0,\"//---END\",'Payer-ConceptMap-3'!S27)","v":"* group[=].element[+].code = #Payer.insurance.name"}]
[null,{"$f":"IF('Payer-ConceptMap-3'!S28=0,\"//---END\",'Payer-ConceptMap-3'!S28)","v":"* group[=].element[=].display = ##34#A.1.3.1.2 Health insurance name##34#"}]
[null,{"$f":"IF('Payer-ConceptMap-3'!S29=0,\"//---END\",'Payer-ConceptMap-3'!S29)","v":"//-- unmatched"}]
[null,{"$f":"IF('Payer-ConceptMap-3'!S30=0,\"//---END\",'Payer-ConceptMap-3'!S30)","v":"//-- unmatched"}]
[null,{"$f":"IF('Payer-ConceptMap-3'!S31=0,\"//---END\",'Payer-ConceptMap-3'!S31)","v":"* group[=].element[=].target.equivalence = #unmatched"}]
[null,{"$f":"IF('Payer-ConceptMap-3'!S32=0,\"//---END\",'Payer-ConceptMap-3'!S32)","v":""}]
[null,{"$f":"IF('Payer-ConceptMap-3'!S33=0,\"//---END\",'Payer-ConceptMap-3'!S33)","v":"* group[=].element[+].code = #Payer.insurance.subjectIdentifier"}]
[null,{"$f":"IF('Payer-ConceptMap-3'!S34=0,\"//---END\",'Payer-ConceptMap-3'!S34)","v":"* group[=].element[=].display = ##34#A.1.3.1.3 Health insurance number##34#"}]
[null,{"$f":"IF('Payer-ConceptMap-3'!S35=0,\"//---END\",'Payer-ConceptMap-3'!S35)","v":"* group[=].element[=].target.code = #Patient.identifier"}]
[null,{"$f":"IF('Payer-ConceptMap-3'!S36=0,\"//---END\",'Payer-ConceptMap-3'!S36)","v":"* group[=].element[=].target.display = ##34###34#"}]
[null,{"$f":"IF('Payer-ConceptMap-3'!S37=0,\"//---END\",'Payer-ConceptMap-3'!S37)","v":"* group[=].element[=].target.equivalence = #relatedto"}]
[null,{"$f":"IF('Payer-ConceptMap-3'!S38=0,\"//---END\",'Payer-ConceptMap-3'!S38)","v":"* group[=].element[=].target.comment = ##34#Sometimes the identifier assigned by the payor (e.g. the SSN) is used as one of the Patient Identifiers##34#"}]
[null,{"$f":"IF('Payer-ConceptMap-3'!S39=0,\"//---END\",'Payer-ConceptMap-3'!S39)","v":"//---END"}]
[null,{"$f":"IF('Payer-ConceptMap-3'!S40=0,\"//---END\",'Payer-ConceptMap-3'!S40)","v":"//---END"}]
[null,{"$f":"IF('Payer-ConceptMap-3'!S41=0,\"//---END\",'Payer-ConceptMap-3'!S41)","v":"//---END"}]
[null,{"$f":"IF('Payer-ConceptMap-3'!S42=0,\"//---END\",'Payer-ConceptMap-3'!S42)","v":"//---END"}]

{"sheet":"A.2.1.1 Allergy","index":58,"n_rows":31,"n_cols":9,"rows_kept":31,"cut":false,"hidden":false,"merged":[[24,2,24,5]]}
[null,null,null,null,null,null,null,null,"// -------------------------------------------------------------------------------"]
[null,null,null,null,null,null,null,null,"//  Logical Model"]
[null,null,null,null,null,null,null,null,{"$f":"I1","v":"// -------------------------------------------------------------------------------"}]
["Name","AllergyPsEhn",null,null,null,null,null,null,{"$f":"CONCATENATE(\"Logical: \",B4)","v":"Logical: AllergyPsEhn"}]
["Id","Allergy",null,null,null,null,null,null,{"$f":"CONCATENATE(\"Id: \",B5)","v":"Id: Allergy"}]
["Title",{"$f":"PS!C24","v":"A.2.1.1 Allergy"},null,null,null,null,null,null,{"$f":"CONCATENATE(\"Title: ##34#\",B6,\"##34#\")","v":"Title: ##34#A.2.1.1 Allergy##34#"}]
["Description",{"$f":"PS!D24","v":"A.2.1.1 - Allergy"},null,null,null,"max","dataType",null,{"$f":"CONCATENATE(\"Description: \",\" ##334#\",B7,\"##334#\",)","v":"Description:  ##334#A.2.1.1 - Allergy##334#"}]
[1,"description","A.2.1.1.1 Allergy description","A.2.1.1.1 Allergy description - Textual description of the allergy or intolerance",0,"*","BackboneElement",null,{"$f":"CONCATENATE(\"* \",B8, \" \",E8,\"..\",F8,\" \",G8,\" ##34#\",C8,\"##34# ##334#\",D8,\"##334#\")","v":"* description 0..* BackboneElement ##34#A.2.1.1.1 Allergy description##34# ##334#A.2.1.1.1 Allergy description - Textual description of the allergy or intolerance##334#"}]
[2,"type","A.2.1.1.2 Type of propensity","A.2.1.1.2 Type of propensity - This element describes whether this condition refers to an allergy, non-allergy intolerance, or unknown class of intolerance (not known to be allergy or intolerance) ",0,"*","string",null,{"$f":"CONCATENATE(\"* \",B9, \" \",E9,\"..\",F9,\" \",G9,\" ##34#\",C9,\"##34# ##334#\",D9,\"##334#\")","v":"* type 0..* string ##34#A.2.1.1.2 Type of propensity##34# ##334#A.2.1.1.2 Type of propensity - This element describes whether this condition refers to an allergy, non-allergy intolerance, or unknown class of intolerance (not known to be allergy or intolerance) ##334#"}]
[3,"manifestation","A.2.1.1.3 Allergy manifestation","A.2.1.1.3 Allergy manifestation- Description of the clinical manifestation of the allergic reaction. Example: anaphylactic shock, angioedema (the clinical manifestation also gives ",0,"*","CodeableConcept",null,"* manifestation 0..* CodeableConcept ##34#A.2.1.1.3 Allergy manifestation##34# ##334#A.2.1.1.3 Allergy manifestation- Description of the clinical manifestation of the allergic reaction. Example: anaphylactic shock, angioedema (the clinical manifestation also gives ##334#"]
[4,"severity","A.2.1.1.4 Severity","A.2.1.1.4 Severity - Severity of the clinical manifestation of the allergic reaction. ",0,"*","BackboneElement",null,"* severity 0..* BackboneElement ##34#A.2.1.1.4 Severity##34# ##334#A.2.1.1.4 Severity - Severity of the clinical manifestation of the allergic reaction. ##334#"]
[5,"criticality","A.2.1.1.5 Criticality","A.2.1.1.5 Criticality - Potential risk for future life-threatening adverse reactions when exposed to a substance known to cause an adverse reaction. ",0,"*","CodeableConcept",null,"* criticality 0..* CodeableConcept ##34#A.2.1.1.5 Criticality##34# ##334#A.2.1.1.5 Criticality - Potential risk for future life-threatening adverse reactions when exposed to a substance known to cause an adverse reaction. ##334#"]
[6,"onsetDate","A.2.1.1.6 Onset date","A.2.1.1.6 Onset date - Date of the observation of the reaction ISO 8601",0,"*","CodeableConcept",null,"* onsetDate 0..* CodeableConcept ##34#A.2.1.1.6 Onset date##34# ##334#A.2.1.1.6 Onset date - Date of the observation of the reaction ISO 8601##334#"]
[7,"endDate","A.2.1.1.7 End Date","A.2.1.1.7 End Date - Date of resolution of the allergy (e.g. when the clinician deemed there is no longer any need to track the underlying condition)",0,"*","dateTime",null,"* endDate 0..* dateTime ##34#A.2.1.1.7 End Date##34# ##334#A.2.1.1.7 End Date - Date of resolution of the allergy (e.g. when the clinician deemed there is no longer any need to track the underlying condition)##334#"]
[8,"status","A.2.1.1.8 Status","A.2.1.1.8 Status - Current status of the allergy or intolerance, for example, whether it is active, in remission, resolved, etc. ",0,"*","dateTime",null,"* status 0..* dateTime ##34#A.2.1.1.8 Status##34# ##334#A.2.1.1.8 Status - Current status of the allergy or intolerance, for example, whether it is active, in remission, resolved, etc. ##334#"]
[9,"certainty","A.2.1.1.9 Certainty","A.2.1.1.9 Certainty - Assertion about the certainty associated with a propensity, or potential risk, of a reaction to the identified substance. Diagnostic and/or clinical evidence of condition. ",0,"*","CodeableConcept",null,"* certainty 0..* CodeableConcept ##34#A.2.1.1.9 Certainty##34# ##334#A.2.1.1.9 Certainty - Assertion about the certainty associated with a propensity, or potential risk, of a reaction to the identified substance. Diagnostic and/or clinical evidence of condition. ##334#"]
[10,"agent","A.2.1.1.10 Agent or Allergen","A.2.1.1.10 Agent or Allergen - A specific allergen or other agent/substance (drug, food, chemical agent, etc.) to which the patient has an adverse reaction propensity. ",0,"*","CodeableConcept",null,"* agent 0..* CodeableConcept ##34#A.2.1.1.10 Agent or Allergen##34# ##334#A.2.1.1.10 Agent or Allergen - A specific allergen or other agent/substance (drug, food, chemical agent, etc.) to which the patient has an adverse reaction propensity. ##334#"]
[null,null,null,null,null,null,null,null,"*  ..  ##34###34# ##334###334#"]
[null,null,null,null,null,null,null,null,"*  ..  ##34###34# ##334###334#"]
[null,null,null,null,null,null,null,null,"*  ..  ##34###34# ##334###334#"]
[null,null,null,null,null,null,null,null,"*  ..  ##34###34# ##334###334#"]
[null,null,null,null,null,null,null,null,"*  ..  ##34###34# ##334###334#"]
[]
[]
[null,null,"A.1.4 Information recipient (intended recipient or recipients of the report, additional recipients might be identified by the vaccinationing party, e.g. GP, other specialist), if applicable"]
[null,{"$f":"CONCATENATE(C26,\" \",D26)","v":"A.1.4.1 Recipient identifier"},"A.1.4.1","Recipient identifier","The health professional identification number. Either an internal identifier assigned by a healthcare provider institution or (preferably) a national health professional ID such as the license or registration number. In case when recipient is not a health professional, e.g. patient, appropriate personal identifier should be used. ",null,null,null,{"$f":"CONCATENATE(E26,\" - Preferred system(s): \",F26)","v":"The health professional identification number. Either an internal identifier assigned by a healthcare provider institution or (preferably) a national health professional ID such as the license or registration number. In case when recipient is not a health professional, e.g. patient, appropriate personal identifier should be used.  - Preferred system(s): "}]
[null,"A.1.4.2 Recipient name","A.1.4.2","Recipient name","Person name.",null,null,null,"Person name. - Preferred system(s): "]
[null,"A.1.4.3 Recipient organization ","A.1.4.3","Recipient organization ","The healthcare provider organization information.",null,null,null,"The healthcare provider organization information. - Preferred system(s): "]
[null,null,"A.1.4.4","Address","Mailing and home or office addresses. The addresses are always sequences of address parts (e.g., street address line, country, ZIP code, city) even if postal address formats may vary depending on the country. An address may or may not include a specific use code; if this attribute is not present it is assumed to be the default address useful for any purpose.",null,null,{"$f":"C29&\" \"&D29","v":"A.1.4.4 Address"},"Mailing and home or office addresses. The addresses are always sequences of address parts (e.g., street address line, country, ZIP code, city) even if postal address formats may vary depending on the country. An address may or may not include a specific use code; if this attribute is not present it is assumed to be the default address useful for any purpose. - Preferred system(s): "]
[null,null,"A.1.4.5","Country","Country of the recipient.","ISO 3166",null,{"$f":"C30&\" \"&D30","v":"A.1.4.5 Country"},"Country of the recipient. - Preferred system(s): ISO 3166"]
[null,null,"A.1.4.6","Telecom","Telecommunication contact information (addresses) associated to a person. Multiple telecommunication addresses might be provided.",null,null,"A.1.4.6 Telecom","Telecommunication contact information (addresses) associated to a person. Multiple telecommunication addresses might be provided. - Preferred system(s): "]

{"sheet":"Allergy-fsh","index":59,"n_rows":22,"n_cols":7,"rows_kept":22,"cut":false,"hidden":false,"merged":[]}
[null,null,{"$f":"'A.2.1.1 Allergy'!I1","v":"// -------------------------------------------------------------------------------"}]
[null,null,{"$f":"'A.2.1.1 Allergy'!I2","v":"//  Logical Model"},null,null,null,"ps-allergy.fsh"]
[null,null,{"$f":"'A.2.1.1 Allergy'!I3","v":"// -------------------------------------------------------------------------------"}]
[null,null,{"$f":"'A.2.1.1 Allergy'!I4","v":"Logical: AllergyPsEhn"}]
[null,null,{"$f":"'A.2.1.1 Allergy'!I5","v":"Id: Allergy"}]
[null,null,{"$f":"'A.2.1.1 Allergy'!I6","v":"Title: ##34#A.2.1.1 Allergy##34#"}]
[null,null,{"$f":"'A.2.1.1 Allergy'!I7","v":"Description:  ##334#A.2.1.1 - Allergy##334#"}]
[null,null,{"$f":"IF('A.2.1.1 Allergy'!I8=\"*  ..  ##34###34# ##334###334#\",\"//--- END\",'A.2.1.1 Allergy'!I8)","v":"* description 0..* BackboneElement ##34#A.2.1.1.1 Allergy description##34# ##334#A.2.1.1.1 Allergy description - Textual description of the allergy or intolerance##334#"}]
[null,null,{"$f":"IF('A.2.1.1 Allergy'!I9=\"*  ..  ##34###34# ##334###334#\",\"//--- END\",'A.2.1.1 Allergy'!I9)","v":"* type 0..* string ##34#A.2.1.1.2 Type of propensity##34# ##334#A.2.1.1.2 Type of propensity - This element describes whether this condition refers to an allergy, non-allergy intolerance, or unknown class of intolerance (not known to be allergy or intolerance) ##334#"}]
[null,null,{"$f":"IF('A.2.1.1 Allergy'!I10=\"*  ..  ##34###34# ##334###334#\",\"//--- END\",'A.2.1.1 Allergy'!I10)","v":"* manifestation 0..* CodeableConcept ##34#A.2.1.1.3 Allergy manifestation##34# ##334#A.2.1.1.3 Allergy manifestation- Description of the clinical manifestation of the allergic reaction. Example: anaphylactic shock, angioedema (the clinical manifestation also gives ##334#"},null," "]
[null,null,{"$f":"IF('A.2.1.1 Allergy'!I11=\"*  ..  ##34###34# ##334###334#\",\"//--- END\",'A.2.1.1 Allergy'!I11)","v":"* severity 0..* BackboneElement ##34#A.2.1.1.4 Severity##34# ##334#A.2.1.1.4 Severity - Severity of the clinical manifestation of the allergic reaction. ##334#"}]
[null,null,{"$f":"IF('A.2.1.1 Allergy'!I12=\"*  ..  ##34###34# ##334###334#\",\"//--- END\",'A.2.1.1 Allergy'!I12)","v":"* criticality 0..* CodeableConcept ##34#A.2.1.1.5 Criticality##34# ##334#A.2.1.1.5 Criticality - Potential risk for future life-threatening adverse reactions when exposed to a substance known to cause an adverse reaction. ##334#"}]
[null,null,{"$f":"IF('A.2.1.1 Allergy'!I13=\"*  ..  ##34###34# ##334###334#\",\"//--- END\",'A.2.1.1 Allergy'!I13)","v":"* onsetDate 0..* CodeableConcept ##34#A.2.1.1.6 Onset date##34# ##334#A.2.1.1.6 Onset date - Date of the observation of the reaction ISO 8601##334#"}]
[null,null,{"$f":"IF('A.2.1.1 Allergy'!I14=\"*  ..  ##34###34# ##334###334#\",\"//--- END\",'A.2.1.1 Allergy'!I14)","v":"* endDate 0..* dateTime ##34#A.2.1.1.7 End Date##34# ##334#A.2.1.1.7 End Date - Date of resolution of the allergy (e.g. when the clinician deemed there is no longer any need to track the underlying condition)##334#"}]
[null,null,{"$f":"IF('A.2.1.1 Allergy'!I15=\"*  ..  ##34###34# ##334###334#\",\"//--- END\",'A.2.1.1 Allergy'!I15)","v":"* status 0..* dateTime ##34#A.2.1.1.8 Status##34# ##334#A.2.1.1.8 Status - Current status of the allergy or intolerance, for example, whether it is active, in remission, resolved, etc. ##334#"}]
[null,null,{"$f":"IF('A.2.1.1 Allergy'!I16=\"*  ..  ##34###34# ##334###334#\",\"//--- END\",'A.2.1.1 Allergy'!I16)","v":"* certainty 0..* CodeableConcept ##34#A.2.1.1.9 Certainty##34# ##334#A.2.1.1.9 Certainty - Assertion about the certainty associated with a propensity, or potential risk, of a reaction to the identified substance. Diagnostic and/or clinical evidence of condition. ##334#"}]
[null,null,{"$f":"IF('A.2.1.1 Allergy'!I17=\"*  ..  ##34###34# ##334###334#\",\"//--- END\",'A.2.1.1 Allergy'!I17)","v":"* agent 0..* CodeableConcept ##34#A.2.1.1.10 Agent or Allergen##34# ##334#A.2.1.1.10 Agent or Allergen - A specific allergen or other agent/substance (drug, food, chemical agent, etc.) to which the patient has an adverse reaction propensity. ##334#"}]
[null,null,{"$f":"IF('A.2.1.1 Allergy'!I18=\"*  ..  ##34###34# ##334###334#\",\"//--- END\",'A.2.1.1 Allergy'!I18)","v":"//--- END"}]
[null,null,{"$f":"IF('A.2.1.1 Allergy'!I19=\"*  ..  ##34###34# ##334###334#\",\"//--- END\",'A.2.1.1 Allergy'!I19)","v":"//--- END"}]
[null,null,{"$f":"IF('A.2.1.1 Allergy'!I20=\"*  ..  ##34###34# ##334###334#\",\"//--- END\",'A.2.1.1 Allergy'!I20)","v":"//--- END"}]
[null,null,{"$f":"IF('A.2.1.1 Allergy'!I21=\"*  ..  ##34###34# ##334###334#\",\"//--- END\",'A.2.1.1 Allergy'!I21)","v":"//--- END"}]
[null,null,{"$f":"IF('A.2.1.1 Allergy'!I22=\"*  ..  ##34###34# ##334###334#\",\"//--- END\",'A.2.1.1 Allergy'!I22)","v":"//--- END"}]

{"sheet":"Allergy-ConceptMap-1","index":60,"n_rows":194,"n_cols":19,"rows_kept":194,"cut":false,"hidden":false,"merged":[[2,4,2,6],[5,4,5,6],[6,4,6,6]]}
[]
[]
[null,"Mapping","Allergy2FHIR","Source URI","http://hl7.eu/fhir/ig/xpandh/ps/StructureDefinition/Allergy"]
[null,"Id","allergy2FHIR-eu-ps","Target URI","http://hl7.eu/fhir/ig/xpandh/ps/StructureDefinition/AllergyIntolerance-ps-eu-xpandh"]
[null,"Title","eHN Allergy to this guide Map"]
[null,"Source","http://hl7.eu/fhir/ig/xpandh/ps/StructureDefinition/Allergy","Source Group","http://hl7.eu/fhir/ig/xpandh/ps/StructureDefinition/Allergy"]
[null,"Target","http://hl7.eu/fhir/ig/xpandh/ps","Target Group","http://hl7.eu/fhir/ig/xpandh/ps/StructureDefinition/AllergyIntolerance-ps-eu-xpandh"]
[null,"description","eHN Allergy Model to this guide Map",null,null,null,null,null,"* group[=].element[+].code = #Osiris.Patient.BirthDate","* group[=].element[=].display = \"Birth Date [C4]\"","* group[=].element[=].target.code = #Subject.dateOfBirth.date","* group[=].element[=].target.display = \"Date of birth\"","* group[=].element[=].target.equivalence = #equivalent",null,null,"Elements",6]
[null,"purpose","It shows how the Patient Summary Allergy data set defined by the EU eHN guidelines is mapped into this guide"]
[]
[null,null,null,null,null,null,null,null,"source:code","source:display","code","display","target to source","Comment"]
[]
[null,null,null,null,null,"target to source","Comment"]
[null,{"$f":"'A.2.1.1 Allergy'!B5","v":"Allergy"},null,"AllergyIntolerance"]
[null,{"$f":"'A.2.1.1 Allergy'!B8","v":"description"},{"$f":"'A.2.1.1 Allergy'!C8","v":"A.2.1.1.1 Allergy description"},"text",null,"equivalent",null,null,{"$f":"\"* group[=].element[+].code = #\"&$B$14&\".\"&B15","v":"* group[=].element[+].code = #Allergy.description"},{"$f":"\"* group[=].element[=].display = ##34#\"&C15&\"##34#\"","v":"* group[=].element[=].display = ##34#A.2.1.1.1 Allergy description##34#"},{"$f":"IF(F15=\"unmatched\",\"//-- unmatched\",IF(D15=\"\",\"* group[=].element[=].target.code = #\"&$D$14,\"* group[=].element[=].target.code = #\"&$D$14&\".\"&D15))","v":"* group[=].element[=].target.code = #AllergyIntolerance.text"},{"$f":"IF(F15=\"unmatched\",\"//-- unmatched\",\"* group[=].element[=].target.display = ##34#\"&E15&\"##34#\")","v":"* group[=].element[=].target.display = ##34###34#"},{"$f":"\"* group[=].element[=].target.equivalence = #\"&F15","v":"* group[=].element[=].target.equivalence = #equivalent"},{"$f":"IF(G15<>\"\",CONCATENATE(\"* group[=].element[=].target.comment = \",\"##34#\",G15,\"##34#\"),\"\")","v":""},null,1,{"$f":"IF(MOD(P15,$Q$8)=0,P15/$Q$8-1,INT(P15/$Q$8))","v":0},{"$f":"IF(MOD(P15,$Q$8)=0,$Q$8,MOD(P15,$Q$8))","v":1},{"$f":"INDEX('Allergy-ConceptMap-1'!$I$15:$N$274,Q15+1,R15)","v":"* group[=].element[+].code = #Allergy.description"}]
[null,{"$f":"'A.2.1.1 Allergy'!B9","v":"type"},{"$f":"'A.2.1.1 Allergy'!C9","v":"A.2.1.1.2 Type of propensity"},"type",null,"equivalent",null,null,{"$f":"\"* group[=].element[+].code = #\"&$B$14&\".\"&B16","v":"* group[=].element[+].code = #Allergy.type"},{"$f":"\"* group[=].element[=].display = ##34#\"&C16&\"##34#\"","v":"* group[=].element[=].display = ##34#A.2.1.1.2 Type of propensity##34#"},{"$f":"IF(F16=\"unmatched\",\"//-- unmatched\",IF(D16=\"\",\"* group[=].element[=].target.code = #\"&$D$14,\"* group[=].element[=].target.code = #\"&$D$14&\".\"&D16))","v":"* group[=].element[=].target.code = #AllergyIntolerance.type"},{"$f":"IF(F16=\"unmatched\",\"//-- unmatched\",\"* group[=].element[=].target.display = ##34#\"&E16&\"##34#\")","v":"* group[=].element[=].target.display = ##34###34#"},{"$f":"\"* group[=].element[=].target.equivalence = #\"&F16","v":"* group[=].element[=].target.equivalence = #equivalent"},{"$f":"IF(G16<>\"\",CONCATENATE(\"* group[=].element[=].target.comment = \",\"##34#\",G16,\"##34#\"),\"\")","v":""},null,2,{"$f":"IF(MOD(P16,$Q$8)=0,P16/$Q$8-1,INT(P16/$Q$8))","v":0},{"$f":"IF(MOD(P16,$Q$8)=0,$Q$8,MOD(P16,$Q$8))","v":2},{"$f":"INDEX('Allergy-ConceptMap-1'!$I$15:$N$274,Q16+1,R16)","v":"* group[=].element[=].display = ##34#A.2.1.1.1 Allergy description##34#"}]
[null,{"$f":"'A.2.1.1 Allergy'!B10","v":"manifestation"},{"$f":"'A.2.1.1 Allergy'!C10","v":"A.2.1.1.3 Allergy manifestation"},"reaction",null,"relatedto","general information",null,"* group[=].element[+].code = #Allergy.manifestation","* group[=].element[=].display = ##34#A.2.1.1.3 Allergy manifestation##34#","* group[=].element[=].target.code = #AllergyIntolerance.reaction","* group[=].element[=].target.display = ##34###34#","* group[=].element[=].target.equivalence = #relatedto","* group[=].element[=].target.comment = ##34#general information##34#",null,3,0,3,{"$f":"INDEX('Allergy-ConceptMap-1'!$I$15:$N$274,Q17+1,R17)","v":"* group[=].element[=].target.code = #AllergyIntolerance.text"}]
[null,{"$f":"'A.2.1.1 Allergy'!B10","v":"manifestation"},{"$f":"'A.2.1.1 Allergy'!C10","v":"A.2.1.1.3 Allergy manifestation"},"reaction.manifestation",null,"equivalent","coded manifestation",null,"* group[=].element[+].code = #Allergy.manifestation","* group[=].element[=].display = ##34#A.2.1.1.3 Allergy manifestation##34#","* group[=].element[=].target.code = #AllergyIntolerance.reaction.manifestation","* group[=].element[=].target.display = ##34###34#","* group[=].element[=].target.equivalence = #equivalent","* group[=].element[=].target.comment = ##34#coded manifestation##34#",null,4,0,{"$f":"IF(MOD(P18,$Q$8)=0,$Q$8,MOD(P18,$Q$8))","v":4},{"$f":"INDEX('Allergy-ConceptMap-1'!$I$15:$N$274,Q18+1,R18)","v":"* group[=].element[=].target.display = ##34###34#"}]
[null,{"$f":"'A.2.1.1 Allergy'!B11","v":"severity"},{"$f":"'A.2.1.1 Allergy'!C11","v":"A.2.1.1.4 Severity"},"reaction.severity",null,"equivalent",null,null,{"$f":"\"* group[=].element[+].code = #\"&$B$14&\".\"&B19","v":"* group[=].element[+].code = #Allergy.severity"},{"$f":"\"* group[=].element[=].display = ##34#\"&C19&\"##34#\"","v":"* group[=].element[=].display = ##34#A.2.1.1.4 Severity##34#"},{"$f":"IF(F19=\"unmatched\",\"//-- unmatched\",IF(D19=\"\",\"* group[=].element[=].target.code = #\"&$D$14,\"* group[=].element[=].target.code = #\"&$D$14&\".\"&D19))","v":"* group[=].element[=].target.code = #AllergyIntolerance.reaction.severity"},{"$f":"IF(F19=\"unmatched\",\"//-- unmatched\",\"* group[=].element[=].target.display = ##34#\"&E19&\"##34#\")","v":"* group[=].element[=].target.display = ##34###34#"},{"$f":"\"* group[=].element[=].target.equivalence = #\"&F19","v":"* group[=].element[=].target.equivalence = #equivalent"},{"$f":"IF(G19<>\"\",CONCATENATE(\"* group[=].element[=].target.comment = \",\"##34#\",G19,\"##34#\"),\"\")","v":""},null,5,0,5,{"$f":"INDEX('Allergy-ConceptMap-1'!$I$15:$N$274,Q19+1,R19)","v":"* group[=].element[=].target.equivalence = #equivalent"}]
[null,{"$f":"'A.2.1.1 Allergy'!B12","v":"criticality"},{"$f":"'A.2.1.1 Allergy'!C12","v":"A.2.1.1.5 Criticality"},"criticality",null,"equivalent",null,null,"* group[=].element[+].code = #Allergy.criticality","* group[=].element[=].display = ##34#A.2.1.1.5 Criticality##34#","* group[=].element[=].target.code = #AllergyIntolerance.criticality","* group[=].element[=].target.display = ##34###34#","* group[=].element[=].target.equivalence = #equivalent","",null,6,0,6,{"$f":"INDEX('Allergy-ConceptMap-1'!$I$15:$N$274,Q20+1,R20)","v":""}]
[null,{"$f":"'A.2.1.1 Allergy'!B13","v":"onsetDate"},{"$f":"'A.2.1.1 Allergy'!C13","v":"A.2.1.1.6 Onset date"},"onsetDateTime",null,"equivalent",null,null,"* group[=].element[+].code = #Allergy.onsetDate","* group[=].element[=].display = ##34#A.2.1.1.6 Onset date##34#","* group[=].element[=].target.code = #AllergyIntolerance.onsetDateTime","* group[=].element[=].target.display = ##34###34#","* group[=].element[=].target.equivalence = #equivalent","",null,7,1,1,{"$f":"INDEX('Allergy-ConceptMap-1'!$I$15:$N$274,Q21+1,R21)","v":"* group[=].element[+].code = #Allergy.type"}]
[null,{"$f":"'A.2.1.1 Allergy'!B14","v":"endDate"},{"$f":"'A.2.1.1 Allergy'!C14","v":"A.2.1.1.7 End Date"},"extension:abatement-datetime",null,"equivalent",null,null,"* group[=].element[+].code = #Allergy.endDate","* group[=].element[=].display = ##34#A.2.1.1.7 End Date##34#","* group[=].element[=].target.code = #AllergyIntolerance.extension:abatement-datetime","* group[=].element[=].target.display = ##34###34#","* group[=].element[=].target.equivalence = #equivalent","",null,8,1,{"$f":"IF(MOD(P22,$Q$8)=0,$Q$8,MOD(P22,$Q$8))","v":2},{"$f":"INDEX('Allergy-ConceptMap-1'!$I$15:$N$274,Q22+1,R22)","v":"* group[=].element[=].display = ##34#A.2.1.1.2 Type of propensity##34#"}]
[null,{"$f":"'A.2.1.1 Allergy'!B15","v":"status"},{"$f":"'A.2.1.1 Allergy'!C15","v":"A.2.1.1.8 Status"},"clinicalStatus",null,"equivalent",null,null,"* group[=].element[+].code = #Allergy.status","* group[=].element[=].display = ##34#A.2.1.1.8 Status##34#","* group[=].element[=].target.code = #AllergyIntolerance.clinicalStatus","* group[=].element[=].target.display = ##34###34#","* group[=].element[=].target.equivalence = #equivalent","",null,9,1,3,{"$f":"INDEX('Allergy-ConceptMap-1'!$I$15:$N$274,Q23+1,R23)","v":"* group[=].element[=].target.code = #AllergyIntolerance.type"}]
[null,{"$f":"'A.2.1.1 Allergy'!B16","v":"certainty"},{"$f":"'A.2.1.1 Allergy'!C16","v":"A.2.1.1.9 Certainty"},"verificationStatus",null,"equivalent",null,null,"* group[=].element[+].code = #Allergy.certainty","* group[=].element[=].display = ##34#A.2.1.1.9 Certainty##34#","* group[=].element[=].target.code = #AllergyIntolerance.verificationStatus","* group[=].element[=].target.display = ##34###34#","* group[=].element[=].target.equivalence = #equivalent","",null,10,1,4,{"$f":"INDEX('Allergy-ConceptMap-1'!$I$15:$N$274,Q24+1,R24)","v":"* group[=].element[=].target.display = ##34###34#"}]
[null,{"$f":"'A.2.1.1 Allergy'!B17","v":"agent"},{"$f":"'A.2.1.1 Allergy'!C17","v":"A.2.1.1.10 Agent or Allergen"},"code",null,"equivalent",null,null,{"$f":"\"* group[=].element[+].code = #\"&$B$14&\".\"&B25","v":"* group[=].element[+].code = #Allergy.agent"},"* group[=].element[=].display = ##34#A.2.1.1.10 Agent or Allergen##34#",{"$f":"IF(F25=\"unmatched\",\"//-- unmatched\",IF(D25=\"\",\"* group[=].element[=].target.code = #\"&$D$14,\"* group[=].element[=].target.code = #\"&$D$14&\".\"&D25))","v":"* group[=].element[=].target.code = #AllergyIntolerance.code"},"* group[=].element[=].target.display = ##34###34#","* group[=].element[=].target.equivalence = #equivalent","",null,11,1,5,{"$f":"INDEX('Allergy-ConceptMap-1'!$I$15:$N$274,Q25+1,R25)","v":"* group[=].element[=].target.equivalence = #equivalent"}]
[null,null,null,null,null,null,null,null,null,null,null,null,null,null,null,12,1,6,{"$f":"INDEX('Allergy-ConceptMap-1'!$I$15:$N$274,Q26+1,R26)","v":""}]
[null,null,null,null,null,null,null,null,null,null,null,null,null,null,null,13,2,{"$f":"IF(MOD(P27,$Q$8)=0,$Q$8,MOD(P27,$Q$8))","v":1},{"$f":"INDEX('Allergy-ConceptMap-1'!$I$15:$N$274,Q27+1,R27)","v":"* group[=].element[+].code = #Allergy.manifestation"}]
[null,null,null,null,null,null,null,null,null,null,null,null,null,null,null,14,2,2,{"$f":"INDEX('Allergy-ConceptMap-1'!$I$15:$N$274,Q28+1,R28)","v":"* group[=].element[=].display = ##34#A.2.1.1.3 Allergy manifestation##34#"}]
[null,null,null,null,null,null,null,null,null,null,null,null,null,null,null,15,2,3,{"$f":"INDEX('Allergy-ConceptMap-1'!$I$15:$N$274,Q29+1,R29)","v":"* group[=].element[=].target.code = #AllergyIntolerance.reaction"}]
[null,null,null,null,null,null,null,null,null,null,null,null,null,null,null,16,2,4,{"$f":"INDEX('Allergy-ConceptMap-1'!$I$15:$N$274,Q30+1,R30)","v":"* group[=].element[=].target.display = ##34###34#"}]
[null,null,null,null,null,null,null,null,null,null,null,null,null,null,null,17,2,5,{"$f":"INDEX('Allergy-ConceptMap-1'!$I$15:$N$274,Q31+1,R31)","v":"* group[=].element[=].target.equivalence = #relatedto"}]
[null,null,null,null,null,null,null,null,null,null,null,null,null,null,null,18,2,6,{"$f":"INDEX('Allergy-ConceptMap-1'!$I$15:$N$274,Q32+1,R32)","v":"* group[=].element[=].target.comment = ##34#general information##34#"}]
[null,null,null,null,null,null,null,null,null,null,null,null,null,null,null,19,3,1,{"$f":"INDEX('Allergy-ConceptMap-1'!$I$15:$N$274,Q33+1,R33)","v":"* group[=].element[+].code = #Allergy.manifestation"}]
[null,null,null,null,null,null,null,null,null,null,null,null,null,null,null,20,3,2,{"$f":"INDEX('Allergy-ConceptMap-1'!$I$15:$N$274,Q34+1,R34)","v":"* group[=].element[=].display = ##34#A.2.1.1.3 Allergy manifestation##34#"}]
[null,null,null,null,null,null,null,null,null,null,null,null,null,null,null,21,3,3,{"$f":"INDEX('Allergy-ConceptMap-1'!$I$15:$N$274,Q35+1,R35)","v":"* group[=].element[=].target.code = #AllergyIntolerance.reaction.manifestation"}]
[null,null,null,null,null,null,null,null,null,null,null,null,null,null,null,22,3,4,{"$f":"INDEX('Allergy-ConceptMap-1'!$I$15:$N$274,Q36+1,R36)","v":"* group[=].element[=].target.display = ##34###34#"}]
[null,null,null,null,null,null,null,null,null,null,null,null,null,null,null,23,3,5,{"$f":"INDEX('Allergy-ConceptMap-1'!$I$15:$N$274,Q37+1,R37)","v":"* group[=].element[=].target.equivalence = #equivalent"}]
[null,null,null,null,null,null,null,null,null,null,null,null,null,null,null,24,3,6,{"$f":"INDEX('Allergy-ConceptMap-1'!$I$15:$N$274,Q38+1,R38)","v":"* group[=].element[=].target.comment = ##34#coded manifestation##34#"}]
[null,null,null,null,null,null,null,null,null,null,null,null,null,null,null,25,4,1,{"$f":"INDEX('Allergy-ConceptMap-1'!$I$15:$N$274,Q39+1,R39)","v":"* group[=].element[+].code = #Allergy.severity"}]
[null,null,null,null,null,null,null,null,null,null,null,null,null,null,null,26,4,2,{"$f":"INDEX('Allergy-ConceptMap-1'!$I$15:$N$274,Q40+1,R40)","v":"* group[=].element[=].display = ##34#A.2.1.1.4 Severity##34#"}]
[null,null,null,null,null,null,null,null,null,null,null,null,null,null,null,27,4,3,{"$f":"INDEX('Allergy-ConceptMap-1'!$I$15:$N$274,Q41+1,R41)","v":"* group[=].element[=].target.code = #AllergyIntolerance.reaction.severity"}]
[null,null,null,null,null,null,null,null,null,null,null,null,null,null,null,28,4,4,{"$f":"INDEX('Allergy-ConceptMap-1'!$I$15:$N$274,Q42+1,R42)","v":"* group[=].element[=].target.display = ##34###34#"}]
[null,null,null,null,null,null,null,null,null,null,null,null,null,null,null,29,4,5,{"$f":"INDEX('Allergy-ConceptMap-1'!$I$15:$N$274,Q43+1,R43)","v":"* group[=].element[=].target.equivalence = #equivalent"}]
[null,null,null,null,null,null,null,null,null,null,null,null,null,null,null,30,4,6,{"$f":"INDEX('Allergy-ConceptMap-1'!$I$15:$N$274,Q44+1,R44)","v":""}]
[null,null,null,null,null,null,null,null,null,null,null,null,null,null,null,31,5,1,{"$f":"INDEX('Allergy-ConceptMap-1'!$I$15:$N$274,Q45+1,R45)","v":"* group[=].element[+].code = #Allergy.criticality"}]
[null,null,null,null,null,null,null,null,null,null,null,null,null,null,null,32,5,2,{"$f":"INDEX('Allergy-ConceptMap-1'!$I$15:$N$274,Q46+1,R46)","v":"* group[=].element[=].display = ##34#A.2.1.1.5 Criticality##34#"}]
[null,null,null,null,null,null,null,null,null,null,null,null,null,null,null,33,5,3,{"$f":"INDEX('Allergy-ConceptMap-1'!$I$15:$N$274,Q47+1,R47)","v":"* group[=].element[=].target.code = #AllergyIntolerance.criticality"}]
[null,null,null,null,null,null,null,null,null,null,null,null,null,null,null,34,5,4,{"$f":"INDEX('Allergy-ConceptMap-1'!$I$15:$N$274,Q48+1,R48)","v":"* group[=].element[=].target.display = ##34###34#"}]
[null,null,null,null,null,null,null,null,null,null,null,null,null,null,null,35,5,5,{"$f":"INDEX('Allergy-ConceptMap-1'!$I$15:$N$274,Q49+1,R49)","v":"* group[=].element[=].target.equivalence = #equivalent"}]
[null,null,null,null,null,null,null,null,null,null,null,null,null,null,null,36,5,6,{"$f":"INDEX('Allergy-ConceptMap-1'!$I$15:$N$274,Q50+1,R50)","v":""}]
[null,null,null,null,null,null,null,null,null,null,null,null,null,null,null,37,6,1,{"$f":"INDEX('Allergy-ConceptMap-1'!$I$15:$N$274,Q51+1,R51)","v":"* group[=].element[+].code = #Allergy.onsetDate"}]
[null,null,null,null,null,null,null,null,null,null,null,null,null,null,null,38,6,2,{"$f":"INDEX('Allergy-ConceptMap-1'!$I$15:$N$274,Q52+1,R52)","v":"* group[=].element[=].display = ##34#A.2.1.1.6 Onset date##34#"}]
[null,null,null,null,null,null,null,null,null,null,null,null,null,null,null,39,6,3,{"$f":"INDEX('Allergy-ConceptMap-1'!$I$15:$N$274,Q53+1,R53)","v":"* group[=].element[=].target.code = #AllergyIntolerance.onsetDateTime"}]
[null,null,null,null,null,null,null,null,null,null,null,null,null,null,null,40,6,4,{"$f":"INDEX('Allergy-ConceptMap-1'!$I$15:$N$274,Q54+1,R54)","v":"* group[=].element[=].target.display = ##34###34#"}]
[null,null,null,null,null,null,null,null,null,null,null,null,null,null,null,41,6,5,{"$f":"INDEX('Allergy-ConceptMap-1'!$I$15:$N$274,Q55+1,R55)","v":"* group[=].element[=].target.equivalence = #equivalent"}]
[null,null,null,null,null,null,null,null,null,null,null,null,null,null,null,42,6,6,{"$f":"INDEX('Allergy-ConceptMap-1'!$I$15:$N$274,Q56+1,R56)","v":""}]
[null,null,null,null,null,null,null,null,null,null,null,null,null,null,null,43,7,1,{"$f":"INDEX('Allergy-ConceptMap-1'!$I$15:$N$274,Q57+1,R57)","v":"* group[=].element[+].code = #Allergy.endDate"}]
[null,null,null,null,null,null,null,null,null,null,null,null,null,null,null,44,7,{"$f":"IF(MOD(P58,$Q$8)=0,$Q$8,MOD(P58,$Q$8))","v":2},{"$f":"INDEX('Allergy-ConceptMap-1'!$I$15:$N$274,Q58+1,R58)","v":"* group[=].element[=].display = ##34#A.2.1.1.7 End Date##34#"}]
[null,null,null,null,null,null,null,null,null,null,null,null,null,null,null,45,7,3,{"$f":"INDEX('Allergy-ConceptMap-1'!$I$15:$N$274,Q59+1,R59)","v":"* group[=].element[=].target.code = #AllergyIntolerance.extension:abatement-datetime"}]
[null,null,null,null,null,null,null,null,null,null,null,null,null,null,null,46,7,4,{"$f":"INDEX('Allergy-ConceptMap-1'!$I$15:$N$274,Q60+1,R60)","v":"* group[=].element[=].target.display = ##34###34#"}]
[null,null,null,null,null,null,null,null,null,null,null,null,null,null,null,47,7,5,{"$f":"INDEX('Allergy-ConceptMap-1'!$I$15:$N$274,Q61+1,R61)","v":"* group[=].element[=].target.equivalence = #equivalent"}]
[null,null,null,null,null,null,null,null,null,null,null,null,null,null,null,48,7,6,{"$f":"INDEX('Allergy-ConceptMap-1'!$I$15:$N$274,Q62+1,R62)","v":""}]
[null,null,null,null,null,null,null,null,null,null,null,null,null,null,null,49,8,1,{"$f":"INDEX('Allergy-ConceptMap-1'!$I$15:$N$274,Q63+1,R63)","v":"* group[=].element[+].code = #Allergy.status"}]
[null,null,null,null,null,null,null,null,null,null,null,null,null,null,null,50,8,2,{"$f":"INDEX('Allergy-ConceptMap-1'!$I$15:$N$274,Q64+1,R64)","v":"* group[=].element[=].display = ##34#A.2.1.1.8 Status##34#"}]
[null,null,null,null,null,null,null,null,null,null,null,null,null,null,null,51,8,3,{"$f":"INDEX('Allergy-ConceptMap-1'!$I$15:$N$274,Q65+1,R65)","v":"* group[=].element[=].target.code = #AllergyIntolerance.clinicalStatus"}]
[null,null,null,null,null,null,null,null,null,null,null,null,null,null,null,52,8,4,{"$f":"INDEX('Allergy-ConceptMap-1'!$I$15:$N$274,Q66+1,R66)","v":"* group[=].element[=].target.display = ##34###34#"}]
[null,null,null,null,null,null,null,null,null,null,null,null,null,null,null,53,8,5,{"$f":"INDEX('Allergy-ConceptMap-1'!$I$15:$N$274,Q67+1,R67)","v":"* group[=].element[=].target.equivalence = #equivalent"}]
[null,null,null,null,null,null,null,null,null,null,null,null,null,null,null,54,8,6,{"$f":"INDEX('Allergy-ConceptMap-1'!$I$15:$N$274,Q68+1,R68)","v":""}]
[null,null,null,null,null,null,null,null,null,null,null,null,null,null,null,55,9,1,{"$f":"INDEX('Allergy-ConceptMap-1'!$I$15:$N$274,Q69+1,R69)","v":"* group[=].element[+].code = #Allergy.certainty"}]
[null,null,null,null,null,null,null,null,null,null,null,null,null,null,null,56,9,2,{"$f":"INDEX('Allergy-ConceptMap-1'!$I$15:$N$274,Q70+1,R70)","v":"* group[=].element[=].display = ##34#A.2.1.1.9 Certainty##34#"}]
[null,null,null,null,null,null,null,null,null,null,null,null,null,null,null,57,9,3,{"$f":"INDEX('Allergy-ConceptMap-1'!$I$15:$N$274,Q71+1,R71)","v":"* group[=].element[=].target.code = #AllergyIntolerance.verificationStatus"}]
[null,null,null,null,null,null,null,null,null,null,null,null,null,null,null,58,9,4,{"$f":"INDEX('Allergy-ConceptMap-1'!$I$15:$N$274,Q72+1,R72)","v":"* group[=].element[=].target.display = ##34###34#"}]
[null,null,null,null,null,null,null,null,null,null,null,null,null,null,null,59,9,5,{"$f":"INDEX('Allergy-ConceptMap-1'!$I$15:$N$274,Q73+1,R73)","v":"* group[=].element[=].target.equivalence = #equivalent"}]
[null,null,null,null,null,null,null,null,null,null,null,null,null,null,null,60,9,6,{"$f":"INDEX('Allergy-ConceptMap-1'!$I$15:$N$274,Q74+1,R74)","v":""}]
[null,null,null,null,null,null,null,null,null,null,null,null,null,null,null,61,10,1,{"$f":"INDEX('Allergy-ConceptMap-1'!$I$15:$N$274,Q75+1,R75)","v":"* group[=].element[+].code = #Allergy.agent"}]
[null,null,null,null,null,null,null,null,null,null,null,null,null,null,null,62,10,2,{"$f":"INDEX('Allergy-ConceptMap-1'!$I$15:$N$274,Q76+1,R76)","v":"* group[=].element[=].display = ##34#A.2.1.1.10 Agent or Allergen##34#"}]
[null,null,null,null,null,null,null,null,null,null,null,null,null,null,null,63,10,3,{"$f":"INDEX('Allergy-ConceptMap-1'!$I$15:$N$274,Q77+1,R77)","v":"* group[=].element[=].target.code = #AllergyIntolerance.code"}]
[null,null,null,null,null,null,null,null,null,null,null,null,null,null,null,64,10,4,{"$f":"INDEX('Allergy-ConceptMap-1'!$I$15:$N$274,Q78+1,R78)","v":"* group[=].element[=].target.display = ##34###34#"}]
[null,null,null,null,null,null,null,null,null,null,null,null,null,null,null,65,10,5,{"$f":"INDEX('Allergy-ConceptMap-1'!$I$15:$N$274,Q79+1,R79)","v":"* group[=].element[=].target.equivalence = #equivalent"}]
[null,null,null,null,null,null,null,null,null,null,null,null,null,null,null,66,10,6,{"$f":"INDEX('Allergy-ConceptMap-1'!$I$15:$N$274,Q80+1,R80)","v":""}]
[null,null,null,null,null,null,null,null,null,null,null,null,null,null,null,67,11,1,{"$f":"INDEX('Allergy-ConceptMap-1'!$I$15:$N$274,Q81+1,R81)","v":0}]
[null,null,null,null,null,null,null,null,null,null,null,null,null,null,null,68,11,2,{"$f":"INDEX('Allergy-ConceptMap-1'!$I$15:$N$274,Q82+1,R82)","v":0}]
[null,null,null,null,null,null,null,null,null,null,null,null,null,null,null,69,11,3,{"$f":"INDEX('Allergy-ConceptMap-1'!$I$15:$N$274,Q83+1,R83)","v":0}]
[null,null,null,null,null,null,null,null,null,null,null,null,null,null,null,70,11,4,{"$f":"INDEX('Allergy-ConceptMap-1'!$I$15:$N$274,Q84+1,R84)","v":0}]
[null,null,null,null,null,null,null,null,null,null,null,null,null,null,null,71,11,5,{"$f":"INDEX('Allergy-ConceptMap-1'!$I$15:$N$274,Q85+1,R85)","v":0}]
[null,null,null,null,null,null,null,null,null,null,null,null,null,null,null,72,11,6,{"$f":"INDEX('Allergy-ConceptMap-1'!$I$15:$N$274,Q86+1,R86)","v":0}]
[null,null,null,null,null,null,null,null,null,null,null,null,null,null,null,73,12,1,{"$f":"INDEX('Allergy-ConceptMap-1'!$I$15:$N$274,Q87+1,R87)","v":0}]
[]
[]
[]
[]
[]
[]
[]
[]
[]
[]
[]
[]
[]
[]
[]
[]
[]
[]
[]
[]
[]
[]
[]
[]
[]
[]
[]
[]
[]
[]
[]
[]
[]
[]
[]
[]
[]
[null,null,null,null,null,null,null,null,null,null,null,null,null,null,null,107,{"$f":"IF(MOD(P125,$Q$8)=0,P125/$Q$8-1,INT(P125/$Q$8))","v":17},{"$f":"IF(MOD(P125,$Q$8)=0,$Q$8,MOD(P125,$Q$8))","v":5},{"$f":"INDEX('Allergy-ConceptMap-1'!$I$15:$N$274,Q125+1,R125)","v":0}]
[null,null,null,null,null,null,null,null,null,null,null,null,null,null,null,108,17,6,{"$f":"INDEX('Allergy-ConceptMap-1'!$I$15:$N$274,Q126+1,R126)","v":0}]
[null,null,null,null,null,null,null,null,null,null,null,null,null,null,null,109,18,1,{"$f":"INDEX('Allergy-ConceptMap-1'!$I$15:$N$274,Q127+1,R127)","v":0}]
[null,null,null,null,null,null,null,null,null,null,null,null,null,null,null,110,18,2,{"$f":"INDEX('Allergy-ConceptMap-1'!$I$15:$N$274,Q128+1,R128)","v":0}]
[null,null,null,null,null,null,null,null,null,null,null,null,null,null,null,111,18,3,{"$f":"INDEX('Allergy-ConceptMap-1'!$I$15:$N$274,Q129+1,R129)","v":0}]
[null,null,null,null,null,null,null,null,null,null,null,null,null,null,null,112,18,4,{"$f":"INDEX('Allergy-ConceptMap-1'!$I$15:$N$274,Q130+1,R130)","v":0}]
[null,null,null,null,null,null,null,null,null,null,null,null,null,null,null,113,18,5,{"$f":"INDEX('Allergy-ConceptMap-1'!$I$15:$N$274,Q131+1,R131)","v":0}]
[null,null,null,null,null,null,null,null,null,null,null,null,null,null,null,114,18,6,{"$f":"INDEX('Allergy-ConceptMap-1'!$I$15:$N$274,Q132+1,R132)","v":0}]
[null,null,null,null,null,null,null,null,null,null,null,null,null,null,null,115,19,1,{"$f":"INDEX('Allergy-ConceptMap-1'!$I$15:$N$274,Q133+1,R133)","v":0}]
[null,null,null,null,null,null,null,null,null,null,null,null,null,null,null,116,19,2,{"$f":"INDEX('Allergy-ConceptMap-1'!$I$15:$N$274,Q134+1,R134)","v":0}]
[null,null,null,null,null,null,null,null,null,null,null,null,null,null,null,117,19,3,{"$f":"INDEX('Allergy-ConceptMap-1'!$I$15:$N$274,Q135+1,R135)","v":0}]
[null,null,null,null,null,null,null,null,null,null,null,null,null,null,null,118,19,4,{"$f":"INDEX('Allergy-ConceptMap-1'!$I$15:$N$274,Q136+1,R136)","v":0}]
[null,null,null,null,null,null,null,null,null,null,null,null,null,null,null,119,19,5,{"$f":"INDEX('Allergy-ConceptMap-1'!$I$15:$N$274,Q137+1,R137)","v":0}]
[null,null,null,null,null,null,null,null,null,null,null,null,null,null,null,120,19,6,{"$f":"INDEX('Allergy-ConceptMap-1'!$I$15:$N$274,Q138+1,R138)","v":0}]
[null,null,null,null,null,null,null,null,null,null,null,null,null,null,null,121,20,1,{"$f":"INDEX('Allergy-ConceptMap-1'!$I$15:$N$274,Q139+1,R139)","v":0}]
[null,null,null,null,null,null,null,null,null,null,null,null,null,null,null,122,20,2,{"$f":"INDEX('Allergy-ConceptMap-1'!$I$15:$N$274,Q140+1,R140)","v":0}]
[null,null,null,null,null,null,null,null,null,null,null,null,null,null,null,123,20,3,{"$f":"INDEX('Allergy-ConceptMap-1'!$I$15:$N$274,Q141+1,R141)","v":0}]
[null,null,null,null,null,null,null,null,null,null,null,null,null,null,null,124,20,4,{"$f":"INDEX('Allergy-ConceptMap-1'!$I$15:$N$274,Q142+1,R142)","v":0}]
[null,null,null,null,null,null,null,null,null,null,null,null,null,null,null,125,20,5,{"$f":"INDEX('Allergy-ConceptMap-1'!$I$15:$N$274,Q143+1,R143)","v":0}]
[null,null,null,null,null,null,null,null,null,null,null,null,null,null,null,126,20,6,{"$f":"INDEX('Allergy-ConceptMap-1'!$I$15:$N$274,Q144+1,R144)","v":0}]
[null,null,null,null,null,null,null,null,null,null,null,null,null,null,null,127,21,1,{"$f":"INDEX('Allergy-ConceptMap-1'!$I$15:$N$274,Q145+1,R145)","v":0}]
[null,null,null,null,null,null,null,null,null,null,null,null,null,null,null,128,21,2,{"$f":"INDEX('Allergy-ConceptMap-1'!$I$15:$N$274,Q146+1,R146)","v":0}]
[null,null,null,null,null,null,null,null,null,null,null,null,null,null,null,129,21,3,{"$f":"INDEX('Allergy-ConceptMap-1'!$I$15:$N$274,Q147+1,R147)","v":0}]
[null,null,null,null,null,null,null,null,null,null,null,null,null,null,null,130,21,4,{"$f":"INDEX('Allergy-ConceptMap-1'!$I$15:$N$274,Q148+1,R148)","v":0}]
[null,null,null,null,null,null,null,null,null,null,null,null,null,null,null,131,21,5,{"$f":"INDEX('Allergy-ConceptMap-1'!$I$15:$N$274,Q149+1,R149)","v":0}]
[null,null,null,null,null,null,null,null,null,null,null,null,null,null,null,132,21,6,{"$f":"INDEX('Allergy-ConceptMap-1'!$I$15:$N$274,Q150+1,R150)","v":0}]
[null,null,null,null,null,null,null,null,null,null,null,null,null,null,null,133,22,1,{"$f":"INDEX('Allergy-ConceptMap-1'!$I$15:$N$274,Q151+1,R151)","v":0}]
[null,null,null,null,null,null,null,null,null,null,null,null,null,null,null,134,22,2,{"$f":"INDEX('Allergy-ConceptMap-1'!$I$15:$N$274,Q152+1,R152)","v":0}]
[null,null,null,null,null,null,null,null,null,null,null,null,null,null,null,135,22,3,{"$f":"INDEX('Allergy-ConceptMap-1'!$I$15:$N$274,Q153+1,R153)","v":0}]
[null,null,null,null,null,null,null,null,null,null,null,null,null,null,null,136,22,4,{"$f":"INDEX('Allergy-ConceptMap-1'!$I$15:$N$274,Q154+1,R154)","v":0}]
[null,null,null,null,null,null,null,null,null,null,null,null,null,null,null,137,22,5,{"$f":"INDEX('Allergy-ConceptMap-1'!$I$15:$N$274,Q155+1,R155)","v":0}]
[null,null,null,null,null,null,null,null,null,null,null,null,null,null,null,138,22,6,{"$f":"INDEX('Allergy-ConceptMap-1'!$I$15:$N$274,Q156+1,R156)","v":0}]
[null,null,null,null,null,null,null,null,null,null,null,null,null,null,null,139,23,1,{"$f":"INDEX('Allergy-ConceptMap-1'!$I$15:$N$274,Q157+1,R157)","v":0}]
[null,null,null,null,null,null,null,null,null,null,null,null,null,null,null,140,23,2,{"$f":"INDEX('Allergy-ConceptMap-1'!$I$15:$N$274,Q158+1,R158)","v":0}]
[null,null,null,null,null,null,null,null,null,null,null,null,null,null,null,141,23,3,{"$f":"INDEX('Allergy-ConceptMap-1'!$I$15:$N$274,Q159+1,R159)","v":0}]
[null,null,null,null,null,null,null,null,null,null,null,null,null,null,null,142,23,4,{"$f":"INDEX('Allergy-ConceptMap-1'!$I$15:$N$274,Q160+1,R160)","v":0}]
[null,null,null,null,null,null,null,null,null,null,null,null,null,null,null,143,23,5,{"$f":"INDEX('Allergy-ConceptMap-1'!$I$15:$N$274,Q161+1,R161)","v":0}]
[null,null,null,null,null,null,null,null,null,null,null,null,null,null,null,144,23,6,{"$f":"INDEX('Allergy-ConceptMap-1'!$I$15:$N$274,Q162+1,R162)","v":0}]
[null,null,null,null,null,null,null,null,null,null,null,null,null,null,null,145,24,1,{"$f":"INDEX('Allergy-ConceptMap-1'!$I$15:$N$274,Q163+1,R163)","v":0}]
[null,null,null,null,null,null,null,null,null,null,null,null,null,null,null,146,24,2,{"$f":"INDEX('Allergy-ConceptMap-1'!$I$15:$N$274,Q164+1,R164)","v":0}]
[null,null,null,null,null,null,null,null,null,null,null,null,null,null,null,147,24,3,{"$f":"INDEX('Allergy-ConceptMap-1'!$I$15:$N$274,Q165+1,R165)","v":0}]
[null,null,null,null,null,null,null,null,null,null,null,null,null,null,null,148,24,4,{"$f":"INDEX('Allergy-ConceptMap-1'!$I$15:$N$274,Q166+1,R166)","v":0}]
[null,null,null,null,null,null,null,null,null,null,null,null,null,null,null,149,24,5,{"$f":"INDEX('Allergy-ConceptMap-1'!$I$15:$N$274,Q167+1,R167)","v":0}]
[null,null,null,null,null,null,null,null,null,null,null,null,null,null,null,150,24,6,{"$f":"INDEX('Allergy-ConceptMap-1'!$I$15:$N$274,Q168+1,R168)","v":0}]
[null,null,null,null,null,null,null,null,null,null,null,null,null,null,null,151,25,1,{"$f":"INDEX('Allergy-ConceptMap-1'!$I$15:$N$274,Q169+1,R169)","v":0}]
[null,null,null,null,null,null,null,null,null,null,null,null,null,null,null,152,25,2,{"$f":"INDEX('Allergy-ConceptMap-1'!$I$15:$N$274,Q170+1,R170)","v":0}]
[null,null,null,null,null,null,null,null,null,null,null,null,null,null,null,153,25,3,{"$f":"INDEX('Allergy-ConceptMap-1'!$I$15:$N$274,Q171+1,R171)","v":0}]
[null,null,null,null,null,null,null,null,null,null,null,null,null,null,null,154,25,4,{"$f":"INDEX('Allergy-ConceptMap-1'!$I$15:$N$274,Q172+1,R172)","v":0}]
[null,null,null,null,null,null,null,null,null,null,null,null,null,null,null,155,25,5,{"$f":"INDEX('Allergy-ConceptMap-1'!$I$15:$N$274,Q173+1,R173)","v":0}]
[null,null,null,null,null,null,null,null,null,null,null,null,null,null,null,156,25,6,{"$f":"INDEX('Allergy-ConceptMap-1'!$I$15:$N$274,Q174+1,R174)","v":0}]
[null,null,null,null,null,null,null,null,null,null,null,null,null,null,null,157,26,1,{"$f":"INDEX('Allergy-ConceptMap-1'!$I$15:$N$274,Q175+1,R175)","v":0}]
[null,null,null,null,null,null,null,null,null,null,null,null,null,null,null,158,26,2,{"$f":"INDEX('Allergy-ConceptMap-1'!$I$15:$N$274,Q176+1,R176)","v":0}]
[null,null,null,null,null,null,null,null,null,null,null,null,null,null,null,159,26,3,{"$f":"INDEX('Allergy-ConceptMap-1'!$I$15:$N$274,Q177+1,R177)","v":0}]
[null,null,null,null,null,null,null,null,null,null,null,null,null,null,null,160,26,4,{"$f":"INDEX('Allergy-ConceptMap-1'!$I$15:$N$274,Q178+1,R178)","v":0}]
[null,null,null,null,null,null,null,null,null,null,null,null,null,null,null,161,26,5,{"$f":"INDEX('Allergy-ConceptMap-1'!$I$15:$N$274,Q179+1,R179)","v":0}]
[null,null,null,null,null,null,null,null,null,null,null,null,null,null,null,162,26,6,{"$f":"INDEX('Allergy-ConceptMap-1'!$I$15:$N$274,Q180+1,R180)","v":0}]
[null,null,null,null,null,null,null,null,null,null,null,null,null,null,null,163,27,1,{"$f":"INDEX('Allergy-ConceptMap-1'!$I$15:$N$274,Q181+1,R181)","v":0}]
[null,null,null,null,null,null,null,null,null,null,null,null,null,null,null,164,27,2,{"$f":"INDEX('Allergy-ConceptMap-1'!$I$15:$N$274,Q182+1,R182)","v":0}]
[null,null,null,null,null,null,null,null,null,null,null,null,null,null,null,165,27,3,{"$f":"INDEX('Allergy-ConceptMap-1'!$I$15:$N$274,Q183+1,R183)","v":0}]
[null,null,null,null,null,null,null,null,null,null,null,null,null,null,null,166,27,4,{"$f":"INDEX('Allergy-ConceptMap-1'!$I$15:$N$274,Q184+1,R184)","v":0}]
[null,null,null,null,null,null,null,null,null,null,null,null,null,null,null,167,27,5,{"$f":"INDEX('Allergy-ConceptMap-1'!$I$15:$N$274,Q185+1,R185)","v":0}]
[null,null,null,null,null,null,null,null,null,null,null,null,null,null,null,168,27,6,{"$f":"INDEX('Allergy-ConceptMap-1'!$I$15:$N$274,Q186+1,R186)","v":0}]
[null,null,null,null,null,null,null,null,null,null,null,null,null,null,null,169,28,1,{"$f":"INDEX('Allergy-ConceptMap-1'!$I$15:$N$274,Q187+1,R187)","v":0}]
[null,null,null,null,null,null,null,null,null,null,null,null,null,null,null,170,28,2,{"$f":"INDEX('Allergy-ConceptMap-1'!$I$15:$N$274,Q188+1,R188)","v":0}]
[null,null,null,null,null,null,null,null,null,null,null,null,null,null,null,171,{"$f":"IF(MOD(P189,$Q$8)=0,P189/$Q$8-1,INT(P189/$Q$8))","v":28},{"$f":"IF(MOD(P189,$Q$8)=0,$Q$8,MOD(P189,$Q$8))","v":3},{"$f":"INDEX('Allergy-ConceptMap-1'!$I$15:$N$274,Q189+1,R189)","v":0}]
[null,null,null,null,null,null,null,null,null,null,null,null,null,null,null,172,28,4,{"$f":"INDEX('Allergy-ConceptMap-1'!$I$15:$N$274,Q190+1,R190)","v":0}]
[null,null,null,null,null,null,null,null,null,null,null,null,null,null,null,173,28,5,{"$f":"INDEX('Allergy-ConceptMap-1'!$I$15:$N$274,Q191+1,R191)","v":0}]
[null,null,null,null,null,null,null,null,null,null,null,null,null,null,null,174,28,6,{"$f":"INDEX('Allergy-ConceptMap-1'!$I$15:$N$274,Q192+1,R192)","v":0}]
[null,null,null,null,null,null,null,null,null,null,null,null,null,null,null,175,29,1,{"$f":"INDEX('Allergy-ConceptMap-1'!$I$15:$N$274,Q193+1,R193)","v":0}]
[null,null,null,null,null,null,null,null,null,null,null,null,null,null,null,176,29,2,{"$f":"INDEX('Allergy-ConceptMap-1'!$I$15:$N$274,Q194+1,R194)","v":0}]

{"sheet":"Allergy-CM-fsh","index":61,"n_rows":88,"n_cols":7,"rows_kept":88,"cut":false,"hidden":false,"merged":[]}
[null,"// -------------------------------------------------------------------------------"]
[null,"//  Concept Model. File: ",null,null,null,null,"allergy-to-fhir-map.fsh"]
[null,"// -------------------------------------------------------------------------------"]
[null,{"$f":"\"Instance: \"&'Allergy-ConceptMap-1'!C4","v":"Instance: allergy2FHIR-eu-ps"}]
[null,"InstanceOf: ConceptMap"]
[null,"Usage: #definition"]
[null,"// * url = ##34#http://terminology.hl7.it/ConceptMap/ConceptMap-subject2osiris##34#"]
[null,{"$f":"\"* name = ##34#\"&'Allergy-ConceptMap-1'!C3&\"##34#\"","v":"* name = ##34#Allergy2FHIR##34#"}]
[null,{"$f":"\"* title = ##34#\"&'Allergy-ConceptMap-1'!C5&\"##34#\"","v":"* title = ##34#eHN Allergy to this guide Map##34#"}]
[null,"* status = #draft"]
[null,"* experimental = true"]
[null,{"$f":"\"* description = ##34#\"&'Allergy-ConceptMap-1'!C8&\"##34#\"","v":"* description = ##34#eHN Allergy Model to this guide Map##34#"}]
[null,{"$f":"\"* purpose = ##34#\"&'Allergy-ConceptMap-1'!C9&\"##34#\"","v":"* purpose = ##34#It shows how the Patient Summary Allergy data set defined by the EU eHN guidelines is mapped into this guide##34#"}]
[null,{"$f":"\"* sourceUri = ##34#\"&'Allergy-ConceptMap-1'!E3&\"##34#\"","v":"* sourceUri = ##34#http://hl7.eu/fhir/ig/xpandh/ps/StructureDefinition/Allergy##34#"}]
[null,{"$f":"\"* targetUri = ##34#\"&'Allergy-ConceptMap-1'!E4&\"##34#\"","v":"* targetUri = ##34#http://hl7.eu/fhir/ig/xpandh/ps/StructureDefinition/AllergyIntolerance-ps-eu-xpandh##34#"}]
[]
[null,{"$f":"\"* group[+].source = ##34#\"&'Allergy-ConceptMap-1'!E6&\"##34#\"","v":"* group[+].source = ##34#http://hl7.eu/fhir/ig/xpandh/ps/StructureDefinition/Allergy##34#"}]
[null,{"$f":"\"* group[=].target = ##34#\"&'Allergy-ConceptMap-1'!E7&\"##34#\"","v":"* group[=].target = ##34#http://hl7.eu/fhir/ig/xpandh/ps/StructureDefinition/AllergyIntolerance-ps-eu-xpandh##34#"}]
[]
[null,{"$f":"IF('Allergy-ConceptMap-1'!S15=0,\"//---END\",'Allergy-ConceptMap-1'!S15)","v":"* group[=].element[+].code = #Allergy.description"}]
[null,{"$f":"IF('Allergy-ConceptMap-1'!S16=0,\"//---END\",'Allergy-ConceptMap-1'!S16)","v":"* group[=].element[=].display = ##34#A.2.1.1.1 Allergy description##34#"}]
[null,{"$f":"IF('Allergy-ConceptMap-1'!S17=0,\"//---END\",'Allergy-ConceptMap-1'!S17)","v":"* group[=].element[=].target.code = #AllergyIntolerance.text"}]
[null,{"$f":"IF('Allergy-ConceptMap-1'!S18=0,\"//---END\",'Allergy-ConceptMap-1'!S18)","v":"* group[=].element[=].target.display = ##34###34#"}]
[null,{"$f":"IF('Allergy-ConceptMap-1'!S19=0,\"//---END\",'Allergy-ConceptMap-1'!S19)","v":"* group[=].element[=].target.equivalence = #equivalent"}]
[null,{"$f":"IF('Allergy-ConceptMap-1'!S20=0,\"//---END\",'Allergy-ConceptMap-1'!S20)","v":""}]
[null,{"$f":"IF('Allergy-ConceptMap-1'!S21=0,\"//---END\",'Allergy-ConceptMap-1'!S21)","v":"* group[=].element[+].code = #Allergy.type"}]
[null,{"$f":"IF('Allergy-ConceptMap-1'!S22=0,\"//---END\",'Allergy-ConceptMap-1'!S22)","v":"* group[=].element[=].display = ##34#A.2.1.1.2 Type of propensity##34#"}]
[null,{"$f":"IF('Allergy-ConceptMap-1'!S23=0,\"//---END\",'Allergy-ConceptMap-1'!S23)","v":"* group[=].element[=].target.code = #AllergyIntolerance.type"}]
[null,{"$f":"IF('Allergy-ConceptMap-1'!S24=0,\"//---END\",'Allergy-ConceptMap-1'!S24)","v":"* group[=].element[=].target.display = ##34###34#"}]
[null,{"$f":"IF('Allergy-ConceptMap-1'!S25=0,\"//---END\",'Allergy-ConceptMap-1'!S25)","v":"* group[=].element[=].target.equivalence = #equivalent"}]
[null,{"$f":"IF('Allergy-ConceptMap-1'!S26=0,\"//---END\",'Allergy-ConceptMap-1'!S26)","v":""}]
[null,{"$f":"IF('Allergy-ConceptMap-1'!S27=0,\"//---END\",'Allergy-ConceptMap-1'!S27)","v":"* group[=].element[+].code = #Allergy.manifestation"}]
[null,{"$f":"IF('Allergy-ConceptMap-1'!S28=0,\"//---END\",'Allergy-ConceptMap-1'!S28)","v":"* group[=].element[=].display = ##34#A.2.1.1.3 Allergy manifestation##34#"}]
[null,{"$f":"IF('Allergy-ConceptMap-1'!S29=0,\"//---END\",'Allergy-ConceptMap-1'!S29)","v":"* group[=].element[=].target.code = #AllergyIntolerance.reaction"}]
[null,{"$f":"IF('Allergy-ConceptMap-1'!S30=0,\"//---END\",'Allergy-ConceptMap-1'!S30)","v":"* group[=].element[=].target.display = ##34###34#"}]
[null,{"$f":"IF('Allergy-ConceptMap-1'!S31=0,\"//---END\",'Allergy-ConceptMap-1'!S31)","v":"* group[=].element[=].target.equivalence = #relatedto"}]
[null,{"$f":"IF('Allergy-ConceptMap-1'!S32=0,\"//---END\",'Allergy-ConceptMap-1'!S32)","v":"* group[=].element[=].target.comment = ##34#general information##34#"}]
[null,{"$f":"IF('Allergy-ConceptMap-1'!S33=0,\"//---END\",'Allergy-ConceptMap-1'!S33)","v":"* group[=].element[+].code = #Allergy.manifestation"}]
[null,{"$f":"IF('Allergy-ConceptMap-1'!S34=0,\"//---END\",'Allergy-ConceptMap-1'!S34)","v":"* group[=].element[=].display = ##34#A.2.1.1.3 Allergy manifestation##34#"}]
[null,{"$f":"IF('Allergy-ConceptMap-1'!S35=0,\"//---END\",'Allergy-ConceptMap-1'!S35)","v":"* group[=].element[=].target.code = #AllergyIntolerance.reaction.manifestation"}]
[null,{"$f":"IF('Allergy-ConceptMap-1'!S36=0,\"//---END\",'Allergy-ConceptMap-1'!S36)","v":"* group[=].element[=].target.display = ##34###34#"}]
[null,{"$f":"IF('Allergy-ConceptMap-1'!S37=0,\"//---END\",'Allergy-ConceptMap-1'!S37)","v":"* group[=].element[=].target.equivalence = #equivalent"}]
[null,{"$f":"IF('Allergy-ConceptMap-1'!S38=0,\"//---END\",'Allergy-ConceptMap-1'!S38)","v":"* group[=].element[=].target.comment = ##34#coded manifestation##34#"}]
[null,{"$f":"IF('Allergy-ConceptMap-1'!S39=0,\"//---END\",'Allergy-ConceptMap-1'!S39)","v":"* group[=].element[+].code = #Allergy.severity"}]
[null,{"$f":"IF('Allergy-ConceptMap-1'!S40=0,\"//---END\",'Allergy-ConceptMap-1'!S40)","v":"* group[=].element[=].display = ##34#A.2.1.1.4 Severity##34#"}]
[null,{"$f":"IF('Allergy-ConceptMap-1'!S41=0,\"//---END\",'Allergy-ConceptMap-1'!S41)","v":"* group[=].element[=].target.code = #AllergyIntolerance.reaction.severity"}]
[null,{"$f":"IF('Allergy-ConceptMap-1'!S42=0,\"//---END\",'Allergy-ConceptMap-1'!S42)","v":"* group[=].element[=].target.display = ##34###34#"}]
[null,{"$f":"IF('Allergy-ConceptMap-1'!S43=0,\"//---END\",'Allergy-ConceptMap-1'!S43)","v":"* group[=].element[=].target.equivalence = #equivalent"}]
[null,{"$f":"IF('Allergy-ConceptMap-1'!S44=0,\"//---END\",'Allergy-ConceptMap-1'!S44)","v":""}]
[null,{"$f":"IF('Allergy-ConceptMap-1'!S45=0,\"//---END\",'Allergy-ConceptMap-1'!S45)","v":"* group[=].element[+].code = #Allergy.criticality"}]
[null,{"$f":"IF('Allergy-ConceptMap-1'!S46=0,\"//---END\",'Allergy-ConceptMap-1'!S46)","v":"* group[=].element[=].display = ##34#A.2.1.1.5 Criticality##34#"}]
[null,{"$f":"IF('Allergy-ConceptMap-1'!S47=0,\"//---END\",'Allergy-ConceptMap-1'!S47)","v":"* group[=].element[=].target.code = #AllergyIntolerance.criticality"}]
[null,{"$f":"IF('Allergy-ConceptMap-1'!S48=0,\"//---END\",'Allergy-ConceptMap-1'!S48)","v":"* group[=].element[=].target.display = ##34###34#"}]
[null,{"$f":"IF('Allergy-ConceptMap-1'!S49=0,\"//---END\",'Allergy-ConceptMap-1'!S49)","v":"* group[=].element[=].target.equivalence = #equivalent"}]
[null,{"$f":"IF('Allergy-ConceptMap-1'!S50=0,\"//---END\",'Allergy-ConceptMap-1'!S50)","v":""}]
[null,{"$f":"IF('Allergy-ConceptMap-1'!S51=0,\"//---END\",'Allergy-ConceptMap-1'!S51)","v":"* group[=].element[+].code = #Allergy.onsetDate"}]
[null,{"$f":"IF('Allergy-ConceptMap-1'!S52=0,\"//---END\",'Allergy-ConceptMap-1'!S52)","v":"* group[=].element[=].display = ##34#A.2.1.1.6 Onset date##34#"}]
[null,{"$f":"IF('Allergy-ConceptMap-1'!S53=0,\"//---END\",'Allergy-ConceptMap-1'!S53)","v":"* group[=].element[=].target.code = #AllergyIntolerance.onsetDateTime"}]
[null,{"$f":"IF('Allergy-ConceptMap-1'!S54=0,\"//---END\",'Allergy-ConceptMap-1'!S54)","v":"* group[=].element[=].target.display = ##34###34#"}]
[null,{"$f":"IF('Allergy-ConceptMap-1'!S55=0,\"//---END\",'Allergy-ConceptMap-1'!S55)","v":"* group[=].element[=].target.equivalence = #equivalent"}]
[null,{"$f":"IF('Allergy-ConceptMap-1'!S56=0,\"//---END\",'Allergy-ConceptMap-1'!S56)","v":""}]
[null,{"$f":"IF('Allergy-ConceptMap-1'!S57=0,\"//---END\",'Allergy-ConceptMap-1'!S57)","v":"* group[=].element[+].code = #Allergy.endDate"}]
[null,{"$f":"IF('Allergy-ConceptMap-1'!S58=0,\"//---END\",'Allergy-ConceptMap-1'!S58)","v":"* group[=].element[=].display = ##34#A.2.1.1.7 End Date##34#"}]
[null,{"$f":"IF('Allergy-ConceptMap-1'!S59=0,\"//---END\",'Allergy-ConceptMap-1'!S59)","v":"* group[=].element[=].target.code = #AllergyIntolerance.extension:abatement-datetime"}]
[null,{"$f":"IF('Allergy-ConceptMap-1'!S60=0,\"//---END\",'Allergy-ConceptMap-1'!S60)","v":"* group[=].element[=].target.display = ##34###34#"}]
[null,{"$f":"IF('Allergy-ConceptMap-1'!S61=0,\"//---END\",'Allergy-ConceptMap-1'!S61)","v":"* group[=].element[=].target.equivalence = #equivalent"}]
[null,{"$f":"IF('Allergy-ConceptMap-1'!S62=0,\"//---END\",'Allergy-ConceptMap-1'!S62)","v":""}]
[null,{"$f":"IF('Allergy-ConceptMap-1'!S63=0,\"//---END\",'Allergy-ConceptMap-1'!S63)","v":"* group[=].element[+].code = #Allergy.status"}]
[null,{"$f":"IF('Allergy-ConceptMap-1'!S64=0,\"//---END\",'Allergy-ConceptMap-1'!S64)","v":"* group[=].element[=].display = ##34#A.2.1.1.8 Status##34#"}]
[null,{"$f":"IF('Allergy-ConceptMap-1'!S65=0,\"//---END\",'Allergy-ConceptMap-1'!S65)","v":"* group[=].element[=].target.code = #AllergyIntolerance.clinicalStatus"}]
[null,{"$f":"IF('Allergy-ConceptMap-1'!S66=0,\"//---END\",'Allergy-ConceptMap-1'!S66)","v":"* group[=].element[=].target.display = ##34###34#"}]
[null,{"$f":"IF('Allergy-ConceptMap-1'!S67=0,\"//---END\",'Allergy-ConceptMap-1'!S67)","v":"* group[=].element[=].target.equivalence = #equivalent"}]
[null,{"$f":"IF('Allergy-ConceptMap-1'!S68=0,\"//---END\",'Allergy-ConceptMap-1'!S68)","v":""}]
[null,{"$f":"IF('Allergy-ConceptMap-1'!S69=0,\"//---END\",'Allergy-ConceptMap-1'!S69)","v":"* group[=].element[+].code = #Allergy.certainty"}]
[null,{"$f":"IF('Allergy-ConceptMap-1'!S70=0,\"//---END\",'Allergy-ConceptMap-1'!S70)","v":"* group[=].element[=].display = ##34#A.2.1.1.9 Certainty##34#"}]
[null,{"$f":"IF('Allergy-ConceptMap-1'!S71=0,\"//---END\",'Allergy-ConceptMap-1'!S71)","v":"* group[=].element[=].target.code = #AllergyIntolerance.verificationStatus"}]
[null,{"$f":"IF('Allergy-ConceptMap-1'!S72=0,\"//---END\",'Allergy-ConceptMap-1'!S72)","v":"* group[=].element[=].target.display = ##34###34#"}]
[null,{"$f":"IF('Allergy-ConceptMap-1'!S73=0,\"//---END\",'Allergy-ConceptMap-1'!S73)","v":"* group[=].element[=].target.equivalence = #equivalent"}]
[null,{"$f":"IF('Allergy-ConceptMap-1'!S74=0,\"//---END\",'Allergy-ConceptMap-1'!S74)","v":""}]
[null,{"$f":"IF('Allergy-ConceptMap-1'!S75=0,\"//---END\",'Allergy-ConceptMap-1'!S75)","v":"* group[=].element[+].code = #Allergy.agent"}]
[null,{"$f":"IF('Allergy-ConceptMap-1'!S76=0,\"//---END\",'Allergy-ConceptMap-1'!S76)","v":"* group[=].element[=].display = ##34#A.2.1.1.10 Agent or Allergen##34#"}]
[null,{"$f":"IF('Allergy-ConceptMap-1'!S77=0,\"//---END\",'Allergy-ConceptMap-1'!S77)","v":"* group[=].element[=].target.code = #AllergyIntolerance.code"}]
[null,{"$f":"IF('Allergy-ConceptMap-1'!S78=0,\"//---END\",'Allergy-ConceptMap-1'!S78)","v":"* group[=].element[=].target.display = ##34###34#"}]
[null,{"$f":"IF('Allergy-ConceptMap-1'!S79=0,\"//---END\",'Allergy-ConceptMap-1'!S79)","v":"* group[=].element[=].target.equivalence = #equivalent"}]
[null,{"$f":"IF('Allergy-ConceptMap-1'!S80=0,\"//---END\",'Allergy-ConceptMap-1'!S80)","v":""}]
[null,{"$f":"IF('Allergy-ConceptMap-1'!S81=0,\"//---END\",'Allergy-ConceptMap-1'!S81)","v":"//---END"}]
[null,{"$f":"IF('Allergy-ConceptMap-1'!S82=0,\"//---END\",'Allergy-ConceptMap-1'!S82)","v":"//---END"}]
[null,{"$f":"IF('Allergy-ConceptMap-1'!S83=0,\"//---END\",'Allergy-ConceptMap-1'!S83)","v":"//---END"}]

{"sheet":"A1.5 Author","index":62,"n_rows":29,"n_cols":9,"rows_kept":29,"cut":false,"hidden":false,"merged":[[25,2,25,5]]}
[null,null,null,null,null,null,null,null,"// -------------------------------------------------------------------------------"]
[null,null,null,null,null,null,null,null,"//  Logical Model"]
[null,null,null,null,null,null,null,null,{"$f":"I1","v":"// -------------------------------------------------------------------------------"}]
["Name","AuthorPsEhn",null,null,null,null,null,null,{"$f":"CONCATENATE(\"Logical: \",B4)","v":"Logical: AuthorPsEhn"}]
["Id","Author",null,null,null,null,null,null,{"$f":"CONCATENATE(\"Id: \",B5)","v":"Id: Author"}]
["Title","A.1.5 - Author",null,null,null,null,null,null,{"$f":"CONCATENATE(\"Title: ##34#\",B6,\"##34#\")","v":"Title: ##34#A.1.5 - Author##34#"}]
["Description","Author (by whom the Laboratory result report or a subset of its results was authored). Section A1.5 of the eHN guideline.",null,null,null,"max","dataType",null,{"$f":"CONCATENATE(\"Description: \",\" ##334#\",B7,\"##334#\",)","v":"Description:  ##334#Author (by whom the Laboratory result report or a subset of its results was authored). Section A1.5 of the eHN guideline.##334#"}]
[1,"identifier","A.1.5.1 Author identifier","The health professional or authoring device identification number. Either an internal identifier assigned by a healthcare provider institution or (preferably) a national health professional ID such as the license or registration number.  - Preferred system(s): ",0,1,"Identifier",null,{"$f":"CONCATENATE(\"* \",B8, \" \",E8,\"..\",F8,\" \",G8,\" ##34#\",C8,\"##34# ##334#\",D8,\"##334#\")","v":"* identifier 0..1 Identifier ##34#A.1.5.1 Author identifier##34# ##334#The health professional or authoring device identification number. Either an internal identifier assigned by a healthcare provider institution or (preferably) a national health professional ID such as the license or registration number.  - Preferred system(s): ##334#"}]
[2,"name","A.1.5.2 Author name","Person or device name. - Preferred system(s): ",0,"*","HumanName",null,{"$f":"CONCATENATE(\"* \",B9, \" \",E9,\"..\",F9,\" \",G9,\" ##34#\",C9,\"##34# ##334#\",D9,\"##334#\")","v":"* name 0..* HumanName ##34#A.1.5.2 Author name##34# ##334#Person or device name. - Preferred system(s): ##334#"}]
[3,"organization","A.1.5.3 Author organization","The healthcare provider organization information. - Preferred system(s): ",0,"*","Organization",null,"* organization 0..* Organization ##34#A.1.5.3 Author organization##34# ##334#The healthcare provider organization information. - Preferred system(s): ##334#"]
[4,null,null,null,null,null,null,null,"*  ..  ##34###34# ##334###334#"]
[5,null,null,null,null,null,null,null,"*  ..  ##34###34# ##334###334#"]
[6,null,null,null,null,null,null,null,"*  ..  ##34###34# ##334###334#"]
[7,null,null,null,null,null,null,null,"*  ..  ##34###34# ##334###334#"]
[8]
[9]
[]
[]
[]
[]
[null,{"$f":"CONCATENATE(C21,\" \",D21)","v":" "}]
[]
[]
[]
[]
[null,null,"A.1.5 Author (by whom the Laboratory result report or a subset of its results was authored)"]
[null,{"$f":"CONCATENATE(C27,\" \",D27)","v":"A.1.5.1 Author identifier"},"A.1.5.1","Author identifier","The health professional or authoring device identification number. Either an internal identifier assigned by a healthcare provider institution or (preferably) a national health professional ID such as the license or registration number. ",null,null,null,{"$f":"CONCATENATE(E27,\" - Preferred system(s): \",F27)","v":"The health professional or authoring device identification number. Either an internal identifier assigned by a healthcare provider institution or (preferably) a national health professional ID such as the license or registration number.  - Preferred system(s): "}]
[null,"A.1.5.2 Author name","A.1.5.2","Author name","Person or device name.",null,null,null,"Person or device name. - Preferred system(s): "]
[null,"A.1.5.3 Author organization ","A.1.5.3","Author organization ","The healthcare provider organization information.",null,null,null,"The healthcare provider organization information. - Preferred system(s): "]

{"sheet":"Author-Map-1","index":63,"n_rows":19,"n_cols":7,"rows_kept":19,"cut":false,"hidden":false,"merged":[]}
[null,null,null,null,"// -------------------------------------------------------------------------------"]
[null,null,null,null,"//  Map to FHIR R4"]
[null,null,null,null,{"$f":"E1","v":"// -------------------------------------------------------------------------------"}]
[null,"Mapping","eHNLabAuthor2Fhir",null,{"$f":"CONCATENATE(\"Mapping: \",C4)","v":"Mapping: eHNLabAuthor2Fhir"},null,"Mapping: fhir"]
[null,"Id","fhir",null,{"$f":"CONCATENATE(\"Id: \",C5)","v":"Id: fhir"},null,"Id: fhir"]
[null,"Title","eHN Lab Author model to FHIR R4 Map",null,{"$f":"CONCATENATE(\"Title: ##34#\",C6,\"##34#\")","v":"Title: ##34#eHN Lab Author model to FHIR R4 Map##34#"},null,"Title: \"FHIR\""]
[null,"Source",{"$f":"B9","v":"Author"},null,{"$f":"CONCATENATE(\"Source: \",C7)","v":"Source: Author"},null,"Source: Subject"]
[null,"Target","hl7.org/fhir/r4",null,{"$f":"CONCATENATE(\"Target: ##34#\",C8,\"##34#\")","v":"Target: ##34#hl7.org/fhir/r4##34#"},null,"Target: \"hl7.org/fhir/r4\""]
[null,{"$f":"'A1.5 Author'!B5","v":"Author"},"Composition.author.resolve()",null,{"$f":"CONCATENATE(\"* -> ##34#\",C9,\"##34#\")","v":"* -> ##34#Composition.author.resolve()##34#"}]
[null,{"$f":"'A1.5 Author'!$B$8","v":"identifier"},"Composition.author.resolve().ofType(PractitionerRole).Practitioner.resolve().identifier",null,{"$f":"IF(B10=0,\"*  -> ##34###34#\",CONCATENATE(\"* \",B10,\" -> ##34#\",C10,\"##34#\"))","v":"* identifier -> ##34#Composition.author.resolve().ofType(PractitionerRole).Practitioner.resolve().identifier##34#"},null,"* dateOfBirth -> \".birthDate\""]
[null,{"$f":"'A1.5 Author'!$B$8","v":"identifier"},"Composition.author.resolve().ofType(PractitionerRole).identifier",null,"* identifier -> ##34#Composition.author.resolve().ofType(PractitionerRole).identifier##34#"]
[null,{"$f":"'A1.5 Author'!B9","v":"name"},"Composition.author.resolve().ofType(PractitionerRole).Practitioner.resolve().name",null,"* name -> ##34#Composition.author.resolve().ofType(PractitionerRole).Practitioner.resolve().name##34#",null,"* dateOfBirth.date -> \".birthDate\""]
[null,{"$f":"'A1.5 Author'!B10","v":"organization"},"Composition.author.resolve().ofType(PractitionerRole).organization.resolve()",null,"* organization -> ##34#Composition.author.resolve().ofType(PractitionerRole).organization.resolve()##34#",null,"* dateOfBirth.unknown -> \".birthDate.extension('data-absent-reason').where(valueCode = 'unknown')\""]
[null,{"$f":"'A1.5 Author'!B11","v":0},null,null,"*  -> ##34###34#",null,"* maritalStatus -> \".maritalStatus\""]
[null,{"$f":"'A1.5 Author'!B12","v":0},null,null,"*  -> ##34###34#",null,"* sexOrGender -> \".gender\""]
[null,{"$f":"'A1.5 Author'!B13","v":0},null,null,"*  -> ##34###34#",null,"* sexOrGender -> \".extension('individual-recordedSexOrGender').value\""]
[null,null,null,null,"*  -> ##34###34#",null,"* sexOrGender -> \".extension('patient-sexForClinicalUse').value\""]
[null,null,null,null,"*  -> ##34###34#",null,"* race -> \".extension('patient-sexForClinicalUse').value\""]
[null,null,null,null,{"$f":"IF(B19=0,\"*  -> ##34###34#\",CONCATENATE(\"* \",B19,\" -> ##34#\",C19,\"##34#\"))","v":"*  -> ##34###34#"},null,"* countryOfResidence -> \".address.country\""]

{"sheet":"Author-fsh","index":64,"n_rows":32,"n_cols":7,"rows_kept":32,"cut":false,"hidden":false,"merged":[]}
[null,null,{"$f":"'A1.5 Author'!I1","v":"// -------------------------------------------------------------------------------"}]
[null,null,{"$f":"'A1.5 Author'!I2","v":"//  Logical Model"},null,null,null,"ps-author.fsh"]
[null,null,{"$f":"'A1.5 Author'!I3","v":"// -------------------------------------------------------------------------------"}]
[null,null,{"$f":"'A1.5 Author'!I4","v":"Logical: AuthorPsEhn"}]
[null,null,{"$f":"'A1.5 Author'!I5","v":"Id: Author"}]
[null,null,{"$f":"'A1.5 Author'!I6","v":"Title: ##34#A.1.5 - Author##34#"}]
[null,null,{"$f":"'A1.5 Author'!I7","v":"Description:  ##334#Author (by whom the Laboratory result report or a subset of its results was authored). Section A1.5 of the eHN guideline.##334#"}]
[null,null,{"$f":"IF('A1.5 Author'!I8=\"*  ..  ##34###34# ##334###334#\",\"//--- END\",'A1.5 Author'!I8)","v":"* identifier 0..1 Identifier ##34#A.1.5.1 Author identifier##34# ##334#The health professional or authoring device identification number. Either an internal identifier assigned by a healthcare provider institution or (preferably) a national health professional ID such as the license or registration number.  - Preferred system(s): ##334#"}]
[null,null,{"$f":"IF('A1.5 Author'!I9=\"*  ..  ##34###34# ##334###334#\",\"//--- END\",'A1.5 Author'!I9)","v":"* name 0..* HumanName ##34#A.1.5.2 Author name##34# ##334#Person or device name. - Preferred system(s): ##334#"}]
[null,null,{"$f":"IF('A1.5 Author'!I10=\"*  ..  ##34###34# ##334###334#\",\"//--- END\",'A1.5 Author'!I10)","v":"* organization 0..* Organization ##34#A.1.5.3 Author organization##34# ##334#The healthcare provider organization information. - Preferred system(s): ##334#"},null," "]
[null,null,{"$f":"IF('A1.5 Author'!I11=\"*  ..  ##34###34# ##334###334#\",\"//--- END\",'A1.5 Author'!I11)","v":"//--- END"}]
[null,null,{"$f":"IF('A1.5 Author'!I12=\"*  ..  ##34###34# ##334###334#\",\"//--- END\",'A1.5 Author'!I12)","v":"//--- END"}]
[null,null,{"$f":"IF('A1.5 Author'!I13=\"*  ..  ##34###34# ##334###334#\",\"//--- END\",'A1.5 Author'!I13)","v":"//--- END"}]
[null,null,{"$f":"IF('A1.5 Author'!I14=\"*  ..  ##34###34# ##334###334#\",\"//--- END\",'A1.5 Author'!I14)","v":"//--- END"}]
[]
[]
[]
[]
[]
[]
[]
[]
[]
[]
[]
[]
[]
[]
[]
[null,null,{"$f":"'Author-Map-1'!E1","v":"// -------------------------------------------------------------------------------"}]
[null,null,{"$f":"'Author-Map-1'!E2","v":"//  Map to FHIR R4"}]
[null,null,{"$f":"'Author-Map-1'!E3","v":"// -------------------------------------------------------------------------------"}]

{"sheet":"Author-ConceptMap-1","index":65,"n_rows":55,"n_cols":19,"rows_kept":55,"cut":false,"hidden":false,"merged":[[5,4,5,6],[6,4,6,6]]}
[]
[]
[null,"Mapping","PatientSummaryAuthor2FHIR","Source URI","http://hl7.eu/fhir/ig/xpandh/ps/StructureDefinition/Author"]
[null,"Id","author2FHIR-eu-ps","Target URI",{"$f":"'Author-ConceptMap-2-delete'!E4","v":"http://hl7.eu/fhir/ig/xpandh/ps/StructureDefinition/Bundle-eu-ps"}]
[null,"Title","eHN Author to this guide Map"]
[null,"Source",null,"Source Group","http://hl7.eu/fhir/ig/xpandh/ps/StructureDefinition/Author"]
[null,"Target",null,"Target Group","http://hl7.eu/fhir/ig/xpandh/ps/StructureDefinition/Composition-eu-ps"]
[null,"description","eHN Author Model to this guide Map",null,null,null,null,null,"* group[=].element[+].code = #Osiris.Patient.BirthDate","* group[=].element[=].display = \"Birth Date [C4]\"","* group[=].element[=].target.code = #Subject.dateOfBirth.date","* group[=].element[=].target.display = \"Date of birth\"","* group[=].element[=].target.equivalence = #equivalent",null,null,"Elements",6]
[null,"purpose","It shows how the Patient Summary Author data set defined by the EU eHN guidelines is mapped into this guide"]
[]
[null,null,null,null,null,null,null,null,"source:code","source:display","code","display","target to source","Comment"]
[]
[null,null,null,null,null,"target to source","Comment"]
[null,{"$f":"'A1.5 Author'!B5","v":"Author"},null,"Composition"]
[null,{"$f":"'A1.5 Author'!B8","v":"identifier"},{"$f":"'A1.5 Author'!C8","v":"A.1.5.1 Author identifier"},"author.identifier",null,"equivalent",null,null,{"$f":"\"* group[=].element[+].code = #\"&$B$14&\".\"&B15","v":"* group[=].element[+].code = #Author.identifier"},{"$f":"\"* group[=].element[=].display = ##34#\"&C15&\"##34#\"","v":"* group[=].element[=].display = ##34#A.1.5.1 Author identifier##34#"},{"$f":"IF(F15=\"unmatched\",\"//-- unmatched\",\"* group[=].element[=].target.code = #\"&$D$14&\".\"&D15)","v":"* group[=].element[=].target.code = #Composition.author.identifier"},{"$f":"IF(F15=\"unmatched\",\"//-- unmatched\",\"* group[=].element[=].target.display = ##34#\"&E15&\"##34#\")","v":"* group[=].element[=].target.display = ##34###34#"},{"$f":"\"* group[=].element[=].target.equivalence = #\"&F15","v":"* group[=].element[=].target.equivalence = #equivalent"},{"$f":"IF(G15<>\"\",CONCATENATE(\"* group[=].element[=].target.comment = \",\"##34#\",G15,\"##34#\"),\"\")","v":""},null,1,{"$f":"IF(MOD(P15,$Q$8)=0,P15/$Q$8-1,INT(P15/$Q$8))","v":0},{"$f":"IF(MOD(P15,$Q$8)=0,$Q$8,MOD(P15,$Q$8))","v":1},{"$f":"INDEX('Author-ConceptMap-1'!$I$15:$N$120,Q15+1,R15)","v":"* group[=].element[+].code = #Author.identifier"}]
[null,{"$f":"'A1.5 Author'!B9","v":"name"},{"$f":"'A1.5 Author'!C9","v":"A.1.5.2 Author name"},"author.name",null,"equivalent","Human Author and author.ofType(Practitioner)",null,{"$f":"\"* group[=].element[+].code = #\"&$B$14&\".\"&B16","v":"* group[=].element[+].code = #Author.name"},{"$f":"\"* group[=].element[=].display = ##34#\"&C16&\"##34#\"","v":"* group[=].element[=].display = ##34#A.1.5.2 Author name##34#"},{"$f":"IF(F16=\"unmatched\",\"//-- unmatched\",\"* group[=].element[=].target.code = #\"&$D$14&\".\"&D16)","v":"* group[=].element[=].target.code = #Composition.author.name"},{"$f":"IF(F16=\"unmatched\",\"//-- unmatched\",\"* group[=].element[=].target.display = ##34#\"&E16&\"##34#\")","v":"* group[=].element[=].target.display = ##34###34#"},{"$f":"\"* group[=].element[=].target.equivalence = #\"&F16","v":"* group[=].element[=].target.equivalence = #equivalent"},{"$f":"IF(G16<>\"\",CONCATENATE(\"* group[=].element[=].target.comment = \",\"##34#\",G16,\"##34#\"),\"\")","v":"* group[=].element[=].target.comment = ##34#Human Author and author.ofType(Practitioner)##34#"},null,2,{"$f":"IF(MOD(P16,$Q$8)=0,P16/$Q$8-1,INT(P16/$Q$8))","v":0},{"$f":"IF(MOD(P16,$Q$8)=0,$Q$8,MOD(P16,$Q$8))","v":2},{"$f":"INDEX('Author-ConceptMap-1'!$I$15:$N$120,Q16+1,R16)","v":"* group[=].element[=].display = ##34#A.1.5.1 Author identifier##34#"}]
[null,{"$f":"'A1.5 Author'!B9","v":"name"},{"$f":"'A1.5 Author'!C9","v":"A.1.5.2 Author name"},"author.Practitioner.name",null,"equivalent","Human Author and  author.ofType(PractitionerRole)",null,"* group[=].element[+].code = #Author.name","* group[=].element[=].display = ##34#A.1.5.2 Author name##34#","* group[=].element[=].target.code = #Composition.author.Practitioner.name","* group[=].element[=].target.display = ##34###34#","* group[=].element[=].target.equivalence = #equivalent","* group[=].element[=].target.comment = ##34#Human Author and  author.ofType(PractitionerRole)##34#",null,3,0,3,{"$f":"INDEX('Author-ConceptMap-1'!$I$15:$N$120,Q17+1,R17)","v":"* group[=].element[=].target.code = #Composition.author.identifier"}]
[null,{"$f":"'A1.5 Author'!B9","v":"name"},{"$f":"'A1.5 Author'!C9","v":"A.1.5.2 Author name"},"device.name",null,"equivalent","Device Author, implies author.ofType(Device)",null,"* group[=].element[+].code = #Author.name","* group[=].element[=].display = ##34#A.1.5.2 Author name##34#","* group[=].element[=].target.code = #Composition.device.name","* group[=].element[=].target.display = ##34###34#","* group[=].element[=].target.equivalence = #equivalent","* group[=].element[=].target.comment = ##34#Device Author, implies author.ofType(Device)##34#",null,4,0,4,{"$f":"INDEX('Author-ConceptMap-1'!$I$15:$N$120,Q18+1,R18)","v":"* group[=].element[=].target.display = ##34###34#"}]
[null,{"$f":"'A1.5 Author'!B10","v":"organization"},{"$f":"'A1.5 Author'!C10","v":"A.1.5.3 Author organization"},"author.organization",null,"equivalent","Human Author and author.ofType(PractitionerRole)",null,"* group[=].element[+].code = #Author.organization","* group[=].element[=].display = ##34#A.1.5.3 Author organization##34#","* group[=].element[=].target.code = #Composition.author.organization","* group[=].element[=].target.display = ##34###34#","* group[=].element[=].target.equivalence = #equivalent","* group[=].element[=].target.comment = ##34#Human Author and author.ofType(PractitionerRole)##34#",null,5,0,5,{"$f":"INDEX('Author-ConceptMap-1'!$I$15:$N$120,Q19+1,R19)","v":"* group[=].element[=].target.equivalence = #equivalent"}]
[null,{"$f":"'A1.5 Author'!B10","v":"organization"},{"$f":"'A1.5 Author'!C10","v":"A.1.5.3 Author organization"},"author.owner",null,"equivalent","Device Author, implies author.ofType(Device)",null,"* group[=].element[+].code = #Author.organization","* group[=].element[=].display = ##34#A.1.5.3 Author organization##34#","* group[=].element[=].target.code = #Composition.author.owner","* group[=].element[=].target.display = ##34###34#","* group[=].element[=].target.equivalence = #equivalent","* group[=].element[=].target.comment = ##34#Device Author, implies author.ofType(Device)##34#",null,6,0,6,{"$f":"INDEX('Author-ConceptMap-1'!$I$15:$N$120,Q20+1,R20)","v":""}]
[null,null,null,null,null,null,null,null,null,null,null,null,null,null,null,7,1,1,{"$f":"INDEX('Author-ConceptMap-1'!$I$15:$N$120,Q21+1,R21)","v":"* group[=].element[+].code = #Author.name"}]
[null,null,null,null,null,null,null,null,null,null,null,null,null,null,null,8,1,2,{"$f":"INDEX('Author-ConceptMap-1'!$I$15:$N$120,Q22+1,R22)","v":"* group[=].element[=].display = ##34#A.1.5.2 Author name##34#"}]
[null,null,null,null,null,null,null,null,null,null,null,null,null,null,null,9,1,3,{"$f":"INDEX('Author-ConceptMap-1'!$I$15:$N$120,Q23+1,R23)","v":"* group[=].element[=].target.code = #Composition.author.name"}]
[null,null,null,null,null,null,null,null,null,null,null,null,null,null,null,10,1,4,{"$f":"INDEX('Author-ConceptMap-1'!$I$15:$N$120,Q24+1,R24)","v":"* group[=].element[=].target.display = ##34###34#"}]
[null,null,null,null,null,null,null,null,null,null,null,null,null,null,null,11,1,5,{"$f":"INDEX('Author-ConceptMap-1'!$I$15:$N$120,Q25+1,R25)","v":"* group[=].element[=].target.equivalence = #equivalent"}]
[null,null,null,null,null,null,null,null,null,null,null,null,null,null,null,12,1,{"$f":"IF(MOD(P26,$Q$8)=0,$Q$8,MOD(P26,$Q$8))","v":6},{"$f":"INDEX('Author-ConceptMap-1'!$I$15:$N$120,Q26+1,R26)","v":"* group[=].element[=].target.comment = ##34#Human Author and author.ofType(Practitioner)##34#"}]
[null,null,null,null,null,null,null,null,null,null,null,null,null,null,null,13,2,1,{"$f":"INDEX('Author-ConceptMap-1'!$I$15:$N$120,Q27+1,R27)","v":"* group[=].element[+].code = #Author.name"}]
[null,null,null,null,null,null,null,null,null,null,null,null,null,null,null,14,2,2,{"$f":"INDEX('Author-ConceptMap-1'!$I$15:$N$120,Q28+1,R28)","v":"* group[=].element[=].display = ##34#A.1.5.2 Author name##34#"}]
[null,null,null,null,null,null,null,null,null,null,null,null,null,null,null,15,2,3,{"$f":"INDEX('Author-ConceptMap-1'!$I$15:$N$120,Q29+1,R29)","v":"* group[=].element[=].target.code = #Composition.author.Practitioner.name"}]
[null,null,null,null,null,null,null,null,null,null,null,null,null,null,null,16,2,4,{"$f":"INDEX('Author-ConceptMap-1'!$I$15:$N$120,Q30+1,R30)","v":"* group[=].element[=].target.display = ##34###34#"}]
[null,null,null,null,null,null,null,null,null,null,null,null,null,null,null,17,2,5,{"$f":"INDEX('Author-ConceptMap-1'!$I$15:$N$120,Q31+1,R31)","v":"* group[=].element[=].target.equivalence = #equivalent"}]
[null,null,null,null,null,null,null,null,null,null,null,null,null,null,null,18,2,6,{"$f":"INDEX('Author-ConceptMap-1'!$I$15:$N$120,Q32+1,R32)","v":"* group[=].element[=].target.comment = ##34#Human Author and  author.ofType(PractitionerRole)##34#"}]
[null,null,null,null,null,null,null,null,null,null,null,null,null,null,null,19,3,1,{"$f":"INDEX('Author-ConceptMap-1'!$I$15:$N$120,Q33+1,R33)","v":"* group[=].element[+].code = #Author.name"}]
[null,null,null,null,null,null,null,null,null,null,null,null,null,null,null,20,3,2,{"$f":"INDEX('Author-ConceptMap-1'!$I$15:$N$120,Q34+1,R34)","v":"* group[=].element[=].display = ##34#A.1.5.2 Author name##34#"}]
[null,null,null,null,null,null,null,null,null,null,null,null,null,null,null,21,3,3,{"$f":"INDEX('Author-ConceptMap-1'!$I$15:$N$120,Q35+1,R35)","v":"* group[=].element[=].target.code = #Composition.device.name"}]
[null,null,null,null,null,null,null,null,null,null,null,null,null,null,null,22,3,4,{"$f":"INDEX('Author-ConceptMap-1'!$I$15:$N$120,Q36+1,R36)","v":"* group[=].element[=].target.display = ##34###34#"}]
[null,null,null,null,null,null,null,null,null,null,null,null,null,null,null,23,3,5,{"$f":"INDEX('Author-ConceptMap-1'!$I$15:$N$120,Q37+1,R37)","v":"* group[=].element[=].target.equivalence = #equivalent"}]
[null,null,null,null,null,null,null,null,null,null,null,null,null,null,null,24,3,6,{"$f":"INDEX('Author-ConceptMap-1'!$I$15:$N$120,Q38+1,R38)","v":"* group[=].element[=].target.comment = ##34#Device Author, implies author.ofType(Device)##34#"}]
[null,null,null,null,null,null,null,null,null,null,null,null,null,null,null,25,4,1,{"$f":"INDEX('Author-ConceptMap-1'!$I$15:$N$120,Q39+1,R39)","v":"* group[=].element[+].code = #Author.organization"}]
[null,null,null,null,null,null,null,null,null,null,null,null,null,null,null,26,4,2,{"$f":"INDEX('Author-ConceptMap-1'!$I$15:$N$120,Q40+1,R40)","v":"* group[=].element[=].display = ##34#A.1.5.3 Author organization##34#"}]
[null,null,null,null,null,null,null,null,null,null,null,null,null,null,null,27,4,3,{"$f":"INDEX('Author-ConceptMap-1'!$I$15:$N$120,Q41+1,R41)","v":"* group[=].element[=].target.code = #Composition.author.organization"}]
[null,null,null,null,null,null,null,null,null,null,null,null,null,null,null,28,4,{"$f":"IF(MOD(P42,$Q$8)=0,$Q$8,MOD(P42,$Q$8))","v":4},{"$f":"INDEX('Author-ConceptMap-1'!$I$15:$N$120,Q42+1,R42)","v":"* group[=].element[=].target.display = ##34###34#"}]
[null,null,null,null,null,null,null,null,null,null,null,null,null,null,null,29,4,5,{"$f":"INDEX('Author-ConceptMap-1'!$I$15:$N$120,Q43+1,R43)","v":"* group[=].element[=].target.equivalence = #equivalent"}]
[null,null,null,null,null,null,null,null,null,null,null,null,null,null,null,30,4,6,{"$f":"INDEX('Author-ConceptMap-1'!$I$15:$N$120,Q44+1,R44)","v":"* group[=].element[=].target.comment = ##34#Human Author and author.ofType(PractitionerRole)##34#"}]
[null,null,null,null,null,null,null,null,null,null,null,null,null,null,null,31,5,1,{"$f":"INDEX('Author-ConceptMap-1'!$I$15:$N$120,Q45+1,R45)","v":"* group[=].element[+].code = #Author.organization"}]
[null,null,null,null,null,null,null,null,null,null,null,null,null,null,null,32,5,2,{"$f":"INDEX('Author-ConceptMap-1'!$I$15:$N$120,Q46+1,R46)","v":"* group[=].element[=].display = ##34#A.1.5.3 Author organization##34#"}]
[null,null,null,null,null,null,null,null,null,null,null,null,null,null,null,33,5,3,{"$f":"INDEX('Author-ConceptMap-1'!$I$15:$N$120,Q47+1,R47)","v":"* group[=].element[=].target.code = #Composition.author.owner"}]
[null,null,null,null,null,null,null,null,null,null,null,null,null,null,null,34,5,4,{"$f":"INDEX('Author-ConceptMap-1'!$I$15:$N$120,Q48+1,R48)","v":"* group[=].element[=].target.display = ##34###34#"}]
[null,null,null,null,null,null,null,null,null,null,null,null,null,null,null,35,5,5,{"$f":"INDEX('Author-ConceptMap-1'!$I$15:$N$120,Q49+1,R49)","v":"* group[=].element[=].target.equivalence = #equivalent"}]
[null,null,null,null,null,null,null,null,null,null,null,null,null,null,null,36,5,6,{"$f":"INDEX('Author-ConceptMap-1'!$I$15:$N$120,Q50+1,R50)","v":"* group[=].element[=].target.comment = ##34#Device Author, implies author.ofType(Device)##34#"}]
[null,null,null,null,null,null,null,null,null,null,null,null,null,null,null,37,6,1,{"$f":"INDEX('Author-ConceptMap-1'!$I$15:$N$120,Q51+1,R51)","v":0}]
[null,null,null,null,null,null,null,null,null,null,null,null,null,null,null,38,6,2,{"$f":"INDEX('Author-ConceptMap-1'!$I$15:$N$120,Q52+1,R52)","v":0}]
[null,null,null,null,null,null,null,null,null,null,null,null,null,null,null,39,6,{"$f":"IF(MOD(P53,$Q$8)=0,$Q$8,MOD(P53,$Q$8))","v":3},{"$f":"INDEX('Author-ConceptMap-1'!$I$15:$N$120,Q53+1,R53)","v":0}]
[null,null,null,null,null,null,null,null,null,null,null,null,null,null,null,40,6,4,{"$f":"INDEX('Author-ConceptMap-1'!$I$15:$N$120,Q54+1,R54)","v":0}]
[null,null,null,null,null,null,null,null,null,null,null,null,null,null,null,41,6,5,{"$f":"INDEX('Author-ConceptMap-1'!$I$15:$N$120,Q55+1,R55)","v":0}]

{"sheet":"Author-ConceptMap-2","index":66,"n_rows":93,"n_cols":19,"rows_kept":93,"cut":false,"hidden":false,"merged":[[5,4,5,6],[6,4,6,6],[3,4,3,6]]}
[]
[]
[null,"Mapping","PatientSummaryAuthor2FHIR","Source URI","http://hl7.eu/fhir/ig/xpandh/ps/StructureDefinition/Author"]
[null,"Id","author2FHIR-eu-ps","Target URI","http://hl7.eu/fhir/ig/xpandh/ps/StructureDefinition/Bundle-eu-ps"]
[null,"Title","eHN Author to this guide Map"]
[null,"Source",null,"Source Group","http://hl7.eu/fhir/ig/xpandh/ps/StructureDefinition/Author"]
[null,"Target",null,"Target Group","http://hl7.eu/fhir/ig/xpandh/ps/StructureDefinition/DiagnosticReport-eu-ps"]
[null,"description","eHN Author Model to this guide Map",null,null,null,null,null,"* group[=].element[+].code = #Osiris.Patient.BirthDate","* group[=].element[=].display = \"Birth Date [C4]\"","* group[=].element[=].target.code = #Subject.dateOfBirth.date","* group[=].element[=].target.display = \"Date of birth\"","* group[=].element[=].target.equivalence = #equivalent",null,null,"Elements",6]
[null,"purpose","It shows how the Patient Summary Author data set defined by the EU eHN guidelines is mapped into this guide"]
[]
[null,null,null,null,null,null,null,null,"source:code","source:display","code","display","target to source","Comment"]
[]
[null,null,null,null,null,"target to source","Comment"]
[null,{"$f":"'A1.5 Author'!B5","v":"Author"},null,"DiagnosticReport"]
[null,{"$f":"'A1.5 Author'!B8","v":"identifier"},{"$f":"'A1.5 Author'!C8","v":"A.1.5.1 Author identifier"},"resultsInterpreter.identifier",null,"relatedto","If the author is the interpreter",null,{"$f":"\"* group[=].element[+].code = #\"&$B$14&\".\"&B15","v":"* group[=].element[+].code = #Author.identifier"},{"$f":"\"* group[=].element[=].display = ##34#\"&C15&\"##34#\"","v":"* group[=].element[=].display = ##34#A.1.5.1 Author identifier##34#"},{"$f":"IF(F15=\"unmatched\",\"//-- unmatched\",\"* group[=].element[=].target.code = #\"&$D$14&\".\"&D15)","v":"* group[=].element[=].target.code = #DiagnosticReport.resultsInterpreter.identifier"},{"$f":"IF(F15=\"unmatched\",\"//-- unmatched\",\"* group[=].element[=].target.display = ##34#\"&E15&\"##34#\")","v":"* group[=].element[=].target.display = ##34###34#"},{"$f":"\"* group[=].element[=].target.equivalence = #\"&F15","v":"* group[=].element[=].target.equivalence = #relatedto"},{"$f":"IF(G15<>\"\",CONCATENATE(\"* group[=].element[=].target.comment = \",\"##34#\",G15,\"##34#\"),\"\")","v":"* group[=].element[=].target.comment = ##34#If the author is the interpreter##34#"},null,1,{"$f":"IF(MOD(P15,$Q$8)=0,P15/$Q$8-1,INT(P15/$Q$8))","v":0},{"$f":"IF(MOD(P15,$Q$8)=0,$Q$8,MOD(P15,$Q$8))","v":1},{"$f":"INDEX('Author-ConceptMap-2'!$I$15:$N$125,Q15+1,R15)","v":"* group[=].element[+].code = #Author.identifier"}]
[null,{"$f":"'A1.5 Author'!B8","v":"identifier"},{"$f":"'A1.5 Author'!C8","v":"A.1.5.1 Author identifier"},"performer.identifier",null,"relatedto","If the author is the performer",null,{"$f":"\"* group[=].element[+].code = #\"&$B$14&\".\"&B16","v":"* group[=].element[+].code = #Author.identifier"},{"$f":"\"* group[=].element[=].display = ##34#\"&C16&\"##34#\"","v":"* group[=].element[=].display = ##34#A.1.5.1 Author identifier##34#"},{"$f":"IF(F16=\"unmatched\",\"//-- unmatched\",\"* group[=].element[=].target.code = #\"&$D$14&\".\"&D16)","v":"* group[=].element[=].target.code = #DiagnosticReport.performer.identifier"},{"$f":"IF(F16=\"unmatched\",\"//-- unmatched\",\"* group[=].element[=].target.display = ##34#\"&E16&\"##34#\")","v":"* group[=].element[=].target.display = ##34###34#"},{"$f":"\"* group[=].element[=].target.equivalence = #\"&F16","v":"* group[=].element[=].target.equivalence = #relatedto"},{"$f":"IF(G16<>\"\",CONCATENATE(\"* group[=].element[=].target.comment = \",\"##34#\",G16,\"##34#\"),\"\")","v":"* group[=].element[=].target.comment = ##34#If the author is the performer##34#"},null,2,{"$f":"IF(MOD(P16,$Q$8)=0,P16/$Q$8-1,INT(P16/$Q$8))","v":0},{"$f":"IF(MOD(P16,$Q$8)=0,$Q$8,MOD(P16,$Q$8))","v":2},{"$f":"INDEX('Author-ConceptMap-2'!$I$15:$N$125,Q16+1,R16)","v":"* group[=].element[=].display = ##34#A.1.5.1 Author identifier##34#"}]
[null,{"$f":"'A1.5 Author'!B9","v":"name"},{"$f":"'A1.5 Author'!C9","v":"A.1.5.2 Author name"},"resultsInterpreter.name",null,"relatedto","If the author is the interpreter and \nresultsInterpreter.resolve().ofType(Practitioner)",null,"* group[=].element[+].code = #Author.name","* group[=].element[=].display = ##34#A.1.5.2 Author name##34#","* group[=].element[=].target.code = #DiagnosticReport.resultsInterpreter.name","* group[=].element[=].target.display = ##34###34#","* group[=].element[=].target.equivalence = #relatedto","* group[=].element[=].target.comment = ##34#If the author is the interpreter and \nresultsInterpreter.resolve().ofType(Practitioner)##34#",null,3,0,3,{"$f":"INDEX('Author-ConceptMap-2'!$I$15:$N$125,Q17+1,R17)","v":"* group[=].element[=].target.code = #DiagnosticReport.resultsInterpreter.identifier"}]
[null,{"$f":"'A1.5 Author'!B9","v":"name"},{"$f":"'A1.5 Author'!C9","v":"A.1.5.2 Author name"},"resultsInterpreter.practitioner.name",null,"relatedto","If the author is the interpreter and resultsInterpreter.resolve().ofType(PractitionerRole)",null,"* group[=].element[+].code = #Author.name","* group[=].element[=].display = ##34#A.1.5.2 Author name##34#","* group[=].element[=].target.code = #DiagnosticReport.resultsInterpreter.practitioner.name","* group[=].element[=].target.display = ##34###34#","* group[=].element[=].target.equivalence = #relatedto","* group[=].element[=].target.comment = ##34#If the author is the interpreter and resultsInterpreter.resolve().ofType(PractitionerRole)##34#",null,4,0,4,{"$f":"INDEX('Author-ConceptMap-2'!$I$15:$N$125,Q18+1,R18)","v":"* group[=].element[=].target.display = ##34###34#"}]
[null,{"$f":"'A1.5 Author'!B9","v":"name"},{"$f":"'A1.5 Author'!C9","v":"A.1.5.2 Author name"},"performer.name",null,"relatedto","If the author is the performer and performer.resolve().ofType(Practitioner)",null,"* group[=].element[+].code = #Author.name","* group[=].element[=].display = ##34#A.1.5.2 Author name##34#","* group[=].element[=].target.code = #DiagnosticReport.performer.name","* group[=].element[=].target.display = ##34###34#","* group[=].element[=].target.equivalence = #relatedto","* group[=].element[=].target.comment = ##34#If the author is the performer and performer.resolve().ofType(Practitioner)##34#",null,5,0,5,{"$f":"INDEX('Author-ConceptMap-2'!$I$15:$N$125,Q19+1,R19)","v":"* group[=].element[=].target.equivalence = #relatedto"}]
[null,{"$f":"'A1.5 Author'!B9","v":"name"},{"$f":"'A1.5 Author'!C9","v":"A.1.5.2 Author name"},"performer.Practitioner.name",null,"relatedto","If the author is the performer and performer.resolve().ofType(PractitionerRole)",null,"* group[=].element[+].code = #Author.name","* group[=].element[=].display = ##34#A.1.5.2 Author name##34#","* group[=].element[=].target.code = #DiagnosticReport.performer.Practitioner.name","* group[=].element[=].target.display = ##34###34#","* group[=].element[=].target.equivalence = #relatedto","* group[=].element[=].target.comment = ##34#If the author is the performer and performer.resolve().ofType(PractitionerRole)##34#",null,6,0,6,{"$f":"INDEX('Author-ConceptMap-2'!$I$15:$N$125,Q20+1,R20)","v":"* group[=].element[=].target.comment = ##34#If the author is the interpreter##34#"}]
[null,{"$f":"'A1.5 Author'!B10","v":"organization"},{"$f":"'A1.5 Author'!C10","v":"A.1.5.3 Author organization"},"resultsInterpreter.organization",null,"relatedto","If the author is the interpreter and resultsInterpreter.resolve().ofType(PractitionerRole)",null,"* group[=].element[+].code = #Author.organization","* group[=].element[=].display = ##34#A.1.5.3 Author organization##34#","* group[=].element[=].target.code = #DiagnosticReport.resultsInterpreter.organization","* group[=].element[=].target.display = ##34###34#","* group[=].element[=].target.equivalence = #relatedto","* group[=].element[=].target.comment = ##34#If the author is the interpreter and resultsInterpreter.resolve().ofType(PractitionerRole)##34#",null,7,1,1,{"$f":"INDEX('Author-ConceptMap-2'!$I$15:$N$125,Q21+1,R21)","v":"* group[=].element[+].code = #Author.identifier"}]
[null,{"$f":"'A1.5 Author'!B10","v":"organization"},{"$f":"'A1.5 Author'!C10","v":"A.1.5.3 Author organization"},"performer.organization",null,"relatedto","If the author is the performer and performer.resolve().ofType(PractitionerRole)",null,"* group[=].element[+].code = #Author.organization","* group[=].element[=].display = ##34#A.1.5.3 Author organization##34#","* group[=].element[=].target.code = #DiagnosticReport.performer.organization","* group[=].element[=].target.display = ##34###34#","* group[=].element[=].target.equivalence = #relatedto","* group[=].element[=].target.comment = ##34#If the author is the performer and performer.resolve().ofType(PractitionerRole)##34#",null,8,1,2,{"$f":"INDEX('Author-ConceptMap-2'!$I$15:$N$125,Q22+1,R22)","v":"* group[=].element[=].display = ##34#A.1.5.1 Author identifier##34#"}]
[null,null,null,null,null,null,null,null,null,null,null,null,null,null,null,9,1,3,{"$f":"INDEX('Author-ConceptMap-2'!$I$15:$N$125,Q23+1,R23)","v":"* group[=].element[=].target.code = #DiagnosticReport.performer.identifier"}]
[null,null,null,null,null,null,null,null,null,null,null,null,null,null,null,10,1,4,{"$f":"INDEX('Author-ConceptMap-2'!$I$15:$N$125,Q24+1,R24)","v":"* group[=].element[=].target.display = ##34###34#"}]
[null,null,null,null,null,null,null,null,null,null,null,null,null,null,null,11,1,5,{"$f":"INDEX('Author-ConceptMap-2'!$I$15:$N$125,Q25+1,R25)","v":"* group[=].element[=].target.equivalence = #relatedto"}]
[null,null,null,null,null,null,null,null,null,null,null,null,null,null,null,12,1,6,{"$f":"INDEX('Author-ConceptMap-2'!$I$15:$N$125,Q26+1,R26)","v":"* group[=].element[=].target.comment = ##34#If the author is the performer##34#"}]
[null,null,null,null,null,null,null,null,null,null,null,null,null,null,null,13,2,1,{"$f":"INDEX('Author-ConceptMap-2'!$I$15:$N$125,Q27+1,R27)","v":"* group[=].element[+].code = #Author.name"}]
[null,null,null,null,null,null,null,null,null,null,null,null,null,null,null,14,2,2,{"$f":"INDEX('Author-ConceptMap-2'!$I$15:$N$125,Q28+1,R28)","v":"* group[=].element[=].display = ##34#A.1.5.2 Author name##34#"}]
[null,null,null,null,null,null,null,null,null,null,null,null,null,null,null,15,2,3,{"$f":"INDEX('Author-ConceptMap-2'!$I$15:$N$125,Q29+1,R29)","v":"* group[=].element[=].target.code = #DiagnosticReport.resultsInterpreter.name"}]
[null,null,null,null,null,null,null,null,null,null,null,null,null,null,null,16,2,4,{"$f":"INDEX('Author-ConceptMap-2'!$I$15:$N$125,Q30+1,R30)","v":"* group[=].element[=].target.display = ##34###34#"}]
[null,null,null,null,null,null,null,null,null,null,null,null,null,null,null,17,2,5,{"$f":"INDEX('Author-ConceptMap-2'!$I$15:$N$125,Q31+1,R31)","v":"* group[=].element[=].target.equivalence = #relatedto"}]
[null,null,null,null,null,null,null,null,null,null,null,null,null,null,null,18,2,6,{"$f":"INDEX('Author-ConceptMap-2'!$I$15:$N$125,Q32+1,R32)","v":"* group[=].element[=].target.comment = ##34#If the author is the interpreter and \nresultsInterpreter.resolve().ofType(Practitioner)##34#"}]
[null,null,null,null,null,null,null,null,null,null,null,null,null,null,null,19,3,1,{"$f":"INDEX('Author-ConceptMap-2'!$I$15:$N$125,Q33+1,R33)","v":"* group[=].element[+].code = #Author.name"}]
[null,null,null,null,null,null,null,null,null,null,null,null,null,null,null,20,3,2,{"$f":"INDEX('Author-ConceptMap-2'!$I$15:$N$125,Q34+1,R34)","v":"* group[=].element[=].display = ##34#A.1.5.2 Author name##34#"}]
[null,null,null,null,null,null,null,null,null,null,null,null,null,null,null,21,3,3,{"$f":"INDEX('Author-ConceptMap-2'!$I$15:$N$125,Q35+1,R35)","v":"* group[=].element[=].target.code = #DiagnosticReport.resultsInterpreter.practitioner.name"}]
[null,null,null,null,null,null,null,null,null,null,null,null,null,null,null,22,3,4,{"$f":"INDEX('Author-ConceptMap-2'!$I$15:$N$125,Q36+1,R36)","v":"* group[=].element[=].target.display = ##34###34#"}]
[null,null,null,null,null,null,null,null,null,null,null,null,null,null,null,23,3,5,{"$f":"INDEX('Author-ConceptMap-2'!$I$15:$N$125,Q37+1,R37)","v":"* group[=].element[=].target.equivalence = #relatedto"}]
[null,null,null,null,null,null,null,null,null,null,null,null,null,null,null,24,3,6,{"$f":"INDEX('Author-ConceptMap-2'!$I$15:$N$125,Q38+1,R38)","v":"* group[=].element[=].target.comment = ##34#If the author is the interpreter and resultsInterpreter.resolve().ofType(PractitionerRole)##34#"}]
[null,null,null,null,null,null,null,null,null,null,null,null,null,null,null,25,4,1,{"$f":"INDEX('Author-ConceptMap-2'!$I$15:$N$125,Q39+1,R39)","v":"* group[=].element[+].code = #Author.name"}]
[null,null,null,null,null,null,null,null,null,null,null,null,null,null,null,26,4,2,{"$f":"INDEX('Author-ConceptMap-2'!$I$15:$N$125,Q40+1,R40)","v":"* group[=].element[=].display = ##34#A.1.5.2 Author name##34#"}]
[null,null,null,null,null,null,null,null,null,null,null,null,null,null,null,27,4,3,{"$f":"INDEX('Author-ConceptMap-2'!$I$15:$N$125,Q41+1,R41)","v":"* group[=].element[=].target.code = #DiagnosticReport.performer.name"}]
[null,null,null,null,null,null,null,null,null,null,null,null,null,null,null,28,4,4,{"$f":"INDEX('Author-ConceptMap-2'!$I$15:$N$125,Q42+1,R42)","v":"* group[=].element[=].target.display = ##34###34#"}]
[null,null,null,null,null,null,null,null,null,null,null,null,null,null,null,29,4,5,{"$f":"INDEX('Author-ConceptMap-2'!$I$15:$N$125,Q43+1,R43)","v":"* group[=].element[=].target.equivalence = #relatedto"}]
[null,null,null,null,null,null,null,null,null,null,null,null,null,null,null,30,4,6,{"$f":"INDEX('Author-ConceptMap-2'!$I$15:$N$125,Q44+1,R44)","v":"* group[=].element[=].target.comment = ##34#If the author is the performer and performer.resolve().ofType(Practitioner)##34#"}]
[null,null,null,null,null,null,null,null,null,null,null,null,null,null,null,31,5,1,{"$f":"INDEX('Author-ConceptMap-2'!$I$15:$N$125,Q45+1,R45)","v":"* group[=].element[+].code = #Author.name"}]
[null,null,null,null,null,null,null,null,null,null,null,null,null,null,null,32,5,2,{"$f":"INDEX('Author-ConceptMap-2'!$I$15:$N$125,Q46+1,R46)","v":"* group[=].element[=].display = ##34#A.1.5.2 Author name##34#"}]
[null,null,null,null,null,null,null,null,null,null,null,null,null,null,null,33,5,3,{"$f":"INDEX('Author-ConceptMap-2'!$I$15:$N$125,Q47+1,R47)","v":"* group[=].element[=].target.code = #DiagnosticReport.performer.Practitioner.name"}]
[null,null,null,null,null,null,null,null,null,null,null,null,null,null,null,34,5,4,{"$f":"INDEX('Author-ConceptMap-2'!$I$15:$N$125,Q48+1,R48)","v":"* group[=].element[=].target.display = ##34###34#"}]
[null,null,null,null,null,null,null,null,null,null,null,null,null,null,null,35,5,5,{"$f":"INDEX('Author-ConceptMap-2'!$I$15:$N$125,Q49+1,R49)","v":"* group[=].element[=].target.equivalence = #relatedto"}]
[null,null,null,null,null,null,null,null,null,null,null,null,null,null,null,36,5,6,{"$f":"INDEX('Author-ConceptMap-2'!$I$15:$N$125,Q50+1,R50)","v":"* group[=].element[=].target.comment = ##34#If the author is the performer and performer.resolve().ofType(PractitionerRole)##34#"}]
[null,null,null,null,null,null,null,null,null,null,null,null,null,null,null,37,6,1,{"$f":"INDEX('Author-ConceptMap-2'!$I$15:$N$125,Q51+1,R51)","v":"* group[=].element[+].code = #Author.organization"}]
[null,null,null,null,null,null,null,null,null,null,null,null,null,null,null,38,6,2,{"$f":"INDEX('Author-ConceptMap-2'!$I$15:$N$125,Q52+1,R52)","v":"* group[=].element[=].display = ##34#A.1.5.3 Author organization##34#"}]
[null,null,null,null,null,null,null,null,null,null,null,null,null,null,null,39,6,3,{"$f":"INDEX('Author-ConceptMap-2'!$I$15:$N$125,Q53+1,R53)","v":"* group[=].element[=].target.code = #DiagnosticReport.resultsInterpreter.organization"}]
[null,null,null,null,null,null,null,null,null,null,null,null,null,null,null,40,6,4,{"$f":"INDEX('Author-ConceptMap-2'!$I$15:$N$125,Q54+1,R54)","v":"* group[=].element[=].target.display = ##34###34#"}]
[null,null,null,null,null,null,null,null,null,null,null,null,null,null,null,41,6,5,{"$f":"INDEX('Author-ConceptMap-2'!$I$15:$N$125,Q55+1,R55)","v":"* group[=].element[=].target.equivalence = #relatedto"}]
[null,null,null,null,null,null,null,null,null,null,null,null,null,null,null,42,6,6,{"$f":"INDEX('Author-ConceptMap-2'!$I$15:$N$125,Q56+1,R56)","v":"* group[=].element[=].target.comment = ##34#If the author is the interpreter and resultsInterpreter.resolve().ofType(PractitionerRole)##34#"}]
[null,null,null,null,null,null,null,null,null,null,null,null,null,null,null,43,7,1,{"$f":"INDEX('Author-ConceptMap-2'!$I$15:$N$125,Q57+1,R57)","v":"* group[=].element[+].code = #Author.organization"}]
[null,null,null,null,null,null,null,null,null,null,null,null,null,null,null,44,7,2,{"$f":"INDEX('Author-ConceptMap-2'!$I$15:$N$125,Q58+1,R58)","v":"* group[=].element[=].display = ##34#A.1.5.3 Author organization##34#"}]
[null,null,null,null,null,null,null,null,null,null,null,null,null,null,null,45,7,3,{"$f":"INDEX('Author-ConceptMap-2'!$I$15:$N$125,Q59+1,R59)","v":"* group[=].element[=].target.code = #DiagnosticReport.performer.organization"}]
[null,null,null,null,null,null,null,null,null,null,null,null,null,null,null,46,7,4,{"$f":"INDEX('Author-ConceptMap-2'!$I$15:$N$125,Q60+1,R60)","v":"* group[=].element[=].target.display = ##34###34#"}]
[null,null,null,null,null,null,null,null,null,null,null,null,null,null,null,47,7,5,{"$f":"INDEX('Author-ConceptMap-2'!$I$15:$N$125,Q61+1,R61)","v":"* group[=].element[=].target.equivalence = #relatedto"}]
[null,null,null,null,null,null,null,null,null,null,null,null,null,null,null,48,7,6,{"$f":"INDEX('Author-ConceptMap-2'!$I$15:$N$125,Q62+1,R62)","v":"* group[=].element[=].target.comment = ##34#If the author is the performer and performer.resolve().ofType(PractitionerRole)##34#"}]
[null,null,null,null,null,null,null,null,null,null,null,null,null,null,null,49,8,1,{"$f":"INDEX('Author-ConceptMap-2'!$I$15:$N$125,Q63+1,R63)","v":0}]
[null,null,null,null,null,null,null,null,null,null,null,null,null,null,null,50,8,2,{"$f":"INDEX('Author-ConceptMap-2'!$I$15:$N$125,Q64+1,R64)","v":0}]
[null,null,null,null,null,null,null,null,null,null,null,null,null,null,null,51,8,3,{"$f":"INDEX('Author-ConceptMap-2'!$I$15:$N$125,Q65+1,R65)","v":0}]
[null,null,null,null,null,null,null,null,null,null,null,null,null,null,null,52,8,4,{"$f":"INDEX('Author-ConceptMap-2'!$I$15:$N$125,Q66+1,R66)","v":0}]
[null,null,null,null,null,null,null,null,null,null,null,null,null,null,null,53,8,5,{"$f":"INDEX('Author-ConceptMap-2'!$I$15:$N$125,Q67+1,R67)","v":0}]
[null,null,null,null,null,null,null,null,null,null,null,null,null,null,null,54,8,6,{"$f":"INDEX('Author-ConceptMap-2'!$I$15:$N$125,Q68+1,R68)","v":0}]
[null,null,null,null,null,null,null,null,null,null,null,null,null,null,null,55,9,1,{"$f":"INDEX('Author-ConceptMap-2'!$I$15:$N$125,Q69+1,R69)","v":0}]
[null,null,null,null,null,null,null,null,null,null,null,null,null,null,null,56,9,2,{"$f":"INDEX('Author-ConceptMap-2'!$I$15:$N$125,Q70+1,R70)","v":0}]
[null,null,null,null,null,null,null,null,null,null,null,null,null,null,null,57,9,3,{"$f":"INDEX('Author-ConceptMap-2'!$I$15:$N$125,Q71+1,R71)","v":0}]
[null,null,null,null,null,null,null,null,null,null,null,null,null,null,null,58,9,4,{"$f":"INDEX('Author-ConceptMap-2'!$I$15:$N$125,Q72+1,R72)","v":0}]
[null,null,null,null,null,null,null,null,null,null,null,null,null,null,null,59,9,5,{"$f":"INDEX('Author-ConceptMap-2'!$I$15:$N$125,Q73+1,R73)","v":0}]
[null,null,null,null,null,null,null,null,null,null,null,null,null,null,null,60,9,6,{"$f":"INDEX('Author-ConceptMap-2'!$I$15:$N$125,Q74+1,R74)","v":0}]
[null,null,null,null,null,null,null,null,null,null,null,null,null,null,null,61,10,1,{"$f":"INDEX('Author-ConceptMap-2'!$I$15:$N$125,Q75+1,R75)","v":0}]
[null,null,null,null,null,null,null,null,null,null,null,null,null,null,null,62,10,2,{"$f":"INDEX('Author-ConceptMap-2'!$I$15:$N$125,Q76+1,R76)","v":0}]
[null,null,null,null,null,null,null,null,null,null,null,null,null,null,null,63,10,3,{"$f":"INDEX('Author-ConceptMap-2'!$I$15:$N$125,Q77+1,R77)","v":0}]
[null,null,null,null,null,null,null,null,null,null,null,null,null,null,null,64,10,4,{"$f":"INDEX('Author-ConceptMap-2'!$I$15:$N$125,Q78+1,R78)","v":0}]
[null,null,null,null,null,null,null,null,null,null,null,null,null,null,null,65,10,5,{"$f":"INDEX('Author-ConceptMap-2'!$I$15:$N$125,Q79+1,R79)","v":0}]
[null,null,null,null,null,null,null,null,null,null,null,null,null,null,null,66,{"$f":"IF(MOD(P80,$Q$8)=0,P80/$Q$8-1,INT(P80/$Q$8))","v":10},{"$f":"IF(MOD(P80,$Q$8)=0,$Q$8,MOD(P80,$Q$8))","v":6},{"$f":"INDEX('Author-ConceptMap-2'!$I$15:$N$125,Q80+1,R80)","v":0}]
[null,null,null,null,null,null,null,null,null,null,null,null,null,null,null,67,11,1,{"$f":"INDEX('Author-ConceptMap-2'!$I$15:$N$125,Q81+1,R81)","v":0}]
[null,null,null,null,null,null,null,null,null,null,null,null,null,null,null,68,11,2,{"$f":"INDEX('Author-ConceptMap-2'!$I$15:$N$125,Q82+1,R82)","v":0}]
[null,null,null,null,null,null,null,null,null,null,null,null,null,null,null,69,11,3,{"$f":"INDEX('Author-ConceptMap-2'!$I$15:$N$125,Q83+1,R83)","v":0}]
[null,null,null,null,null,null,null,null,null,null,null,null,null,null,null,70,11,4,{"$f":"INDEX('Author-ConceptMap-2'!$I$15:$N$125,Q84+1,R84)","v":0}]
[null,null,null,null,null,null,null,null,null,null,null,null,null,null,null,71,11,5,{"$f":"INDEX('Author-ConceptMap-2'!$I$15:$N$125,Q85+1,R85)","v":0}]
[null,null,null,null,null,null,null,null,null,null,null,null,null,null,null,72,11,6,{"$f":"INDEX('Author-ConceptMap-2'!$I$15:$N$125,Q86+1,R86)","v":0}]
[null,null,null,null,null,null,null,null,null,null,null,null,null,null,null,73,12,1,{"$f":"INDEX('Author-ConceptMap-2'!$I$15:$N$125,Q87+1,R87)","v":0}]
[null,null,null,null,null,null,null,null,null,null,null,null,null,null,null,74,12,2,{"$f":"INDEX('Author-ConceptMap-2'!$I$15:$N$125,Q88+1,R88)","v":0}]
[null,null,null,null,null,null,null,null,null,null,null,null,null,null,null,75,12,3,{"$f":"INDEX('Author-ConceptMap-2'!$I$15:$N$125,Q89+1,R89)","v":0}]
[null,null,null,null,null,null,null,null,null,null,null,null,null,null,null,76,12,4,{"$f":"INDEX('Author-ConceptMap-2'!$I$15:$N$125,Q90+1,R90)","v":0}]
[null,null,null,null,null,null,null,null,null,null,null,null,null,null,null,77,12,5,{"$f":"INDEX('Author-ConceptMap-2'!$I$15:$N$125,Q91+1,R91)","v":0}]
[null,null,null,null,null,null,null,null,null,null,null,null,null,null,null,78,12,6,{"$f":"INDEX('Author-ConceptMap-2'!$I$15:$N$125,Q92+1,R92)","v":0}]
[null,null,null,null,null,null,null,null,null,null,null,null,null,null,null,79,13,1,{"$f":"INDEX('Author-ConceptMap-2'!$I$15:$N$125,Q93+1,R93)","v":0}]

{"sheet":"Author-ConceptMap-2-delete","index":67,"n_rows":41,"n_cols":19,"rows_kept":41,"cut":false,"hidden":false,"merged":[[5,4,5,6],[6,4,6,6]]}
[]
[]
[null,"Mapping","ConceptAuthorRpt2FHIR","Source URI","http://hl7.eu/fhir/ig/xpandh/ps/StructureDefinition/Author"]
[null,"Id","ConceptMap-eu-author2FHIR","Target URI",{"$f":"'Author-ConceptMap-2'!E4","v":"http://hl7.eu/fhir/ig/xpandh/ps/StructureDefinition/Bundle-eu-ps"}]
[null,"Title","eHN Author to this guide Map"]
[null,"Source",null,"Source Group","http://hl7.eu/fhir/ig/xpandh/ps/StructureDefinition/Author"]
[null,"Target",null,"Target Group","http://hl7.eu/fhir/ig/xpandh/ps/StructureDefinition/DiagnosticReport-eu-ps"]
[null,"description","eHN Author Model to this guide Map",null,null,null,null,null,"* group[=].element[+].code = #Osiris.Patient.BirthDate","* group[=].element[=].display = \"Birth Date [C4]\"","* group[=].element[=].target.code = #Subject.dateOfBirth.date","* group[=].element[=].target.display = \"Date of birth\"","* group[=].element[=].target.equivalence = #equivalent",null,null,"Elements",6]
[null,"purpose","It shows how the Patient Summary Author data set defined by the EU eHN guidelines is mapped into this guide"]
[]
[null,null,null,null,null,null,null,null,"source:code","source:display","code","display","target to source","Comment"]
[]
[null,null,null,null,null,"target to source","Comment"]
[null,{"$f":"'A1.5 Author'!B5","v":"Author"},null,"DiagnosticReport"]
[null,"$this","A.1.5 Author","performer",null,"relatedto","If the author is the performer",null,{"$f":"\"* group[=].element[+].code = #\"&$B$14&\".\"&B15","v":"* group[=].element[+].code = #Author.$this"},{"$f":"\"* group[=].element[=].display = ##34#\"&C15&\"##34#\"","v":"* group[=].element[=].display = ##34#A.1.5 Author##34#"},{"$f":"IF(F15=\"unmatched\",\"//-- unmatched\",\"* group[=].element[=].target.code = #\"&$D$14&\".\"&D15)","v":"* group[=].element[=].target.code = #DiagnosticReport.performer"},{"$f":"IF(F15=\"unmatched\",\"//-- unmatched\",\"* group[=].element[=].target.display = ##34#\"&E15&\"##34#\")","v":"* group[=].element[=].target.display = ##34###34#"},{"$f":"\"* group[=].element[=].target.equivalence = #\"&F15","v":"* group[=].element[=].target.equivalence = #relatedto"},{"$f":"IF(G15<>\"\",CONCATENATE(\"* group[=].element[=].target.comment = \",\"##34#\",G15,\"##34#\"),\"\")","v":"* group[=].element[=].target.comment = ##34#If the author is the performer##34#"},null,1,{"$f":"IF(MOD(P15,$Q$8)=0,P15/$Q$8-1,INT(P15/$Q$8))","v":0},{"$f":"IF(MOD(P15,$Q$8)=0,$Q$8,MOD(P15,$Q$8))","v":1},{"$f":"INDEX('Author-ConceptMap-2-delete'!$I$15:$N$121,Q15+1,R15)","v":"* group[=].element[+].code = #Author.$this"}]
[null,{"$f":"'A1.5 Author'!B8","v":"identifier"},{"$f":"'A1.5 Author'!C8","v":"A.1.5.1 Author identifier"},"performer.identifier",null,"relatedto","If the author is the performer",null,{"$f":"\"* group[=].element[+].code = #\"&$B$14&\".\"&B16","v":"* group[=].element[+].code = #Author.identifier"},{"$f":"\"* group[=].element[=].display = ##34#\"&C16&\"##34#\"","v":"* group[=].element[=].display = ##34#A.1.5.1 Author identifier##34#"},{"$f":"IF(F16=\"unmatched\",\"//-- unmatched\",\"* group[=].element[=].target.code = #\"&$D$14&\".\"&D16)","v":"* group[=].element[=].target.code = #DiagnosticReport.performer.identifier"},{"$f":"IF(F16=\"unmatched\",\"//-- unmatched\",\"* group[=].element[=].target.display = ##34#\"&E16&\"##34#\")","v":"* group[=].element[=].target.display = ##34###34#"},{"$f":"\"* group[=].element[=].target.equivalence = #\"&F16","v":"* group[=].element[=].target.equivalence = #relatedto"},{"$f":"IF(G16<>\"\",CONCATENATE(\"* group[=].element[=].target.comment = \",\"##34#\",G16,\"##34#\"),\"\")","v":"* group[=].element[=].target.comment = ##34#If the author is the performer##34#"},null,2,{"$f":"IF(MOD(P16,$Q$8)=0,P16/$Q$8-1,INT(P16/$Q$8))","v":0},{"$f":"IF(MOD(P16,$Q$8)=0,$Q$8,MOD(P16,$Q$8))","v":2},{"$f":"INDEX('Author-ConceptMap-2-delete'!$I$15:$N$121,Q16+1,R16)","v":"* group[=].element[=].display = ##34#A.1.5 Author##34#"}]
[null,{"$f":"'A1.5 Author'!B9","v":"name"},{"$f":"'A1.5 Author'!C9","v":"A.1.5.2 Author name"},"performer.name",null,"relatedto","If the author is the performer: performer.resolve().ofType(Practitioner).name",null,"* group[=].element[+].code = #Author.name","* group[=].element[=].display = ##34#A.1.5.2 Author name##34#","* group[=].element[=].target.code = #DiagnosticReport.performer.name","* group[=].element[=].target.display = ##34###34#","* group[=].element[=].target.equivalence = #relatedto","* group[=].element[=].target.comment = ##34#If the author is the performer: performer.resolve().ofType(Practitioner).name##34#",null,3,{"$f":"IF(MOD(P17,$Q$8)=0,P17/$Q$8-1,INT(P17/$Q$8))","v":0},3,{"$f":"INDEX('Author-ConceptMap-2-delete'!$I$15:$N$121,Q17+1,R17)","v":"* group[=].element[=].target.code = #DiagnosticReport.performer"}]
[null,{"$f":"'A1.5 Author'!B9","v":"name"},{"$f":"'A1.5 Author'!C9","v":"A.1.5.2 Author name"},"performer.Practitioner.name",null,"relatedto","If the author is the performer: performer.resolve().ofType(PractitionerRole).Practitioner.resolve().nameù",null,"* group[=].element[+].code = #Author.name","* group[=].element[=].display = ##34#A.1.5.2 Author name##34#","* group[=].element[=].target.code = #DiagnosticReport.performer.Practitioner.name","* group[=].element[=].target.display = ##34###34#","* group[=].element[=].target.equivalence = #relatedto","* group[=].element[=].target.comment = ##34#If the author is the performer: performer.resolve().ofType(PractitionerRole).Practitioner.resolve().nameù##34#",null,4,{"$f":"IF(MOD(P18,$Q$8)=0,P18/$Q$8-1,INT(P18/$Q$8))","v":0},{"$f":"IF(MOD(P18,$Q$8)=0,$Q$8,MOD(P18,$Q$8))","v":4},{"$f":"INDEX('Author-ConceptMap-2-delete'!$I$15:$N$121,Q18+1,R18)","v":"* group[=].element[=].target.display = ##34###34#"}]
[null,{"$f":"'A1.5 Author'!B10","v":"organization"},{"$f":"'A1.5 Author'!C10","v":"A.1.5.3 Author organization"},"performer.organization",null,"relatedto","performer.resolve().ofType(PractitionerRole).organization.resolve()",null,"* group[=].element[+].code = #Author.organization","* group[=].element[=].display = ##34#A.1.5.3 Author organization##34#","* group[=].element[=].target.code = #DiagnosticReport.performer.organization","* group[=].element[=].target.display = ##34###34#","* group[=].element[=].target.equivalence = #relatedto","* group[=].element[=].target.comment = ##34#performer.resolve().ofType(PractitionerRole).organization.resolve()##34#",null,5,0,5,{"$f":"INDEX('Author-ConceptMap-2-delete'!$I$16:$N$121,Q19+1,R19)","v":"* group[=].element[=].target.equivalence = #relatedto"}]
[null,null,null,null,null,null,null,null,null,null,null,null,null,null,null,6,0,6,{"$f":"INDEX('Author-ConceptMap-2-delete'!$I$16:$N$121,Q20+1,R20)","v":"* group[=].element[=].target.comment = ##34#If the author is the performer##34#"}]
[null,null,null,null,null,null,null,null,null,null,null,null,null,null,null,7,{"$f":"IF(MOD(P21,$Q$8)=0,P21/$Q$8-1,INT(P21/$Q$8))","v":1},{"$f":"IF(MOD(P21,$Q$8)=0,$Q$8,MOD(P21,$Q$8))","v":1},{"$f":"INDEX('Author-ConceptMap-2-delete'!$I$16:$N$121,Q21+1,R21)","v":"* group[=].element[+].code = #Author.name"}]
[null,null,null,null,null,null,null,null,null,null,null,null,null,null,null,8,1,2,{"$f":"INDEX('Author-ConceptMap-2-delete'!$I$16:$N$121,Q22+1,R22)","v":"* group[=].element[=].display = ##34#A.1.5.2 Author name##34#"}]
[null,null,null,null,null,null,null,null,null,null,null,null,null,null,null,9,1,3,{"$f":"INDEX('Author-ConceptMap-2-delete'!$I$16:$N$121,Q23+1,R23)","v":"* group[=].element[=].target.code = #DiagnosticReport.performer.name"}]
[null,null,null,null,null,null,null,null,null,null,null,null,null,null,null,10,1,4,{"$f":"INDEX('Author-ConceptMap-2-delete'!$I$16:$N$121,Q24+1,R24)","v":"* group[=].element[=].target.display = ##34###34#"}]
[null,null,null,null,null,null,null,null,null,null,null,null,null,null,null,11,1,5,{"$f":"INDEX('Author-ConceptMap-2-delete'!$I$16:$N$121,Q25+1,R25)","v":"* group[=].element[=].target.equivalence = #relatedto"}]
[null,null,null,null,null,null,null,null,null,null,null,null,null,null,null,12,1,6,{"$f":"INDEX('Author-ConceptMap-2-delete'!$I$16:$N$121,Q26+1,R26)","v":"* group[=].element[=].target.comment = ##34#If the author is the performer: performer.resolve().ofType(Practitioner).name##34#"}]
[null,null,null,null,null,null,null,null,null,null,null,null,null,null,null,13,2,1,{"$f":"INDEX('Author-ConceptMap-2-delete'!$I$16:$N$121,Q27+1,R27)","v":"* group[=].element[+].code = #Author.name"}]
[null,null,null,null,null,null,null,null,null,null,null,null,null,null,null,14,2,2,{"$f":"INDEX('Author-ConceptMap-2-delete'!$I$16:$N$121,Q28+1,R28)","v":"* group[=].element[=].display = ##34#A.1.5.2 Author name##34#"}]
[null,null,null,null,null,null,null,null,null,null,null,null,null,null,null,15,2,3,{"$f":"INDEX('Author-ConceptMap-2-delete'!$I$16:$N$121,Q29+1,R29)","v":"* group[=].element[=].target.code = #DiagnosticReport.performer.Practitioner.name"}]
[null,null,null,null,null,null,null,null,null,null,null,null,null,null,null,16,2,4,{"$f":"INDEX('Author-ConceptMap-2-delete'!$I$16:$N$121,Q30+1,R30)","v":"* group[=].element[=].target.display = ##34###34#"}]
[null,null,null,null,null,null,null,null,null,null,null,null,null,null,null,17,2,5,{"$f":"INDEX('Author-ConceptMap-2-delete'!$I$16:$N$121,Q31+1,R31)","v":"* group[=].element[=].target.equivalence = #relatedto"}]
[null,null,null,null,null,null,null,null,null,null,null,null,null,null,null,18,2,6,{"$f":"INDEX('Author-ConceptMap-2-delete'!$I$16:$N$121,Q32+1,R32)","v":"* group[=].element[=].target.comment = ##34#If the author is the performer: performer.resolve().ofType(PractitionerRole).Practitioner.resolve().nameù##34#"}]
[null,null,null,null,null,null,null,null,null,null,null,null,null,null,null,19,3,1,{"$f":"INDEX('Author-ConceptMap-2-delete'!$I$16:$N$121,Q33+1,R33)","v":"* group[=].element[+].code = #Author.organization"}]
[null,null,null,null,null,null,null,null,null,null,null,null,null,null,null,20,3,2,{"$f":"INDEX('Author-ConceptMap-2-delete'!$I$16:$N$121,Q34+1,R34)","v":"* group[=].element[=].display = ##34#A.1.5.3 Author organization##34#"}]
[null,null,null,null,null,null,null,null,null,null,null,null,null,null,null,21,3,3,{"$f":"INDEX('Author-ConceptMap-2-delete'!$I$16:$N$121,Q35+1,R35)","v":"* group[=].element[=].target.code = #DiagnosticReport.performer.organization"}]
[null,null,null,null,null,null,null,null,null,null,null,null,null,null,null,22,3,4,{"$f":"INDEX('Author-ConceptMap-2-delete'!$I$16:$N$121,Q36+1,R36)","v":"* group[=].element[=].target.display = ##34###34#"}]
[null,null,null,null,null,null,null,null,null,null,null,null,null,null,null,23,3,5,{"$f":"INDEX('Author-ConceptMap-2-delete'!$I$16:$N$121,Q37+1,R37)","v":"* group[=].element[=].target.equivalence = #relatedto"}]
[null,null,null,null,null,null,null,null,null,null,null,null,null,null,null,24,{"$f":"IF(MOD(P38,$Q$8)=0,P38/$Q$8-1,INT(P38/$Q$8))","v":3},{"$f":"IF(MOD(P38,$Q$8)=0,$Q$8,MOD(P38,$Q$8))","v":6},{"$f":"INDEX('Author-ConceptMap-2-delete'!$I$16:$N$121,Q38+1,R38)","v":"* group[=].element[=].target.comment = ##34#performer.resolve().ofType(PractitionerRole).organization.resolve()##34#"}]
[null,null,null,null,null,null,null,null,null,null,null,null,null,null,null,25,4,1,{"$f":"INDEX('Author-ConceptMap-2-delete'!$I$16:$N$121,Q39+1,R39)","v":0}]
[null,null,null,null,null,null,null,null,null,null,null,null,null,null,null,26,4,2,{"$f":"INDEX('Author-ConceptMap-2-delete'!$I$16:$N$121,Q40+1,R40)","v":0}]
[null,null,null,null,null,null,null,null,null,null,null,null,null,null,null,27,4,3,{"$f":"INDEX('Author-ConceptMap-2-delete'!$I$16:$N$121,Q41+1,R41)","v":0}]

{"sheet":"Author-CM-fsh","index":68,"n_rows":117,"n_cols":7,"rows_kept":117,"cut":false,"hidden":false,"merged":[]}
[null,"// -------------------------------------------------------------------------------"]
[null,"//  Concept Model. File: ",null,null,null,null,"author-to-fhir-map.fsh"]
[null,"// -------------------------------------------------------------------------------"]
[null,{"$f":"\"Instance: \"&'Author-ConceptMap-2'!C4","v":"Instance: author2FHIR-eu-ps"}]
[null,"InstanceOf: ConceptMap"]
[null,"Usage: #definition"]
[null,"// * url = ##34#http://terminology.hl7.it/ConceptMap/ConceptMap-subject2osiris##34#"]
[null,{"$f":"\"* name = ##34#\"&'Author-ConceptMap-2'!C3&\"##34#\"","v":"* name = ##34#PatientSummaryAuthor2FHIR##34#"}]
[null,{"$f":"\"* title = ##34#\"&'Author-ConceptMap-2'!C5&\"##34#\"","v":"* title = ##34#eHN Author to this guide Map##34#"}]
[null,"* status = #draft"]
[null,"* experimental = true"]
[null,{"$f":"\"* description = ##34#\"&'Author-ConceptMap-2'!C8&\"##34#\"","v":"* description = ##34#eHN Author Model to this guide Map##34#"}]
[null,{"$f":"\"* purpose = ##34#\"&'Author-ConceptMap-2'!C9&\"##34#\"","v":"* purpose = ##34#It shows how the Patient Summary Author data set defined by the EU eHN guidelines is mapped into this guide##34#"}]
[null,{"$f":"\"* sourceUri = ##34#\"&'Author-ConceptMap-2'!E3&\"##34#\"","v":"* sourceUri = ##34#http://hl7.eu/fhir/ig/xpandh/ps/StructureDefinition/Author##34#"}]
[null,{"$f":"\"* targetUri = ##34#\"&'Author-ConceptMap-2'!E4&\"##34#\"","v":"* targetUri = ##34#http://hl7.eu/fhir/ig/xpandh/ps/StructureDefinition/Bundle-eu-ps##34#"}]
[]
[]
[null,{"$f":"\"* group[+].source = ##34#\"&'Author-ConceptMap-1'!E6&\"##34#\"","v":"* group[+].source = ##34#http://hl7.eu/fhir/ig/xpandh/ps/StructureDefinition/Author##34#"}]
[null,{"$f":"\"* group[=].target = ##34#\"&'Author-ConceptMap-1'!E7&\"##34#\"","v":"* group[=].target = ##34#http://hl7.eu/fhir/ig/xpandh/ps/StructureDefinition/Composition-eu-ps##34#"}]
[]
[null,{"$f":"IF('Author-ConceptMap-1'!S15=0,\"//---END\",'Author-ConceptMap-1'!S15)","v":"* group[=].element[+].code = #Author.identifier"}]
[null,{"$f":"IF('Author-ConceptMap-1'!S16=0,\"//---END\",'Author-ConceptMap-1'!S16)","v":"* group[=].element[=].display = ##34#A.1.5.1 Author identifier##34#"}]
[null,{"$f":"IF('Author-ConceptMap-1'!S17=0,\"//---END\",'Author-ConceptMap-1'!S17)","v":"* group[=].element[=].target.code = #Composition.author.identifier"}]
[null,{"$f":"IF('Author-ConceptMap-1'!S18=0,\"//---END\",'Author-ConceptMap-1'!S18)","v":"* group[=].element[=].target.display = ##34###34#"}]
[null,{"$f":"IF('Author-ConceptMap-1'!S19=0,\"//---END\",'Author-ConceptMap-1'!S19)","v":"* group[=].element[=].target.equivalence = #equivalent"}]
[null,{"$f":"IF('Author-ConceptMap-1'!S20=0,\"//---END\",'Author-ConceptMap-1'!S20)","v":""}]
[null,{"$f":"IF('Author-ConceptMap-1'!S21=0,\"//---END\",'Author-ConceptMap-1'!S21)","v":"* group[=].element[+].code = #Author.name"}]
[null,{"$f":"IF('Author-ConceptMap-1'!S22=0,\"//---END\",'Author-ConceptMap-1'!S22)","v":"* group[=].element[=].display = ##34#A.1.5.2 Author name##34#"}]
[null,{"$f":"IF('Author-ConceptMap-1'!S23=0,\"//---END\",'Author-ConceptMap-1'!S23)","v":"* group[=].element[=].target.code = #Composition.author.name"}]
[null,{"$f":"IF('Author-ConceptMap-1'!S24=0,\"//---END\",'Author-ConceptMap-1'!S24)","v":"* group[=].element[=].target.display = ##34###34#"}]
[null,{"$f":"IF('Author-ConceptMap-1'!S25=0,\"//---END\",'Author-ConceptMap-1'!S25)","v":"* group[=].element[=].target.equivalence = #equivalent"}]
[null,{"$f":"IF('Author-ConceptMap-1'!S26=0,\"//---END\",'Author-ConceptMap-1'!S26)","v":"* group[=].element[=].target.comment = ##34#Human Author and author.ofType(Practitioner)##34#"}]
[null,{"$f":"IF('Author-ConceptMap-1'!S27=0,\"//---END\",'Author-ConceptMap-1'!S27)","v":"* group[=].element[+].code = #Author.name"}]
[null,{"$f":"IF('Author-ConceptMap-1'!S28=0,\"//---END\",'Author-ConceptMap-1'!S28)","v":"* group[=].element[=].display = ##34#A.1.5.2 Author name##34#"}]
[null,{"$f":"IF('Author-ConceptMap-1'!S29=0,\"//---END\",'Author-ConceptMap-1'!S29)","v":"* group[=].element[=].target.code = #Composition.author.Practitioner.name"}]
[null,{"$f":"IF('Author-ConceptMap-1'!S30=0,\"//---END\",'Author-ConceptMap-1'!S30)","v":"* group[=].element[=].target.display = ##34###34#"}]
[null,{"$f":"IF('Author-ConceptMap-1'!S31=0,\"//---END\",'Author-ConceptMap-1'!S31)","v":"* group[=].element[=].target.equivalence = #equivalent"}]
[null,{"$f":"IF('Author-ConceptMap-1'!S32=0,\"//---END\",'Author-ConceptMap-1'!S32)","v":"* group[=].element[=].target.comment = ##34#Human Author and  author.ofType(PractitionerRole)##34#"}]
[null,{"$f":"IF('Author-ConceptMap-1'!S33=0,\"//---END\",'Author-ConceptMap-1'!S33)","v":"* group[=].element[+].code = #Author.name"}]
[null,{"$f":"IF('Author-ConceptMap-1'!S34=0,\"//---END\",'Author-ConceptMap-1'!S34)","v":"* group[=].element[=].display = ##34#A.1.5.2 Author name##34#"}]
[null,{"$f":"IF('Author-ConceptMap-1'!S35=0,\"//---END\",'Author-ConceptMap-1'!S35)","v":"* group[=].element[=].target.code = #Composition.device.name"}]
[null,{"$f":"IF('Author-ConceptMap-1'!S36=0,\"//---END\",'Author-ConceptMap-1'!S36)","v":"* group[=].element[=].target.display = ##34###34#"}]
[null,{"$f":"IF('Author-ConceptMap-1'!S37=0,\"//---END\",'Author-ConceptMap-1'!S37)","v":"* group[=].element[=].target.equivalence = #equivalent"}]
[null,{"$f":"IF('Author-ConceptMap-1'!S38=0,\"//---END\",'Author-ConceptMap-1'!S38)","v":"* group[=].element[=].target.comment = ##34#Device Author, implies author.ofType(Device)##34#"}]
[null,{"$f":"IF('Author-ConceptMap-1'!S39=0,\"//---END\",'Author-ConceptMap-1'!S39)","v":"* group[=].element[+].code = #Author.organization"}]
[null,{"$f":"IF('Author-ConceptMap-1'!S40=0,\"//---END\",'Author-ConceptMap-1'!S40)","v":"* group[=].element[=].display = ##34#A.1.5.3 Author organization##34#"}]
[null,{"$f":"IF('Author-ConceptMap-1'!S41=0,\"//---END\",'Author-ConceptMap-1'!S41)","v":"* group[=].element[=].target.code = #Composition.author.organization"}]
[null,{"$f":"IF('Author-ConceptMap-1'!S42=0,\"//---END\",'Author-ConceptMap-1'!S42)","v":"* group[=].element[=].target.display = ##34###34#"}]
[null,{"$f":"IF('Author-ConceptMap-1'!S43=0,\"//---END\",'Author-ConceptMap-1'!S43)","v":"* group[=].element[=].target.equivalence = #equivalent"}]
[null,{"$f":"IF('Author-ConceptMap-1'!S44=0,\"//---END\",'Author-ConceptMap-1'!S44)","v":"* group[=].element[=].target.comment = ##34#Human Author and author.ofType(PractitionerRole)##34#"}]
[null,{"$f":"IF('Author-ConceptMap-1'!S45=0,\"//---END\",'Author-ConceptMap-1'!S45)","v":"* group[=].element[+].code = #Author.organization"}]
[null,{"$f":"IF('Author-ConceptMap-1'!S46=0,\"//---END\",'Author-ConceptMap-1'!S46)","v":"* group[=].element[=].display = ##34#A.1.5.3 Author organization##34#"}]
[null,{"$f":"IF('Author-ConceptMap-1'!S47=0,\"//---END\",'Author-ConceptMap-1'!S47)","v":"* group[=].element[=].target.code = #Composition.author.owner"}]
[null,{"$f":"IF('Author-ConceptMap-1'!S48=0,\"//---END\",'Author-ConceptMap-1'!S48)","v":"* group[=].element[=].target.display = ##34###34#"}]
[null,{"$f":"IF('Author-ConceptMap-1'!S49=0,\"//---END\",'Author-ConceptMap-1'!S49)","v":"* group[=].element[=].target.equivalence = #equivalent"}]
[null,{"$f":"IF('Author-ConceptMap-1'!S50=0,\"//---END\",'Author-ConceptMap-1'!S50)","v":"* group[=].element[=].target.comment = ##34#Device Author, implies author.ofType(Device)##34#"}]
[null,{"$f":"IF('Author-ConceptMap-1'!S51=0,\"//---END\",'Author-ConceptMap-1'!S51)","v":"//---END"}]
[null,{"$f":"IF('Author-ConceptMap-1'!S52=0,\"//---END\",'Author-ConceptMap-1'!S52)","v":"//---END"}]
[null,{"$f":"IF('Author-ConceptMap-1'!S53=0,\"//---END\",'Author-ConceptMap-1'!S53)","v":"//---END"}]
[null,{"$f":"IF('Author-ConceptMap-1'!S54=0,\"//---END\",'Author-ConceptMap-1'!S54)","v":"//---END"}]
[null,{"$f":"IF('Author-ConceptMap-1'!S55=0,\"//---END\",'Author-ConceptMap-1'!S55)","v":"//---END"}]
[]
[null,{"$f":"\"* group[+].source = ##34#\"&'Author-ConceptMap-2'!E6&\"##34#\"","v":"* group[+].source = ##34#http://hl7.eu/fhir/ig/xpandh/ps/StructureDefinition/Author##34#"}]
[null,{"$f":"\"* group[=].target = ##34#\"&'Author-ConceptMap-2'!E7&\"##34#\"","v":"* group[=].target = ##34#http://hl7.eu/fhir/ig/xpandh/ps/StructureDefinition/DiagnosticReport-eu-ps##34#"}]
[]
[null,{"$f":"IF('Author-ConceptMap-2'!S15=0,\"//---END\",'Author-ConceptMap-2'!S15)","v":"* group[=].element[+].code = #Author.identifier"}]
[null,{"$f":"IF('Author-ConceptMap-2'!S16=0,\"//---END\",'Author-ConceptMap-2'!S16)","v":"* group[=].element[=].display = ##34#A.1.5.1 Author identifier##34#"}]
[null,{"$f":"IF('Author-ConceptMap-2'!S17=0,\"//---END\",'Author-ConceptMap-2'!S17)","v":"* group[=].element[=].target.code = #DiagnosticReport.resultsInterpreter.identifier"}]
[null,{"$f":"IF('Author-ConceptMap-2'!S18=0,\"//---END\",'Author-ConceptMap-2'!S18)","v":"* group[=].element[=].target.display = ##34###34#"}]
[null,{"$f":"IF('Author-ConceptMap-2'!S19=0,\"//---END\",'Author-ConceptMap-2'!S19)","v":"* group[=].element[=].target.equivalence = #relatedto"}]
[null,{"$f":"IF('Author-ConceptMap-2'!S20=0,\"//---END\",'Author-ConceptMap-2'!S20)","v":"* group[=].element[=].target.comment = ##34#If the author is the interpreter##34#"}]
[null,{"$f":"IF('Author-ConceptMap-2'!S21=0,\"//---END\",'Author-ConceptMap-2'!S21)","v":"* group[=].element[+].code = #Author.identifier"}]
[null,{"$f":"IF('Author-ConceptMap-2'!S22=0,\"//---END\",'Author-ConceptMap-2'!S22)","v":"* group[=].element[=].display = ##34#A.1.5.1 Author identifier##34#"}]
[null,{"$f":"IF('Author-ConceptMap-2'!S23=0,\"//---END\",'Author-ConceptMap-2'!S23)","v":"* group[=].element[=].target.code = #DiagnosticReport.performer.identifier"}]
[null,{"$f":"IF('Author-ConceptMap-2'!S24=0,\"//---END\",'Author-ConceptMap-2'!S24)","v":"* group[=].element[=].target.display = ##34###34#"}]
[null,{"$f":"IF('Author-ConceptMap-2'!S25=0,\"//---END\",'Author-ConceptMap-2'!S25)","v":"* group[=].element[=].target.equivalence = #relatedto"}]
[null,{"$f":"IF('Author-ConceptMap-2'!S26=0,\"//---END\",'Author-ConceptMap-2'!S26)","v":"* group[=].element[=].target.comment = ##34#If the author is the performer##34#"}]
[null,{"$f":"IF('Author-ConceptMap-2'!S27=0,\"//---END\",'Author-ConceptMap-2'!S27)","v":"* group[=].element[+].code = #Author.name"}]
[null,{"$f":"IF('Author-ConceptMap-2'!S28=0,\"//---END\",'Author-ConceptMap-2'!S28)","v":"* group[=].element[=].display = ##34#A.1.5.2 Author name##34#"}]
[null,{"$f":"IF('Author-ConceptMap-2'!S29=0,\"//---END\",'Author-ConceptMap-2'!S29)","v":"* group[=].element[=].target.code = #DiagnosticReport.resultsInterpreter.name"}]
[null,{"$f":"IF('Author-ConceptMap-2'!S30=0,\"//---END\",'Author-ConceptMap-2'!S30)","v":"* group[=].element[=].target.display = ##34###34#"}]
[null,{"$f":"IF('Author-ConceptMap-2'!S31=0,\"//---END\",'Author-ConceptMap-2'!S31)","v":"* group[=].element[=].target.equivalence = #relatedto"}]
[null,{"$f":"IF('Author-ConceptMap-2'!S32=0,\"//---END\",'Author-ConceptMap-2'!S32)","v":"* group[=].element[=].target.comment = ##34#If the author is the interpreter and \nresultsInterpreter.resolve().ofType(Practitioner)##34#"}]
[null,{"$f":"IF('Author-ConceptMap-2'!S33=0,\"//---END\",'Author-ConceptMap-2'!S33)","v":"* group[=].element[+].code = #Author.name"}]
[null,{"$f":"IF('Author-ConceptMap-2'!S34=0,\"//---END\",'Author-ConceptMap-2'!S34)","v":"* group[=].element[=].display = ##34#A.1.5.2 Author name##34#"}]
[null,{"$f":"IF('Author-ConceptMap-2'!S35=0,\"//---END\",'Author-ConceptMap-2'!S35)","v":"* group[=].element[=].target.code = #DiagnosticReport.resultsInterpreter.practitioner.name"}]
[null,{"$f":"IF('Author-ConceptMap-2'!S36=0,\"//---END\",'Author-ConceptMap-2'!S36)","v":"* group[=].element[=].target.display = ##34###34#"}]
[null,{"$f":"IF('Author-ConceptMap-2'!S37=0,\"//---END\",'Author-ConceptMap-2'!S37)","v":"* group[=].element[=].target.equivalence = #relatedto"}]
[null,{"$f":"IF('Author-ConceptMap-2'!S38=0,\"//---END\",'Author-ConceptMap-2'!S38)","v":"* group[=].element[=].target.comment = ##34#If the author is the interpreter and resultsInterpreter.resolve().ofType(PractitionerRole)##34#"}]
[null,{"$f":"IF('Author-ConceptMap-2'!S39=0,\"//---END\",'Author-ConceptMap-2'!S39)","v":"* group[=].element[+].code = #Author.name"}]
[null,{"$f":"IF('Author-ConceptMap-2'!S40=0,\"//---END\",'Author-ConceptMap-2'!S40)","v":"* group[=].element[=].display = ##34#A.1.5.2 Author name##34#"}]
[null,{"$f":"IF('Author-ConceptMap-2'!S41=0,\"//---END\",'Author-ConceptMap-2'!S41)","v":"* group[=].element[=].target.code = #DiagnosticReport.performer.name"}]
[null,{"$f":"IF('Author-ConceptMap-2'!S42=0,\"//---END\",'Author-ConceptMap-2'!S42)","v":"* group[=].element[=].target.display = ##34###34#"}]
[null,{"$f":"IF('Author-ConceptMap-2'!S43=0,\"//---END\",'Author-ConceptMap-2'!S43)","v":"* group[=].element[=].target.equivalence = #relatedto"}]
[null,{"$f":"IF('Author-ConceptMap-2'!S44=0,\"//---END\",'Author-ConceptMap-2'!S44)","v":"* group[=].element[=].target.comment = ##34#If the author is the performer and performer.resolve().ofType(Practitioner)##34#"}]
[null,{"$f":"IF('Author-ConceptMap-2'!S45=0,\"//---END\",'Author-ConceptMap-2'!S45)","v":"* group[=].element[+].code = #Author.name"}]
[null,{"$f":"IF('Author-ConceptMap-2'!S46=0,\"//---END\",'Author-ConceptMap-2'!S46)","v":"* group[=].element[=].display = ##34#A.1.5.2 Author name##34#"}]
[null,{"$f":"IF('Author-ConceptMap-2'!S47=0,\"//---END\",'Author-ConceptMap-2'!S47)","v":"* group[=].element[=].target.code = #DiagnosticReport.performer.Practitioner.name"}]
[null,{"$f":"IF('Author-ConceptMap-2'!S48=0,\"//---END\",'Author-ConceptMap-2'!S48)","v":"* group[=].element[=].target.display = ##34###34#"}]
[null,{"$f":"IF('Author-ConceptMap-2'!S49=0,\"//---END\",'Author-ConceptMap-2'!S49)","v":"* group[=].element[=].target.equivalence = #relatedto"}]
[null,{"$f":"IF('Author-ConceptMap-2'!S50=0,\"//---END\",'Author-ConceptMap-2'!S50)","v":"* group[=].element[=].target.comment = ##34#If the author is the performer and performer.resolve().ofType(PractitionerRole)##34#"}]
[null,{"$f":"IF('Author-ConceptMap-2'!S51=0,\"//---END\",'Author-ConceptMap-2'!S51)","v":"* group[=].element[+].code = #Author.organization"}]
[null,{"$f":"IF('Author-ConceptMap-2'!S52=0,\"//---END\",'Author-ConceptMap-2'!S52)","v":"* group[=].element[=].display = ##34#A.1.5.3 Author organization##34#"}]
[null,{"$f":"IF('Author-ConceptMap-2'!S53=0,\"//---END\",'Author-ConceptMap-2'!S53)","v":"* group[=].element[=].target.code = #DiagnosticReport.resultsInterpreter.organization"}]
[null,{"$f":"IF('Author-ConceptMap-2'!S54=0,\"//---END\",'Author-ConceptMap-2'!S54)","v":"* group[=].element[=].target.display = ##34###34#"}]
[null,{"$f":"IF('Author-ConceptMap-2'!S55=0,\"//---END\",'Author-ConceptMap-2'!S55)","v":"* group[=].element[=].target.equivalence = #relatedto"}]
[null,{"$f":"IF('Author-ConceptMap-2'!S56=0,\"//---END\",'Author-ConceptMap-2'!S56)","v":"* group[=].element[=].target.comment = ##34#If the author is the interpreter and resultsInterpreter.resolve().ofType(PractitionerRole)##34#"}]
[null,{"$f":"IF('Author-ConceptMap-2'!S57=0,\"//---END\",'Author-ConceptMap-2'!S57)","v":"* group[=].element[+].code = #Author.organization"}]
[null,{"$f":"IF('Author-ConceptMap-2'!S58=0,\"//---END\",'Author-ConceptMap-2'!S58)","v":"* group[=].element[=].display = ##34#A.1.5.3 Author organization##34#"}]
[null,{"$f":"IF('Author-ConceptMap-2'!S59=0,\"//---END\",'Author-ConceptMap-2'!S59)","v":"* group[=].element[=].target.code = #DiagnosticReport.performer.organization"}]
[null,{"$f":"IF('Author-ConceptMap-2'!S60=0,\"//---END\",'Author-ConceptMap-2'!S60)","v":"* group[=].element[=].target.display = ##34###34#"}]
[null,{"$f":"IF('Author-ConceptMap-2'!S61=0,\"//---END\",'Author-ConceptMap-2'!S61)","v":"* group[=].element[=].target.equivalence = #relatedto"}]
[null,{"$f":"IF('Author-ConceptMap-2'!S62=0,\"//---END\",'Author-ConceptMap-2'!S62)","v":"* group[=].element[=].target.comment = ##34#If the author is the performer and performer.resolve().ofType(PractitionerRole)##34#"}]
[null,{"$f":"IF('Author-ConceptMap-2'!S63=0,\"//---END\",'Author-ConceptMap-2'!S63)","v":"//---END"}]
[null,{"$f":"IF('Author-ConceptMap-2'!S64=0,\"//---END\",'Author-ConceptMap-2'!S64)","v":"//---END"}]
[null,{"$f":"IF('Author-ConceptMap-2'!S65=0,\"//---END\",'Author-ConceptMap-2'!S65)","v":"//---END"}]
[null,{"$f":"IF('Author-ConceptMap-2'!S66=0,\"//---END\",'Author-ConceptMap-2'!S66)","v":"//---END"}]

{"sheet":"A1.6 LegalAuth","index":69,"n_rows":30,"n_cols":9,"rows_kept":30,"cut":false,"hidden":false,"merged":[[25,2,25,5]]}
[null,null,null,null,null,null,null,null,"// -------------------------------------------------------------------------------"]
[null,null,null,null,null,null,null,null,"//  Logical Model"]
[null,null,null,null,null,null,null,null,{"$f":"I1","v":"// -------------------------------------------------------------------------------"}]
["Name","LegalAuthenticatorPsEhn",null,null,null,null,null,null,{"$f":"CONCATENATE(\"Logical: \",B4)","v":"Logical: LegalAuthenticatorPsEhn"}]
["Id","LegalAuthenticator",null,null,null,null,null,null,{"$f":"CONCATENATE(\"Id: \",B5)","v":"Id: LegalAuthenticator"}]
["Title","A.1.6 - Legal authenticator",null,null,null,null,null,null,{"$f":"CONCATENATE(\"Title: ##34#\",B6,\"##34#\")","v":"Title: ##34#A.1.6 - Legal authenticator##34#"}]
["Description","Legal authenticator (The person taking responsibility for the medical content of the document).\nSection A1.6 of the eHN guideline.",null,null,null,"max","dataType",null,{"$f":"CONCATENATE(\"Description: \",\" ##334#\",B7,\"##334#\",)","v":"Description:  ##334#Legal authenticator (The person taking responsibility for the medical content of the document).\nSection A1.6 of the eHN guideline.##334#"}]
[1,"identifier","A.1.6.1 Legal authenticator identifier","The health professional identification number. Either an internal identifier assigned by a healthcare provider institution or (preferably) a national health professional ID such as the license or registration number.  - Preferred system(s): ",0,1,"Identifier",null,{"$f":"CONCATENATE(\"* \",B8, \" \",E8,\"..\",F8,\" \",G8,\" ##34#\",C8,\"##34# ##334#\",D8,\"##334#\")","v":"* identifier 0..1 Identifier ##34#A.1.6.1 Legal authenticator identifier##34# ##334#The health professional identification number. Either an internal identifier assigned by a healthcare provider institution or (preferably) a national health professional ID such as the license or registration number.  - Preferred system(s): ##334#"}]
[2,"name","A.1.6.2 Legal authenticator name","Person name. - Preferred system(s): ",0,"*","HumanName",null,{"$f":"CONCATENATE(\"* \",B9, \" \",E9,\"..\",F9,\" \",G9,\" ##34#\",C9,\"##34# ##334#\",D9,\"##334#\")","v":"* name 0..* HumanName ##34#A.1.6.2 Legal authenticator name##34# ##334#Person name. - Preferred system(s): ##334#"}]
[3,"organization","A.1.6.3 Legal authenticator organization","The healthcare provider organization information. - Preferred system(s): ",0,"*","Organization",null,"* organization 0..* Organization ##34#A.1.6.3 Legal authenticator organization##34# ##334#The healthcare provider organization information. - Preferred system(s): ##334#"]
[4,"dateTime","A.1.6.4 Authentication date and time","Date and time when the document was authorized. - Preferred system(s): ISO 8601",0,1,"dateTime",null,"* dateTime 0..1 dateTime ##34#A.1.6.4 Authentication date and time##34# ##334#Date and time when the document was authorized. - Preferred system(s): ISO 8601##334#"]
[5,null,null,null,null,null,null,null,"*  ..  ##34###34# ##334###334#"]
[6,null,null,null,null,null,null,null,"*  ..  ##34###34# ##334###334#"]
[7,null,null,null,null,null,null,null,"*  ..  ##34###34# ##334###334#"]
[8]
[9]
[]
[]
[]
[]
[null,{"$f":"CONCATENATE(C21,\" \",D21)","v":" "}]
[]
[]
[]
[]
[null,null,"A.1.6 Legal authenticator (The person taking responsibility for the medical content of the document)"]
[null,{"$f":"CONCATENATE(C27,\" \",D27)","v":"A.1.6.1 Legal authenticator identifier"},"A.1.6.1","Legal authenticator identifier","The health professional identification number. Either an internal identifier assigned by a healthcare provider institution or (preferably) a national health professional ID such as the license or registration number. ",null,null,null,{"$f":"CONCATENATE(E27,\" - Preferred system(s): \",F27)","v":"The health professional identification number. Either an internal identifier assigned by a healthcare provider institution or (preferably) a national health professional ID such as the license or registration number.  - Preferred system(s): "}]
[null,"A.1.6.2 Legal authenticator name","A.1.6.2","Legal authenticator name","Person name.",null,null,null,"Person name. - Preferred system(s): "]
[null,"A.1.6.3 Legal authenticator organization ","A.1.6.3","Legal authenticator organization ","The healthcare provider organization information.",null,null,null,"The healthcare provider organization information. - Preferred system(s): "]
[null,"A.1.6.4 Authentication date and time","A.1.6.4","Authentication date and time","Date and time when the document was authorized.","ISO 8601",null,null,"Date and time when the document was authorized. - Preferred system(s): ISO 8601"]

{"sheet":"LegalAuth-fsh","index":70,"n_rows":32,"n_cols":7,"rows_kept":32,"cut":false,"hidden":false,"merged":[]}
[null,null,{"$f":"'A1.6 LegalAuth'!I1","v":"// -------------------------------------------------------------------------------"}]
[null,null,{"$f":"'A1.6 LegalAuth'!I2","v":"//  Logical Model"},null,null,null,"ps-legalAuth.fsh"]
[null,null,{"$f":"'A1.6 LegalAuth'!I3","v":"// -------------------------------------------------------------------------------"}]
[null,null,{"$f":"'A1.6 LegalAuth'!I4","v":"Logical: LegalAuthenticatorPsEhn"}]
[null,null,{"$f":"'A1.6 LegalAuth'!I5","v":"Id: LegalAuthenticator"}]
[null,null,{"$f":"'A1.6 LegalAuth'!I6","v":"Title: ##34#A.1.6 - Legal authenticator##34#"}]
[null,null,{"$f":"'A1.6 LegalAuth'!I7","v":"Description:  ##334#Legal authenticator (The person taking responsibility for the medical content of the document).\nSection A1.6 of the eHN guideline.##334#"}]
[null,null,{"$f":"IF('A1.6 LegalAuth'!I8=\"*  ..  ##34###34# ##334###334#\",\"//--- END\",'A1.6 LegalAuth'!I8)","v":"* identifier 0..1 Identifier ##34#A.1.6.1 Legal authenticator identifier##34# ##334#The health professional identification number. Either an internal identifier assigned by a healthcare provider institution or (preferably) a national health professional ID such as the license or registration number.  - Preferred system(s): ##334#"}]
[null,null,{"$f":"IF('A1.6 LegalAuth'!I9=\"*  ..  ##34###34# ##334###334#\",\"//--- END\",'A1.6 LegalAuth'!I9)","v":"* name 0..* HumanName ##34#A.1.6.2 Legal authenticator name##34# ##334#Person name. - Preferred system(s): ##334#"}]
[null,null,{"$f":"IF('A1.6 LegalAuth'!I10=\"*  ..  ##34###34# ##334###334#\",\"//--- END\",'A1.6 LegalAuth'!I10)","v":"* organization 0..* Organization ##34#A.1.6.3 Legal authenticator organization##34# ##334#The healthcare provider organization information. - Preferred system(s): ##334#"},null," "]
[null,null,{"$f":"IF('A1.6 LegalAuth'!I11=\"*  ..  ##34###34# ##334###334#\",\"//--- END\",'A1.6 LegalAuth'!I11)","v":"* dateTime 0..1 dateTime ##34#A.1.6.4 Authentication date and time##34# ##334#Date and time when the document was authorized. - Preferred system(s): ISO 8601##334#"}]
[null,null,{"$f":"IF('A1.6 LegalAuth'!I12=\"*  ..  ##34###34# ##334###334#\",\"//--- END\",'A1.6 LegalAuth'!I12)","v":"//--- END"}]
[null,null,{"$f":"IF('A1.6 LegalAuth'!I13=\"*  ..  ##34###34# ##334###334#\",\"//--- END\",'A1.6 LegalAuth'!I13)","v":"//--- END"}]
[null,null,{"$f":"IF('A1.6 LegalAuth'!I14=\"*  ..  ##34###34# ##334###334#\",\"//--- END\",'A1.6 LegalAuth'!I14)","v":"//--- END"}]
[]
[]
[]
[]
[]
[]
[]
[]
[]
[]
[]
[]
[]
[]
[]
[null,null,{"$f":"#REF!","v":{"$error":"#REF!"}}]
[null,null,{"$f":"#REF!","v":{"$error":"#REF!"}}]
[null,null,{"$f":"#REF!","v":{"$error":"#REF!"}}]

{"sheet":"LegalAuth-ConceptMap-1","index":71,"n_rows":46,"n_cols":19,"rows_kept":46,"cut":false,"hidden":false,"merged":[[2,4,2,6],[5,4,5,6],[6,4,6,6],[3,4,3,6]]}
[]
[]
[null,"Mapping","LegalAuth2Fhir","Source URI",{"$f":"\"http://hl7.eu/fhir/ig/xpandh/ps/StructureDefinition/\"&'A1.6 LegalAuth'!B5","v":"http://hl7.eu/fhir/ig/xpandh/ps/StructureDefinition/LegalAuthenticator"}]
[null,"Id","legalAuth2FHIR-eu-ps","Target URI","http://hl7.eu/fhir/ig/xpandh/ps/StructureDefinition/Composition-eu-ps"]
[null,"Title","eHN Recipient to this guide Map"]
[null,"Source",null,"Source Group",{"$f":"E3","v":"http://hl7.eu/fhir/ig/xpandh/ps/StructureDefinition/LegalAuthenticator"}]
[null,"Target",null,"Target Group",{"$f":"E4","v":"http://hl7.eu/fhir/ig/xpandh/ps/StructureDefinition/Composition-eu-ps"}]
[null,"description","eHN Legal Authenticator Model to this guide Map",null,null,null,null,null,"* group[=].element[+].code = #Osiris.Patient.BirthDate","* group[=].element[=].display = \"Birth Date [C4]\"","* group[=].element[=].target.code = #Subject.dateOfBirth.date","* group[=].element[=].target.display = \"Date of birth\"","* group[=].element[=].target.equivalence = #equivalent",null,null,"Elements",6]
[null,"purpose","It shows how theLegal Authenticator Recipient data set defined by the EU eHN guidelines is mapped into this guide"]
[]
[null,null,null,null,null,null,null,null,"source:code","source:display","code","display","target to source","Comment"]
[]
[null,null,null,null,null,"target to source","Comment"]
[null,{"$f":"'A1.6 LegalAuth'!B5","v":"LegalAuthenticator"},null,"Composition",null,null,"Composition.attester.where(mode='legal')"]
[null,{"$f":"'A1.6 LegalAuth'!B8","v":"identifier"},{"$f":"'A1.6 LegalAuth'!C8","v":"A.1.6.1 Legal authenticator identifier"},"attester.party.identifier",null,"equivalent","attester.where(mode='legal')",null,{"$f":"\"* group[=].element[+].code = #\"&$B$14&\".\"&B15","v":"* group[=].element[+].code = #LegalAuthenticator.identifier"},{"$f":"\"* group[=].element[=].display = ##34#\"&C15&\"##34#\"","v":"* group[=].element[=].display = ##34#A.1.6.1 Legal authenticator identifier##34#"},{"$f":"IF(F15=\"unmatched\",\"//-- unmatched\",\"* group[=].element[=].target.code = #\"&$D$14&\".\"&D15)","v":"* group[=].element[=].target.code = #Composition.attester.party.identifier"},{"$f":"IF(F15=\"unmatched\",\"//-- unmatched\",\"* group[=].element[=].target.display = ##34#\"&E15&\"##34#\")","v":"* group[=].element[=].target.display = ##34###34#"},{"$f":"\"* group[=].element[=].target.equivalence = #\"&F15","v":"* group[=].element[=].target.equivalence = #equivalent"},{"$f":"IF(G15<>\"\",CONCATENATE(\"* group[=].element[=].target.comment = \",\"##34#\",G15,\"##34#\"),\"\")","v":"* group[=].element[=].target.comment = ##34#attester.where(mode='legal')##34#"},null,1,{"$f":"IF(MOD(P15,$Q$8)=0,P15/$Q$8-1,INT(P15/$Q$8))","v":0},{"$f":"IF(MOD(P15,$Q$8)=0,$Q$8,MOD(P15,$Q$8))","v":1},{"$f":"INDEX('LegalAuth-ConceptMap-1'!$I$15:$N$126,Q15+1,R15)","v":"* group[=].element[+].code = #LegalAuthenticator.identifier"}]
[null,{"$f":"'A1.6 LegalAuth'!B9","v":"name"},{"$f":"'A1.6 LegalAuth'!C9","v":"A.1.6.2 Legal authenticator name"},"attester.party.name",null,"equivalent","attester.where(mode='legal').party.resolve().ofType(Practitioner).name",null,{"$f":"\"* group[=].element[+].code = #\"&$B$14&\".\"&B16","v":"* group[=].element[+].code = #LegalAuthenticator.name"},{"$f":"\"* group[=].element[=].display = ##34#\"&C16&\"##34#\"","v":"* group[=].element[=].display = ##34#A.1.6.2 Legal authenticator name##34#"},{"$f":"IF(F16=\"unmatched\",\"//-- unmatched\",\"* group[=].element[=].target.code = #\"&$D$14&\".\"&D16)","v":"* group[=].element[=].target.code = #Composition.attester.party.name"},{"$f":"IF(F16=\"unmatched\",\"//-- unmatched\",\"* group[=].element[=].target.display = ##34#\"&E16&\"##34#\")","v":"* group[=].element[=].target.display = ##34###34#"},{"$f":"\"* group[=].element[=].target.equivalence = #\"&F16","v":"* group[=].element[=].target.equivalence = #equivalent"},{"$f":"IF(G16<>\"\",CONCATENATE(\"* group[=].element[=].target.comment = \",\"##34#\",G16,\"##34#\"),\"\")","v":"* group[=].element[=].target.comment = ##34#attester.where(mode='legal').party.resolve().ofType(Practitioner).name##34#"},null,2,{"$f":"IF(MOD(P16,$Q$8)=0,P16/$Q$8-1,INT(P16/$Q$8))","v":0},{"$f":"IF(MOD(P16,$Q$8)=0,$Q$8,MOD(P16,$Q$8))","v":2},{"$f":"INDEX('LegalAuth-ConceptMap-1'!$I$15:$N$126,Q16+1,R16)","v":"* group[=].element[=].display = ##34#A.1.6.1 Legal authenticator identifier##34#"}]
[null,{"$f":"'A1.6 LegalAuth'!B9","v":"name"},{"$f":"'A1.6 LegalAuth'!C9","v":"A.1.6.2 Legal authenticator name"},"attester.party.Practitioner.name",null,"equivalent","attester.where(mode='legal').party.resolve().ofType(PractitionerRole).Practitioner.resolve().name",null,"* group[=].element[+].code = #LegalAuthenticator.name","* group[=].element[=].display = ##34#A.1.6.2 Legal authenticator name##34#","* group[=].element[=].target.code = #Composition.attester.party.Practitioner.name","* group[=].element[=].target.display = ##34###34#","* group[=].element[=].target.equivalence = #equivalent","* group[=].element[=].target.comment = ##34#attester.where(mode='legal').party.resolve().ofType(PractitionerRole).Practitioner.resolve().name##34#",null,3,0,3,{"$f":"INDEX('LegalAuth-ConceptMap-1'!$I$15:$N$126,Q17+1,R17)","v":"* group[=].element[=].target.code = #Composition.attester.party.identifier"}]
[null,{"$f":"'A1.6 LegalAuth'!B10","v":"organization"},{"$f":"'A1.6 LegalAuth'!C10","v":"A.1.6.3 Legal authenticator organization"},"attester.party.organization",null,"equivalent","attester.where(mode='legal').party.resolve().ofType(PractitionerRole).organization.resolve()",null,"* group[=].element[+].code = #LegalAuthenticator.organization","* group[=].element[=].display = ##34#A.1.6.3 Legal authenticator organization##34#","* group[=].element[=].target.code = #Composition.attester.party.organization","* group[=].element[=].target.display = ##34###34#","* group[=].element[=].target.equivalence = #equivalent","* group[=].element[=].target.comment = ##34#attester.where(mode='legal').party.resolve().ofType(PractitionerRole).organization.resolve()##34#",null,4,0,4,{"$f":"INDEX('LegalAuth-ConceptMap-1'!$I$15:$N$126,Q18+1,R18)","v":"* group[=].element[=].target.display = ##34###34#"}]
[null,{"$f":"'A1.6 LegalAuth'!B11","v":"dateTime"},{"$f":"'A1.6 LegalAuth'!C11","v":"A.1.6.4 Authentication date and time"},"attester.time",null,"equivalent","attester.where(mode='legal').time",null,"* group[=].element[+].code = #LegalAuthenticator.dateTime","* group[=].element[=].display = ##34#A.1.6.4 Authentication date and time##34#","* group[=].element[=].target.code = #Composition.attester.time","* group[=].element[=].target.display = ##34###34#","* group[=].element[=].target.equivalence = #equivalent","* group[=].element[=].target.comment = ##34#attester.where(mode='legal').time##34#",null,5,0,{"$f":"IF(MOD(P19,$Q$8)=0,$Q$8,MOD(P19,$Q$8))","v":5},{"$f":"INDEX('LegalAuth-ConceptMap-1'!$I$15:$N$126,Q19+1,R19)","v":"* group[=].element[=].target.equivalence = #equivalent"}]
[null,{"$f":"'A1.6 LegalAuth'!B12","v":0},{"$f":"'A1.6 LegalAuth'!C12","v":0},null,null,null,null,null,null,null,null,null,null,"",null,6,0,6,{"$f":"INDEX('LegalAuth-ConceptMap-1'!$I$15:$N$126,Q20+1,R20)","v":"* group[=].element[=].target.comment = ##34#attester.where(mode='legal')##34#"}]
[null,null,null,null,null,null,null,null,null,null,null,null,null,"",null,7,1,1,{"$f":"INDEX('LegalAuth-ConceptMap-1'!$I$15:$N$126,Q21+1,R21)","v":"* group[=].element[+].code = #LegalAuthenticator.name"}]
[null,null,null,null,null,null,null,null,null,null,null,null,null,null,null,8,1,2,{"$f":"INDEX('LegalAuth-ConceptMap-1'!$I$15:$N$126,Q22+1,R22)","v":"* group[=].element[=].display = ##34#A.1.6.2 Legal authenticator name##34#"}]
[null,null,null,null,null,null,null,null,null,null,null,null,null,null,null,9,1,3,{"$f":"INDEX('LegalAuth-ConceptMap-1'!$I$15:$N$126,Q23+1,R23)","v":"* group[=].element[=].target.code = #Composition.attester.party.name"}]
[null,null,null,null,null,null,null,null,null,null,null,null,null,null,null,10,1,4,{"$f":"INDEX('LegalAuth-ConceptMap-1'!$I$15:$N$126,Q24+1,R24)","v":"* group[=].element[=].target.display = ##34###34#"}]
[null,null,null,null,null,null,null,null,null,null,null,null,null,null,null,11,1,5,{"$f":"INDEX('LegalAuth-ConceptMap-1'!$I$15:$N$126,Q25+1,R25)","v":"* group[=].element[=].target.equivalence = #equivalent"}]
[null,null,null,null,null,null,null,null,null,null,null,null,null,null,null,12,1,6,{"$f":"INDEX('LegalAuth-ConceptMap-1'!$I$15:$N$126,Q26+1,R26)","v":"* group[=].element[=].target.comment = ##34#attester.where(mode='legal').party.resolve().ofType(Practitioner).name##34#"}]
[null,null,null,null,null,null,null,null,null,null,null,null,null,null,null,13,2,1,{"$f":"INDEX('LegalAuth-ConceptMap-1'!$I$15:$N$126,Q27+1,R27)","v":"* group[=].element[+].code = #LegalAuthenticator.name"}]
[null,null,null,null,null,null,null,null,null,null,null,null,null,null,null,14,2,2,{"$f":"INDEX('LegalAuth-ConceptMap-1'!$I$15:$N$126,Q28+1,R28)","v":"* group[=].element[=].display = ##34#A.1.6.2 Legal authenticator name##34#"}]
[null,null,null,null,null,null,null,null,null,null,null,null,null,null,null,15,2,3,{"$f":"INDEX('LegalAuth-ConceptMap-1'!$I$15:$N$126,Q29+1,R29)","v":"* group[=].element[=].target.code = #Composition.attester.party.Practitioner.name"}]
[null,null,null,null,null,null,null,null,null,null,null,null,null,null,null,16,2,4,{"$f":"INDEX('LegalAuth-ConceptMap-1'!$I$15:$N$126,Q30+1,R30)","v":"* group[=].element[=].target.display = ##34###34#"}]
[null,null,null,null,null,null,null,null,null,null,null,null,null,null,null,17,2,5,{"$f":"INDEX('LegalAuth-ConceptMap-1'!$I$15:$N$126,Q31+1,R31)","v":"* group[=].element[=].target.equivalence = #equivalent"}]
[null,null,null,null,null,null,null,null,null,null,null,null,null,null,null,18,2,6,{"$f":"INDEX('LegalAuth-ConceptMap-1'!$I$15:$N$126,Q32+1,R32)","v":"* group[=].element[=].target.comment = ##34#attester.where(mode='legal').party.resolve().ofType(PractitionerRole).Practitioner.resolve().name##34#"}]
[null,null,null,null,null,null,null,null,null,null,null,null,null,null,null,19,3,1,{"$f":"INDEX('LegalAuth-ConceptMap-1'!$I$15:$N$126,Q33+1,R33)","v":"* group[=].element[+].code = #LegalAuthenticator.organization"}]
[null,null,null,null,null,null,null,null,null,null,null,null,null,null,null,20,3,2,{"$f":"INDEX('LegalAuth-ConceptMap-1'!$I$15:$N$126,Q34+1,R34)","v":"* group[=].element[=].display = ##34#A.1.6.3 Legal authenticator organization##34#"}]
[null,null,null,null,null,null,null,null,null,null,null,null,null,null,null,21,3,3,{"$f":"INDEX('LegalAuth-ConceptMap-1'!$I$15:$N$126,Q35+1,R35)","v":"* group[=].element[=].target.code = #Composition.attester.party.organization"}]
[null,null,null,null,null,null,null,null,null,null,null,null,null,null,null,22,3,4,{"$f":"INDEX('LegalAuth-ConceptMap-1'!$I$15:$N$126,Q36+1,R36)","v":"* group[=].element[=].target.display = ##34###34#"}]
[null,null,null,null,null,null,null,null,null,null,null,null,null,null,null,23,3,5,{"$f":"INDEX('LegalAuth-ConceptMap-1'!$I$15:$N$126,Q37+1,R37)","v":"* group[=].element[=].target.equivalence = #equivalent"}]
[null,null,null,null,null,null,null,null,null,null,null,null,null,null,null,24,3,6,{"$f":"INDEX('LegalAuth-ConceptMap-1'!$I$15:$N$126,Q38+1,R38)","v":"* group[=].element[=].target.comment = ##34#attester.where(mode='legal').party.resolve().ofType(PractitionerRole).organization.resolve()##34#"}]
[null,null,null,null,null,null,null,null,null,null,null,null,null,null,null,25,4,1,{"$f":"INDEX('LegalAuth-ConceptMap-1'!$I$15:$N$126,Q39+1,R39)","v":"* group[=].element[+].code = #LegalAuthenticator.dateTime"}]
[null,null,null,null,null,null,null,null,null,null,null,null,null,null,null,26,4,2,{"$f":"INDEX('LegalAuth-ConceptMap-1'!$I$15:$N$126,Q40+1,R40)","v":"* group[=].element[=].display = ##34#A.1.6.4 Authentication date and time##34#"}]
[null,null,null,null,null,null,null,null,null,null,null,null,null,null,null,27,4,3,{"$f":"INDEX('LegalAuth-ConceptMap-1'!$I$15:$N$126,Q41+1,R41)","v":"* group[=].element[=].target.code = #Composition.attester.time"}]
[null,null,null,null,null,null,null,null,null,null,null,null,null,null,null,28,4,4,{"$f":"INDEX('LegalAuth-ConceptMap-1'!$I$15:$N$126,Q42+1,R42)","v":"* group[=].element[=].target.display = ##34###34#"}]
[null,null,null,null,null,null,null,null,null,null,null,null,null,null,null,29,4,5,{"$f":"INDEX('LegalAuth-ConceptMap-1'!$I$15:$N$126,Q43+1,R43)","v":"* group[=].element[=].target.equivalence = #equivalent"}]
[null,null,null,null,null,null,null,null,null,null,null,null,null,null,null,30,4,6,{"$f":"INDEX('LegalAuth-ConceptMap-1'!$I$15:$N$126,Q44+1,R44)","v":"* group[=].element[=].target.comment = ##34#attester.where(mode='legal').time##34#"}]
[null,null,null,null,null,null,null,null,null,null,null,null,null,null,null,31,5,1,{"$f":"INDEX('LegalAuth-ConceptMap-1'!$I$15:$N$126,Q45+1,R45)","v":0}]
[null,null,null,null,null,null,null,null,null,null,null,null,null,null,null,32,5,2,{"$f":"INDEX('LegalAuth-ConceptMap-1'!$I$15:$N$126,Q46+1,R46)","v":0}]

{"sheet":"LegalAuth-CM-fsh","index":72,"n_rows":55,"n_cols":7,"rows_kept":55,"cut":false,"hidden":false,"merged":[]}
[null,"// -------------------------------------------------------------------------------"]
[null,"//  Concept Model. File: ",null,null,null,null,"legalAuth-to-fhir-map.fsh"]
[null,"// -------------------------------------------------------------------------------"]
[null,{"$f":"\"Instance: \"&'LegalAuth-ConceptMap-1'!C4","v":"Instance: legalAuth2FHIR-eu-ps"}]
[null,"InstanceOf: ConceptMap"]
[null,"Usage: #definition"]
[null,"// * url = ##34#http://terminology.hl7.it/ConceptMap/ConceptMap-subject2osiris##34#"]
[null,{"$f":"\"* name = ##34#\"&'LegalAuth-ConceptMap-1'!C3&\"##34#\"","v":"* name = ##34#LegalAuth2Fhir##34#"}]
[null,{"$f":"\"* title = ##34#\"&'LegalAuth-ConceptMap-1'!C5&\"##34#\"","v":"* title = ##34#eHN Recipient to this guide Map##34#"}]
[null,"* status = #draft"]
[null,"* experimental = true"]
[null,{"$f":"\"* description = ##34#\"&'LegalAuth-ConceptMap-1'!C8&\"##34#\"","v":"* description = ##34#eHN Legal Authenticator Model to this guide Map##34#"}]
[null,{"$f":"\"* purpose = ##34#\"&'LegalAuth-ConceptMap-1'!C9&\"##34#\"","v":"* purpose = ##34#It shows how theLegal Authenticator Recipient data set defined by the EU eHN guidelines is mapped into this guide##34#"}]
[null,{"$f":"\"* sourceUri = ##34#\"&'LegalAuth-ConceptMap-1'!E3&\"##34#\"","v":"* sourceUri = ##34#http://hl7.eu/fhir/ig/xpandh/ps/StructureDefinition/LegalAuthenticator##34#"}]
[null,{"$f":"\"* targetUri = ##34#\"&'LegalAuth-ConceptMap-1'!E4&\"##34#\"","v":"* targetUri = ##34#http://hl7.eu/fhir/ig/xpandh/ps/StructureDefinition/Composition-eu-ps##34#"}]
[]
[null,{"$f":"\"* group[+].source = ##34#\"&'LegalAuth-ConceptMap-1'!E6&\"##34#\"","v":"* group[+].source = ##34#http://hl7.eu/fhir/ig/xpandh/ps/StructureDefinition/LegalAuthenticator##34#"}]
[null,{"$f":"\"* group[=].target = ##34#\"&'LegalAuth-ConceptMap-1'!E7&\"##34#\"","v":"* group[=].target = ##34#http://hl7.eu/fhir/ig/xpandh/ps/StructureDefinition/Composition-eu-ps##34#"}]
[]
[null,{"$f":"IF('LegalAuth-ConceptMap-1'!S15=0,\"//---END\",'LegalAuth-ConceptMap-1'!S15)","v":"* group[=].element[+].code = #LegalAuthenticator.identifier"}]
[null,{"$f":"IF('LegalAuth-ConceptMap-1'!S16=0,\"//---END\",'LegalAuth-ConceptMap-1'!S16)","v":"* group[=].element[=].display = ##34#A.1.6.1 Legal authenticator identifier##34#"}]
[null,{"$f":"IF('LegalAuth-ConceptMap-1'!S17=0,\"//---END\",'LegalAuth-ConceptMap-1'!S17)","v":"* group[=].element[=].target.code = #Composition.attester.party.identifier"}]
[null,{"$f":"IF('LegalAuth-ConceptMap-1'!S18=0,\"//---END\",'LegalAuth-ConceptMap-1'!S18)","v":"* group[=].element[=].target.display = ##34###34#"}]
[null,{"$f":"IF('LegalAuth-ConceptMap-1'!S19=0,\"//---END\",'LegalAuth-ConceptMap-1'!S19)","v":"* group[=].element[=].target.equivalence = #equivalent"}]
[null,{"$f":"IF('LegalAuth-ConceptMap-1'!S20=0,\"//---END\",'LegalAuth-ConceptMap-1'!S20)","v":"* group[=].element[=].target.comment = ##34#attester.where(mode='legal')##34#"}]
[null,{"$f":"IF('LegalAuth-ConceptMap-1'!S21=0,\"//---END\",'LegalAuth-ConceptMap-1'!S21)","v":"* group[=].element[+].code = #LegalAuthenticator.name"}]
[null,{"$f":"IF('LegalAuth-ConceptMap-1'!S22=0,\"//---END\",'LegalAuth-ConceptMap-1'!S22)","v":"* group[=].element[=].display = ##34#A.1.6.2 Legal authenticator name##34#"}]
[null,{"$f":"IF('LegalAuth-ConceptMap-1'!S23=0,\"//---END\",'LegalAuth-ConceptMap-1'!S23)","v":"* group[=].element[=].target.code = #Composition.attester.party.name"}]
[null,{"$f":"IF('LegalAuth-ConceptMap-1'!S24=0,\"//---END\",'LegalAuth-ConceptMap-1'!S24)","v":"* group[=].element[=].target.display = ##34###34#"}]
[null,{"$f":"IF('LegalAuth-ConceptMap-1'!S25=0,\"//---END\",'LegalAuth-ConceptMap-1'!S25)","v":"* group[=].element[=].target.equivalence = #equivalent"}]
[null,{"$f":"IF('LegalAuth-ConceptMap-1'!S26=0,\"//---END\",'LegalAuth-ConceptMap-1'!S26)","v":"* group[=].element[=].target.comment = ##34#attester.where(mode='legal').party.resolve().ofType(Practitioner).name##34#"}]
[null,{"$f":"IF('LegalAuth-ConceptMap-1'!S27=0,\"//---END\",'LegalAuth-ConceptMap-1'!S27)","v":"* group[=].element[+].code = #LegalAuthenticator.name"}]
[null,{"$f":"IF('LegalAuth-ConceptMap-1'!S28=0,\"//---END\",'LegalAuth-ConceptMap-1'!S28)","v":"* group[=].element[=].display = ##34#A.1.6.2 Legal authenticator name##34#"}]
[null,{"$f":"IF('LegalAuth-ConceptMap-1'!S29=0,\"//---END\",'LegalAuth-ConceptMap-1'!S29)","v":"* group[=].element[=].target.code = #Composition.attester.party.Practitioner.name"}]
[null,{"$f":"IF('LegalAuth-ConceptMap-1'!S30=0,\"//---END\",'LegalAuth-ConceptMap-1'!S30)","v":"* group[=].element[=].target.display = ##34###34#"}]
[null,{"$f":"IF('LegalAuth-ConceptMap-1'!S31=0,\"//---END\",'LegalAuth-ConceptMap-1'!S31)","v":"* group[=].element[=].target.equivalence = #equivalent"}]
[null,{"$f":"IF('LegalAuth-ConceptMap-1'!S32=0,\"//---END\",'LegalAuth-ConceptMap-1'!S32)","v":"* group[=].element[=].target.comment = ##34#attester.where(mode='legal').party.resolve().ofType(PractitionerRole).Practitioner.resolve().name##34#"}]
[null,{"$f":"IF('LegalAuth-ConceptMap-1'!S33=0,\"//---END\",'LegalAuth-ConceptMap-1'!S33)","v":"* group[=].element[+].code = #LegalAuthenticator.organization"}]
[null,{"$f":"IF('LegalAuth-ConceptMap-1'!S34=0,\"//---END\",'LegalAuth-ConceptMap-1'!S34)","v":"* group[=].element[=].display = ##34#A.1.6.3 Legal authenticator organization##34#"}]
[null,{"$f":"IF('LegalAuth-ConceptMap-1'!S35=0,\"//---END\",'LegalAuth-ConceptMap-1'!S35)","v":"* group[=].element[=].target.code = #Composition.attester.party.organization"}]
[null,{"$f":"IF('LegalAuth-ConceptMap-1'!S36=0,\"//---END\",'LegalAuth-ConceptMap-1'!S36)","v":"* group[=].element[=].target.display = ##34###34#"}]
[null,{"$f":"IF('LegalAuth-ConceptMap-1'!S37=0,\"//---END\",'LegalAuth-ConceptMap-1'!S37)","v":"* group[=].element[=].target.equivalence = #equivalent"}]
[null,{"$f":"IF('LegalAuth-ConceptMap-1'!S38=0,\"//---END\",'LegalAuth-ConceptMap-1'!S38)","v":"* group[=].element[=].target.comment = ##34#attester.where(mode='legal').party.resolve().ofType(PractitionerRole).organization.resolve()##34#"}]
[null,{"$f":"IF('LegalAuth-ConceptMap-1'!S39=0,\"//---END\",'LegalAuth-ConceptMap-1'!S39)","v":"* group[=].element[+].code = #LegalAuthenticator.dateTime"}]
[null,{"$f":"IF('LegalAuth-ConceptMap-1'!S40=0,\"//---END\",'LegalAuth-ConceptMap-1'!S40)","v":"* group[=].element[=].display = ##34#A.1.6.4 Authentication date and time##34#"}]
[null,{"$f":"IF('LegalAuth-ConceptMap-1'!S41=0,\"//---END\",'LegalAuth-ConceptMap-1'!S41)","v":"* group[=].element[=].target.code = #Composition.attester.time"}]
[null,{"$f":"IF('LegalAuth-ConceptMap-1'!S42=0,\"//---END\",'LegalAuth-ConceptMap-1'!S42)","v":"* group[=].element[=].target.display = ##34###34#"}]
[null,{"$f":"IF('LegalAuth-ConceptMap-1'!S43=0,\"//---END\",'LegalAuth-ConceptMap-1'!S43)","v":"* group[=].element[=].target.equivalence = #equivalent"}]
[null,{"$f":"IF('LegalAuth-ConceptMap-1'!S44=0,\"//---END\",'LegalAuth-ConceptMap-1'!S44)","v":"* group[=].element[=].target.comment = ##34#attester.where(mode='legal').time##34#"}]
[null,{"$f":"IF('LegalAuth-ConceptMap-1'!S45=0,\"//---END\",'LegalAuth-ConceptMap-1'!S45)","v":"//---END"}]
[null,{"$f":"IF('LegalAuth-ConceptMap-1'!S46=0,\"//---END\",'LegalAuth-ConceptMap-1'!S46)","v":"//---END"}]
[null,{"$f":"IF('LegalAuth-ConceptMap-1'!S47=0,\"//---END\",'LegalAuth-ConceptMap-1'!S47)","v":"//---END"}]
[null,{"$f":"IF('LegalAuth-ConceptMap-1'!S48=0,\"//---END\",'LegalAuth-ConceptMap-1'!S48)","v":"//---END"}]
[null,{"$f":"IF('LegalAuth-ConceptMap-1'!S49=0,\"//---END\",'LegalAuth-ConceptMap-1'!S49)","v":"//---END"}]
[null,{"$f":"IF('LegalAuth-ConceptMap-1'!S50=0,\"//---END\",'LegalAuth-ConceptMap-1'!S50)","v":"//---END"}]